{"text_format":"1","workbook":"xlsx","n_sheets":8,"sheets":["Dashboard","Country","Database","Levelisation","Investment","ChartData","Policy","Changelog"],"not_rendered":{"charts":4,"images":2,"macros":1,"external_links":0,"defined_names":51,"comments":1,"pivot_tables":0},"unopened":[],"bounds":{"document_bytes":16777216,"sheet_cells":100000,"rows_first":2000,"rows_last":500,"rows_between":2000,"halvings":0,"cell_chars":16384,"cell_head_chars":4096},"cells_cut":0,"cells_raw":0,"read":"whole","date_system":"1900"}

{"sheet":"Dashboard","index":0,"n_rows":60,"n_cols":15,"rows_kept":60,"cut":false,"hidden":false,"merged":[[61,1,63,15]]}
[]
[null,"CLIMATESCOPE INDEX 2013"]
[null,"INSTRUCTIONS"]
[null,"Climatescope is a comprehensive index and report assessing the environment for low-carbon investment in 26 countries in Latin America and the Caribbean,"]
[null,"developed by the Multilateral Investment Fund (part of the Inter-American Development Bank) and Bloomberg New Energy Finance. "]
[]
[null,"TAB CONTENT"]
[null,{"$f":"\"Climatescope scores countries on a 0 to \"&dbl_ScoreMax&\" scale and is composed of four parameters (see list below) - each of which has a unique weight to the overall final score. See rankings from rows 36 to 62.\"","v":"Climatescope scores countries on a 0 to 5 scale and is composed of four parameters (see list below) - each of which has a unique weight to the overall final score. See rankings from rows 36 to 62."}]
[null,{"$f":"\"The maximum attainable score is \"& dbl_ScoreMax& \" given the total weight of all parameters and/or categories do not exceed 100%.\"","v":"The maximum attainable score is 5 given the total weight of all parameters and/or categories do not exceed 100%."}]
[null,"1) Enabling Framework (40%)"]
[null,"2) Clean Energy Investment & Climate Financing (30%)"]
[null,"3) Low-Carbon Business & Clean Energy Value Chains (10%)"]
[null,"4) Greenhouse Gas Management Activities (20%)"]
[null," "]
[null,"INSTRUCTIONS"]
[null,"The Climatescope tool allows users to fine tune the methodology for parameter weights to fit their preferences. To customise parameter weighting scenarios... "]
[null,"1) Select the drop-down menu (Cell E24)."]
[null,"2) Choose pre-selected scenarios to analyse countries’ performance under a specific parameter. Country rankings will automatically reshuffle to reflect the results of your personalised Climatescope index."]
[null,"3) To assign custom weights, choose the option 'Custom' in the drop-down menu and type in your own weighting assumptions. Click on 'Calculate Scores' to see the changes in the results.  "]
[null,"4) To see how countries performed in each of the Climatescope’s 39 indicators click on 'View Country Analysis'. This button will take you to a new tab 'Country', which lists all Climatescope’s indicators, as well as their respective weights."]
[]
[null,"For questions or feedback please email climatescope@bloomberg.net"]
[]
[null,"PARAMETER",null,null,{"$f":"\"WEIGHT (\"&TEXT(dbl_DBWeightP1+dbl_DBWeightP2+dbl_DBWeightP3+dbl_DBWeightP4, \"0%\")&\")\"","v":"WEIGHT (100%)"},null,null,null,null,null,null,null,null,null,"SCORE RANGES KEY"]
[null,"Weighting Scenario",null,null,"Defaults",null,null,null,null,null,null,null,null,null,"4.01 to 5.00"]
[null,"I. Enabling Framework",null,null,0.4,null,null,null,null,null,null,null,null,null,"3.01 to 4.00"]
[null,"II. Clean Energy Investment & Climate Financing",null,null,0.3,null,null,null,null,null,null,null,null,null,"2.01 to 3.01"]
[null,"III. Low Carbon Value Chain",null,null,0.1,null,null,null,null,null,null,null,null,null,"1.01 to 2.00"]
[null,"IV. Greenhouse Gas Management Activities",null,null,0.2,null,null,null,null,null,null,null,null,null,"0.00 to 1.00"]
[]
[]
[]
[]
[null,"RANK",{"$f":"IF(str_WeightScenario=\"Custom\", \"\", \"∆ 2012\")","v":"∆ 2012"},"COUNTRY",{"$f":"\"CLIMATESCOPE \" & int_Year + 1 & \" SCORES\"","v":"CLIMATESCOPE 2013 SCORES"}]
[null,{"$f":"RANK(E35, $E$35:$E$60)","v":1},{"$f":"IF(str_WeightScenario=\"Custom\", \"\", RANK(ChartData!J58, ChartData!$J$58:$J$83)-B35)","v":0},"Brazil",2.4727326749130318]
[null,2,{"$f":"IF(str_WeightScenario=\"Custom\", \"\", RANK(ChartData!J59, ChartData!$J$58:$J$83)-B36)","v":3},"Chile",2.4094666752634253]
[null,3,{"$f":"IF(str_WeightScenario=\"Custom\", \"\", RANK(ChartData!J60, ChartData!$J$58:$J$83)-B37)","v":-1},"Nicaragua",2.2582408765252313]
[null,4,{"$f":"IF(str_WeightScenario=\"Custom\", \"\", RANK(ChartData!J61, ChartData!$J$58:$J$83)-B38)","v":0},"Peru",2.2513997144899829]
[null,5,{"$f":"IF(str_WeightScenario=\"Custom\", \"\", RANK(ChartData!J62, ChartData!$J$58:$J$83)-B39)","v":1},"Mexico",2.1895912454456359]
[null,6,{"$f":"IF(str_WeightScenario=\"Custom\", \"\", RANK(ChartData!J63, ChartData!$J$58:$J$83)-B40)","v":4},"Uruguay",1.6663378644286779]
[null,7,{"$f":"IF(str_WeightScenario=\"Custom\", \"\", RANK(ChartData!J64, ChartData!$J$58:$J$83)-B41)","v":4},"Argentina",1.6660775463109065]
[null,8,{"$f":"IF(str_WeightScenario=\"Custom\", \"\", RANK(ChartData!J65, ChartData!$J$58:$J$83)-B42)","v":7},"Dominican Republic",1.5811001122845354]
[null,9,{"$f":"IF(str_WeightScenario=\"Custom\", \"\", RANK(ChartData!J66, ChartData!$J$58:$J$83)-B43)","v":-2},"Colombia",1.5430458186129992]
[null,10,{"$f":"IF(str_WeightScenario=\"Custom\", \"\", RANK(ChartData!J67, ChartData!$J$58:$J$83)-B44)","v":-7},"Panama",1.4449322737798895]
[null,11,{"$f":"IF(str_WeightScenario=\"Custom\", \"\", RANK(ChartData!J68, ChartData!$J$58:$J$83)-B45)","v":-3},"Costa Rica",1.3605020693003842]
[null,12,{"$f":"IF(str_WeightScenario=\"Custom\", \"\", RANK(ChartData!J69, ChartData!$J$58:$J$83)-B46)","v":-3},"Guatemala",1.3373084647149844]
[null,13,{"$f":"IF(str_WeightScenario=\"Custom\", \"\", RANK(ChartData!J70, ChartData!$J$58:$J$83)-B47)","v":1},"Ecuador",1.268029964257984]
[null,14,{"$f":"IF(str_WeightScenario=\"Custom\", \"\", RANK(ChartData!J71, ChartData!$J$58:$J$83)-B48)","v":-2},"Honduras",1.2347954940521071]
[null,15,{"$f":"IF(str_WeightScenario=\"Custom\", \"\", RANK(ChartData!J72, ChartData!$J$58:$J$83)-B49)","v":-2},"El Salvador",1.0829763396265171]
[null,16,{"$f":"IF(str_WeightScenario=\"Custom\", \"\", RANK(ChartData!J73, ChartData!$J$58:$J$83)-B50)","v":1},"Belize",0.99838461685035851]
[null,17,{"$f":"IF(str_WeightScenario=\"Custom\", \"\", RANK(ChartData!J74, ChartData!$J$58:$J$83)-B51)","v":-1},"Jamaica",0.93559969189148329]
[null,18,{"$f":"IF(str_WeightScenario=\"Custom\", \"\", RANK(ChartData!J75, ChartData!$J$58:$J$83)-B52)","v":0},"Paraguay",0.89780561757652433]
[null,19,{"$f":"IF(str_WeightScenario=\"Custom\", \"\", RANK(ChartData!J76, ChartData!$J$58:$J$83)-B53)","v":0},"Bolivia",0.86145895525760319]
[null,20,{"$f":"IF(str_WeightScenario=\"Custom\", \"\", RANK(ChartData!J77, ChartData!$J$58:$J$83)-B54)","v":5},"Venezuela",0.80918593246217529]
[null,21,{"$f":"IF(str_WeightScenario=\"Custom\", \"\", RANK(ChartData!J78, ChartData!$J$58:$J$83)-B55)","v":0},"Bahamas",0.79773499210786503]
[null,22,{"$f":"IF(str_WeightScenario=\"Custom\", \"\", RANK(ChartData!J79, ChartData!$J$58:$J$83)-B56)","v":0},"Haiti",0.710515676647688]
[null,23,{"$f":"IF(str_WeightScenario=\"Custom\", \"\", RANK(ChartData!J80, ChartData!$J$58:$J$83)-B57)","v":1},"Guyana",0.66719937371368621]
[null,24,{"$f":"IF(str_WeightScenario=\"Custom\", \"\", RANK(ChartData!J81, ChartData!$J$58:$J$83)-B58)","v":-1},"Trinidad & Tobago",0.537315372514797]
[null,25,{"$f":"IF(str_WeightScenario=\"Custom\", \"\", RANK(ChartData!J82, ChartData!$J$58:$J$83)-B59)","v":-5},"Barbados",0.44607825642070192]
[null,26,{"$f":"IF(str_WeightScenario=\"Custom\", \"\", RANK(ChartData!J83, ChartData!$J$58:$J$83)-B60)","v":0},"Suriname",0.33322524459315506]

{"sheet":"Country","index":1,"n_rows":296,"n_cols":15,"rows_kept":296,"cut":false,"hidden":true,"merged":[[136,1,136,3],[171,1,171,3],[110,1,110,3]]}
[]
[null,"COUNTRY PROFILE"]
[null,"INSTRUCTIONS"]
[null,"Climatescope is a comprehensive index and report assessing the environment for low-carbon investment in 26 countries in Latin America and the Caribbean,"]
[null,"developed by the Multilateral Investment Fund (part of the Inter-American Development Bank) and Bloomberg New Energy Finance. "]
[]
[null,"TAB CONTENT"]
[null,"1) Column B: Parameters (4)"]
[null,"2) Column C: Parameter weights"]
[null,"3) Column D: Categories (13)"]
[null,"4) Column E: Category weights"]
[null,"5) Column G: Indicators (39)"]
[null,"6) Column H: Indicator weight (as a percentage of category weight)"]
[null,"7) Column I: Indicator net weight (as a percentage of the overall Climatescope score)"]
[null,"8) Column J: The underlying data which is used to derive the indicator scores"]
[null,"9) Column L: Aggregate scored data per indicator"]
[null,"10) Column M: Country’s relative performance per indicator (e.g. a full bar means the country has achieved the highest score possible for that indicator)"]
[null," "]
[null,"INSTRUCTIONS"]
[null,"1) Select country of choice in the drop-down menu (Cell C25)."]
[null,"2) Scroll down to row 78 to visualize additional information, under 'Further Indicator Details'. Here you can see charts and tables which provide a more details on the related indicators."]
[null,"3) Expand the indicator additional information by clicking on the '+' (plus sign) on the left.  "]
[]
[null,"FOR QUESTIONS OR FEEDBACK PLEASE EMAIL CLIMATESCOPE@BLOOMBERG.NET"]
[null,"INDICATOR ANALYSIS"]
[null,"Country","Brazil"]
[null,"Year",2012]
[null,"Score",{"$f":"SUM(L31:L76)","v":2.4727326749130318}]
[null,"Indicators",{"$f":"COUNTIF(J31:J76, \"<>0\")","v":33}]
[null,"PARAMETER","WEIGHT","CATEGORY","WEIGHT","REF.","INDICATOR","WEIGHT","NET WEIGHT","DATA","UNITS","SCORE","PERFORMANCE","DETAILS","No."]
[null,"Enabling Framework",0.4,"Policy & Regulation",0.4,1.01,"Clean energy policies",0.6,{"$f":"IF(H31=\"\", \"\", C31*E31*H31)","v":9.6000000000000016E-2},{"$f":"IFERROR(INDEX(Database!$E$15:$R$1257, MATCH($F31&\" > \"&$C$26, Database!$AG$15:$AG$1257, 0), MATCH(\"Underlying\" & \" > \" & \"Data\" & \" > \" & int_Year, Database!$E$14:$R$14, 0)), 0)","v":11},{"$f":"IF(J31=1, \"Policy Type\", \"Policy Types\")","v":"Policy Types"},{"$f":"IF(I31=\"\", \"\", IFERROR(I31*dbl_ScoreMax*MAX(0, IFERROR(INDEX(Database!$E$15:$R$1257, MATCH($F31&\" > \"&$C$26, Database!$AG$15:$AG$1257, 0), MATCH(\"Benchmarked\" & \" > \" & \"Score\" & \" > \" & int_Year, Database!$E$14:$R$14, 0)), 0))/100, 0))","v":0.37072707010997957},{"$f":"IF(L31=\"\", \"\", IFERROR(L31/(I31*dbl_ScoreMax), 0))","v":0.77234806272912393},"BELOW",1]
[null,null,{"$f":"Dashboard!$E$26","v":0.4},null,{"$f":"E31","v":0.4},{"$f":"F31+0.01","v":1.02},"Power sector structure",0.3,{"$f":"IF(H32=\"\", \"\", C32*E32*H32)","v":4.8000000000000008E-2},{"$f":"IFERROR(INDEX(Database!$E$15:$R$1257, MATCH($F32&\" > \"&$C$26, Database!$AG$15:$AG$1257, 0), MATCH(\"Underlying\" & \" > \" & \"Data\" & \" > \" & int_Year, Database!$E$14:$R$14, 0)), 0)","v":8},{"$f":"IF(J32=1, \"Question\", \"Questions\")","v":"Questions"},{"$f":"IF(I32=\"\", \"\", IFERROR(I32*dbl_ScoreMax*MAX(0, IFERROR(INDEX(Database!$E$15:$R$1257, MATCH($F32&\" > \"&$C$26, Database!$AG$15:$AG$1257, 0), MATCH(\"Benchmarked\" & \" > \" & \"Score\" & \" > \" & int_Year, Database!$E$14:$R$14, 0)), 0))/100, 0))","v":0.18000000000000005},0.75000000000000011,null,{"$f":"O31+1","v":2}]
[null,null,{"$f":"Dashboard!$E$26","v":0.4},null,{"$f":"E32","v":0.4},{"$f":"F32+0.01","v":1.03},"Clean energy rural electrification",0.1,1.6000000000000004E-2,{"$f":"IFERROR(INDEX(Database!$E$15:$R$1257, MATCH($F33&\" > \"&$C$26, Database!$AG$15:$AG$1257, 0), MATCH(\"Underlying\" & \" > \" & \"Data\" & \" > \" & int_Year, Database!$E$14:$R$14, 0)), 0)","v":1},{"$f":"IF(J33=1, \"Program\", \"Programs\")","v":"Program"},{"$f":"IF(I33=\"\", \"\", IFERROR(I33*dbl_ScoreMax*MAX(0, IFERROR(INDEX(Database!$E$15:$R$1257, MATCH($F33&\" > \"&$C$26, Database!$AG$15:$AG$1257, 0), MATCH(\"Benchmarked\" & \" > \" & \"Score\" & \" > \" & int_Year, Database!$E$14:$R$14, 0)), 0))/100, 0))","v":8.0000000000000016E-2},1,null,3]
[null,null,{"$f":"Dashboard!$E$26","v":0.4},"Clean Energy Penetration",0.4,1.04,"Clean energy installed capacity",0.15,2.4000000000000004E-2,{"$f":"IFERROR(INDEX(Database!$E$15:$R$1257, MATCH($F34&\" > \"&$C$26, Database!$AG$15:$AG$1257, 0), MATCH(\"Underlying\" & \" > \" & \"Data\" & \" > \" & int_Year, Database!$E$14:$R$14, 0)), 0)","v":15880.9},"MW",{"$f":"IF(I34=\"\", \"\", IFERROR(I34*dbl_ScoreMax*MAX(0, IFERROR(INDEX(Database!$E$15:$R$1257, MATCH($F34&\" > \"&$C$26, Database!$AG$15:$AG$1257, 0), MATCH(\"Benchmarked\" & \" > \" & \"Score\" & \" > \" & int_Year, Database!$E$14:$R$14, 0)), 0))/100, 0))","v":2.4527194094431996E-2},0.20439328412026658,"BELOW",4]
[null,null,{"$f":"Dashboard!$E$26","v":0.4},null,{"$f":"E34","v":0.4},1.05,"Growth rate of installed capacity",0.2,3.2000000000000008E-2,{"$f":"IFERROR(INDEX(Database!$E$15:$R$1257, MATCH($F35&\" > \"&$C$26, Database!$AG$15:$AG$1257, 0), MATCH(\"Underlying\" & \" > \" & \"Data\" & \" > \" & int_Year, Database!$E$14:$R$14, 0)), 0)","v":0.14563449982325904},"%",{"$f":"IF(I35=\"\", \"\", IFERROR(I35*dbl_ScoreMax*MAX(0, IFERROR(INDEX(Database!$E$15:$R$1257, MATCH($F35&\" > \"&$C$26, Database!$AG$15:$AG$1257, 0), MATCH(\"Benchmarked\" & \" > \" & \"Score\" & \" > \" & int_Year, Database!$E$14:$R$14, 0)), 0))/100, 0))","v":5.8561829353502091E-2},0.36601143345938802,null,5]
[null,null,{"$f":"Dashboard!$E$26","v":0.4},null,{"$f":"E35","v":0.4},1.06,"Clean energy electricity generation",0.15,2.4000000000000004E-2,{"$f":"IFERROR(INDEX(Database!$E$15:$R$1257, MATCH($F36&\" > \"&$C$26, Database!$AG$15:$AG$1257, 0), MATCH(\"Underlying\" & \" > \" & \"Data\" & \" > \" & int_Year, Database!$E$14:$R$14, 0)), 0)","v":57399.82},"GWh",{"$f":"IF(I36=\"\", \"\", IFERROR(I36*dbl_ScoreMax*MAX(0, IFERROR(INDEX(Database!$E$15:$R$1257, MATCH($F36&\" > \"&$C$26, Database!$AG$15:$AG$1257, 0), MATCH(\"Benchmarked\" & \" > \" & \"Score\" & \" > \" & int_Year, Database!$E$14:$R$14, 0)), 0))/100, 0))","v":1.3319030277349651E-2},0.11099191897791373,"BELOW",6]
[null,null,{"$f":"Dashboard!$E$26","v":0.4},null,{"$f":"E36","v":0.4},1.07,"Growth rate of electricity generation",0.2,3.2000000000000008E-2,{"$f":"IFERROR(INDEX(Database!$E$15:$R$1257, MATCH($F37&\" > \"&$C$26, Database!$AG$15:$AG$1257, 0), MATCH(\"Underlying\" & \" > \" & \"Data\" & \" > \" & int_Year, Database!$E$14:$R$14, 0)), 0)","v":0},"%",{"$f":"IF(I37=\"\", \"\", IFERROR(I37*dbl_ScoreMax*MAX(0, IFERROR(INDEX(Database!$E$15:$R$1257, MATCH($F37&\" > \"&$C$26, Database!$AG$15:$AG$1257, 0), MATCH(\"Benchmarked\" & \" > \" & \"Score\" & \" > \" & int_Year, Database!$E$14:$R$14, 0)), 0))/100, 0))","v":0},0,null,7]
[null,null,{"$f":"Dashboard!$E$26","v":0.4},null,0.4,1.08,"Biofuels production",0.1,1.6000000000000004E-2,{"$f":"IFERROR(INDEX(Database!$E$15:$R$1257, MATCH($F38&\" > \"&$C$26, Database!$AG$15:$AG$1257, 0), MATCH(\"Underlying\" & \" > \" & \"Data\" & \" > \" & int_Year, Database!$E$14:$R$14, 0)), 0)","v":25.274548121999999},{"$f":"IF(J38=1, \"Billion Litre\", \"Billion Litres\")","v":"Billion Litres"},{"$f":"IF(I38=\"\", \"\", IFERROR(I38*dbl_ScoreMax*MAX(0, IFERROR(INDEX(Database!$E$15:$R$1257, MATCH($F38&\" > \"&$C$26, Database!$AG$15:$AG$1257, 0), MATCH(\"Benchmarked\" & \" > \" & \"Score\" & \" > \" & int_Year, Database!$E$14:$R$14, 0)), 0))/100, 0))","v":8.0000000000000016E-2},{"$f":"IF(L38=\"\", \"\", IFERROR(L38/(I38*dbl_ScoreMax), 0))","v":1},null,8]
[null,null,{"$f":"Dashboard!$E$26","v":0.4},null,0.4,1.0900000000000001,"Growth rate biofuels production",0.2,3.2000000000000008E-2,{"$f":"IFERROR(INDEX(Database!$E$15:$R$1257, MATCH($F39&\" > \"&$C$26, Database!$AG$15:$AG$1257, 0), MATCH(\"Underlying\" & \" > \" & \"Data\" & \" > \" & int_Year, Database!$E$14:$R$14, 0)), 0)","v":-3.8707573128584638E-3},"%",{"$f":"IF(I39=\"\", \"\", IFERROR(I39*dbl_ScoreMax*MAX(0, IFERROR(INDEX(Database!$E$15:$R$1257, MATCH($F39&\" > \"&$C$26, Database!$AG$15:$AG$1257, 0), MATCH(\"Benchmarked\" & \" > \" & \"Score\" & \" > \" & int_Year, Database!$E$14:$R$14, 0)), 0))/100, 0))","v":0},0,null,9]
[null,null,{"$f":"Dashboard!$E$26","v":0.4},"Price Attractiveness",0.1,1.1000000000000001,"Average electricity spot prices",{"$f":"IF(J40=0, 0, 1/COUNTIF($J$40:$J$41, \"<>0\"))","v":0.5},2.0000000000000004E-2,{"$f":"IFERROR(INDEX(Database!$E$15:$R$1257, MATCH($F40&\" > \"&$C$26, Database!$AG$15:$AG$1257, 0), MATCH(\"Underlying\" & \" > \" & \"Data\" & \" > \" & int_Year, Database!$E$14:$R$14, 0)), 0)","v":84.201081999999985},"USD/MWh",{"$f":"IF(I40=\"\", \"\", IFERROR(I40*dbl_ScoreMax*MAX(0, IFERROR(INDEX(Database!$E$15:$R$1257, MATCH($F40&\" > \"&$C$26, Database!$AG$15:$AG$1257, 0), MATCH(\"Benchmarked\" & \" > \" & \"Score\" & \" > \" & int_Year, Database!$E$14:$R$14, 0)), 0))/100, 0))","v":3.7848002517174469E-2},0.37848002517174462,null,10]
[null,null,{"$f":"Dashboard!$E$26","v":0.4},null,{"$f":"E40","v":0.1},1.1100000000000001,"Average retail electricity prices",{"$f":"IF(J41=0, 0, 1/COUNTIF($J$40:$J$41, \"<>0\"))","v":0.5},{"$f":"IF(H41=\"\", \"\", C41*E41*H41)","v":2.0000000000000004E-2},{"$f":"IFERROR(INDEX(Database!$E$15:$R$1257, MATCH($F41&\" > \"&$C$26, Database!$AG$15:$AG$1257, 0), MATCH(\"Underlying\" & \" > \" & \"Data\" & \" > \" & int_Year, Database!$E$14:$R$14, 0)), 0)","v":154.96167999999997},"USD/MWh",{"$f":"IF(I41=\"\", \"\", IFERROR(I41*dbl_ScoreMax*MAX(0, IFERROR(INDEX(Database!$E$15:$R$1257, MATCH($F41&\" > \"&$C$26, Database!$AG$15:$AG$1257, 0), MATCH(\"Benchmarked\" & \" > \" & \"Score\" & \" > \" & int_Year, Database!$E$14:$R$14, 0)), 0))/100, 0))","v":3.7935363100599688E-2},0.37935363100599678,null,11]
[null,null,{"$f":"Dashboard!$E$26","v":0.4},null,0,1.1200000000000001,"Average residential electricity prices",null,{"$f":"IF(H42=\"\", \"\", C42*E42*H42)","v":""},{"$f":"IFERROR(INDEX(Database!$E$15:$R$1257, MATCH($F42&\" > \"&$C$26, Database!$AG$15:$AG$1257, 0), MATCH(\"Underlying\" & \" > \" & \"Data\" & \" > \" & int_Year, Database!$E$14:$R$14, 0)), 0)","v":171.31127999999998},"USD/MWh",{"$f":"IF(I42=\"\", \"\", IFERROR(I42*dbl_ScoreMax*MAX(0, IFERROR(INDEX(Database!$E$15:$R$1257, MATCH($F42&\" > \"&$C$26, Database!$AG$15:$AG$1257, 0), MATCH(\"Benchmarked\" & \" > \" & \"Score\" & \" > \" & int_Year, Database!$E$14:$R$14, 0)), 0))/100, 0))","v":""},"",null,12]
[null,null,{"$f":"Dashboard!$E$26","v":0.4},null,{"$f":"E42","v":0},1.1300000000000001,"Average commercial electricity prices",null,"",{"$f":"IFERROR(INDEX(Database!$E$15:$R$1257, MATCH($F43&\" > \"&$C$26, Database!$AG$15:$AG$1257, 0), MATCH(\"Underlying\" & \" > \" & \"Data\" & \" > \" & int_Year, Database!$E$14:$R$14, 0)), 0)","v":134.301264},"USD/MWh",{"$f":"IF(I43=\"\", \"\", IFERROR(I43*dbl_ScoreMax*MAX(0, IFERROR(INDEX(Database!$E$15:$R$1257, MATCH($F43&\" > \"&$C$26, Database!$AG$15:$AG$1257, 0), MATCH(\"Benchmarked\" & \" > \" & \"Score\" & \" > \" & int_Year, Database!$E$14:$R$14, 0)), 0))/100, 0))","v":""},"",null,13]
[null,null,{"$f":"Dashboard!$E$26","v":0.4},null,0,1.1400000000000001,"Average industrial electricity prices",null,"",{"$f":"IFERROR(INDEX(Database!$E$15:$R$1257, MATCH($F44&\" > \"&$C$26, Database!$AG$15:$AG$1257, 0), MATCH(\"Underlying\" & \" > \" & \"Data\" & \" > \" & int_Year, Database!$E$14:$R$14, 0)), 0)","v":159.27249599999999},"USD/MWh",{"$f":"IF(I44=\"\", \"\", IFERROR(I44*dbl_ScoreMax*MAX(0, IFERROR(INDEX(Database!$E$15:$R$1257, MATCH($F44&\" > \"&$C$26, Database!$AG$15:$AG$1257, 0), MATCH(\"Benchmarked\" & \" > \" & \"Score\" & \" > \" & int_Year, Database!$E$14:$R$14, 0)), 0))/100, 0))","v":""},"",null,14]
[null,null,{"$f":"Dashboard!$E$26","v":0.4},"Market Size Expectations",0.1,1.1500000000000001,"Growth rate of power demand",0.49999999999999994,0.02,{"$f":"IFERROR(INDEX(Database!$E$15:$R$1257, MATCH($F45&\" > \"&$C$26, Database!$AG$15:$AG$1257, 0), MATCH(\"Underlying\" & \" > \" & \"Data\" & \" > \" & int_Year, Database!$E$14:$R$14, 0)), 0)","v":0},"%",{"$f":"IF(I45=\"\", \"\", IFERROR(I45*dbl_ScoreMax*MAX(0, IFERROR(INDEX(Database!$E$15:$R$1257, MATCH($F45&\" > \"&$C$26, Database!$AG$15:$AG$1257, 0), MATCH(\"Benchmarked\" & \" > \" & \"Score\" & \" > \" & int_Year, Database!$E$14:$R$14, 0)), 0))/100, 0))","v":0},0,null,15]
[null,null,{"$f":"Dashboard!$E$26","v":0.4},null,{"$f":"E45","v":0.1},1.1600000000000001,"Electrification rate",0.49999999999999994,0.02,{"$f":"IFERROR(INDEX(Database!$E$15:$R$1257, MATCH($F46&\" > \"&$C$26, Database!$AG$15:$AG$1257, 0), MATCH(\"Underlying\" & \" > \" & \"Data\" & \" > \" & int_Year, Database!$E$14:$R$14, 0)), 0)","v":0.98299999999999998},"%",{"$f":"IF(I46=\"\", \"\", IFERROR(I46*dbl_ScoreMax*MAX(0, IFERROR(INDEX(Database!$E$15:$R$1257, MATCH($F46&\" > \"&$C$26, Database!$AG$15:$AG$1257, 0), MATCH(\"Benchmarked\" & \" > \" & \"Score\" & \" > \" & int_Year, Database!$E$14:$R$14, 0)), 0))/100, 0))","v":1.5259409969481181E-2},0.1525940996948118,null,16]
[null,"Clean Energy Investment ",0.3,"Amount Invested",0.45,2.0099999999999998,"Clean energy investments",0.5,{"$f":"IF(H47=\"\", \"\", C47*E47*H47)","v":6.7500000000000004E-2},{"$f":"IFERROR(INDEX(Database!$E$15:$R$1257, MATCH($F47&\" > \"&$C$26, Database!$AG$15:$AG$1257, 0), MATCH(\"Underlying\" & \" > \" & \"Data\" & \" > \" & int_Year, Database!$E$14:$R$14, 0)), 0)","v":82210.779189262335},"USDm",{"$f":"IF(I47=\"\", \"\", IFERROR(I47*dbl_ScoreMax*MAX(0, IFERROR(INDEX(Database!$E$15:$R$1257, MATCH($F47&\" > \"&$C$26, Database!$AG$15:$AG$1257, 0), MATCH(\"Benchmarked\" & \" > \" & \"Score\" & \" > \" & int_Year, Database!$E$14:$R$14, 0)), 0))/100, 0))","v":8.1261374754253796E-2},0.24077444371630752,"BELOW",17]
[null,"& Climate Financing",{"$f":"Dashboard!$E$27","v":0.3},null,{"$f":"E47","v":0.45},{"$f":"F47+0.01","v":2.0199999999999996},"Growth rate of clean energy investments",0.5,6.7500000000000004E-2,{"$f":"IFERROR(INDEX(Database!$E$15:$R$1257, MATCH($F48&\" > \"&$C$26, Database!$AG$15:$AG$1257, 0), MATCH(\"Underlying\" & \" > \" & \"Data\" & \" > \" & int_Year, Database!$E$14:$R$14, 0)), 0)","v":0.12613056265820766},"%",{"$f":"IF(I48=\"\", \"\", IFERROR(I48*dbl_ScoreMax*MAX(0, IFERROR(INDEX(Database!$E$15:$R$1257, MATCH($F48&\" > \"&$C$26, Database!$AG$15:$AG$1257, 0), MATCH(\"Benchmarked\" & \" > \" & \"Score\" & \" > \" & int_Year, Database!$E$14:$R$14, 0)), 0))/100, 0))","v":4.5845408517950201E-2},0.13583824746059317,null,18]
[null,null,{"$f":"Dashboard!$E$27","v":0.3},"Investment Type",0,2.0299999999999994,"Asset finance investments",null,{"$f":"IF(H49=\"\", \"\", C49*E49*H49)","v":""},{"$f":"IFERROR(INDEX(Database!$E$15:$R$1257, MATCH($F49&\" > \"&$C$26, Database!$AG$15:$AG$1257, 0), MATCH(\"Underlying\" & \" > \" & \"Data\" & \" > \" & int_Year, Database!$E$14:$R$14, 0)), 0)","v":67604.56476744989},"USDm",{"$f":"IF(I49=\"\", \"\", IFERROR(I49*dbl_ScoreMax*MAX(0, IFERROR(INDEX(Database!$E$15:$R$1257, MATCH($F49&\" > \"&$C$26, Database!$AG$15:$AG$1257, 0), MATCH(\"Benchmarked\" & \" > \" & \"Score\" & \" > \" & int_Year, Database!$E$14:$R$14, 0)), 0))/100, 0))","v":""},{"$f":"IF(L49=\"\", \"\", IFERROR(L49/(I49*dbl_ScoreMax), 0))","v":""},null,19]
[null,null,{"$f":"Dashboard!$E$27","v":0.3},null,{"$f":"E49","v":0},2.0399999999999991,"Corporate finance investments","","",{"$f":"IFERROR(INDEX(Database!$E$15:$R$1257, MATCH($F50&\" > \"&$C$26, Database!$AG$15:$AG$1257, 0), MATCH(\"Underlying\" & \" > \" & \"Data\" & \" > \" & int_Year, Database!$E$14:$R$14, 0)), 0)","v":11053.401500657894},"USDm",{"$f":"IF(I50=\"\", \"\", IFERROR(I50*dbl_ScoreMax*MAX(0, IFERROR(INDEX(Database!$E$15:$R$1257, MATCH($F50&\" > \"&$C$26, Database!$AG$15:$AG$1257, 0), MATCH(\"Benchmarked\" & \" > \" & \"Score\" & \" > \" & int_Year, Database!$E$14:$R$14, 0)), 0))/100, 0))","v":""},"",null,20]
[null,null,{"$f":"Dashboard!$E$27","v":0.3},null,0,2.0499999999999989,"VC/PE investments","","",{"$f":"IFERROR(INDEX(Database!$E$15:$R$1257, MATCH($F51&\" > \"&$C$26, Database!$AG$15:$AG$1257, 0), MATCH(\"Underlying\" & \" > \" & \"Data\" & \" > \" & int_Year, Database!$E$14:$R$14, 0)), 0)","v":3552.7729211545479},"USDm",{"$f":"IF(I51=\"\", \"\", IFERROR(I51*dbl_ScoreMax*MAX(0, IFERROR(INDEX(Database!$E$15:$R$1257, MATCH($F51&\" > \"&$C$26, Database!$AG$15:$AG$1257, 0), MATCH(\"Benchmarked\" & \" > \" & \"Score\" & \" > \" & int_Year, Database!$E$14:$R$14, 0)), 0))/100, 0))","v":""},"",null,21]
[null,null,{"$f":"Dashboard!$E$27","v":0.3},null,0,2.0599999999999987,"Small Distributed scale","","",{"$f":"IFERROR(INDEX(Database!$E$15:$R$1257, MATCH($F52&\" > \"&$C$26, Database!$AG$15:$AG$1257, 0), MATCH(\"Underlying\" & \" > \" & \"Data\" & \" > \" & int_Year, Database!$E$14:$R$14, 0)), 0)","v":0.04},"USDm",{"$f":"IF(I52=\"\", \"\", IFERROR(I52*dbl_ScoreMax*MAX(0, IFERROR(INDEX(Database!$E$15:$R$1257, MATCH($F52&\" > \"&$C$26, Database!$AG$15:$AG$1257, 0), MATCH(\"Benchmarked\" & \" > \" & \"Score\" & \" > \" & int_Year, Database!$E$14:$R$14, 0)), 0))/100, 0))","v":""},"",null,22]
[null,null,{"$f":"Dashboard!$E$27","v":0.3},"Fund Sources",0.2,2.0699999999999985,"Loans, grants, grant programs",0.5,0.03,{"$f":"IFERROR(INDEX(Database!$E$15:$R$1257, MATCH($F53&\" > \"&$C$26, Database!$AG$15:$AG$1257, 0), MATCH(\"Underlying\" & \" > \" & \"Data\" & \" > \" & int_Year, Database!$E$14:$R$14, 0)), 0)","v":2505.849999999999},"USDm",{"$f":"IF(I53=\"\", \"\", IFERROR(I53*dbl_ScoreMax*MAX(0, IFERROR(INDEX(Database!$E$15:$R$1257, MATCH($F53&\" > \"&$C$26, Database!$AG$15:$AG$1257, 0), MATCH(\"Benchmarked\" & \" > \" & \"Score\" & \" > \" & int_Year, Database!$E$14:$R$14, 0)), 0))/100, 0))","v":2.3468214244099241E-3},1.5645476162732829E-2,null,23]
[null,null,{"$f":"Dashboard!$E$27","v":0.3},null,{"$f":"E53","v":0.2},2.0799999999999983,"Local investments",0.5,0.03,{"$f":"IFERROR(INDEX(Database!$E$15:$R$1257, MATCH($F54&\" > \"&$C$26, Database!$AG$15:$AG$1257, 0), MATCH(\"Underlying\" & \" > \" & \"Data\" & \" > \" & int_Year, Database!$E$14:$R$14, 0)), 0)","v":5936.3247916966739},"USDm",{"$f":"IF(I54=\"\", \"\", IFERROR(I54*dbl_ScoreMax*MAX(0, IFERROR(INDEX(Database!$E$15:$R$1257, MATCH($F54&\" > \"&$C$26, Database!$AG$15:$AG$1257, 0), MATCH(\"Benchmarked\" & \" > \" & \"Score\" & \" > \" & int_Year, Database!$E$14:$R$14, 0)), 0))/100, 0))","v":0.10438498843871737},0.69589992292478242,null,24]
[null,null,{"$f":"Dashboard!$E$27","v":0.3},"Green Micro Finance",0.18,2.0899999999999981,"Number of Green MFI",0.38333333333333303,2.0699999999999982E-2,{"$f":"IFERROR(INDEX(Database!$E$15:$R$1257, MATCH($F55&\" > \"&$C$26, Database!$AG$15:$AG$1257, 0), MATCH(\"Underlying\" & \" > \" & \"Data\" & \" > \" & int_Year, Database!$E$14:$R$14, 0)), 0)","v":2},{"$f":"IF(J55=1, \"Company\", \"Companies\")","v":"Companies"},{"$f":"IF(I55=\"\", \"\", IFERROR(I55*dbl_ScoreMax*MAX(0, IFERROR(INDEX(Database!$E$15:$R$1257, MATCH($F55&\" > \"&$C$26, Database!$AG$15:$AG$1257, 0), MATCH(\"Benchmarked\" & \" > \" & \"Score\" & \" > \" & int_Year, Database!$E$14:$R$14, 0)), 0))/100, 0))","v":4.9460176991150398E-3},4.7787610619469026E-2,"BELOW",25]
[null,null,{"$f":"Dashboard!$E$27","v":0.3},null,{"$f":"E55","v":0.18},2.0999999999999979,"Green micro-loans",0.21666666666666601,1.1699999999999964E-2,{"$f":"IFERROR(INDEX(Database!$E$15:$R$1257, MATCH($F56&\" > \"&$C$26, Database!$AG$15:$AG$1257, 0), MATCH(\"Underlying\" & \" > \" & \"Data\" & \" > \" & int_Year, Database!$E$14:$R$14, 0)), 0)","v":0},"USD",{"$f":"IF(I56=\"\", \"\", IFERROR(I56*dbl_ScoreMax*MAX(0, IFERROR(INDEX(Database!$E$15:$R$1257, MATCH($F56&\" > \"&$C$26, Database!$AG$15:$AG$1257, 0), MATCH(\"Benchmarked\" & \" > \" & \"Score\" & \" > \" & int_Year, Database!$E$14:$R$14, 0)), 0))/100, 0))","v":0},0,null,26]
[null,null,{"$f":"Dashboard!$E$27","v":0.3},null,0.18,2.1099999999999977,"Green micro-borrowers",0.21666666666666601,1.1699999999999964E-2,{"$f":"IFERROR(INDEX(Database!$E$15:$R$1257, MATCH($F57&\" > \"&$C$26, Database!$AG$15:$AG$1257, 0), MATCH(\"Underlying\" & \" > \" & \"Data\" & \" > \" & int_Year, Database!$E$14:$R$14, 0)), 0)","v":2},{"$f":"IF(J57=1, \"Borrower\", \"Borrowers\")","v":"Borrowers"},{"$f":"IF(I57=\"\", \"\", IFERROR(I57*dbl_ScoreMax*MAX(0, IFERROR(INDEX(Database!$E$15:$R$1257, MATCH($F57&\" > \"&$C$26, Database!$AG$15:$AG$1257, 0), MATCH(\"Benchmarked\" & \" > \" & \"Score\" & \" > \" & int_Year, Database!$E$14:$R$14, 0)), 0))/100, 0))","v":1.4276879888509966E-6},2.4404922886341897E-5,null,27]
[null,null,{"$f":"Dashboard!$E$27","v":0.3},null,0.18,2.1199999999999974,"Average cost of green micro debt",0.18333333333333501,{"$f":"IF(H58=\"\", \"\", C58*E58*H58)","v":9.900000000000091E-3},{"$f":"IFERROR(INDEX(Database!$E$15:$R$1257, MATCH($F58&\" > \"&$C$26, Database!$AG$15:$AG$1257, 0), MATCH(\"Underlying\" & \" > \" & \"Data\" & \" > \" & int_Year, Database!$E$14:$R$14, 0)), 0)","v":2.5000000000000001E-2},"%",{"$f":"IF(I58=\"\", \"\", IFERROR(I58*dbl_ScoreMax*MAX(0, IFERROR(INDEX(Database!$E$15:$R$1257, MATCH($F58&\" > \"&$C$26, Database!$AG$15:$AG$1257, 0), MATCH(\"Benchmarked\" & \" > \" & \"Score\" & \" > \" & int_Year, Database!$E$14:$R$14, 0)), 0))/100, 0))","v":4.9500000000000453E-2},1,null,28]
[null,null,{"$f":"Dashboard!$E$27","v":0.3},"Cost of Debt",0.17,2.1299999999999972,"Average cost of debt",{"$f":"IF(J59=0, 0, 1/COUNTIF($J$59:$J$60, \"<>0\"))","v":0.5},2.5500000000000002E-2,{"$f":"IFERROR(INDEX(Database!$E$15:$R$1257, MATCH($F59&\" > \"&$C$26, Database!$AG$15:$AG$1257, 0), MATCH(\"Underlying\" & \" > \" & \"Data\" & \" > \" & int_Year, Database!$E$14:$R$14, 0)), 0)","v":0.05},"%",{"$f":"IF(I59=\"\", \"\", IFERROR(I59*dbl_ScoreMax*MAX(0, IFERROR(INDEX(Database!$E$15:$R$1257, MATCH($F59&\" > \"&$C$26, Database!$AG$15:$AG$1257, 0), MATCH(\"Benchmarked\" & \" > \" & \"Score\" & \" > \" & int_Year, Database!$E$14:$R$14, 0)), 0))/100, 0))","v":0.11088930000000001},0.86972000000000005,null,29]
[null,null,{"$f":"Dashboard!$E$27","v":0.3},null,{"$f":"E59","v":0.17},2.139999999999997,"Swap rate",{"$f":"IF(J60=0, 0, 1/COUNTIF($J$59:$J$60, \"<>0\"))","v":0.5},2.5500000000000002E-2,{"$f":"IFERROR(INDEX(Database!$E$15:$R$1257, MATCH($F60&\" > \"&$C$26, Database!$AG$15:$AG$1257, 0), MATCH(\"Underlying\" & \" > \" & \"Data\" & \" > \" & int_Year, Database!$E$14:$R$14, 0)), 0)","v":8.5952000000000001E-2},"%",{"$f":"IF(I60=\"\", \"\", IFERROR(I60*dbl_ScoreMax*MAX(0, IFERROR(INDEX(Database!$E$15:$R$1257, MATCH($F60&\" > \"&$C$26, Database!$AG$15:$AG$1257, 0), MATCH(\"Benchmarked\" & \" > \" & \"Score\" & \" > \" & int_Year, Database!$E$14:$R$14, 0)), 0))/100, 0))","v":6.9570806962025306E-2},0.54565338793745333,null,30]
[null,"Low-Carbon Business ",0.1,"Value Chain",1,3.01,"Financial institutions in clean energy",0.25,2.5000000000000001E-2,{"$f":"IFERROR(INDEX(Database!$E$15:$R$1257, MATCH($F61&\" > \"&$C$26, Database!$AG$15:$AG$1257, 0), MATCH(\"Underlying\" & \" > \" & \"Data\" & \" > \" & int_Year, Database!$E$14:$R$14, 0)), 0)","v":4},{"$f":"IF(J61=1, \"Company\", \"Companies\")","v":"Companies"},{"$f":"IF(I61=\"\", \"\", IFERROR(I61*dbl_ScoreMax*MAX(0, IFERROR(INDEX(Database!$E$15:$R$1257, MATCH($F61&\" > \"&$C$26, Database!$AG$15:$AG$1257, 0), MATCH(\"Benchmarked\" & \" > \" & \"Score\" & \" > \" & int_Year, Database!$E$14:$R$14, 0)), 0))/100, 0))","v":0.125},1,"BELOW",31]
[null,"& Clean Energy Value Chains",{"$f":"Dashboard!$E$28","v":0.1},null,{"$f":"E61","v":1},{"$f":"F61+0.01","v":3.0199999999999996},"Value chains by clean energy sector",0.5,0.05,{"$f":"IFERROR(INDEX(Database!$E$15:$R$1257, MATCH($F62&\" > \"&$C$26, Database!$AG$15:$AG$1257, 0), MATCH(\"Underlying\" & \" > \" & \"Data\" & \" > \" & int_Year, Database!$E$14:$R$14, 0)), 0)","v":30},{"$f":"IF(J62=1, \"Value Chain\", \"Value Chains\")","v":"Value Chains"},{"$f":"IF(I62=\"\", \"\", IFERROR(I62*dbl_ScoreMax*MAX(0, IFERROR(INDEX(Database!$E$15:$R$1257, MATCH($F62&\" > \"&$C$26, Database!$AG$15:$AG$1257, 0), MATCH(\"Benchmarked\" & \" > \" & \"Score\" & \" > \" & int_Year, Database!$E$14:$R$14, 0)), 0))/100, 0))","v":0.1875},0.75,"BELOW",32]
[null,null,{"$f":"Dashboard!$E$28","v":0.1},null,1,{"$f":"F62+0.01","v":3.0299999999999994},"Clean energy service providers",0.25,2.5000000000000001E-2,{"$f":"IFERROR(INDEX(Database!$E$15:$R$1257, MATCH($F63&\" > \"&$C$26, Database!$AG$15:$AG$1257, 0), MATCH(\"Underlying\" & \" > \" & \"Data\" & \" > \" & int_Year, Database!$E$14:$R$14, 0)), 0)","v":18},{"$f":"IF(J63=1, \"Service Provider\", \"Sevice Providers\")","v":"Sevice Providers"},{"$f":"IF(I63=\"\", \"\", IFERROR(I63*dbl_ScoreMax*MAX(0, IFERROR(INDEX(Database!$E$15:$R$1257, MATCH($F63&\" > \"&$C$26, Database!$AG$15:$AG$1257, 0), MATCH(\"Benchmarked\" & \" > \" & \"Score\" & \" > \" & int_Year, Database!$E$14:$R$14, 0)), 0))/100, 0))","v":0.1125},0.9,"BELOW",33]
[null,"GHG Management Activities",0.2,"Carbon Offsets",0.4,4.01,"Carbon offsets historical activity",0.49999999999999994,0.04,{"$f":"IFERROR(INDEX(Database!$E$15:$R$1257, MATCH($F64&\" > \"&$C$26, Database!$AG$15:$AG$1257, 0), MATCH(\"Underlying\" & \" > \" & \"Data\" & \" > \" & int_Year, Database!$E$14:$R$14, 0)), 0)","v":345},"Projects",{"$f":"IF(I64=\"\", \"\", IFERROR(I64*dbl_ScoreMax*MAX(0, IFERROR(INDEX(Database!$E$15:$R$1257, MATCH($F64&\" > \"&$C$26, Database!$AG$15:$AG$1257, 0), MATCH(\"Benchmarked\" & \" > \" & \"Score\" & \" > \" & int_Year, Database!$E$14:$R$14, 0)), 0))/100, 0))","v":0.2},1,null,34]
[null,null,{"$f":"Dashboard!$E$29","v":0.2},null,{"$f":"E64","v":0.4},{"$f":"F64+0.01","v":4.0199999999999996},"CDM risk",0.24999999999999997,0.02,{"$f":"IFERROR(INDEX(Database!$E$15:$R$1257, MATCH($F65&\" > \"&$C$26, Database!$AG$15:$AG$1257, 0), MATCH(\"Underlying\" & \" > \" & \"Data\" & \" > \" & int_Year, Database!$E$14:$R$14, 0)), 0)","v":118},"Failures/Projects",{"$f":"IF(I65=\"\", \"\", IFERROR(I65*dbl_ScoreMax*MAX(0, IFERROR(INDEX(Database!$E$15:$R$1257, MATCH($F65&\" > \"&$C$26, Database!$AG$15:$AG$1257, 0), MATCH(\"Benchmarked\" & \" > \" & \"Score\" & \" > \" & int_Year, Database!$E$14:$R$14, 0)), 0))/100, 0))","v":1.6666666666666666E-2},0.16666666666666666,null,35]
[null,null,{"$f":"Dashboard!$E$29","v":0.2},null,0.4,4.0299999999999994,"Carbon offsets future potential",0.24999999999999997,0.02,{"$f":"IFERROR(INDEX(Database!$E$15:$R$1257, MATCH($F66&\" > \"&$C$26, Database!$AG$15:$AG$1257, 0), MATCH(\"Underlying\" & \" > \" & \"Data\" & \" > \" & int_Year, Database!$E$14:$R$14, 0)), 0)","v":0},"Potential",{"$f":"IF(I66=\"\", \"\", IFERROR(I66*dbl_ScoreMax*MAX(0, IFERROR(INDEX(Database!$E$15:$R$1257, MATCH($F66&\" > \"&$C$26, Database!$AG$15:$AG$1257, 0), MATCH(\"Benchmarked\" & \" > \" & \"Score\" & \" > \" & int_Year, Database!$E$14:$R$14, 0)), 0))/100, 0))","v":4.1422998851174279E-2},0.41422998851174275,null,36]
[null,null,{"$f":"Dashboard!$E$29","v":0.2},"Carbon Policy",0.3,4.0399999999999991,"GHG emissions reduction target",0.41666666666666674,2.5000000000000005E-2,{"$f":"IFERROR(INDEX(Database!$E$15:$R$1257, MATCH($F67&\" > \"&$C$26, Database!$AG$15:$AG$1257, 0), MATCH(\"Underlying\" & \" > \" & \"Data\" & \" > \" & int_Year, Database!$E$14:$R$14, 0)), 0)","v":1},"Target",{"$f":"IF(I67=\"\", \"\", IFERROR(I67*dbl_ScoreMax*MAX(0, IFERROR(INDEX(Database!$E$15:$R$1257, MATCH($F67&\" > \"&$C$26, Database!$AG$15:$AG$1257, 0), MATCH(\"Benchmarked\" & \" > \" & \"Score\" & \" > \" & int_Year, Database!$E$14:$R$14, 0)), 0))/100, 0))","v":7.5000000000000011E-2},0.6,null,37]
[null,null,{"$f":"Dashboard!$E$29","v":0.2},null,{"$f":"E67","v":0.3},4.0499999999999989,"GHG country registry",0.25,1.4999999999999999E-2,{"$f":"IFERROR(INDEX(Database!$E$15:$R$1257, MATCH($F68&\" > \"&$C$26, Database!$AG$15:$AG$1257, 0), MATCH(\"Underlying\" & \" > \" & \"Data\" & \" > \" & int_Year, Database!$E$14:$R$14, 0)), 0)","v":0},"Registry",{"$f":"IF(I68=\"\", \"\", IFERROR(I68*dbl_ScoreMax*MAX(0, IFERROR(INDEX(Database!$E$15:$R$1257, MATCH($F68&\" > \"&$C$26, Database!$AG$15:$AG$1257, 0), MATCH(\"Benchmarked\" & \" > \" & \"Score\" & \" > \" & int_Year, Database!$E$14:$R$14, 0)), 0))/100, 0))","v":4.9999999999999989E-2},0.66666666666666652,null,38]
[null,null,{"$f":"Dashboard!$E$29","v":0.2},null,0.3,4.0599999999999987,"GHG market-based instruments",8.3333333333333343E-2,5.0000000000000001E-3,{"$f":"IFERROR(INDEX(Database!$E$15:$R$1257, MATCH($F69&\" > \"&$C$26, Database!$AG$15:$AG$1257, 0), MATCH(\"Underlying\" & \" > \" & \"Data\" & \" > \" & int_Year, Database!$E$14:$R$14, 0)), 0)","v":0},"Program",{"$f":"IF(I69=\"\", \"\", IFERROR(I69*dbl_ScoreMax*MAX(0, IFERROR(INDEX(Database!$E$15:$R$1257, MATCH($F69&\" > \"&$C$26, Database!$AG$15:$AG$1257, 0), MATCH(\"Benchmarked\" & \" > \" & \"Score\" & \" > \" & int_Year, Database!$E$14:$R$14, 0)), 0))/100, 0))","v":0},0,null,39]
[null,null,{"$f":"Dashboard!$E$29","v":0.2},null,0.3,4.0699999999999985,"PMR & NAMA",0.25,1.4999999999999999E-2,{"$f":"IFERROR(INDEX(Database!$E$15:$R$1257, MATCH($F70&\" > \"&$C$26, Database!$AG$15:$AG$1257, 0), MATCH(\"Underlying\" & \" > \" & \"Data\" & \" > \" & int_Year, Database!$E$14:$R$14, 0)), 0)","v":0},"PMR & NAMA",{"$f":"IF(I70=\"\", \"\", IFERROR(I70*dbl_ScoreMax*MAX(0, IFERROR(INDEX(Database!$E$15:$R$1257, MATCH($F70&\" > \"&$C$26, Database!$AG$15:$AG$1257, 0), MATCH(\"Benchmarked\" & \" > \" & \"Score\" & \" > \" & int_Year, Database!$E$14:$R$14, 0)), 0))/100, 0))","v":1.8749999999999999E-2},0.25,null,40]
[null,null,{"$f":"Dashboard!$E$29","v":0.2},"Corporate Awareness",0.3,4.0799999999999983,"Voluntary GHG reporting by corporates",0.16666666666666669,0.01,{"$f":"IFERROR(INDEX(Database!$E$15:$R$1257, MATCH($F71&\" > \"&$C$26, Database!$AG$15:$AG$1257, 0), MATCH(\"Underlying\" & \" > \" & \"Data\" & \" > \" & int_Year, Database!$E$14:$R$14, 0)), 0)","v":0},"Companies",{"$f":"IF(I71=\"\", \"\", IFERROR(I71*dbl_ScoreMax*MAX(0, IFERROR(INDEX(Database!$E$15:$R$1257, MATCH($F71&\" > \"&$C$26, Database!$AG$15:$AG$1257, 0), MATCH(\"Benchmarked\" & \" > \" & \"Score\" & \" > \" & int_Year, Database!$E$14:$R$14, 0)), 0))/100, 0))","v":2.8968964488212477E-2},0.57937928976424946,null,41]
[null,null,{"$f":"Dashboard!$E$29","v":0.2},null,{"$f":"E71","v":0.3},4.0899999999999981,"Investor pressure – PRI signatories",0.16666666666666669,0.01,{"$f":"IFERROR(INDEX(Database!$E$15:$R$1257, MATCH($F72&\" > \"&$C$26, Database!$AG$15:$AG$1257, 0), MATCH(\"Underlying\" & \" > \" & \"Data\" & \" > \" & int_Year, Database!$E$14:$R$14, 0)), 0)","v":0},"Companies",{"$f":"IF(I72=\"\", \"\", IFERROR(I72*dbl_ScoreMax*MAX(0, IFERROR(INDEX(Database!$E$15:$R$1257, MATCH($F72&\" > \"&$C$26, Database!$AG$15:$AG$1257, 0), MATCH(\"Benchmarked\" & \" > \" & \"Score\" & \" > \" & int_Year, Database!$E$14:$R$14, 0)), 0))/100, 0))","v":0.05},1,null,42]
[null,null,{"$f":"Dashboard!$E$29","v":0.2},null,0.3,4.0999999999999979,"Corporate energy efficiency initiatives",0.16666666666666669,0.01,{"$f":"IFERROR(INDEX(Database!$E$15:$R$1257, MATCH($F73&\" > \"&$C$26, Database!$AG$15:$AG$1257, 0), MATCH(\"Underlying\" & \" > \" & \"Data\" & \" > \" & int_Year, Database!$E$14:$R$14, 0)), 0)","v":0},"Companies",{"$f":"IF(I73=\"\", \"\", IFERROR(I73*dbl_ScoreMax*MAX(0, IFERROR(INDEX(Database!$E$15:$R$1257, MATCH($F73&\" > \"&$C$26, Database!$AG$15:$AG$1257, 0), MATCH(\"Benchmarked\" & \" > \" & \"Score\" & \" > \" & int_Year, Database!$E$14:$R$14, 0)), 0))/100, 0))","v":0.05},1,null,43]
[null,null,{"$f":"Dashboard!$E$29","v":0.2},null,0.3,4.1099999999999977,"Corporate emission reduction policies",0.16666666666666669,0.01,{"$f":"IFERROR(INDEX(Database!$E$15:$R$1257, MATCH($F74&\" > \"&$C$26, Database!$AG$15:$AG$1257, 0), MATCH(\"Underlying\" & \" > \" & \"Data\" & \" > \" & int_Year, Database!$E$14:$R$14, 0)), 0)","v":0},"Companies",{"$f":"IF(I74=\"\", \"\", IFERROR(I74*dbl_ScoreMax*MAX(0, IFERROR(INDEX(Database!$E$15:$R$1257, MATCH($F74&\" > \"&$C$26, Database!$AG$15:$AG$1257, 0), MATCH(\"Benchmarked\" & \" > \" & \"Score\" & \" > \" & int_Year, Database!$E$14:$R$14, 0)), 0))/100, 0))","v":0.05},1,null,44]
[null,null,{"$f":"Dashboard!$E$29","v":0.2},null,0.3,4.1199999999999974,"Capacity building – env. business training",0.16666666666666669,0.01,{"$f":"IFERROR(INDEX(Database!$E$15:$R$1257, MATCH($F75&\" > \"&$C$26, Database!$AG$15:$AG$1257, 0), MATCH(\"Underlying\" & \" > \" & \"Data\" & \" > \" & int_Year, Database!$E$14:$R$14, 0)), 0)","v":0},"Organisations",{"$f":"IF(I75=\"\", \"\", IFERROR(I75*dbl_ScoreMax*MAX(0, IFERROR(INDEX(Database!$E$15:$R$1257, MATCH($F75&\" > \"&$C$26, Database!$AG$15:$AG$1257, 0), MATCH(\"Benchmarked\" & \" > \" & \"Score\" & \" > \" & int_Year, Database!$E$14:$R$14, 0)), 0))/100, 0))","v":0.05},1,null,45]
[null,null,{"$f":"Dashboard!$E$29","v":0.2},null,0.3,4.1299999999999972,"Capacity building – think tanks",0.16666666666666669,{"$f":"IF(H76=\"\", \"\", C76*E76*H76)","v":0.01},{"$f":"IFERROR(INDEX(Database!$E$15:$R$1257, MATCH($F76&\" > \"&$C$26, Database!$AG$15:$AG$1257, 0), MATCH(\"Underlying\" & \" > \" & \"Data\" & \" > \" & int_Year, Database!$E$14:$R$14, 0)), 0)","v":0},"Organisations",{"$f":"IF(I76=\"\", \"\", IFERROR(I76*dbl_ScoreMax*MAX(0, IFERROR(INDEX(Database!$E$15:$R$1257, MATCH($F76&\" > \"&$C$26, Database!$AG$15:$AG$1257, 0), MATCH(\"Benchmarked\" & \" > \" & \"Score\" & \" > \" & int_Year, Database!$E$14:$R$14, 0)), 0))/100, 0))","v":0.05},1,null,46]
[]
[null,"FURTHER INDICATOR DETAILS",null,null," "]
[null,"1.01 - Clean Energy Policies",null,{"$f":"COUNTIF(D80:D103, \"Yes\")","v":11}," "]
[null,"Energy Market - Feed-in tariff",null,{"$f":"IF(INDEX(Policy!$B$6:$Y$31, MATCH(str_Country, Policy!$A$6:$A$31, 0), MATCH($B80, Policy!$B$5:$Y$5, 0))=1, \"Yes\", \"No\")","v":"Yes"}," "]
[null,"Energy Market - Energy targets",null,{"$f":"IF(INDEX(Policy!$B$6:$Y$31, MATCH(str_Country, Policy!$A$6:$A$31, 0), MATCH($B81, Policy!$B$5:$Y$5, 0))=1, \"Yes\", \"No\")","v":"No"}," "]
[null,"Energy Market - Auction",null,{"$f":"IF(INDEX(Policy!$B$6:$Y$31, MATCH(str_Country, Policy!$A$6:$A$31, 0), MATCH($B82, Policy!$B$5:$Y$5, 0))=1, \"Yes\", \"No\")","v":"Yes"}," "]
[null,"Energy Market - Biofuels blending mandate",null,{"$f":"IF(INDEX(Policy!$B$6:$Y$31, MATCH(str_Country, Policy!$A$6:$A$31, 0), MATCH($B83, Policy!$B$5:$Y$5, 0))=1, \"Yes\", \"No\")","v":"Yes"}," "]
[null,"Energy Market - Net Metering",null,{"$f":"IF(INDEX(Policy!$B$6:$Y$31, MATCH(str_Country, Policy!$A$6:$A$31, 0), MATCH($B84, Policy!$B$5:$Y$5, 0))=1, \"Yes\", \"No\")","v":"Yes"}," "]
[null,"Energy Market - Other",null,{"$f":"IF(INDEX(Policy!$B$6:$Y$31, MATCH(str_Country, Policy!$A$6:$A$31, 0), MATCH($B85, Policy!$B$5:$Y$5, 0))=1, \"Yes\", \"No\")","v":"Yes"}," "]
[null,"Equity Finance - Grants",null,{"$f":"IF(INDEX(Policy!$B$6:$Y$31, MATCH(str_Country, Policy!$A$6:$A$31, 0), MATCH($B86, Policy!$B$5:$Y$5, 0))=1, \"Yes\", \"No\")","v":"No"}," "]
[null,"Equity Finance - Incubators",null,{"$f":"IF(INDEX(Policy!$B$6:$Y$31, MATCH(str_Country, Policy!$A$6:$A$31, 0), MATCH($B87, Policy!$B$5:$Y$5, 0))=1, \"Yes\", \"No\")","v":"No"}," "]
[null,"Equity Finance - Infrastructure funds",null,{"$f":"IF(INDEX(Policy!$B$6:$Y$31, MATCH(str_Country, Policy!$A$6:$A$31, 0), MATCH($B88, Policy!$B$5:$Y$5, 0))=1, \"Yes\", \"No\")","v":"Yes"}," "]
[null,"Equity Finance - Other",null,{"$f":"IF(INDEX(Policy!$B$6:$Y$31, MATCH(str_Country, Policy!$A$6:$A$31, 0), MATCH($B89, Policy!$B$5:$Y$5, 0))=1, \"Yes\", \"No\")","v":"No"}," "]
[null,"Debt Finance - Funding",null,{"$f":"IF(INDEX(Policy!$B$6:$Y$31, MATCH(str_Country, Policy!$A$6:$A$31, 0), MATCH($B90, Policy!$B$5:$Y$5, 0))=1, \"Yes\", \"No\")","v":"Yes"}," "]
[null,"Debt Finance - Export trade credit",null,{"$f":"IF(INDEX(Policy!$B$6:$Y$31, MATCH(str_Country, Policy!$A$6:$A$31, 0), MATCH($B91, Policy!$B$5:$Y$5, 0))=1, \"Yes\", \"No\")","v":"No"}," "]
[null,"Debt Finance - Green Bonds",null,{"$f":"IF(INDEX(Policy!$B$6:$Y$31, MATCH(str_Country, Policy!$A$6:$A$31, 0), MATCH($B92, Policy!$B$5:$Y$5, 0))=1, \"Yes\", \"No\")","v":"No"}," "]
[null,"Debt Finance - Other",null,{"$f":"IF(INDEX(Policy!$B$6:$Y$31, MATCH(str_Country, Policy!$A$6:$A$31, 0), MATCH($B93, Policy!$B$5:$Y$5, 0))=1, \"Yes\", \"No\")","v":"No"}," "]
[null,"Tax-Based - Accelerated depreciation",null,{"$f":"IF(INDEX(Policy!$B$6:$Y$31, MATCH(str_Country, Policy!$A$6:$A$31, 0), MATCH($B94, Policy!$B$5:$Y$5, 0))=1, \"Yes\", \"No\")","v":"No"}," "]
[null,"Tax-Based - Tax relief",null,{"$f":"IF(INDEX(Policy!$B$6:$Y$31, MATCH(str_Country, Policy!$A$6:$A$31, 0), MATCH($B95, Policy!$B$5:$Y$5, 0))=1, \"Yes\", \"No\")","v":"Yes"}," "]
[null,"Tax-Based - Income tax",null,{"$f":"IF(INDEX(Policy!$B$6:$Y$31, MATCH(str_Country, Policy!$A$6:$A$31, 0), MATCH($B96, Policy!$B$5:$Y$5, 0))=1, \"Yes\", \"No\")","v":"No"}," "]
[null,"Tax-Based - Import duty",null,{"$f":"IF(INDEX(Policy!$B$6:$Y$31, MATCH(str_Country, Policy!$A$6:$A$31, 0), MATCH($B97, Policy!$B$5:$Y$5, 0))=1, \"Yes\", \"No\")","v":"Yes"}," "]
[null,"Tax-Based - Tax rebate",null,{"$f":"IF(INDEX(Policy!$B$6:$Y$31, MATCH(str_Country, Policy!$A$6:$A$31, 0), MATCH($B98, Policy!$B$5:$Y$5, 0))=1, \"Yes\", \"No\")","v":"Yes"}," "]
[null,"Tax-Based - Other",null,{"$f":"IF(INDEX(Policy!$B$6:$Y$31, MATCH(str_Country, Policy!$A$6:$A$31, 0), MATCH($B99, Policy!$B$5:$Y$5, 0))=1, \"Yes\", \"No\")","v":"No"}," "]
[null,"Carbon Market - Domestic cap and trade",null,{"$f":"IF(INDEX(Policy!$B$6:$Y$31, MATCH(str_Country, Policy!$A$6:$A$31, 0), MATCH($B100, Policy!$B$5:$Y$5, 0))=1, \"Yes\", \"No\")","v":"No"}," "]
[null,"Carbon Market - Emissions reduction target",null,{"$f":"IF(INDEX(Policy!$B$6:$Y$31, MATCH(str_Country, Policy!$A$6:$A$31, 0), MATCH($B101, Policy!$B$5:$Y$5, 0))=1, \"Yes\", \"No\")","v":"Yes"}," "]
[null,"Carbon Market - Project-based carbon credits",null,{"$f":"IF(INDEX(Policy!$B$6:$Y$31, MATCH(str_Country, Policy!$A$6:$A$31, 0), MATCH($B102, Policy!$B$5:$Y$5, 0))=1, \"Yes\", \"No\")","v":"No"}," "]
[null,"Carbon Market - Other",null,{"$f":"IF(INDEX(Policy!$B$6:$Y$31, MATCH(str_Country, Policy!$A$6:$A$31, 0), MATCH($B103, Policy!$B$5:$Y$5, 0))=1, \"Yes\", \"No\")","v":"No"}," "]
[null,"1.04 - Clean Energy Capacity (MW)",null,{"$f":"SUM(C105:C109)","v":15880.900000000001}," "]
[null,"Biomass & Waste",{"$f":"SUMIFS(Levelisation!L$7:L$344, Levelisation!$E$7:$E$344, str_Country, Levelisation!$C$7:$C$344, $B105)","v":9815.9},{"$f":"IF($D$104=0,0,C105/SUM($C$105:$C$110))","v":7.9516577058391338E-2}," "]
[null,"Geothermal",{"$f":"SUMIFS(Levelisation!L$7:L$344, Levelisation!$E$7:$E$344, str_Country, Levelisation!$C$7:$C$344, $B106)","v":0},0," "]
[null,"Small Hydro",{"$f":"SUMIFS(Levelisation!L$7:L$344, Levelisation!$E$7:$E$344, str_Country, Levelisation!$C$7:$C$344, $B107)","v":4247.8},3.4410549825144382E-2," "]
[null,"Solar",{"$f":"SUMIFS(Levelisation!L$7:L$344, Levelisation!$E$7:$E$344, str_Country, Levelisation!$C$7:$C$344, $B108)","v":1.5},1.2151189966033375E-5," "]
[null,"Wind",{"$f":"SUMIFS(Levelisation!L$7:L$344, Levelisation!$E$7:$E$344, str_Country, Levelisation!$C$7:$C$344, $B109)","v":1815.7},1.4708610414217867E-2," "]
[null,"Other Energy",{"$f":" SUMIFS(Levelisation!L$7:L$292, Levelisation!$E$7:$E$292, str_Country)-D104","v":107563.79999999999},0.87135211151228043," "]
[null,"Historical Capacity (MW)",null,null," "]
[null,null,null,null," "]
[null,null,null,null," "]
[null,null,null,null," "]
[null,null,null,null," "]
[null,null,null,null," "]
[null,null,null,null," "]
[null,null,null,null," "]
[null,null,null,null," "]
[null,null,null,null," "]
[null,null,null,null," "]
[null,null,null,null," "]
[null,null,null,null," "]
[null,null,null,null," "]
[null,null,null,null," "]
[null,null,null,null," "]
[null,null,null,null," "]
[null,null,null,null," "]
[null,null,null,null," "]
[null,"1.06 - Clean Energy Generation (GWh)",null,{"$f":"SUM(C131:C135)","v":57399.82}," "]
[null,"Biomass & Waste",{"$f":"SUMIFS(Levelisation!L$346:L$631, Levelisation!$E$346:$E$631, str_Country, Levelisation!$C$346:$C$631, $B131)","v":37223},{"$f":"IF($D$104=0,0,C131/SUM($C$131:$C$136))","v":6.7772962922947391E-2}," "]
[null,"Geothermal",{"$f":"SUMIFS(Levelisation!L$346:L$631, Levelisation!$E$346:$E$631, str_Country, Levelisation!$C$346:$C$631, $B132)","v":0},0," "]
[null,"Small Hydro",{"$f":"SUMIFS(Levelisation!L$346:L$631, Levelisation!$E$346:$E$631, str_Country, Levelisation!$C$346:$C$631, $B133)","v":17471.82},3.1811434034237189E-2," "]
[null,"Solar",{"$f":"SUMIFS(Levelisation!L$346:L$631, Levelisation!$E$346:$E$631, str_Country, Levelisation!$C$346:$C$631, $B134)","v":0},0," "]
[null,"Wind",{"$f":"SUMIFS(Levelisation!L$346:L$631, Levelisation!$E$346:$E$631, str_Country, Levelisation!$C$346:$C$631, $B135)","v":2705},4.9250695727526723E-3," "]
[null,"Other Energy",{"$f":" SUMIFS(Levelisation!L$346:L$631, Levelisation!$E$346:$E$631, str_Country)-D130","v":491831.00000000006},0.89549053347006269," "]
[null,"Historical Generation (GWh)",null,null," "]
[null,null,null,null," "]
[null,null,null,null," "]
[null,null,null,null," "]
[null,null,null,null," "]
[null,null,null,null," "]
[null,null,null,null," "]
[null,null,null,null," "]
[null,null,null,null," "]
[null,null,null,null," "]
[null,null,null,null," "]
[null,null,null,null," "]
[null,null,null,null," "]
[null,null,null,null," "]
[null,null,null,null," "]
[null,null,null,null," "]
[null,null,null,null," "]
[null,null,null,null," "]
[null,null,null,null," "]
[null,"Clean Energy Capacity Factors (%)",null,{"$f":"IFERROR(AVERAGEIF(D157:D161, \"<>0\"), 0)","v":0.35749779221698424}," "]
[null,"Biomass & Waste",null,{"$f":"IF(C105=0,0,(C131*1000)/(8760*C105))","v":0.43288958865127081}," "]
[null,"Geothermal",null,0," "]
[null,"Small Hydro",null,0.46953717218324781," "]
[null,"Solar",null,0," "]
[null,"Wind",null,{"$f":"IF(C109=0,0,(C135*1000)/(8760*C109))","v":0.17006661581643417}," "]
[null,"Other Energy",null,0.52197013608854403," "]
[null,"2.01 - Clean Energy Investments (USDm)","All",{"$f":"SUM(C164:C171)","v":82210.779189262321}," "]
[null,"Biofuels",{"$f":"ChartData!H29","v":41364.043438202418},{"$f":"IF($D$163=0, 0, C164/$D$163)","v":0.50314622785627416}," "]
[null,"Biomass & Waste",{"$f":"ChartData!H30","v":6170.0834967032097},7.5052001179780739E-2," "]
[null,"Geothermal",{"$f":"ChartData!H31","v":0},0," "]
[null,"Small Hydro",{"$f":"ChartData!H32","v":11500.052727018847},0.1398849742141951," "]
[null,"Solar",{"$f":"ChartData!H33","v":90.168461116037605},1.0967960893358696E-3," "]
[null,"Wind",{"$f":"ChartData!H34","v":22937.484673358962},0.2790082383303194," "]
[null,"Other Clean Energy",{"$f":"ChartData!H35","v":148.90639286286338},1.8112757758937806E-3]
[null,"Small Scale Dist.",{"$f":"ChartData!H36","v":0.04},4.8655420121871885E-7," "]
[null,"Historical Investments (USDm)",null,null," "]
[null,null,null,null," "]
[null,null,null,null," "]
[null,null,null,null," "]
[null,null,null,null," "]
[null,null,null,null," "]
[null,null,null,null," "]
[null,null,null,null," "]
[null,null,null,null," "]
[null,null,null,null," "]
[null,null,null,null," "]
[null,null,null,null," "]
[null,null,null,null," "]
[null,null,null,null," "]
[null,null,null,null," "]
[null,null,null,null," "]
[null,null,null,null," "]
[null,null,null,null," "]
[null,null,null,null," "]
[null,"2.09 - Green MFI Contacts",null,{"$f":"COUNTA(B193:B212)","v":9}," "]
[null,"Company","Website","Phone"," "]
[null,"Agencia do Credito","www.extracredi.com.br","(55) 49 3621 0803"," "]
[null,"ASCOOB Central","www.ascoobcentral.com.br","(55) 75 3614 8482"," "]
[null,"Banco do Vale","No website","(55) 47 3222 1338"," "]
[null,"Banco do Planalto Norte ","No website","(55) 47 9114 4299"," "]
[null,"BANCRI","www.bancri.org.br","(55) 47 3045 6030"," "]
[null,"CEADE","No website","(55) 71 3327 2021"," "]
[null,"ICC MAU-CE","No website","(55) 55 3744 6372"," "]
[null,"Lander","No website","(55) 48 3029 3080"," "]
[null,"SEBRAE","www.sebrae.gov.br","(55) 61 9962 5658"," "]
[null,null,null,null," "]
[null,null,null,null," "]
[null,null,null,null," "]
[null,null,null,null," "]
[null,null,null,null," "]
[null,null,null,null," "]
[null,null,null,null," "]
[null,null,null,null," "]
[null,null,null,null," "]
[null,null,null,null," "]
[null,null,null,null," "]
[null,"3.01 - Financial Institutions In Clean Energy",null,{"$f":"COUNTA(B215:B234)","v":18}," "]
[null,"Company","Website","Investment Type"," "]
[null,"Banco Bradesco ","www.bradesco.com.br","Asset Finance "," "]
[null,"Banco da Amazônia ","www.bancoamazonia.com.br","Asset Finance"," "]
[null,"Banco de Desenvolvimento de Minas Gerais","www.bdmg.mg.gov.br","Asset Finance"," "]
[null,"Banco do Brasil ","www.bb.com.br","Asset Finance"," "]
[null,"Banco do Estado do Rio Grande do Sul","www.banrisul.com.br","Asset Finance"," "]
[null,"Banco Itau BBA ","www.itau.com.br","Asset Finance, Corporate Finance"," "]
[null,"Banco Nacional de Desenvolvimento Econômico e Social","www.bndes.gov.br","Asset Finance, Corporate Finance, Private Equity/Venture Capital"," "]
[null,"Banco Santander Brasil ","www.santander.com.br","Asset Finance "," "]
[null,"Caixa Econômica Federal","www.caixa.gov.br","Asset Finance, Corporate Finance"," "]
[null,"Conselho Integrado de Desenvolvimento de Minas Gerais","www.conselhos.mg.gov.br","Asset Finance"," "]
[null,"Corporación Andina de Fomento","www.caf.com","Asset Finance, Corporate Finance"," "]
[null,"Darby Stratus Administração de Investimentos","No website","Private Equity/Venture Capital"," "]
[null,"Explora Investimentos Gestão de Recursos Ltda","www.explorainvest.com.br","Private Equity/Venture Capital"," "]
[null,"Finexim","www.finexim.com","Asset Finance "," "]
[null,"Itau Unibanco","www.itau.com.br","Asset Finance"," "]
[null,"Pragma Gestão de Patrimônio ","www.ecopart.com.br","Private Equity/Venture Capital"," "]
[null,"Superintendência do Desenvolvimento do Nordeste","www.sudene.gov.br","Asset Finance"," "]
[null,"Unipar Participações","www.unipar.ind.br","Private Equity/Venture Capital"," "]
[null,null,null,null," "]
[null,null,null,null," "]
[null,"3.02 - Clean Energy Value Chains",null,{"$f":"COUNTIF(D236:D274, \"Yes\")","v":28}," "]
[null,"Biofuels - Distribution and Blending",null,{"$f":"IF(SUMIFS(Levelisation!L$1468:L$2507, Levelisation!$E$1468:$E$2507, str_Country, Levelisation!$C$1468:$C$2507, $B236)=1, \"Yes\", \"No\")","v":"Yes"}," "]
[null,"Biofuels - Engineering Companies",null,{"$f":"IF(SUMIFS(Levelisation!L$1468:L$2507, Levelisation!$E$1468:$E$2507, str_Country, Levelisation!$C$1468:$C$2507, $B237)=1, \"Yes\", \"No\")","v":"Yes"}," "]
[null,"Biofuels - Producers",null,{"$f":"IF(SUMIFS(Levelisation!L$1468:L$2507, Levelisation!$E$1468:$E$2507, str_Country, Levelisation!$C$1468:$C$2507, $B238)=1, \"Yes\", \"No\")","v":"Yes"}," "]
[null,"Biomass & Waste - Feedstock Supply",null,{"$f":"IF(SUMIFS(Levelisation!L$1468:L$2507, Levelisation!$E$1468:$E$2507, str_Country, Levelisation!$C$1468:$C$2507, $B239)=1, \"Yes\", \"No\")","v":"Yes"}," "]
[null,"Biomass & Waste - Manufacturing Equipment",null,{"$f":"IF(SUMIFS(Levelisation!L$1468:L$2507, Levelisation!$E$1468:$E$2507, str_Country, Levelisation!$C$1468:$C$2507, $B240)=1, \"Yes\", \"No\")","v":"Yes"}," "]
[null,"Biomass & Waste - Power Generation",null,{"$f":"IF(SUMIFS(Levelisation!L$1468:L$2507, Levelisation!$E$1468:$E$2507, str_Country, Levelisation!$C$1468:$C$2507, $B241)=1, \"Yes\", \"No\")","v":"Yes"}," "]
[null,"Biomass & Waste - Project Development",null,{"$f":"IF(SUMIFS(Levelisation!L$1468:L$2507, Levelisation!$E$1468:$E$2507, str_Country, Levelisation!$C$1468:$C$2507, $B242)=1, \"Yes\", \"No\")","v":"Yes"}," "]
[null,"Biomass & Waste - System Integration",null,{"$f":"IF(SUMIFS(Levelisation!L$1468:L$2507, Levelisation!$E$1468:$E$2507, str_Country, Levelisation!$C$1468:$C$2507, $B243)=1, \"Yes\", \"No\")","v":"Yes"}," "]
[null,"Geothermal - Balance of Plant",null,{"$f":"IF(SUMIFS(Levelisation!L$1468:L$2507, Levelisation!$E$1468:$E$2507, str_Country, Levelisation!$C$1468:$C$2507, $B244)=1, \"Yes\", \"No\")","v":"No"}," "]
[null,"Geothermal - Exploration/Production Drilling",null,{"$f":"IF(SUMIFS(Levelisation!L$1468:L$2507, Levelisation!$E$1468:$E$2507, str_Country, Levelisation!$C$1468:$C$2507, $B245)=1, \"Yes\", \"No\")","v":"No"}," "]
[null,"Geothermal - Operation & Maintenance",null,{"$f":"IF(SUMIFS(Levelisation!L$1468:L$2507, Levelisation!$E$1468:$E$2507, str_Country, Levelisation!$C$1468:$C$2507, $B246)=1, \"Yes\", \"No\")","v":"No"}," "]
[null,"Geothermal - Power Purchase",null,{"$f":"IF(SUMIFS(Levelisation!L$1468:L$2507, Levelisation!$E$1468:$E$2507, str_Country, Levelisation!$C$1468:$C$2507, $B247)=1, \"Yes\", \"No\")","v":"No"}," "]
[null,"Geothermal - Pre-Drilling Exploration",null,{"$f":"IF(SUMIFS(Levelisation!L$1468:L$2507, Levelisation!$E$1468:$E$2507, str_Country, Levelisation!$C$1468:$C$2507, $B248)=1, \"Yes\", \"No\")","v":"No"}," "]
[null,"Geothermal - Project Development",null,{"$f":"IF(SUMIFS(Levelisation!L$1468:L$2507, Levelisation!$E$1468:$E$2507, str_Country, Levelisation!$C$1468:$C$2507, $B249)=1, \"Yes\", \"No\")","v":"Yes"}," "]
[null,"Geothermal - Turbine & Power Block",null,{"$f":"IF(SUMIFS(Levelisation!L$1468:L$2507, Levelisation!$E$1468:$E$2507, str_Country, Levelisation!$C$1468:$C$2507, $B250)=1, \"Yes\", \"No\")","v":"No"}," "]
[null,"Geothermal - Well Completion & Resource Confirmation",null,{"$f":"IF(SUMIFS(Levelisation!L$1468:L$2507, Levelisation!$E$1468:$E$2507, str_Country, Levelisation!$C$1468:$C$2507, $B251)=1, \"Yes\", \"No\")","v":"No"}," "]
[null,"Small Hydro - Civil Works/Builder",null,{"$f":"IF(SUMIFS(Levelisation!L$1468:L$2507, Levelisation!$E$1468:$E$2507, str_Country, Levelisation!$C$1468:$C$2507, $B252)=1, \"Yes\", \"No\")","v":"Yes"}," "]
[null,"Small Hydro - Engineering",null,{"$f":"IF(SUMIFS(Levelisation!L$1468:L$2507, Levelisation!$E$1468:$E$2507, str_Country, Levelisation!$C$1468:$C$2507, $B253)=1, \"Yes\", \"No\")","v":"Yes"}," "]
[null,"Small Hydro - Operation & Maintenance",null,{"$f":"IF(SUMIFS(Levelisation!L$1468:L$2507, Levelisation!$E$1468:$E$2507, str_Country, Levelisation!$C$1468:$C$2507, $B254)=1, \"Yes\", \"No\")","v":"Yes"}," "]
[null,"Small Hydro - Power Purchase",null,{"$f":"IF(SUMIFS(Levelisation!L$1468:L$2507, Levelisation!$E$1468:$E$2507, str_Country, Levelisation!$C$1468:$C$2507, $B255)=1, \"Yes\", \"No\")","v":"Yes"}," "]
[null,"Small Hydro - Project Development",null,{"$f":"IF(SUMIFS(Levelisation!L$1468:L$2507, Levelisation!$E$1468:$E$2507, str_Country, Levelisation!$C$1468:$C$2507, $B256)=1, \"Yes\", \"No\")","v":"Yes"}," "]
[null,"Small Hydro - Turbines",null,{"$f":"IF(SUMIFS(Levelisation!L$1468:L$2507, Levelisation!$E$1468:$E$2507, str_Country, Levelisation!$C$1468:$C$2507, $B257)=1, \"Yes\", \"No\")","v":"Yes"}," "]
[null,"Solar - Balance of Plant",null,{"$f":"IF(SUMIFS(Levelisation!L$1468:L$2507, Levelisation!$E$1468:$E$2507, str_Country, Levelisation!$C$1468:$C$2507, $B258)=1, \"Yes\", \"No\")","v":"No"}," "]
[null,"Solar - Cells",null,{"$f":"IF(SUMIFS(Levelisation!L$1468:L$2507, Levelisation!$E$1468:$E$2507, str_Country, Levelisation!$C$1468:$C$2507, $B259)=1, \"Yes\", \"No\")","v":"Yes"}," "]
[null,"Solar - EPC",null,{"$f":"IF(SUMIFS(Levelisation!L$1468:L$2507, Levelisation!$E$1468:$E$2507, str_Country, Levelisation!$C$1468:$C$2507, $B260)=1, \"Yes\", \"No\")","v":"Yes"}," "]
[null,"Solar - Modules",null,{"$f":"IF(SUMIFS(Levelisation!L$1468:L$2507, Levelisation!$E$1468:$E$2507, str_Country, Levelisation!$C$1468:$C$2507, $B261)=1, \"Yes\", \"No\")","v":"Yes"}," "]
[null,"Solar - Owner/Operator",null,{"$f":"IF(SUMIFS(Levelisation!L$1468:L$2507, Levelisation!$E$1468:$E$2507, str_Country, Levelisation!$C$1468:$C$2507, $B262)=1, \"Yes\", \"No\")","v":"No"}," "]
[null,"Solar - Polysilicon/ingots",null,"No"," "]
[null,"Solar - Project Development",null,{"$f":"IF(SUMIFS(Levelisation!L$1468:L$2507, Levelisation!$E$1468:$E$2507, str_Country, Levelisation!$C$1468:$C$2507, $B264)=1, \"Yes\", \"No\")","v":"Yes"}," "]
[null,"Solar - Wafers",null,{"$f":"IF(SUMIFS(Levelisation!L$1468:L$2507, Levelisation!$E$1468:$E$2507, str_Country, Levelisation!$C$1468:$C$2507, $B265)=1, \"Yes\", \"No\")","v":"Yes"}," "]
[null,"Wind - Bearings",null,{"$f":"IF(SUMIFS(Levelisation!L$1468:L$2507, Levelisation!$E$1468:$E$2507, str_Country, Levelisation!$C$1468:$C$2507, $B266)=1, \"Yes\", \"No\")","v":"No"}," "]
[null,"Wind - Blades",null,{"$f":"IF(SUMIFS(Levelisation!L$1468:L$2507, Levelisation!$E$1468:$E$2507, str_Country, Levelisation!$C$1468:$C$2507, $B267)=1, \"Yes\", \"No\")","v":"Yes"}," "]
[null,"Wind - Construction/Installation",null,{"$f":"IF(SUMIFS(Levelisation!L$1468:L$2507, Levelisation!$E$1468:$E$2507, str_Country, Levelisation!$C$1468:$C$2507, $B268)=1, \"Yes\", \"No\")","v":"Yes"}," "]
[null,"Wind - Gearboxes",null,{"$f":"IF(SUMIFS(Levelisation!L$1468:L$2507, Levelisation!$E$1468:$E$2507, str_Country, Levelisation!$C$1468:$C$2507, $B269)=1, \"Yes\", \"No\")","v":"Yes"}," "]
[null,"Wind - Generators",null,{"$f":"IF(SUMIFS(Levelisation!L$1468:L$2507, Levelisation!$E$1468:$E$2507, str_Country, Levelisation!$C$1468:$C$2507, $B270)=1, \"Yes\", \"No\")","v":"Yes"}," "]
[null,"Wind - Operation & Maintenance",null,{"$f":"IF(SUMIFS(Levelisation!L$1468:L$2507, Levelisation!$E$1468:$E$2507, str_Country, Levelisation!$C$1468:$C$2507, $B271)=1, \"Yes\", \"No\")","v":"Yes"}," "]
[null,"Wind - Power Generator",null,{"$f":"IF(SUMIFS(Levelisation!L$1468:L$2507, Levelisation!$E$1468:$E$2507, str_Country, Levelisation!$C$1468:$C$2507, $B272)=1, \"Yes\", \"No\")","v":"Yes"}," "]
[null,"Wind - Project Development",null,{"$f":"IF(SUMIFS(Levelisation!L$1468:L$2507, Levelisation!$E$1468:$E$2507, str_Country, Levelisation!$C$1468:$C$2507, $B273)=1, \"Yes\", \"No\")","v":"Yes"}," "]
[null,"Wind - Turbines",null,{"$f":"IF(SUMIFS(Levelisation!L$1468:L$2507, Levelisation!$E$1468:$E$2507, str_Country, Levelisation!$C$1468:$C$2507, $B274)=1, \"Yes\", \"No\")","v":"Yes"}," "]
[null,"3.03 - Clean Energy Service Providers",null,{"$f":"COUNTIF(D276:D295, \"Yes\")","v":18}," "]
[null,"Ancillary products & services - Consultancy - O&M",null,{"$f":"IF(SUMIFS(Levelisation!L$816:L$1335, Levelisation!$E$816:$E$1335, str_Country, Levelisation!$C$816:$C$1335, $B276)=1, \"Yes\", \"No\")","v":"Yes"}," "]
[null,"Ancillary products & services - Consultancy - technical",null,{"$f":"IF(SUMIFS(Levelisation!L$816:L$1335, Levelisation!$E$816:$E$1335, str_Country, Levelisation!$C$816:$C$1335, $B277)=1, \"Yes\", \"No\")","v":"Yes"}," "]
[null,"Ancillary products & services - Contract maintenance",null,{"$f":"IF(SUMIFS(Levelisation!L$816:L$1335, Levelisation!$E$816:$E$1335, str_Country, Levelisation!$C$816:$C$1335, $B278)=1, \"Yes\", \"No\")","v":"Yes"}," "]
[null,"Ancillary products & services - Contract manufacturing",null,{"$f":"IF(SUMIFS(Levelisation!L$816:L$1335, Levelisation!$E$816:$E$1335, str_Country, Levelisation!$C$816:$C$1335, $B279)=1, \"Yes\", \"No\")","v":"Yes"}," "]
[null,"Ancillary products & services - Control room systems",null,{"$f":"IF(SUMIFS(Levelisation!L$816:L$1335, Levelisation!$E$816:$E$1335, str_Country, Levelisation!$C$816:$C$1335, $B280)=1, \"Yes\", \"No\")","v":"Yes"}," "]
[null,"Ancillary products & services - Education & training",null,{"$f":"IF(SUMIFS(Levelisation!L$816:L$1335, Levelisation!$E$816:$E$1335, str_Country, Levelisation!$C$816:$C$1335, $B281)=1, \"Yes\", \"No\")","v":"Yes"}," "]
[null,"Ancillary products & services - Inspection & maintenance",null,{"$f":"IF(SUMIFS(Levelisation!L$816:L$1335, Levelisation!$E$816:$E$1335, str_Country, Levelisation!$C$816:$C$1335, $B282)=1, \"Yes\", \"No\")","v":"Yes"}," "]
[null,"Ancillary products & services - Specialist services",null,{"$f":"IF(SUMIFS(Levelisation!L$816:L$1335, Levelisation!$E$816:$E$1335, str_Country, Levelisation!$C$816:$C$1335, $B283)=1, \"Yes\", \"No\")","v":"Yes"}," "]
[null,"Ancillary products & services - Testing & certification services",null,{"$f":"IF(SUMIFS(Levelisation!L$816:L$1335, Levelisation!$E$816:$E$1335, str_Country, Levelisation!$C$816:$C$1335, $B284)=1, \"Yes\", \"No\")","v":"Yes"}," "]
[null,"Developers & utilities - Integrated service provider",null,{"$f":"IF(SUMIFS(Levelisation!L$816:L$1335, Levelisation!$E$816:$E$1335, str_Country, Levelisation!$C$816:$C$1335, $B285)=1, \"Yes\", \"No\")","v":"No"}," "]
[null,"Marketing services - Distributor",null,{"$f":"IF(SUMIFS(Levelisation!L$816:L$1335, Levelisation!$E$816:$E$1335, str_Country, Levelisation!$C$816:$C$1335, $B286)=1, \"Yes\", \"No\")","v":"Yes"}," "]
[null,"Marketing services - Market research",null,{"$f":"IF(SUMIFS(Levelisation!L$816:L$1335, Levelisation!$E$816:$E$1335, str_Country, Levelisation!$C$816:$C$1335, $B287)=1, \"Yes\", \"No\")","v":"Yes"}," "]
[null,"Marketing services - PR company ",null,{"$f":"IF(SUMIFS(Levelisation!L$816:L$1335, Levelisation!$E$816:$E$1335, str_Country, Levelisation!$C$816:$C$1335, $B288)=1, \"Yes\", \"No\")","v":"Yes"}," "]
[null,"Financial & legal services - Banking - corporate",null,{"$f":"IF(SUMIFS(Levelisation!L$816:L$1335, Levelisation!$E$816:$E$1335, str_Country, Levelisation!$C$816:$C$1335, $B289)=1, \"Yes\", \"No\")","v":"Yes"}," "]
[null,"Financial & legal services - Banking - custody, trust & deposit",null,{"$f":"IF(SUMIFS(Levelisation!L$816:L$1335, Levelisation!$E$816:$E$1335, str_Country, Levelisation!$C$816:$C$1335, $B290)=1, \"Yes\", \"No\")","v":"Yes"}," "]
[null,"Financial & legal services - Insurance provider",null,{"$f":"IF(SUMIFS(Levelisation!L$816:L$1335, Levelisation!$E$816:$E$1335, str_Country, Levelisation!$C$816:$C$1335, $B291)=1, \"Yes\", \"No\")","v":"Yes"}," "]
[null,"Financial & legal services - Lawyer - commercial",null,{"$f":"IF(SUMIFS(Levelisation!L$816:L$1335, Levelisation!$E$816:$E$1335, str_Country, Levelisation!$C$816:$C$1335, $B292)=1, \"Yes\", \"No\")","v":"Yes"}," "]
[null,"Financial & legal services - Lawyer - financial markets",null,{"$f":"IF(SUMIFS(Levelisation!L$816:L$1335, Levelisation!$E$816:$E$1335, str_Country, Levelisation!$C$816:$C$1335, $B293)=1, \"Yes\", \"No\")","v":"Yes"}," "]
[null,"Financial & legal services - Lawyer - project finance",null,{"$f":"IF(SUMIFS(Levelisation!L$816:L$1335, Levelisation!$E$816:$E$1335, str_Country, Levelisation!$C$816:$C$1335, $B294)=1, \"Yes\", \"No\")","v":"Yes"}," "]
[null,"Financial & legal services - Recruitment / search",null,{"$f":"IF(SUMIFS(Levelisation!L$816:L$1335, Levelisation!$E$816:$E$1335, str_Country, Levelisation!$C$816:$C$1335, $B295)=1, \"Yes\", \"No\")","v":"No"}," "]
[null,null,null,null," "]

{"sheet":"Database","index":2,"n_rows":1256,"n_cols":36,"rows_kept":1256,"cut":false,"hidden":true,"merged":[[8,11,8,17],[8,25,8,31],[3,0,3,2],[8,4,8,10],[8,18,8,24]]}
["INDICATOR DATABASE",null,null,null,null,null,null,null,null,null,null,null,null,null,null,null,null,null,"ADDITONAL DATA"]
[]
[]
["Internal Assumptions"]
["Model Year",null,{"$f":"Country!$C$27","v":2012}]
["Maximum Score",null,5]
["Benchmark Max",null,100]
[]
["Indicator Database",null,null,null,"Underlying Data",null,null,null,null,null,null,"Benchmarked Data (Scores)",null,null,null,null,null,null,"Underlying Data (Backend)",null,null,null,null,null,null,"Benchmark Data (Backend)",null,null,null,null,null,null,null,null,null,"Source"]
["Table","Indicator","Units","Country",2006,{"$f":"E10+1","v":2007},{"$f":"F10+1","v":2008},2009,{"$f":"H10+1","v":2010},{"$f":"I10+1","v":2011},{"$f":"J10+1","v":2012},2006,{"$f":"L10+1","v":2007},{"$f":"M10+1","v":2008},2009,2010,2011,2012,2006,{"$f":"S10+1","v":2007},{"$f":"T10+1","v":2008},2009,2010,2011,{"$f":"X10+1","v":2012},2006,{"$f":"Z10+1","v":2007},{"$f":"AA10+1","v":2008},2009,2010,2011,{"$f":"AE10+1","v":2012},"Row Description","Row","Indicator"," "]
["Column Description (Hidden)",null,null,null,null,null,null,null,null,null,null,null,null,null,null,null,null,null,null,null,null,null,null,null,null,null,null,null,null,null,null,null,null,null,null," "]
["Underlying","Underlying","Underlying","Underlying","Underlying","Underlying","Underlying","Underlying","Underlying","Underlying","Underlying","Benchmarked","Benchmarked","Benchmarked","Benchmarked","Benchmarked","Benchmarked","Benchmarked","Underlying","Underlying","Underlying","Underlying","Underlying","Underlying","Underlying","Benchmarked","Benchmarked","Benchmarked","Benchmarked","Benchmarked","Benchmarked","Benchmarked","Underlying","Underlying","Underlying"," "]
["Other","Other","Other","Other","Data","Data","Data","Data","Data","Data","Data","Score","Score","Score","Score","Score","Score","Score","Other","Other","Other","Other","Other","Other","Other","Other","Other","Other","Other","Other","Other","Other","Other","Other","Other"," "]
[{"$f":"A12&\" > \"&A13&\" > \"&A10","v":"Underlying > Other > Table"},"Underlying > Other > Indicator","Underlying > Other > Units","Underlying > Other > Country","Underlying > Data > 2006","Underlying > Data > 2007","Underlying > Data > 2008","Underlying > Data > 2009","Underlying > Data > 2010","Underlying > Data > 2011","Underlying > Data > 2012","Benchmarked > Score > 2006","Benchmarked > Score > 2007",{"$f":"N12&\" > \"&N13&\" > \"&N10","v":"Benchmarked > Score > 2008"},"Benchmarked > Score > 2009","Benchmarked > Score > 2010","Benchmarked > Score > 2011","Benchmarked > Score > 2012","Underlying > Other > 2006","Underlying > Other > 2007","Underlying > Other > 2008","Underlying > Other > 2009","Underlying > Other > 2010","Underlying > Other > 2011","Underlying > Other > 2012","Benchmarked > Other > 2006","Benchmarked > Other > 2007","Benchmarked > Other > 2008","Benchmarked > Other > 2009","Benchmarked > Other > 2010","Benchmarked > Other > 2011","Benchmarked > Other > 2012","Underlying > Other > Row Description","Underlying > Other > Row","Underlying > Other > Indicator"," "]
[{"$f":"INDEX(Country!$F$31:$G$76, MATCH(AI15, Country!$O$31:$O$76, 0), 1)","v":1.01},{"$f":"INDEX(Country!$F$31:$G$76, MATCH(AI15, Country!$O$31:$O$76, 0), 2)","v":"Clean energy policies"},{"$f":"INDEX(Country!$K$31:$K$76, MATCH(AI15, Country!$O$31:$O$76, 0), 1)","v":"Policy Types"},"Argentina",{"$f":"Policy!$Z6","v":6},{"$f":"Policy!$Z6","v":6},{"$f":"Policy!$Z6","v":6},{"$f":"Policy!$Z6","v":6},{"$f":"Policy!$Z6","v":6},{"$f":"Policy!$Z6","v":6},{"$f":"Policy!$Z6","v":6},{"$f":"(Z15/5)*dbl_BenchmarkMax","v":53},{"$f":"(AA15/5)*dbl_BenchmarkMax","v":53},{"$f":"(AB15/5)*dbl_BenchmarkMax","v":53},{"$f":"(AC15/5)*dbl_BenchmarkMax","v":53},{"$f":"(AD15/5)*dbl_BenchmarkMax","v":53},{"$f":"(AE15/5)*dbl_BenchmarkMax","v":53},{"$f":"(AF15/5)*dbl_BenchmarkMax","v":53.336778932398573},null,null,null,null,null,null,null,{"$f":"AA15","v":2.65},{"$f":"AB15","v":2.65},{"$f":"AC15","v":2.65},{"$f":"AD15","v":2.65},{"$f":"AE15","v":2.65},2.65,2.6668389466199289,{"$f":"A15&\" > \" &D15","v":"1.01 > Argentina"},1,{"$f":"ROUNDUP(AH15/COUNTA($D$15:$D$41),0)","v":1}," "]
[{"$f":"INDEX(Country!$F$31:$G$76, MATCH(AI16, Country!$O$31:$O$76, 0), 1)","v":1.01},{"$f":"INDEX(Country!$F$31:$G$76, MATCH(AI16, Country!$O$31:$O$76, 0), 2)","v":"Clean energy policies"},{"$f":"INDEX(Country!$K$31:$K$76, MATCH(AI16, Country!$O$31:$O$76, 0), 1)","v":"Policy Types"},"Bahamas",{"$f":"Policy!$Z7","v":0},{"$f":"Policy!$Z7","v":0},{"$f":"Policy!$Z7","v":0},{"$f":"Policy!$Z7","v":0},{"$f":"Policy!$Z7","v":0},{"$f":"Policy!$Z7","v":0},{"$f":"Policy!$Z7","v":0},22.5,22.5,22.5,22.5,22.5,22.5,20,null,null,null,null,null,null,null,1.125,1.125,1.125,{"$f":"AD16","v":1.125},{"$f":"AE16","v":1.125},1.125,1,"1.01 > Bahamas",{"$f":"AH15+1","v":2},1," "]
[{"$f":"INDEX(Country!$F$31:$G$76, MATCH(AI17, Country!$O$31:$O$76, 0), 1)","v":1.01},{"$f":"INDEX(Country!$F$31:$G$76, MATCH(AI17, Country!$O$31:$O$76, 0), 2)","v":"Clean energy policies"},{"$f":"INDEX(Country!$K$31:$K$76, MATCH(AI17, Country!$O$31:$O$76, 0), 1)","v":"Policy Types"},"Barbados",{"$f":"Policy!$Z8","v":2},{"$f":"Policy!$Z8","v":2},{"$f":"Policy!$Z8","v":2},{"$f":"Policy!$Z8","v":2},{"$f":"Policy!$Z8","v":2},{"$f":"Policy!$Z8","v":2},{"$f":"Policy!$Z8","v":2},26,26,26,26,26,26,33.515545980310883,null,null,null,null,null,null,null,1.3,1.3,1.3,1.3,1.3,1.3,1.6757772990155442,"1.01 > Barbados",{"$f":"AH16+1","v":3},{"$f":"ROUNDUP(AH17/COUNTA($D$15:$D$41),0)","v":1}," "]
[{"$f":"INDEX(Country!$F$31:$G$76, MATCH(AI18, Country!$O$31:$O$76, 0), 1)","v":1.01},{"$f":"INDEX(Country!$F$31:$G$76, MATCH(AI18, Country!$O$31:$O$76, 0), 2)","v":"Clean energy policies"},{"$f":"INDEX(Country!$K$31:$K$76, MATCH(AI18, Country!$O$31:$O$76, 0), 1)","v":"Policy Types"},"Belize",{"$f":"Policy!$Z9","v":0},{"$f":"Policy!$Z9","v":0},{"$f":"Policy!$Z9","v":0},{"$f":"Policy!$Z9","v":0},{"$f":"Policy!$Z9","v":0},{"$f":"Policy!$Z9","v":0},{"$f":"Policy!$Z9","v":0},20,20,20,20,20,20,20,null,null,null,null,null,null,null,1,1,1,1,1,1,1,"1.01 > Belize",4,1," "]
[{"$f":"INDEX(Country!$F$31:$G$76, MATCH(AI19, Country!$O$31:$O$76, 0), 1)","v":1.01},{"$f":"INDEX(Country!$F$31:$G$76, MATCH(AI19, Country!$O$31:$O$76, 0), 2)","v":"Clean energy policies"},{"$f":"INDEX(Country!$K$31:$K$76, MATCH(AI19, Country!$O$31:$O$76, 0), 1)","v":"Policy Types"},"Bolivia",{"$f":"Policy!$Z10","v":0},{"$f":"Policy!$Z10","v":0},{"$f":"Policy!$Z10","v":0},{"$f":"Policy!$Z10","v":0},{"$f":"Policy!$Z10","v":0},{"$f":"Policy!$Z10","v":0},{"$f":"Policy!$Z10","v":0},20,20,20,20,20,20,20,null,null,null,null,null,null,null,1,1,1,1,1,1,1,"1.01 > Bolivia",5,1," "]
[{"$f":"INDEX(Country!$F$31:$G$76, MATCH(AI20, Country!$O$31:$O$76, 0), 1)","v":1.01},{"$f":"INDEX(Country!$F$31:$G$76, MATCH(AI20, Country!$O$31:$O$76, 0), 2)","v":"Clean energy policies"},{"$f":"INDEX(Country!$K$31:$K$76, MATCH(AI20, Country!$O$31:$O$76, 0), 1)","v":"Policy Types"},"Brazil",{"$f":"Policy!$Z11","v":11},{"$f":"Policy!$Z11","v":11},{"$f":"Policy!$Z11","v":11},{"$f":"Policy!$Z11","v":11},{"$f":"Policy!$Z11","v":11},{"$f":"Policy!$Z11","v":11},{"$f":"Policy!$Z11","v":11},78,78,78,78,78,78,77.234806272912394,null,null,null,null,null,null,null,3.9,{"$f":"AB20","v":3.9},3.9,3.9,3.9,3.9,3.8617403136456194,"1.01 > Brazil",6,1," "]
[{"$f":"INDEX(Country!$F$31:$G$76, MATCH(AI21, Country!$O$31:$O$76, 0), 1)","v":1.01},{"$f":"INDEX(Country!$F$31:$G$76, MATCH(AI21, Country!$O$31:$O$76, 0), 2)","v":"Clean energy policies"},{"$f":"INDEX(Country!$K$31:$K$76, MATCH(AI21, Country!$O$31:$O$76, 0), 1)","v":"Policy Types"},"Chile",{"$f":"Policy!$Z12","v":4},{"$f":"Policy!$Z12","v":4},{"$f":"Policy!$Z12","v":4},{"$f":"Policy!$Z12","v":4},{"$f":"Policy!$Z12","v":4},{"$f":"Policy!$Z12","v":4},{"$f":"Policy!$Z12","v":4},52,52,52,52,52,52,50.847307168129753,null,null,null,null,null,null,null,2.6,2.6,{"$f":"AC21","v":2.6},2.6,2.6,2.6,2.5423653584064874,"1.01 > Chile",7,1," "]
[{"$f":"INDEX(Country!$F$31:$G$76, MATCH(AI22, Country!$O$31:$O$76, 0), 1)","v":1.01},{"$f":"INDEX(Country!$F$31:$G$76, MATCH(AI22, Country!$O$31:$O$76, 0), 2)","v":"Clean energy policies"},{"$f":"INDEX(Country!$K$31:$K$76, MATCH(AI22, Country!$O$31:$O$76, 0), 1)","v":"Policy Types"},"Colombia",{"$f":"Policy!$Z13","v":3},{"$f":"Policy!$Z13","v":3},{"$f":"Policy!$Z13","v":3},{"$f":"Policy!$Z13","v":3},{"$f":"Policy!$Z13","v":3},{"$f":"Policy!$Z13","v":3},{"$f":"Policy!$Z13","v":3},57.999999999999993,57.999999999999993,57.999999999999993,57.999999999999993,57.999999999999993,57.999999999999993,45.452001059450119,null,null,null,null,null,null,null,2.9,2.9,2.9,2.9,2.9,2.9,2.2726000529725061,"1.01 > Colombia",8,1," "]
[{"$f":"INDEX(Country!$F$31:$G$76, MATCH(AI23, Country!$O$31:$O$76, 0), 1)","v":1.01},{"$f":"INDEX(Country!$F$31:$G$76, MATCH(AI23, Country!$O$31:$O$76, 0), 2)","v":"Clean energy policies"},{"$f":"INDEX(Country!$K$31:$K$76, MATCH(AI23, Country!$O$31:$O$76, 0), 1)","v":"Policy Types"},"Costa Rica",{"$f":"Policy!$Z14","v":4},{"$f":"Policy!$Z14","v":4},{"$f":"Policy!$Z14","v":4},{"$f":"Policy!$Z14","v":4},{"$f":"Policy!$Z14","v":4},{"$f":"Policy!$Z14","v":4},{"$f":"Policy!$Z14","v":4},44.000000000000007,44.000000000000007,44.000000000000007,44.000000000000007,44.000000000000007,44.000000000000007,48.436545870130857,null,null,null,null,null,null,null,2.2000000000000002,2.2000000000000002,2.2000000000000002,2.2000000000000002,2.2000000000000002,2.2000000000000002,2.421827293506543,"1.01 > Costa Rica",9,1," "]
[{"$f":"INDEX(Country!$F$31:$G$76, MATCH(AI24, Country!$O$31:$O$76, 0), 1)","v":1.01},{"$f":"INDEX(Country!$F$31:$G$76, MATCH(AI24, Country!$O$31:$O$76, 0), 2)","v":"Clean energy policies"},{"$f":"INDEX(Country!$K$31:$K$76, MATCH(AI24, Country!$O$31:$O$76, 0), 1)","v":"Policy Types"},"Dominican Republic",{"$f":"Policy!$Z15","v":8},{"$f":"Policy!$Z15","v":8},{"$f":"Policy!$Z15","v":8},{"$f":"Policy!$Z15","v":8},{"$f":"Policy!$Z15","v":8},{"$f":"Policy!$Z15","v":8},{"$f":"Policy!$Z15","v":8},55.999999999999993,55.999999999999993,55.999999999999993,55.999999999999993,55.999999999999993,55.999999999999993,60.491440956388857,null,null,null,null,null,null,null,2.8,2.8,2.8,2.8,2.8,2.8,3.0245720478194427,"1.01 > Dominican Republic",10,1," "]
[{"$f":"INDEX(Country!$F$31:$G$76, MATCH(AI25, Country!$O$31:$O$76, 0), 1)","v":1.01},{"$f":"INDEX(Country!$F$31:$G$76, MATCH(AI25, Country!$O$31:$O$76, 0), 2)","v":"Clean energy policies"},{"$f":"INDEX(Country!$K$31:$K$76, MATCH(AI25, Country!$O$31:$O$76, 0), 1)","v":"Policy Types"},"Ecuador",{"$f":"Policy!$Z16","v":3},{"$f":"Policy!$Z16","v":3},{"$f":"Policy!$Z16","v":3},{"$f":"Policy!$Z16","v":3},{"$f":"Policy!$Z16","v":3},{"$f":"Policy!$Z16","v":3},{"$f":"Policy!$Z16","v":3},52,52,52,52,52,52,40.763145814436704,null,null,null,null,null,null,null,2.6,2.6,2.6,2.6,2.6,2.6,2.0381572907218355,"1.01 > Ecuador",11,1," "]
[{"$f":"INDEX(Country!$F$31:$G$76, MATCH(AI26, Country!$O$31:$O$76, 0), 1)","v":1.01},{"$f":"INDEX(Country!$F$31:$G$76, MATCH(AI26, Country!$O$31:$O$76, 0), 2)","v":"Clean energy policies"},{"$f":"INDEX(Country!$K$31:$K$76, MATCH(AI26, Country!$O$31:$O$76, 0), 1)","v":"Policy Types"},"El Salvador",{"$f":"Policy!$Z17","v":2},{"$f":"Policy!$Z17","v":2},{"$f":"Policy!$Z17","v":2},{"$f":"Policy!$Z17","v":2},{"$f":"Policy!$Z17","v":2},{"$f":"Policy!$Z17","v":2},{"$f":"Policy!$Z17","v":2},30,30,30,30,30,30,27.178914493321511,null,null,null,null,null,null,null,1.5,1.5,1.5,1.5,1.5,1.5,1.3589457246660754,"1.01 > El Salvador",12,1," "]
[{"$f":"INDEX(Country!$F$31:$G$76, MATCH(AI27, Country!$O$31:$O$76, 0), 1)","v":1.01},{"$f":"INDEX(Country!$F$31:$G$76, MATCH(AI27, Country!$O$31:$O$76, 0), 2)","v":"Clean energy policies"},{"$f":"INDEX(Country!$K$31:$K$76, MATCH(AI27, Country!$O$31:$O$76, 0), 1)","v":"Policy Types"},"Guatemala",{"$f":"Policy!$Z18","v":4},{"$f":"Policy!$Z18","v":4},{"$f":"Policy!$Z18","v":4},{"$f":"Policy!$Z18","v":4},{"$f":"Policy!$Z18","v":4},{"$f":"Policy!$Z18","v":4},{"$f":"Policy!$Z18","v":4},34,34,34,34,34,34,31.166761225682166,null,null,null,null,null,null,null,1.7,1.7,1.7,1.7,1.7,1.7,1.5583380612841082,"1.01 > Guatemala",13,1]
[{"$f":"INDEX(Country!$F$31:$G$76, MATCH(AI28, Country!$O$31:$O$76, 0), 1)","v":1.01},{"$f":"INDEX(Country!$F$31:$G$76, MATCH(AI28, Country!$O$31:$O$76, 0), 2)","v":"Clean energy policies"},{"$f":"INDEX(Country!$K$31:$K$76, MATCH(AI28, Country!$O$31:$O$76, 0), 1)","v":"Policy Types"},"Guyana",{"$f":"Policy!$Z19","v":0},{"$f":"Policy!$Z19","v":0},{"$f":"Policy!$Z19","v":0},{"$f":"Policy!$Z19","v":0},{"$f":"Policy!$Z19","v":0},{"$f":"Policy!$Z19","v":0},{"$f":"Policy!$Z19","v":0},22.5,22.5,22.5,22.5,22.5,22.5,20,null,null,null,null,null,null,null,1.125,1.125,1.125,1.125,1.125,1.125,1,"1.01 > Guyana",14,1," "]
[{"$f":"INDEX(Country!$F$31:$G$76, MATCH(AI29, Country!$O$31:$O$76, 0), 1)","v":1.01},{"$f":"INDEX(Country!$F$31:$G$76, MATCH(AI29, Country!$O$31:$O$76, 0), 2)","v":"Clean energy policies"},{"$f":"INDEX(Country!$K$31:$K$76, MATCH(AI29, Country!$O$31:$O$76, 0), 1)","v":"Policy Types"},"Haiti",{"$f":"Policy!$Z20","v":0},{"$f":"Policy!$Z20","v":0},{"$f":"Policy!$Z20","v":0},{"$f":"Policy!$Z20","v":0},{"$f":"Policy!$Z20","v":0},{"$f":"Policy!$Z20","v":0},{"$f":"Policy!$Z20","v":0},22.5,22.5,22.5,22.5,22.5,22.5,20,null,null,null,null,null,null,null,1.125,1.125,1.125,1.125,1.125,1.125,1,"1.01 > Haiti",15,1," "]
[{"$f":"INDEX(Country!$F$31:$G$76, MATCH(AI30, Country!$O$31:$O$76, 0), 1)","v":1.01},{"$f":"INDEX(Country!$F$31:$G$76, MATCH(AI30, Country!$O$31:$O$76, 0), 2)","v":"Clean energy policies"},{"$f":"INDEX(Country!$K$31:$K$76, MATCH(AI30, Country!$O$31:$O$76, 0), 1)","v":"Policy Types"},"Honduras",{"$f":"Policy!$Z21","v":5},{"$f":"Policy!$Z21","v":5},{"$f":"Policy!$Z21","v":5},{"$f":"Policy!$Z21","v":5},{"$f":"Policy!$Z21","v":5},{"$f":"Policy!$Z21","v":5},{"$f":"Policy!$Z21","v":5},54,54,54,54,54,54,43.764332235634903,null,null,null,null,null,null,null,2.7,2.7,2.7,2.7,2.7,2.7,2.1882166117817454,"1.01 > Honduras",16,1," "]
[{"$f":"INDEX(Country!$F$31:$G$76, MATCH(AI31, Country!$O$31:$O$76, 0), 1)","v":1.01},{"$f":"INDEX(Country!$F$31:$G$76, MATCH(AI31, Country!$O$31:$O$76, 0), 2)","v":"Clean energy policies"},{"$f":"INDEX(Country!$K$31:$K$76, MATCH(AI31, Country!$O$31:$O$76, 0), 1)","v":"Policy Types"},"Jamaica",{"$f":"Policy!$Z22","v":3},{"$f":"Policy!$Z22","v":3},{"$f":"Policy!$Z22","v":3},{"$f":"Policy!$Z22","v":3},{"$f":"Policy!$Z22","v":3},{"$f":"Policy!$Z22","v":3},{"$f":"Policy!$Z22","v":3},46,46,46,46,46,46,41.577509015340638,null,null,null,null,null,null,null,2.2999999999999998,2.2999999999999998,2.2999999999999998,2.2999999999999998,2.2999999999999998,2.2999999999999998,2.0788754507670317,"1.01 > Jamaica",17,1," "]
[{"$f":"INDEX(Country!$F$31:$G$76, MATCH(AI32, Country!$O$31:$O$76, 0), 1)","v":1.01},{"$f":"INDEX(Country!$F$31:$G$76, MATCH(AI32, Country!$O$31:$O$76, 0), 2)","v":"Clean energy policies"},{"$f":"INDEX(Country!$K$31:$K$76, MATCH(AI32, Country!$O$31:$O$76, 0), 1)","v":"Policy Types"},"Mexico",{"$f":"Policy!$Z23","v":6},{"$f":"Policy!$Z23","v":6},{"$f":"Policy!$Z23","v":6},{"$f":"Policy!$Z23","v":6},{"$f":"Policy!$Z23","v":6},{"$f":"Policy!$Z23","v":6},{"$f":"Policy!$Z23","v":6},57.999999999999993,57.999999999999993,57.999999999999993,57.999999999999993,57.999999999999993,57.999999999999993,47.428759692678213,null,null,null,null,null,null,null,2.9,{"$f":"AB32","v":2.9},2.9,2.9,2.9,2.9,2.3714379846339106,"1.01 > Mexico",18,1," "]
[{"$f":"INDEX(Country!$F$31:$G$76, MATCH(AI33, Country!$O$31:$O$76, 0), 1)","v":1.01},{"$f":"INDEX(Country!$F$31:$G$76, MATCH(AI33, Country!$O$31:$O$76, 0), 2)","v":"Clean energy policies"},{"$f":"INDEX(Country!$K$31:$K$76, MATCH(AI33, Country!$O$31:$O$76, 0), 1)","v":"Policy Types"},"Nicaragua",{"$f":"Policy!$Z24","v":4},{"$f":"Policy!$Z24","v":4},{"$f":"Policy!$Z24","v":4},{"$f":"Policy!$Z24","v":4},{"$f":"Policy!$Z24","v":4},{"$f":"Policy!$Z24","v":4},{"$f":"Policy!$Z24","v":4},46,46,46,46,46,46,31.172292452502326,null,null,null,null,null,null,null,2.2999999999999998,2.2999999999999998,{"$f":"AC33","v":2.2999999999999998},2.2999999999999998,2.2999999999999998,2.2999999999999998,1.5586146226251163,"1.01 > Nicaragua",19,1," "]
[{"$f":"INDEX(Country!$F$31:$G$76, MATCH(AI34, Country!$O$31:$O$76, 0), 1)","v":1.01},{"$f":"INDEX(Country!$F$31:$G$76, MATCH(AI34, Country!$O$31:$O$76, 0), 2)","v":"Clean energy policies"},{"$f":"INDEX(Country!$K$31:$K$76, MATCH(AI34, Country!$O$31:$O$76, 0), 1)","v":"Policy Types"},"Panama",{"$f":"Policy!$Z25","v":6},{"$f":"Policy!$Z25","v":6},{"$f":"Policy!$Z25","v":6},{"$f":"Policy!$Z25","v":6},{"$f":"Policy!$Z25","v":6},{"$f":"Policy!$Z25","v":6},{"$f":"Policy!$Z25","v":6},46.5,46.5,46.5,46.5,46.5,46.5,46.193866186795482,null,null,null,null,null,null,null,2.3250000000000002,2.3250000000000002,2.3250000000000002,2.3250000000000002,2.3250000000000002,2.3250000000000002,2.309693309339774,"1.01 > Panama",20,1," "]
[{"$f":"INDEX(Country!$F$31:$G$76, MATCH(AI35, Country!$O$31:$O$76, 0), 1)","v":1.01},{"$f":"INDEX(Country!$F$31:$G$76, MATCH(AI35, Country!$O$31:$O$76, 0), 2)","v":"Clean energy policies"},{"$f":"INDEX(Country!$K$31:$K$76, MATCH(AI35, Country!$O$31:$O$76, 0), 1)","v":"Policy Types"},"Paraguay",{"$f":"Policy!$Z26","v":1},{"$f":"Policy!$Z26","v":1},{"$f":"Policy!$Z26","v":1},{"$f":"Policy!$Z26","v":1},{"$f":"Policy!$Z26","v":1},{"$f":"Policy!$Z26","v":1},{"$f":"Policy!$Z26","v":1},31,31,31,31,31,31,27.540490861478133,null,null,null,null,null,null,null,1.55,1.55,1.55,1.55,1.55,1.55,1.3770245430739068,"1.01 > Paraguay",21,1," "]
[{"$f":"INDEX(Country!$F$31:$G$76, MATCH(AI36, Country!$O$31:$O$76, 0), 1)","v":1.01},{"$f":"INDEX(Country!$F$31:$G$76, MATCH(AI36, Country!$O$31:$O$76, 0), 2)","v":"Clean energy policies"},{"$f":"INDEX(Country!$K$31:$K$76, MATCH(AI36, Country!$O$31:$O$76, 0), 1)","v":"Policy Types"},"Peru",{"$f":"Policy!$Z27","v":3},{"$f":"Policy!$Z27","v":3},{"$f":"Policy!$Z27","v":3},{"$f":"Policy!$Z27","v":3},{"$f":"Policy!$Z27","v":3},{"$f":"Policy!$Z27","v":3},{"$f":"Policy!$Z27","v":3},47,47,47,47,47,47,64.148893128721681,null,null,null,null,null,null,null,2.35,2.35,2.35,2.35,2.35,2.35,3.2074446564360843,"1.01 > Peru",22,1," "]
[{"$f":"INDEX(Country!$F$31:$G$76, MATCH(AI37, Country!$O$31:$O$76, 0), 1)","v":1.01},{"$f":"INDEX(Country!$F$31:$G$76, MATCH(AI37, Country!$O$31:$O$76, 0), 2)","v":"Clean energy policies"},{"$f":"INDEX(Country!$K$31:$K$76, MATCH(AI37, Country!$O$31:$O$76, 0), 1)","v":"Policy Types"},"Suriname",{"$f":"Policy!$Z28","v":0},{"$f":"Policy!$Z28","v":0},{"$f":"Policy!$Z28","v":0},{"$f":"Policy!$Z28","v":0},{"$f":"Policy!$Z28","v":0},{"$f":"Policy!$Z28","v":0},{"$f":"Policy!$Z28","v":0},20,20,20,20,20,20,20,null,null,null,null,null,null,null,1,1,1,1,1,1,1,"1.01 > Suriname",23,1," "]
[{"$f":"INDEX(Country!$F$31:$G$76, MATCH(AI38, Country!$O$31:$O$76, 0), 1)","v":1.01},{"$f":"INDEX(Country!$F$31:$G$76, MATCH(AI38, Country!$O$31:$O$76, 0), 2)","v":"Clean energy policies"},{"$f":"INDEX(Country!$K$31:$K$76, MATCH(AI38, Country!$O$31:$O$76, 0), 1)","v":"Policy Types"},"Trinidad & Tobago",{"$f":"Policy!$Z29","v":1},{"$f":"Policy!$Z29","v":1},{"$f":"Policy!$Z29","v":1},{"$f":"Policy!$Z29","v":1},{"$f":"Policy!$Z29","v":1},{"$f":"Policy!$Z29","v":1},{"$f":"Policy!$Z29","v":1},30,30,30,30,30,30,20,null,null,null,null,null,null,null,1.5,1.5,1.5,1.5,1.5,1.5,1,"1.01 > Trinidad & Tobago",24,1," "]
[{"$f":"INDEX(Country!$F$31:$G$76, MATCH(AI39, Country!$O$31:$O$76, 0), 1)","v":1.01},{"$f":"INDEX(Country!$F$31:$G$76, MATCH(AI39, Country!$O$31:$O$76, 0), 2)","v":"Clean energy policies"},{"$f":"INDEX(Country!$K$31:$K$76, MATCH(AI39, Country!$O$31:$O$76, 0), 1)","v":"Policy Types"},"Uruguay",{"$f":"Policy!$Z30","v":5},{"$f":"Policy!$Z30","v":5},{"$f":"Policy!$Z30","v":5},{"$f":"Policy!$Z30","v":5},{"$f":"Policy!$Z30","v":5},{"$f":"Policy!$Z30","v":5},{"$f":"Policy!$Z30","v":5},48.5,48.5,48.5,48.5,48.5,48.5,70.682125666089902,null,null,null,null,null,null,null,2.4249999999999998,2.4249999999999998,2.4249999999999998,2.4249999999999998,2.4249999999999998,2.4249999999999998,3.5341062833044949,"1.01 > Uruguay",25,1," "]
[{"$f":"INDEX(Country!$F$31:$G$76, MATCH(AI40, Country!$O$31:$O$76, 0), 1)","v":1.01},{"$f":"INDEX(Country!$F$31:$G$76, MATCH(AI40, Country!$O$31:$O$76, 0), 2)","v":"Clean energy policies"},{"$f":"INDEX(Country!$K$31:$K$76, MATCH(AI40, Country!$O$31:$O$76, 0), 1)","v":"Policy Types"},"Venezuela",{"$f":"Policy!$Z31","v":0},{"$f":"Policy!$Z31","v":0},{"$f":"Policy!$Z31","v":0},{"$f":"Policy!$Z31","v":0},{"$f":"Policy!$Z31","v":0},{"$f":"Policy!$Z31","v":0},{"$f":"Policy!$Z31","v":0},20,20,20,20,20,20,20,null,null,null,null,null,null,null,1,1,1,1,1,1,1,"1.01 > Venezuela",26,1," "]
[{"$f":"INDEX(Country!$F$31:$G$76, MATCH(AI41, Country!$O$31:$O$76, 0), 1)","v":1.01},{"$f":"INDEX(Country!$F$31:$G$76, MATCH(AI41, Country!$O$31:$O$76, 0), 2)","v":"Clean energy policies"},{"$f":"INDEX(Country!$K$31:$K$76, MATCH(AI41, Country!$O$31:$O$76, 0), 1)","v":"Policy Types"},"Benchmark",{"$f":"IFERROR(MAX(E15:E40), 0)","v":11},{"$f":"IFERROR(MAX(F15:F40), 0)","v":11},{"$f":"IFERROR(MAX(G15:G40), 0)","v":11},{"$f":"IFERROR(MAX(H15:H40), 0)","v":11},{"$f":"IFERROR(MAX(I15:I40), 0)","v":11},{"$f":"IFERROR(MAX(J15:J40), 0)","v":11},11,100,100,100,100,100,100,100,null,null,null,null,null,null,null,5,5,5,5,5,5,5,"1.01 > Benchmark",27,1," "]
[{"$f":"INDEX(Country!$F$31:$G$76, MATCH(AI42, Country!$O$31:$O$76, 0), 1)","v":1.02},{"$f":"INDEX(Country!$F$31:$G$76, MATCH(AI42, Country!$O$31:$O$76, 0), 2)","v":"Power sector structure"},{"$f":"INDEX(Country!$K$31:$K$76, MATCH(AI42, Country!$O$31:$O$76, 0), 1)","v":"Questions"},{"$f":"D15","v":"Argentina"},8,8,8,8,8,8,6,80,80,80,80,80,80,60,null,null,null,null,null,null,null,{"$f":"AA42","v":4},{"$f":"AB42","v":4},{"$f":"AC42","v":4},{"$f":"AD42","v":4},{"$f":"AE42","v":4},4,3,"1.02 > Argentina",28,2," "]
[{"$f":"INDEX(Country!$F$31:$G$76, MATCH(AI43, Country!$O$31:$O$76, 0), 1)","v":1.02},{"$f":"INDEX(Country!$F$31:$G$76, MATCH(AI43, Country!$O$31:$O$76, 0), 2)","v":"Power sector structure"},{"$f":"INDEX(Country!$K$31:$K$76, MATCH(AI43, Country!$O$31:$O$76, 0), 1)","v":"Questions"},{"$f":"D16","v":"Bahamas"},2,2,2,2,2,2,1,20,20,20,20,20,20,5,null,null,null,null,null,null,null,1,1,1,{"$f":"AD43","v":1},{"$f":"AE43","v":1},1,0.25,"1.02 > Bahamas",29,2," "]
[{"$f":"INDEX(Country!$F$31:$G$76, MATCH(AI44, Country!$O$31:$O$76, 0), 1)","v":1.02},{"$f":"INDEX(Country!$F$31:$G$76, MATCH(AI44, Country!$O$31:$O$76, 0), 2)","v":"Power sector structure"},{"$f":"INDEX(Country!$K$31:$K$76, MATCH(AI44, Country!$O$31:$O$76, 0), 1)","v":"Questions"},"Barbados",1,1,1,1,1,1,1,10,10,10,10,10,10,5,null,null,null,null,null,null,null,0.5,0.5,0.5,0.5,0.5,0.5,0.25,"1.02 > Barbados",30,2," "]
[{"$f":"INDEX(Country!$F$31:$G$76, MATCH(AI45, Country!$O$31:$O$76, 0), 1)","v":1.02},{"$f":"INDEX(Country!$F$31:$G$76, MATCH(AI45, Country!$O$31:$O$76, 0), 2)","v":"Power sector structure"},{"$f":"INDEX(Country!$K$31:$K$76, MATCH(AI45, Country!$O$31:$O$76, 0), 1)","v":"Questions"},"Belize",1,1,1,1,1,1,1,10,10,10,10,10,10,5,null,null,null,null,null,null,null,0.5,0.5,0.5,0.5,0.5,0.5,0.25,"1.02 > Belize",31,2," "]
[{"$f":"INDEX(Country!$F$31:$G$76, MATCH(AI46, Country!$O$31:$O$76, 0), 1)","v":1.02},{"$f":"INDEX(Country!$F$31:$G$76, MATCH(AI46, Country!$O$31:$O$76, 0), 2)","v":"Power sector structure"},{"$f":"INDEX(Country!$K$31:$K$76, MATCH(AI46, Country!$O$31:$O$76, 0), 1)","v":"Questions"},"Bolivia",5,5,5,5,5,5,5,50,50,50,50,50,50,45,null,null,null,null,null,null,null,2.5,2.5,2.5,2.5,2.5,2.5,2.25,"1.02 > Bolivia",32,2," "]
[{"$f":"INDEX(Country!$F$31:$G$76, MATCH(AI47, Country!$O$31:$O$76, 0), 1)","v":1.02},{"$f":"INDEX(Country!$F$31:$G$76, MATCH(AI47, Country!$O$31:$O$76, 0), 2)","v":"Power sector structure"},{"$f":"INDEX(Country!$K$31:$K$76, MATCH(AI47, Country!$O$31:$O$76, 0), 1)","v":"Questions"},"Brazil",9,9,9,9,9,9,8,{"$f":"(Z47/5)*dbl_BenchmarkMax","v":90},{"$f":"(AA47/5)*dbl_BenchmarkMax","v":90},90,90,90,90,75,null,null,null,null,null,null,null,4.5,4.5,4.5,4.5,4.5,4.5,3.75,"1.02 > Brazil",33,2," "]
[{"$f":"INDEX(Country!$F$31:$G$76, MATCH(AI48, Country!$O$31:$O$76, 0), 1)","v":1.02},{"$f":"INDEX(Country!$F$31:$G$76, MATCH(AI48, Country!$O$31:$O$76, 0), 2)","v":"Power sector structure"},{"$f":"INDEX(Country!$K$31:$K$76, MATCH(AI48, Country!$O$31:$O$76, 0), 1)","v":"Questions"},"Chile",9,9,9,9,9,9,8,90,90,90,90,90,90,80,null,null,null,null,null,null,null,4.5,4.5,4.5,4.5,4.5,4.5,4,"1.02 > Chile",34,2," "]
[{"$f":"INDEX(Country!$F$31:$G$76, MATCH(AI49, Country!$O$31:$O$76, 0), 1)","v":1.02},{"$f":"INDEX(Country!$F$31:$G$76, MATCH(AI49, Country!$O$31:$O$76, 0), 2)","v":"Power sector structure"},{"$f":"INDEX(Country!$K$31:$K$76, MATCH(AI49, Country!$O$31:$O$76, 0), 1)","v":"Questions"},"Colombia",9,9,9,9,9,9,6,90,90,90,90,90,90,60,null,null,null,null,null,null,null,4.5,4.5,4.5,4.5,4.5,4.5,3,"1.02 > Colombia",35,2," "]
[{"$f":"INDEX(Country!$F$31:$G$76, MATCH(AI50, Country!$O$31:$O$76, 0), 1)","v":1.02},{"$f":"INDEX(Country!$F$31:$G$76, MATCH(AI50, Country!$O$31:$O$76, 0), 2)","v":"Power sector structure"},{"$f":"INDEX(Country!$K$31:$K$76, MATCH(AI50, Country!$O$31:$O$76, 0), 1)","v":"Questions"},"Costa Rica",0,0,0,0,0,0,2,0,0,0,0,0,0,15,null,null,null,null,null,null,null,0,0,0,0,0,0,0.75,"1.02 > Costa Rica",36,2," "]
[{"$f":"INDEX(Country!$F$31:$G$76, MATCH(AI51, Country!$O$31:$O$76, 0), 1)","v":1.02},{"$f":"INDEX(Country!$F$31:$G$76, MATCH(AI51, Country!$O$31:$O$76, 0), 2)","v":"Power sector structure"},{"$f":"INDEX(Country!$K$31:$K$76, MATCH(AI51, Country!$O$31:$O$76, 0), 1)","v":"Questions"},"Dominican Republic",8,8,8,8,8,8,5,80,80,80,80,80,80,45,null,null,null,null,null,null,null,4,4,4,4,4,4,2.25,"1.02 > Dominican Republic",37,2," "]
[{"$f":"INDEX(Country!$F$31:$G$76, MATCH(AI52, Country!$O$31:$O$76, 0), 1)","v":1.02},{"$f":"INDEX(Country!$F$31:$G$76, MATCH(AI52, Country!$O$31:$O$76, 0), 2)","v":"Power sector structure"},{"$f":"INDEX(Country!$K$31:$K$76, MATCH(AI52, Country!$O$31:$O$76, 0), 1)","v":"Questions"},"Ecuador",4,4,4,4,4,4,6,40,40,40,40,40,40,55.000000000000007,null,null,null,null,null,null,null,2,2,2,2,2,2,2.75,"1.02 > Ecuador",38,2," "]
[{"$f":"INDEX(Country!$F$31:$G$76, MATCH(AI53, Country!$O$31:$O$76, 0), 1)","v":1.02},{"$f":"INDEX(Country!$F$31:$G$76, MATCH(AI53, Country!$O$31:$O$76, 0), 2)","v":"Power sector structure"},{"$f":"INDEX(Country!$K$31:$K$76, MATCH(AI53, Country!$O$31:$O$76, 0), 1)","v":"Questions"},"El Salvador",9,9,9,9,9,9,6,90,90,90,90,90,90,55.000000000000007,null,null,null,null,null,null,null,4.5,4.5,4.5,4.5,4.5,4.5,2.75,"1.02 > El Salvador",39,2," "]
[{"$f":"INDEX(Country!$F$31:$G$76, MATCH(AI54, Country!$O$31:$O$76, 0), 1)","v":1.02},{"$f":"INDEX(Country!$F$31:$G$76, MATCH(AI54, Country!$O$31:$O$76, 0), 2)","v":"Power sector structure"},{"$f":"INDEX(Country!$K$31:$K$76, MATCH(AI54, Country!$O$31:$O$76, 0), 1)","v":"Questions"},"Guatemala",8,8,8,8,8,8,6,80,80,80,80,80,80,60,null,null,null,null,null,null,null,4,4,4,4,4,4,3,"1.02 > Guatemala",40,2," "]
[{"$f":"INDEX(Country!$F$31:$G$76, MATCH(AI55, Country!$O$31:$O$76, 0), 1)","v":1.02},{"$f":"INDEX(Country!$F$31:$G$76, MATCH(AI55, Country!$O$31:$O$76, 0), 2)","v":"Power sector structure"},{"$f":"INDEX(Country!$K$31:$K$76, MATCH(AI55, Country!$O$31:$O$76, 0), 1)","v":"Questions"},"Guyana",2,2,2,2,2,2,0,20,20,20,20,20,20,0,null,null,null,null,null,null,null,1,1,1,1,1,1,0,"1.02 > Guyana",41,2," "]
[{"$f":"INDEX(Country!$F$31:$G$76, MATCH(AI56, Country!$O$31:$O$76, 0), 1)","v":1.02},{"$f":"INDEX(Country!$F$31:$G$76, MATCH(AI56, Country!$O$31:$O$76, 0), 2)","v":"Power sector structure"},{"$f":"INDEX(Country!$K$31:$K$76, MATCH(AI56, Country!$O$31:$O$76, 0), 1)","v":"Questions"},"Haiti",1,1,1,1,1,1,1,10,10,10,10,10,10,5,null,null,null,null,null,null,null,0.5,0.5,0.5,0.5,0.5,0.5,0.25,"1.02 > Haiti",42,2," "]
[{"$f":"INDEX(Country!$F$31:$G$76, MATCH(AI57, Country!$O$31:$O$76, 0), 1)","v":1.02},{"$f":"INDEX(Country!$F$31:$G$76, MATCH(AI57, Country!$O$31:$O$76, 0), 2)","v":"Power sector structure"},{"$f":"INDEX(Country!$K$31:$K$76, MATCH(AI57, Country!$O$31:$O$76, 0), 1)","v":"Questions"},"Honduras",0,0,0,0,0,0,2,0,0,0,0,0,0,15,null,null,null,null,null,null,null,0,0,0,0,0,0,0.75,"1.02 > Honduras",43,2," "]
[{"$f":"INDEX(Country!$F$31:$G$76, MATCH(AI58, Country!$O$31:$O$76, 0), 1)","v":1.02},{"$f":"INDEX(Country!$F$31:$G$76, MATCH(AI58, Country!$O$31:$O$76, 0), 2)","v":"Power sector structure"},{"$f":"INDEX(Country!$K$31:$K$76, MATCH(AI58, Country!$O$31:$O$76, 0), 1)","v":"Questions"},"Jamaica",2,2,2,2,2,2,2,20,20,20,20,20,20,15,null,null,null,null,null,null,null,1,1,1,1,1,1,0.75,"1.02 > Jamaica",44,2," "]
[{"$f":"INDEX(Country!$F$31:$G$76, MATCH(AI59, Country!$O$31:$O$76, 0), 1)","v":1.02},{"$f":"INDEX(Country!$F$31:$G$76, MATCH(AI59, Country!$O$31:$O$76, 0), 2)","v":"Power sector structure"},{"$f":"INDEX(Country!$K$31:$K$76, MATCH(AI59, Country!$O$31:$O$76, 0), 1)","v":"Questions"},"Mexico",0,0,0,0,0,0,2,0,0,0,0,0,0,15,null,null,null,null,null,null,null,0,0,0,0,0,0,0.75,"1.02 > Mexico",45,2," "]
[{"$f":"INDEX(Country!$F$31:$G$76, MATCH(AI60, Country!$O$31:$O$76, 0), 1)","v":1.02},{"$f":"INDEX(Country!$F$31:$G$76, MATCH(AI60, Country!$O$31:$O$76, 0), 2)","v":"Power sector structure"},{"$f":"INDEX(Country!$K$31:$K$76, MATCH(AI60, Country!$O$31:$O$76, 0), 1)","v":"Questions"},"Nicaragua",8,8,8,8,8,8,5,80,80,80,80,80,80,45,null,null,null,null,null,null,null,4,4,4,4,4,4,2.25,"1.02 > Nicaragua",46,2," "]
[{"$f":"INDEX(Country!$F$31:$G$76, MATCH(AI61, Country!$O$31:$O$76, 0), 1)","v":1.02},{"$f":"INDEX(Country!$F$31:$G$76, MATCH(AI61, Country!$O$31:$O$76, 0), 2)","v":"Power sector structure"},{"$f":"INDEX(Country!$K$31:$K$76, MATCH(AI61, Country!$O$31:$O$76, 0), 1)","v":"Questions"},"Panama",8,8,8,8,8,8,5,80,80,80,80,80,80,50,null,null,null,null,null,null,null,4,4,4,4,4,4,2.5,"1.02 > Panama",47,2," "]
[{"$f":"INDEX(Country!$F$31:$G$76, MATCH(AI62, Country!$O$31:$O$76, 0), 1)","v":1.02},{"$f":"INDEX(Country!$F$31:$G$76, MATCH(AI62, Country!$O$31:$O$76, 0), 2)","v":"Power sector structure"},{"$f":"INDEX(Country!$K$31:$K$76, MATCH(AI62, Country!$O$31:$O$76, 0), 1)","v":"Questions"},"Paraguay",0,0,0,0,0,0,1,0,0,0,0,0,0,10,null,null,null,null,null,null,null,0,0,0,0,0,0,0.5,"1.02 > Paraguay",48,2," "]
[{"$f":"INDEX(Country!$F$31:$G$76, MATCH(AI63, Country!$O$31:$O$76, 0), 1)","v":1.02},{"$f":"INDEX(Country!$F$31:$G$76, MATCH(AI63, Country!$O$31:$O$76, 0), 2)","v":"Power sector structure"},{"$f":"INDEX(Country!$K$31:$K$76, MATCH(AI63, Country!$O$31:$O$76, 0), 1)","v":"Questions"},"Peru",9,9,9,9,9,9,7,90,90,90,90,90,90,65,null,null,null,null,null,null,null,4.5,4.5,4.5,4.5,4.5,4.5,3.25,"1.02 > Peru",49,2," "]
[{"$f":"INDEX(Country!$F$31:$G$76, MATCH(AI64, Country!$O$31:$O$76, 0), 1)","v":1.02},{"$f":"INDEX(Country!$F$31:$G$76, MATCH(AI64, Country!$O$31:$O$76, 0), 2)","v":"Power sector structure"},{"$f":"INDEX(Country!$K$31:$K$76, MATCH(AI64, Country!$O$31:$O$76, 0), 1)","v":"Questions"},"Suriname",1,1,1,1,1,1,1,10,10,10,10,10,10,10,null,null,null,null,null,null,null,0.5,0.5,0.5,0.5,0.5,0.5,0.5,"1.02 > Suriname",50,2," "]
[{"$f":"INDEX(Country!$F$31:$G$76, MATCH(AI65, Country!$O$31:$O$76, 0), 1)","v":1.02},{"$f":"INDEX(Country!$F$31:$G$76, MATCH(AI65, Country!$O$31:$O$76, 0), 2)","v":"Power sector structure"},{"$f":"INDEX(Country!$K$31:$K$76, MATCH(AI65, Country!$O$31:$O$76, 0), 1)","v":"Questions"},"Trinidad & Tobago",2,2,2,2,2,2,2,20,20,20,20,20,20,15,null,null,null,null,null,null,null,1,1,1,1,1,1,0.75,"1.02 > Trinidad & Tobago",51,2," "]
[{"$f":"INDEX(Country!$F$31:$G$76, MATCH(AI66, Country!$O$31:$O$76, 0), 1)","v":1.02},{"$f":"INDEX(Country!$F$31:$G$76, MATCH(AI66, Country!$O$31:$O$76, 0), 2)","v":"Power sector structure"},{"$f":"INDEX(Country!$K$31:$K$76, MATCH(AI66, Country!$O$31:$O$76, 0), 1)","v":"Questions"},"Uruguay",0,1,1,1,1,1,5,10,10,10,10,10,10,45,null,null,null,null,null,null,null,0.5,0.5,0.5,0.5,0.5,0.5,2.25,"1.02 > Uruguay",52,2," "]
[{"$f":"INDEX(Country!$F$31:$G$76, MATCH(AI67, Country!$O$31:$O$76, 0), 1)","v":1.02},{"$f":"INDEX(Country!$F$31:$G$76, MATCH(AI67, Country!$O$31:$O$76, 0), 2)","v":"Power sector structure"},{"$f":"INDEX(Country!$K$31:$K$76, MATCH(AI67, Country!$O$31:$O$76, 0), 1)","v":"Questions"},"Venezuela",0,0,0,0,0,0,1,0,0,0,0,0,0,5,null,null,null,null,null,null,null,0,0,0,0,0,0,0.25,"1.02 > Venezuela",53,2," "]
[{"$f":"INDEX(Country!$F$31:$G$76, MATCH(AI68, Country!$O$31:$O$76, 0), 1)","v":1.02},{"$f":"INDEX(Country!$F$31:$G$76, MATCH(AI68, Country!$O$31:$O$76, 0), 2)","v":"Power sector structure"},{"$f":"INDEX(Country!$K$31:$K$76, MATCH(AI68, Country!$O$31:$O$76, 0), 1)","v":"Questions"},"Benchmark",{"$f":"IFERROR(MAX(E42:E67), 0)","v":9},{"$f":"IFERROR(MAX(F42:F67), 0)","v":9},9,9,9,{"$f":"IFERROR(MAX(J42:J67), 0)","v":9},8,{"$f":"(Z68/5)*dbl_BenchmarkMax","v":100},{"$f":"(AA68/5)*dbl_BenchmarkMax","v":100},100,100,100,100,{"$f":"(AF68/5)*dbl_BenchmarkMax","v":100},null,null,null,null,null,null,null,5,5,5,5,5,5,5,"1.02 > Benchmark",54,2," "]
[{"$f":"INDEX(Country!$F$31:$G$76, MATCH(AI69, Country!$O$31:$O$76, 0), 1)","v":1.03},{"$f":"INDEX(Country!$F$31:$G$76, MATCH(AI69, Country!$O$31:$O$76, 0), 2)","v":"Clean energy rural electrification"},{"$f":"INDEX(Country!$K$31:$K$76, MATCH(AI69, Country!$O$31:$O$76, 0), 1)","v":"Program"},"Argentina",{"$f":"F69","v":1},1,1,{"$f":"I69","v":1},{"$f":"K69","v":1},0,1,{"$f":"IFERROR(dbl_BenchmarkMax*E69/ SUMIFS(E$15:E$1256, $D$15:$D$1256, \"Benchmark\", $B$15:$B$1256,$B69), 0)","v":100},{"$f":"IFERROR(dbl_BenchmarkMax*F69/ SUMIFS(F$15:F$1256, $D$15:$D$1256, \"Benchmark\", $B$15:$B$1256,$B69), 0)","v":100},{"$f":"IFERROR(dbl_BenchmarkMax*G69/ SUMIFS(G$15:G$1256, $D$15:$D$1256, \"Benchmark\", $B$15:$B$1256,$B69), 0)","v":100},{"$f":"IFERROR(dbl_BenchmarkMax*H69/ SUMIFS(H$15:H$1256, $D$15:$D$1256, \"Benchmark\", $B$15:$B$1256,$B69), 0)","v":100},{"$f":"IFERROR(dbl_BenchmarkMax*I69/ SUMIFS(I$15:I$1256, $D$15:$D$1256, \"Benchmark\", $B$15:$B$1256,$B69), 0)","v":100},{"$f":"IFERROR(dbl_BenchmarkMax*J69/ SUMIFS(J$15:J$1256, $D$15:$D$1256, \"Benchmark\", $B$15:$B$1256,$B69), 0)","v":0},{"$f":"IFERROR(dbl_BenchmarkMax*K69/ SUMIFS(K$15:K$1256, $D$15:$D$1256, \"Benchmark\", $B$15:$B$1256,$B69), 0)","v":100},null,null,null,null,null,null,null,null,null,null,null,null,null,null,"1.03 > Argentina",55,3," "]
[{"$f":"INDEX(Country!$F$31:$G$76, MATCH(AI70, Country!$O$31:$O$76, 0), 1)","v":1.03},{"$f":"INDEX(Country!$F$31:$G$76, MATCH(AI70, Country!$O$31:$O$76, 0), 2)","v":"Clean energy rural electrification"},{"$f":"INDEX(Country!$K$31:$K$76, MATCH(AI70, Country!$O$31:$O$76, 0), 1)","v":"Program"},"Bahamas",{"$f":"F70","v":0},0,0,{"$f":"I70","v":0},{"$f":"K70","v":0},0,0,0,0,0,0,0,0,0,null,null,null,null,null,null,null,null,null,null,null,null,null,null,"1.03 > Bahamas",56,3," "]
[{"$f":"INDEX(Country!$F$31:$G$76, MATCH(AI71, Country!$O$31:$O$76, 0), 1)","v":1.03},{"$f":"INDEX(Country!$F$31:$G$76, MATCH(AI71, Country!$O$31:$O$76, 0), 2)","v":"Clean energy rural electrification"},{"$f":"INDEX(Country!$K$31:$K$76, MATCH(AI71, Country!$O$31:$O$76, 0), 1)","v":"Program"},"Barbados",{"$f":"F71","v":0},0,0,{"$f":"I71","v":0},0,0,0,0,0,0,0,0,0,0,null,null,null,null,null,null,null,null,null,null,null,null,null,null,"1.03 > Barbados",57,3," "]
[{"$f":"INDEX(Country!$F$31:$G$76, MATCH(AI72, Country!$O$31:$O$76, 0), 1)","v":1.03},{"$f":"INDEX(Country!$F$31:$G$76, MATCH(AI72, Country!$O$31:$O$76, 0), 2)","v":"Clean energy rural electrification"},{"$f":"INDEX(Country!$K$31:$K$76, MATCH(AI72, Country!$O$31:$O$76, 0), 1)","v":"Program"},"Belize",{"$f":"F72","v":0},0,0,{"$f":"I72","v":0},0,0,0,0,0,0,0,0,0,0,null,null,null,null,null,null,null,null,null,null,null,null,null,null,"1.03 > Belize",58,3," "]
[{"$f":"INDEX(Country!$F$31:$G$76, MATCH(AI73, Country!$O$31:$O$76, 0), 1)","v":1.03},{"$f":"INDEX(Country!$F$31:$G$76, MATCH(AI73, Country!$O$31:$O$76, 0), 2)","v":"Clean energy rural electrification"},{"$f":"INDEX(Country!$K$31:$K$76, MATCH(AI73, Country!$O$31:$O$76, 0), 1)","v":"Program"},"Bolivia",{"$f":"F73","v":1},1,1,{"$f":"I73","v":1},1,1,1,100,100,100,100,100,100,100,null,null,null,null,null,null,null,null,null,null,null,null,null,null,"1.03 > Bolivia",59,3," "]
[{"$f":"INDEX(Country!$F$31:$G$76, MATCH(AI74, Country!$O$31:$O$76, 0), 1)","v":1.03},{"$f":"INDEX(Country!$F$31:$G$76, MATCH(AI74, Country!$O$31:$O$76, 0), 2)","v":"Clean energy rural electrification"},{"$f":"INDEX(Country!$K$31:$K$76, MATCH(AI74, Country!$O$31:$O$76, 0), 1)","v":"Program"},"Brazil",{"$f":"F74","v":1},1,1,{"$f":"I74","v":1},1,1,1,100,100,100,100,100,100,100,null,null,null,null,null,null,null,null,null,null,null,null,null,null,"1.03 > Brazil",60,3," "]
[{"$f":"INDEX(Country!$F$31:$G$76, MATCH(AI75, Country!$O$31:$O$76, 0), 1)","v":1.03},{"$f":"INDEX(Country!$F$31:$G$76, MATCH(AI75, Country!$O$31:$O$76, 0), 2)","v":"Clean energy rural electrification"},{"$f":"INDEX(Country!$K$31:$K$76, MATCH(AI75, Country!$O$31:$O$76, 0), 1)","v":"Program"},"Chile",{"$f":"F75","v":1},1,1,{"$f":"I75","v":1},1,1,1,100,100,100,100,100,100,100,null,null,null,null,null,null,null,null,null,null,null,null,null,null,"1.03 > Chile",61,3," "]
[{"$f":"INDEX(Country!$F$31:$G$76, MATCH(AI76, Country!$O$31:$O$76, 0), 1)","v":1.03},{"$f":"INDEX(Country!$F$31:$G$76, MATCH(AI76, Country!$O$31:$O$76, 0), 2)","v":"Clean energy rural electrification"},{"$f":"INDEX(Country!$K$31:$K$76, MATCH(AI76, Country!$O$31:$O$76, 0), 1)","v":"Program"},"Colombia",{"$f":"F76","v":1},1,1,{"$f":"I76","v":1},1,1,1,100,100,100,100,100,100,100,null,null,null,null,null,null,null,null,null,null,null,null,null,null,"1.03 > Colombia",62,3," "]
[{"$f":"INDEX(Country!$F$31:$G$76, MATCH(AI77, Country!$O$31:$O$76, 0), 1)","v":1.03},{"$f":"INDEX(Country!$F$31:$G$76, MATCH(AI77, Country!$O$31:$O$76, 0), 2)","v":"Clean energy rural electrification"},{"$f":"INDEX(Country!$K$31:$K$76, MATCH(AI77, Country!$O$31:$O$76, 0), 1)","v":"Program"},"Costa Rica",{"$f":"F77","v":1},1,1,{"$f":"I77","v":1},1,1,1,100,100,100,100,100,100,100,null,null,null,null,null,null,null,null,null,null,null,null,null,null,"1.03 > Costa Rica",63,3," "]
[{"$f":"INDEX(Country!$F$31:$G$76, MATCH(AI78, Country!$O$31:$O$76, 0), 1)","v":1.03},{"$f":"INDEX(Country!$F$31:$G$76, MATCH(AI78, Country!$O$31:$O$76, 0), 2)","v":"Clean energy rural electrification"},{"$f":"INDEX(Country!$K$31:$K$76, MATCH(AI78, Country!$O$31:$O$76, 0), 1)","v":"Program"},"Dominican Republic",{"$f":"F78","v":1},1,1,{"$f":"I78","v":1},1,1,1,100,100,100,100,100,100,100,null,null,null,null,null,null,null,null,null,null,null,null,null,null,"1.03 > Dominican Republic",64,3," "]
[{"$f":"INDEX(Country!$F$31:$G$76, MATCH(AI79, Country!$O$31:$O$76, 0), 1)","v":1.03},{"$f":"INDEX(Country!$F$31:$G$76, MATCH(AI79, Country!$O$31:$O$76, 0), 2)","v":"Clean energy rural electrification"},{"$f":"INDEX(Country!$K$31:$K$76, MATCH(AI79, Country!$O$31:$O$76, 0), 1)","v":"Program"},"Ecuador",{"$f":"F79","v":1},1,1,{"$f":"I79","v":1},1,1,1,100,100,100,100,100,100,100,null,null,null,null,null,null,null,null,null,null,null,null,null,null,{"$f":"A79&\" > \" &D79","v":"1.03 > Ecuador"},65,3," "]
[{"$f":"INDEX(Country!$F$31:$G$76, MATCH(AI80, Country!$O$31:$O$76, 0), 1)","v":1.03},{"$f":"INDEX(Country!$F$31:$G$76, MATCH(AI80, Country!$O$31:$O$76, 0), 2)","v":"Clean energy rural electrification"},{"$f":"INDEX(Country!$K$31:$K$76, MATCH(AI80, Country!$O$31:$O$76, 0), 1)","v":"Program"},"El Salvador",{"$f":"F80","v":1},1,1,{"$f":"I80","v":1},1,1,1,100,100,100,100,100,100,100,null,null,null,null,null,null,null,null,null,null,null,null,null,null,"1.03 > El Salvador",66,3," "]
[{"$f":"INDEX(Country!$F$31:$G$76, MATCH(AI81, Country!$O$31:$O$76, 0), 1)","v":1.03},{"$f":"INDEX(Country!$F$31:$G$76, MATCH(AI81, Country!$O$31:$O$76, 0), 2)","v":"Clean energy rural electrification"},{"$f":"INDEX(Country!$K$31:$K$76, MATCH(AI81, Country!$O$31:$O$76, 0), 1)","v":"Program"},"Guatemala",{"$f":"F81","v":1},1,1,{"$f":"I81","v":1},1,1,1,100,100,100,100,100,100,100,null,null,null,null,null,null,null,null,null,null,null,null,null,null,"1.03 > Guatemala",{"$f":"AH80+1","v":67},{"$f":"ROUNDUP(AH81/COUNTA($D$15:$D$41),0)","v":3}," "]
[{"$f":"INDEX(Country!$F$31:$G$76, MATCH(AI82, Country!$O$31:$O$76, 0), 1)","v":1.03},{"$f":"INDEX(Country!$F$31:$G$76, MATCH(AI82, Country!$O$31:$O$76, 0), 2)","v":"Clean energy rural electrification"},{"$f":"INDEX(Country!$K$31:$K$76, MATCH(AI82, Country!$O$31:$O$76, 0), 1)","v":"Program"},"Guyana",{"$f":"F82","v":1},1,1,{"$f":"I82","v":1},1,1,1,100,100,100,100,100,100,100,null,null,null,null,null,null,null,null,null,null,null,null,null,null,"1.03 > Guyana",68,3," "]
[{"$f":"INDEX(Country!$F$31:$G$76, MATCH(AI83, Country!$O$31:$O$76, 0), 1)","v":1.03},{"$f":"INDEX(Country!$F$31:$G$76, MATCH(AI83, Country!$O$31:$O$76, 0), 2)","v":"Clean energy rural electrification"},{"$f":"INDEX(Country!$K$31:$K$76, MATCH(AI83, Country!$O$31:$O$76, 0), 1)","v":"Program"},"Haiti",{"$f":"F83","v":0},0,0,{"$f":"I83","v":0},0,0,0,0,0,0,0,0,0,0,null,null,null,null,null,null,null,null,null,null,null,null,null,null,"1.03 > Haiti",69,3," "]
[{"$f":"INDEX(Country!$F$31:$G$76, MATCH(AI84, Country!$O$31:$O$76, 0), 1)","v":1.03},{"$f":"INDEX(Country!$F$31:$G$76, MATCH(AI84, Country!$O$31:$O$76, 0), 2)","v":"Clean energy rural electrification"},{"$f":"INDEX(Country!$K$31:$K$76, MATCH(AI84, Country!$O$31:$O$76, 0), 1)","v":"Program"},"Honduras",{"$f":"F84","v":1},1,1,{"$f":"I84","v":1},1,1,1,100,100,100,100,100,100,100,null,null,null,null,null,null,null,null,null,null,null,null,null,null,"1.03 > Honduras",70,3," "]
[{"$f":"INDEX(Country!$F$31:$G$76, MATCH(AI85, Country!$O$31:$O$76, 0), 1)","v":1.03},{"$f":"INDEX(Country!$F$31:$G$76, MATCH(AI85, Country!$O$31:$O$76, 0), 2)","v":"Clean energy rural electrification"},{"$f":"INDEX(Country!$K$31:$K$76, MATCH(AI85, Country!$O$31:$O$76, 0), 1)","v":"Program"},"Jamaica",{"$f":"F85","v":1},1,1,{"$f":"I85","v":1},1,1,1,100,100,100,100,100,100,100,null,null,null,null,null,null,null,null,null,null,null,null,null,null,"1.03 > Jamaica",71,3," "]
[{"$f":"INDEX(Country!$F$31:$G$76, MATCH(AI86, Country!$O$31:$O$76, 0), 1)","v":1.03},{"$f":"INDEX(Country!$F$31:$G$76, MATCH(AI86, Country!$O$31:$O$76, 0), 2)","v":"Clean energy rural electrification"},{"$f":"INDEX(Country!$K$31:$K$76, MATCH(AI86, Country!$O$31:$O$76, 0), 1)","v":"Program"},"Mexico",{"$f":"F86","v":1},1,1,{"$f":"I86","v":1},1,1,1,100,100,100,100,100,100,100,null,null,null,null,null,null,null,null,null,null,null,null,null,null,"1.03 > Mexico",72,3," "]
[{"$f":"INDEX(Country!$F$31:$G$76, MATCH(AI87, Country!$O$31:$O$76, 0), 1)","v":1.03},{"$f":"INDEX(Country!$F$31:$G$76, MATCH(AI87, Country!$O$31:$O$76, 0), 2)","v":"Clean energy rural electrification"},{"$f":"INDEX(Country!$K$31:$K$76, MATCH(AI87, Country!$O$31:$O$76, 0), 1)","v":"Program"},"Nicaragua",{"$f":"F87","v":1},1,1,{"$f":"I87","v":1},1,1,1,100,100,100,100,100,100,100,null,null,null,null,null,null,null,null,null,null,null,null,null,null,"1.03 > Nicaragua",73,3," "]
[{"$f":"INDEX(Country!$F$31:$G$76, MATCH(AI88, Country!$O$31:$O$76, 0), 1)","v":1.03},{"$f":"INDEX(Country!$F$31:$G$76, MATCH(AI88, Country!$O$31:$O$76, 0), 2)","v":"Clean energy rural electrification"},{"$f":"INDEX(Country!$K$31:$K$76, MATCH(AI88, Country!$O$31:$O$76, 0), 1)","v":"Program"},"Panama",{"$f":"F88","v":1},1,1,{"$f":"I88","v":1},1,1,1,100,100,100,100,100,100,100,null,null,null,null,null,null,null,null,null,null,null,null,null,null,"1.03 > Panama",74,3," "]
[{"$f":"INDEX(Country!$F$31:$G$76, MATCH(AI89, Country!$O$31:$O$76, 0), 1)","v":1.03},{"$f":"INDEX(Country!$F$31:$G$76, MATCH(AI89, Country!$O$31:$O$76, 0), 2)","v":"Clean energy rural electrification"},{"$f":"INDEX(Country!$K$31:$K$76, MATCH(AI89, Country!$O$31:$O$76, 0), 1)","v":"Program"},"Paraguay",{"$f":"F89","v":0},0,0,{"$f":"I89","v":0},0,0,0,0,0,0,0,0,0,0,null,null,null,null,null,null,null,null,null,null,null,null,null,null,"1.03 > Paraguay",75,3," "]
[{"$f":"INDEX(Country!$F$31:$G$76, MATCH(AI90, Country!$O$31:$O$76, 0), 1)","v":1.03},{"$f":"INDEX(Country!$F$31:$G$76, MATCH(AI90, Country!$O$31:$O$76, 0), 2)","v":"Clean energy rural electrification"},{"$f":"INDEX(Country!$K$31:$K$76, MATCH(AI90, Country!$O$31:$O$76, 0), 1)","v":"Program"},"Peru",{"$f":"F90","v":1},1,1,{"$f":"I90","v":1},1,1,1,100,100,100,100,100,100,100,null,null,null,null,null,null,null,null,null,null,null,null,null,null,"1.03 > Peru",76,3," "]
[{"$f":"INDEX(Country!$F$31:$G$76, MATCH(AI91, Country!$O$31:$O$76, 0), 1)","v":1.03},{"$f":"INDEX(Country!$F$31:$G$76, MATCH(AI91, Country!$O$31:$O$76, 0), 2)","v":"Clean energy rural electrification"},{"$f":"INDEX(Country!$K$31:$K$76, MATCH(AI91, Country!$O$31:$O$76, 0), 1)","v":"Program"},"Suriname",{"$f":"F91","v":0},0,0,{"$f":"I91","v":0},0,0,0,0,0,0,0,0,0,0,null,null,null,null,null,null,null,null,null,null,null,null,null,null,"1.03 > Suriname",77,3," "]
[{"$f":"INDEX(Country!$F$31:$G$76, MATCH(AI92, Country!$O$31:$O$76, 0), 1)","v":1.03},{"$f":"INDEX(Country!$F$31:$G$76, MATCH(AI92, Country!$O$31:$O$76, 0), 2)","v":"Clean energy rural electrification"},{"$f":"INDEX(Country!$K$31:$K$76, MATCH(AI92, Country!$O$31:$O$76, 0), 1)","v":"Program"},"Trinidad & Tobago",{"$f":"F92","v":0},0,0,{"$f":"I92","v":0},0,0,0,0,0,0,0,0,0,0,null,null,null,null,null,null,null,null,null,null,null,null,null,null,"1.03 > Trinidad & Tobago",78,3," "]
[{"$f":"INDEX(Country!$F$31:$G$76, MATCH(AI93, Country!$O$31:$O$76, 0), 1)","v":1.03},{"$f":"INDEX(Country!$F$31:$G$76, MATCH(AI93, Country!$O$31:$O$76, 0), 2)","v":"Clean energy rural electrification"},{"$f":"INDEX(Country!$K$31:$K$76, MATCH(AI93, Country!$O$31:$O$76, 0), 1)","v":"Program"},"Uruguay",{"$f":"F93","v":1},1,1,{"$f":"I93","v":1},1,1,1,100,100,100,100,100,100,100,null,null,null,null,null,null,null,null,null,null,null,null,null,null,"1.03 > Uruguay",79,3," "]
[{"$f":"INDEX(Country!$F$31:$G$76, MATCH(AI94, Country!$O$31:$O$76, 0), 1)","v":1.03},{"$f":"INDEX(Country!$F$31:$G$76, MATCH(AI94, Country!$O$31:$O$76, 0), 2)","v":"Clean energy rural electrification"},{"$f":"INDEX(Country!$K$31:$K$76, MATCH(AI94, Country!$O$31:$O$76, 0), 1)","v":"Program"},"Venezuela",{"$f":"F94","v":1},1,1,{"$f":"I94","v":1},1,1,1,100,100,100,100,100,100,100,null,null,null,null,null,null,null,null,null,null,null,null,null,null,"1.03 > Venezuela",80,3," "]
[{"$f":"INDEX(Country!$F$31:$G$76, MATCH(AI95, Country!$O$31:$O$76, 0), 1)","v":1.03},{"$f":"INDEX(Country!$F$31:$G$76, MATCH(AI95, Country!$O$31:$O$76, 0), 2)","v":"Clean energy rural electrification"},{"$f":"INDEX(Country!$K$31:$K$76, MATCH(AI95, Country!$O$31:$O$76, 0), 1)","v":"Program"},"Benchmark",{"$f":"IFERROR(MAX(E69:E94), 0)","v":1},{"$f":"IFERROR(MAX(F69:F94), 0)","v":1},{"$f":"IFERROR(MAX(G69:G94), 0)","v":1},{"$f":"IFERROR(MAX(H69:H94), 0)","v":1},{"$f":"IFERROR(MAX(I69:I94), 0)","v":1},{"$f":"IFERROR(MAX(J69:J94), 0)","v":1},1,100,100,100,100,100,100,100,null,null,null,null,null,null,null,"Levelised by Capacity for All Energy (MW)",null,null,null,null,null,null,"1.03 > Benchmark",81,3," "]
[{"$f":"INDEX(Country!$F$31:$G$76, MATCH(AI96, Country!$O$31:$O$76, 0), 1)","v":1.04},{"$f":"INDEX(Country!$F$31:$G$76, MATCH(AI96, Country!$O$31:$O$76, 0), 2)","v":"Clean energy installed capacity"},{"$f":"INDEX(Country!$K$31:$K$76, MATCH(AI96, Country!$O$31:$O$76, 0), 1)","v":"MW"},"Argentina",{"$f":"Levelisation!F293","v":535.19799999999998},{"$f":"Levelisation!G293","v":521.29500000000007},{"$f":"Levelisation!H293","v":522.89919999999995},{"$f":"Levelisation!I293","v":522.25020000000006},{"$f":"Levelisation!J293","v":525.17320000000007},{"$f":"Levelisation!K293","v":557.97850000000005},{"$f":"Levelisation!L293","v":557.97850000000005},{"$f":"IFERROR(dbl_BenchmarkMax*Z96/L$122, 0)","v":4.0498817729658416},{"$f":"IFERROR(dbl_BenchmarkMax*AA96/M$122, 0)","v":3.6578102470829705},{"$f":"IFERROR(dbl_BenchmarkMax*AB96/N$122, 0)","v":3.4565590807363091},{"$f":"IFERROR(dbl_BenchmarkMax*AC96/O$122, 0)","v":2.9933745099721789},{"$f":"IFERROR(dbl_BenchmarkMax*AD96/P$122, 0)","v":2.6176690106315359},{"$f":"IFERROR(dbl_BenchmarkMax*AE96/Q$122, 0)","v":2.6288443851009791},{"$f":"IFERROR(dbl_BenchmarkMax*AF96/R$122, 0)","v":2.6234055111662147},null,null,null,null,null,null,null,{"$f":"IFERROR(E96/Levelisation!F319, 0)","v":1.8872097408031856E-2},{"$f":"IFERROR(F96/Levelisation!G319, 0)","v":1.8058839401682361E-2},{"$f":"IFERROR(G96/Levelisation!H319, 0)","v":1.6876422621022368E-2},{"$f":"IFERROR(H96/Levelisation!I319, 0)","v":1.6256700590743217E-2},{"$f":"IFERROR(I96/Levelisation!J319, 0)","v":1.5974111032161155E-2},{"$f":"IFERROR(J96/Levelisation!K319, 0)","v":1.6512067953269698E-2},{"$f":"IFERROR(K96/Levelisation!L319, 0)","v":1.6512067953269698E-2},"1.04 > Argentina",82,4," "]
[{"$f":"INDEX(Country!$F$31:$G$76, MATCH(AI97, Country!$O$31:$O$76, 0), 1)","v":1.04},{"$f":"INDEX(Country!$F$31:$G$76, MATCH(AI97, Country!$O$31:$O$76, 0), 2)","v":"Clean energy installed capacity"},{"$f":"INDEX(Country!$K$31:$K$76, MATCH(AI97, Country!$O$31:$O$76, 0), 1)","v":"MW"},"Bahamas",{"$f":"Levelisation!F294","v":0},{"$f":"Levelisation!G294","v":0},{"$f":"Levelisation!H294","v":0},{"$f":"Levelisation!I294","v":0},{"$f":"Levelisation!J294","v":0},{"$f":"Levelisation!K294","v":0},{"$f":"Levelisation!L294","v":0},0,0,0,0,0,0,0,null,null,null,null,null,null,null,{"$f":"IFERROR(E97/Levelisation!F320, 0)","v":0},{"$f":"IFERROR(F97/Levelisation!G320, 0)","v":0},{"$f":"IFERROR(G97/Levelisation!H320, 0)","v":0},{"$f":"IFERROR(H97/Levelisation!I320, 0)","v":0},{"$f":"IFERROR(I97/Levelisation!J320, 0)","v":0},{"$f":"IFERROR(J97/Levelisation!K320, 0)","v":0},{"$f":"IFERROR(K97/Levelisation!L320, 0)","v":0},"1.04 > Bahamas",83,4," "]
[{"$f":"INDEX(Country!$F$31:$G$76, MATCH(AI98, Country!$O$31:$O$76, 0), 1)","v":1.04},{"$f":"INDEX(Country!$F$31:$G$76, MATCH(AI98, Country!$O$31:$O$76, 0), 2)","v":"Clean energy installed capacity"},{"$f":"INDEX(Country!$K$31:$K$76, MATCH(AI98, Country!$O$31:$O$76, 0), 1)","v":"MW"},"Barbados",{"$f":"Levelisation!F295","v":0},{"$f":"Levelisation!G295","v":0},{"$f":"Levelisation!H295","v":0},{"$f":"Levelisation!I295","v":0},{"$f":"Levelisation!J295","v":0},{"$f":"Levelisation!K295","v":0},{"$f":"Levelisation!L295","v":0},0,0,0,0,0,0,0,null,null,null,null,null,null,null,{"$f":"IFERROR(E98/Levelisation!F321, 0)","v":0},{"$f":"IFERROR(F98/Levelisation!G321, 0)","v":0},{"$f":"IFERROR(G98/Levelisation!H321, 0)","v":0},{"$f":"IFERROR(H98/Levelisation!I321, 0)","v":0},{"$f":"IFERROR(I98/Levelisation!J321, 0)","v":0},{"$f":"IFERROR(J98/Levelisation!K321, 0)","v":0},{"$f":"IFERROR(K98/Levelisation!L321, 0)","v":0},"1.04 > Barbados",84,4," "]
[{"$f":"INDEX(Country!$F$31:$G$76, MATCH(AI99, Country!$O$31:$O$76, 0), 1)","v":1.04},{"$f":"INDEX(Country!$F$31:$G$76, MATCH(AI99, Country!$O$31:$O$76, 0), 2)","v":"Clean energy installed capacity"},{"$f":"INDEX(Country!$K$31:$K$76, MATCH(AI99, Country!$O$31:$O$76, 0), 1)","v":"MW"},"Belize",{"$f":"Levelisation!F296","v":32.200000000000003},{"$f":"Levelisation!G296","v":35.300000000000004},{"$f":"Levelisation!H296","v":35.300000000000004},{"$f":"Levelisation!I296","v":66.800000000000011},{"$f":"Levelisation!J296","v":85.800000000000011},{"$f":"Levelisation!K296","v":85.800000000000011},{"$f":"Levelisation!L296","v":86.28},100.00000000000001,100,100,100,100,100,100,null,null,null,null,null,null,null,{"$f":"IFERROR(E99/Levelisation!F322, 0)","v":0.4659913169319827},{"$f":"IFERROR(F99/Levelisation!G322, 0)","v":0.49370629370629376},{"$f":"IFERROR(G99/Levelisation!H322, 0)","v":0.48824343015214383},{"$f":"IFERROR(H99/Levelisation!I322, 0)","v":0.54308943089430906},{"$f":"IFERROR(I99/Levelisation!J322, 0)","v":0.61024182076813671},{"$f":"IFERROR(J99/Levelisation!K322, 0)","v":0.62811127379209386},{"$f":"IFERROR(K99/Levelisation!L322, 0)","v":0.62941348117887375},"1.04 > Belize",85,4," "]
[{"$f":"INDEX(Country!$F$31:$G$76, MATCH(AI100, Country!$O$31:$O$76, 0), 1)","v":1.04},{"$f":"INDEX(Country!$F$31:$G$76, MATCH(AI100, Country!$O$31:$O$76, 0), 2)","v":"Clean energy installed capacity"},{"$f":"INDEX(Country!$K$31:$K$76, MATCH(AI100, Country!$O$31:$O$76, 0), 1)","v":"MW"},"Bolivia",{"$f":"Levelisation!F297","v":307.60000000000002},{"$f":"Levelisation!G297","v":307.60000000000002},{"$f":"Levelisation!H297","v":310.40000000000003},{"$f":"Levelisation!I297","v":310.40000000000003},{"$f":"Levelisation!J297","v":310.40000000000003},{"$f":"Levelisation!K297","v":311.30000000000007},{"$f":"Levelisation!L297","v":311.30000000000007},45.039447096476714,41.675083138317525,42.357814772892652,37.39008963624498,31.032323583113648,29.534164859830796,29.473060976941582,null,null,null,null,null,null,null,{"$f":"IFERROR(E100/Levelisation!F323, 0)","v":0.2098799126637555},{"$f":"IFERROR(F100/Levelisation!G323, 0)","v":0.20575250836120404},{"$f":"IFERROR(G100/Levelisation!H323, 0)","v":0.20680924778466259},{"$f":"IFERROR(H100/Levelisation!I323, 0)","v":0.20306162501635486},{"$f":"IFERROR(I100/Levelisation!J323, 0)","v":0.1893722164602526},{"$f":"IFERROR(J100/Levelisation!K323, 0)","v":0.18550741910494017},{"$f":"IFERROR(K100/Levelisation!L323, 0)","v":0.18550741910494017},"1.04 > Bolivia",86,4," "]
[{"$f":"INDEX(Country!$F$31:$G$76, MATCH(AI101, Country!$O$31:$O$76, 0), 1)","v":1.04},{"$f":"INDEX(Country!$F$31:$G$76, MATCH(AI101, Country!$O$31:$O$76, 0), 2)","v":"Clean energy installed capacity"},{"$f":"INDEX(Country!$K$31:$K$76, MATCH(AI101, Country!$O$31:$O$76, 0), 1)","v":"MW"},"Brazil",{"$f":"Levelisation!F298","v":4819.4400000000005},{"$f":"Levelisation!G298","v":5815.8},{"$f":"Levelisation!H298","v":7588},{"$f":"Levelisation!I298","v":9167},{"$f":"Levelisation!J298","v":11244},{"$f":"Levelisation!K298","v":13862.1},{"$f":"Levelisation!L298","v":15880.9},10.740377005358976,11.738558461185464,15.096239654624778,15.944528576958092,16.258687265596471,19.003950882061048,20.439328412026658,null,null,null,null,null,null,null,{"$f":"IFERROR(E101/Levelisation!F324, 0)","v":5.004922425073214E-2},{"$f":"IFERROR(F101/Levelisation!G324, 0)","v":5.7954001913265302E-2},{"$f":"IFERROR(G101/Levelisation!H324, 0)","v":7.3706398313728161E-2},{"$f":"IFERROR(H101/Levelisation!I324, 0)","v":8.6593049507382183E-2},{"$f":"IFERROR(I101/Levelisation!J324, 0)","v":9.9217309202573087E-2},{"$f":"IFERROR(J101/Levelisation!K324, 0)","v":0.1193659579561375},{"$f":"IFERROR(K101/Levelisation!L324, 0)","v":0.1286478884877196},"1.04 > Brazil",87,4," "]
[{"$f":"INDEX(Country!$F$31:$G$76, MATCH(AI102, Country!$O$31:$O$76, 0), 1)","v":1.04},{"$f":"INDEX(Country!$F$31:$G$76, MATCH(AI102, Country!$O$31:$O$76, 0), 2)","v":"Clean energy installed capacity"},{"$f":"INDEX(Country!$K$31:$K$76, MATCH(AI102, Country!$O$31:$O$76, 0), 1)","v":"MW"},"Chile",{"$f":"Levelisation!F299","v":606.42425000000003},{"$f":"Levelisation!G299","v":697.57424999999989},{"$f":"Levelisation!H299","v":767.38924999999995},{"$f":"Levelisation!I299","v":871.35225000000003},{"$f":"Levelisation!J299","v":994.07224999999994},{"$f":"Levelisation!K299","v":1084.3775000000001},{"$f":"Levelisation!L299","v":1211.3775000000001},11.329343631395997,11.871492638624954,12.442243250835599,11.420891183252571,10.77136550842901,10.475682142884734,10.964153895489689,null,null,null,null,null,null,null,{"$f":"IFERROR(E102/Levelisation!F325, 0)","v":5.2793757587691913E-2},{"$f":"IFERROR(F102/Levelisation!G325, 0)","v":5.8610306313770753E-2},{"$f":"IFERROR(G102/Levelisation!H325, 0)","v":6.0748435235753337E-2},{"$f":"IFERROR(H102/Levelisation!I325, 0)","v":6.2025652930184708E-2},{"$f":"IFERROR(I102/Levelisation!J325, 0)","v":6.5731377000228255E-2},{"$f":"IFERROR(J102/Levelisation!K325, 0)","v":6.579894054608422E-2},{"$f":"IFERROR(K102/Levelisation!L325, 0)","v":6.900986271541075E-2},"1.04 > Chile",88,4," "]
[{"$f":"INDEX(Country!$F$31:$G$76, MATCH(AI103, Country!$O$31:$O$76, 0), 1)","v":1.04},{"$f":"INDEX(Country!$F$31:$G$76, MATCH(AI103, Country!$O$31:$O$76, 0), 2)","v":"Clean energy installed capacity"},{"$f":"INDEX(Country!$K$31:$K$76, MATCH(AI103, Country!$O$31:$O$76, 0), 1)","v":"MW"},"Colombia",{"$f":"Levelisation!F300","v":481.4},{"$f":"Levelisation!G300","v":506},{"$f":"Levelisation!H300","v":511.2},{"$f":"Levelisation!I300","v":525.4},{"$f":"Levelisation!J300","v":592.09999999999991},{"$f":"Levelisation!K300","v":606.19999999999993},{"$f":"Levelisation!L300","v":669.69999999999993},7.7807554275549746,7.6452617159742262,7.7805919452161936,7.1683645557327074,7.3010353705639437,6.6988423685075338,7.4086385604446061,null,null,null,null,null,null,null,{"$f":"IFERROR(E103/Levelisation!F326, 0)","v":3.6257644684120148E-2},{"$f":"IFERROR(F103/Levelisation!G326, 0)","v":3.7745138262082548E-2},{"$f":"IFERROR(G103/Levelisation!H326, 0)","v":3.7988228999464954E-2},{"$f":"IFERROR(H103/Levelisation!I326, 0)","v":3.8930630270158126E-2},{"$f":"IFERROR(I103/Levelisation!J326, 0)","v":4.4553971180255086E-2},{"$f":"IFERROR(J103/Levelisation!K326, 0)","v":4.2076184130157145E-2},{"$f":"IFERROR(K103/Levelisation!L326, 0)","v":4.6630969871254792E-2},"1.04 > Colombia",89,4," "]
[{"$f":"INDEX(Country!$F$31:$G$76, MATCH(AI104, Country!$O$31:$O$76, 0), 1)","v":1.04},{"$f":"INDEX(Country!$F$31:$G$76, MATCH(AI104, Country!$O$31:$O$76, 0), 2)","v":"Clean energy installed capacity"},{"$f":"INDEX(Country!$K$31:$K$76, MATCH(AI104, Country!$O$31:$O$76, 0), 1)","v":"MW"},"Costa Rica",{"$f":"Levelisation!F301","v":727.70199999999988},{"$f":"Levelisation!G301","v":761.73619999999994},{"$f":"Levelisation!H301","v":792.23619999999994},{"$f":"Levelisation!I301","v":838.28619999999989},{"$f":"Levelisation!J301","v":838.28619999999989},{"$f":"Levelisation!K301","v":941.67520000000002},{"$f":"Levelisation!L301","v":971.63019999999995},75.314784829786603,71.563107262121946,68.594350127975588,64.005582094692301,52.551698846042953,56.565032627024024,57.395978800204702,null,null,null,null,null,null,null,{"$f":"IFERROR(E104/Levelisation!F327, 0)","v":0.3509603576728117},{"$f":"IFERROR(F104/Levelisation!G327, 0)","v":0.35331156452488177},{"$f":"IFERROR(G104/Levelisation!H327, 0)","v":0.33490740795539953},{"$f":"IFERROR(H104/Levelisation!I327, 0)","v":0.34760755153865419},{"$f":"IFERROR(I104/Levelisation!J327, 0)","v":0.32069244388268042},{"$f":"IFERROR(J104/Levelisation!K327, 0)","v":0.35529134695451414},{"$f":"IFERROR(K104/Levelisation!L327, 0)","v":0.3612580282230568},"1.04 > Costa Rica",90,4," "]
[{"$f":"INDEX(Country!$F$31:$G$76, MATCH(AI105, Country!$O$31:$O$76, 0), 1)","v":1.04},{"$f":"INDEX(Country!$F$31:$G$76, MATCH(AI105, Country!$O$31:$O$76, 0), 2)","v":"Clean energy installed capacity"},{"$f":"INDEX(Country!$K$31:$K$76, MATCH(AI105, Country!$O$31:$O$76, 0), 1)","v":"MW"},"Dominican Republic",{"$f":"Levelisation!F302","v":169.3},{"$f":"Levelisation!G302","v":169.3},{"$f":"Levelisation!H302","v":172.3},{"$f":"Levelisation!I302","v":223.15},{"$f":"Levelisation!J302","v":223.15},{"$f":"Levelisation!K302","v":253.14999999999998},{"$f":"Levelisation!L302","v":260.45},10.704207026405522,10.103309584128365,11.217346907534907,12.877818209907611,11.471859800372336,12.012031383166169,12.020204296546332,null,null,null,null,null,null,null,{"$f":"IFERROR(E105/Levelisation!F328, 0)","v":4.988067528947291E-2},{"$f":"IFERROR(F105/Levelisation!G328, 0)","v":4.988067528947291E-2},{"$f":"IFERROR(G105/Levelisation!H328, 0)","v":5.4767959313413862E-2},{"$f":"IFERROR(H105/Levelisation!I328, 0)","v":6.9938069627790936E-2},{"$f":"IFERROR(I105/Levelisation!J328, 0)","v":7.0006086121760069E-2},{"$f":"IFERROR(J105/Levelisation!K328, 0)","v":7.5448923329111101E-2},{"$f":"IFERROR(K105/Levelisation!L328, 0)","v":7.5656786307704824E-2},"1.04 > Dominican Republic",91,4," "]
[{"$f":"INDEX(Country!$F$31:$G$76, MATCH(AI106, Country!$O$31:$O$76, 0), 1)","v":1.04},{"$f":"INDEX(Country!$F$31:$G$76, MATCH(AI106, Country!$O$31:$O$76, 0), 2)","v":"Clean energy installed capacity"},{"$f":"INDEX(Country!$K$31:$K$76, MATCH(AI106, Country!$O$31:$O$76, 0), 1)","v":"MW"},"Ecuador",{"$f":"Levelisation!F303","v":351.10999999999996},{"$f":"Levelisation!G303","v":381.46},{"$f":"Levelisation!H303","v":414.23999999999995},{"$f":"Levelisation!I303","v":416.87999999999994},{"$f":"Levelisation!J303","v":411.25999999999988},{"$f":"Levelisation!K303","v":402.78999999999991},{"$f":"Levelisation!L303","v":442.00999999999988},18.847231710560617,17.211784432455769,18.620768225677484,15.863938314702967,13.104611732567133,12.256933413260638,12.745644351953391,null,null,null,null,null,null,null,{"$f":"IFERROR(E106/Levelisation!F329, 0)","v":8.7826463253263667E-2},{"$f":"IFERROR(F106/Levelisation!G329, 0)","v":8.4975663002194224E-2},{"$f":"IFERROR(G106/Levelisation!H329, 0)","v":9.0914677505728236E-2},{"$f":"IFERROR(H106/Levelisation!I329, 0)","v":8.6155372310744591E-2},{"$f":"IFERROR(I106/Levelisation!J329, 0)","v":7.9969821241412539E-2},{"$f":"IFERROR(J106/Levelisation!K329, 0)","v":7.6987180589880161E-2},{"$f":"IFERROR(K106/Levelisation!L329, 0)","v":8.0222803814308338E-2},"1.04 > Ecuador",92,4," "]
[{"$f":"INDEX(Country!$F$31:$G$76, MATCH(AI107, Country!$O$31:$O$76, 0), 1)","v":1.04},{"$f":"INDEX(Country!$F$31:$G$76, MATCH(AI107, Country!$O$31:$O$76, 0), 2)","v":"Clean energy installed capacity"},{"$f":"INDEX(Country!$K$31:$K$76, MATCH(AI107, Country!$O$31:$O$76, 0), 1)","v":"MW"},{"$f":"D80","v":"El Salvador"},{"$f":"Levelisation!F304","v":249},{"$f":"Levelisation!G304","v":350.9},{"$f":"Levelisation!H304","v":346.9},{"$f":"Levelisation!I304","v":346.9},{"$f":"Levelisation!J304","v":337.7},{"$f":"Levelisation!K304","v":348.2},{"$f":"Levelisation!L304","v":348.2},41.325964462250141,49.408860543866005,49.296207055756433,42.860698786283017,37.363255653715434,37.028947495850161,36.952337492417335,null,null,null,null,null,null,null,{"$f":"IFERROR(E107/Levelisation!F330, 0)","v":0.19257540603248258},{"$f":"IFERROR(F107/Levelisation!G330, 0)","v":0.24393465415363219},{"$f":"IFERROR(G107/Levelisation!H330, 0)","v":0.24068549226392835},{"$f":"IFERROR(H107/Levelisation!I330, 0)","v":0.23277192511574846},{"$f":"IFERROR(I107/Levelisation!J330, 0)","v":0.22800621159948684},{"$f":"IFERROR(J107/Levelisation!K330, 0)","v":0.23258299378799008},{"$f":"IFERROR(K107/Levelisation!L330, 0)","v":0.23258299378799008},"1.04 > El Salvador",93,4," "]
[{"$f":"INDEX(Country!$F$31:$G$76, MATCH(AI108, Country!$O$31:$O$76, 0), 1)","v":1.04},{"$f":"INDEX(Country!$F$31:$G$76, MATCH(AI108, Country!$O$31:$O$76, 0), 2)","v":"Clean energy installed capacity"},{"$f":"INDEX(Country!$K$31:$K$76, MATCH(AI108, Country!$O$31:$O$76, 0), 1)","v":"MW"},"Guatemala",{"$f":"Levelisation!F305","v":479.072},{"$f":"Levelisation!G305","v":530.27199999999993},{"$f":"Levelisation!H305","v":530.43200000000002},{"$f":"Levelisation!I305","v":543.93200000000002},{"$f":"Levelisation!J305","v":548.47},{"$f":"Levelisation!K305","v":621.35},{"$f":"Levelisation!L305","v":636.30999999999995},45.194090812123008,45.866169373615726,44.852265501966052,41.11975630459937,35.465373670794484,37.943730372364044,36.234084858614047,null,null,null,null,null,null,null,{"$f":"IFERROR(E108/Levelisation!F331, 0)","v":0.21060053895084821},{"$f":"IFERROR(F108/Levelisation!G331, 0)","v":0.22644416487952942},{"$f":"IFERROR(G108/Levelisation!H331, 0)","v":0.21898823958774571},{"$f":"IFERROR(H108/Levelisation!I331, 0)","v":0.22331705049977549},{"$f":"IFERROR(I108/Levelisation!J331, 0)","v":0.21642454203087963},{"$f":"IFERROR(J108/Levelisation!K331, 0)","v":0.2383288481660934},{"$f":"IFERROR(K108/Levelisation!L331, 0)","v":0.22806221488190986},"1.04 > Guatemala",94,4," "]
[{"$f":"INDEX(Country!$F$31:$G$76, MATCH(AI109, Country!$O$31:$O$76, 0), 1)","v":1.04},{"$f":"INDEX(Country!$F$31:$G$76, MATCH(AI109, Country!$O$31:$O$76, 0), 2)","v":"Clean energy installed capacity"},{"$f":"INDEX(Country!$K$31:$K$76, MATCH(AI109, Country!$O$31:$O$76, 0), 1)","v":"MW"},"Guyana",{"$f":"Levelisation!F306","v":0},{"$f":"Levelisation!G306","v":0},{"$f":"Levelisation!H306","v":0},{"$f":"Levelisation!I306","v":15},{"$f":"Levelisation!J306","v":15},{"$f":"Levelisation!K306","v":15},{"$f":"Levelisation!L306","v":15},0,0,0,15.753913118321877,14.175559158258118,10.820624776220606,13.743777802375142,null,null,null,null,null,null,null,{"$f":"IFERROR(E109/Levelisation!F332, 0)","v":0},{"$f":"IFERROR(F109/Levelisation!G332, 0)","v":0},{"$f":"IFERROR(G109/Levelisation!H332, 0)","v":0},{"$f":"IFERROR(H109/Levelisation!I332, 0)","v":8.5557837097878175E-2},{"$f":"IFERROR(I109/Levelisation!J332, 0)","v":8.6505190311418678E-2},{"$f":"IFERROR(J109/Levelisation!K332, 0)","v":6.7965564114182156E-2},{"$f":"IFERROR(K109/Levelisation!L332, 0)","v":8.6505190311418678E-2},"1.04 > Guyana",95,4," "]
[{"$f":"INDEX(Country!$F$31:$G$76, MATCH(AI110, Country!$O$31:$O$76, 0), 1)","v":1.04},{"$f":"INDEX(Country!$F$31:$G$76, MATCH(AI110, Country!$O$31:$O$76, 0), 2)","v":"Clean energy installed capacity"},{"$f":"INDEX(Country!$K$31:$K$76, MATCH(AI110, Country!$O$31:$O$76, 0), 1)","v":"MW"},"Haiti",{"$f":"Levelisation!F307","v":0},{"$f":"Levelisation!G307","v":0},{"$f":"Levelisation!H307","v":0},{"$f":"Levelisation!I307","v":0},{"$f":"Levelisation!J307","v":0},{"$f":"Levelisation!K307","v":48},{"$f":"Levelisation!L307","v":55},0,0,0,0,0,64.110386258037238,36.258481023859396,null,null,null,null,null,null,null,{"$f":"IFERROR(E110/Levelisation!F333, 0)","v":0},{"$f":"IFERROR(F110/Levelisation!G333, 0)","v":0},{"$f":"IFERROR(G110/Levelisation!H333, 0)","v":0},{"$f":"IFERROR(H110/Levelisation!I333, 0)","v":0},{"$f":"IFERROR(I110/Levelisation!J333, 0)","v":0},{"$f":"IFERROR(J110/Levelisation!K333, 0)","v":0.40268456375838924},{"$f":"IFERROR(K110/Levelisation!L333, 0)","v":0.22821576763485477},"1.04 > Haiti",96,4," "]
[{"$f":"INDEX(Country!$F$31:$G$76, MATCH(AI111, Country!$O$31:$O$76, 0), 1)","v":1.04},{"$f":"INDEX(Country!$F$31:$G$76, MATCH(AI111, Country!$O$31:$O$76, 0), 2)","v":"Clean energy installed capacity"},{"$f":"INDEX(Country!$K$31:$K$76, MATCH(AI111, Country!$O$31:$O$76, 0), 1)","v":"MW"},"Honduras",{"$f":"Levelisation!F308","v":210.9},{"$f":"Levelisation!G308","v":247.6},{"$f":"Levelisation!H308","v":256.8},{"$f":"Levelisation!I308","v":263.3},{"$f":"Levelisation!J308","v":262.8},{"$f":"Levelisation!K308","v":388.63},{"$f":"Levelisation!L308","v":397.2399999999999},28.849027305754127,31.178908789266647,32.265943120679616,29.638028015371621,26.334553357118018,34.884837802582759,35.404077705611435,null,null,null,null,null,null,null,{"$f":"IFERROR(E111/Levelisation!F334, 0)","v":0.13443396226415094},{"$f":"IFERROR(F111/Levelisation!G334, 0)","v":0.15393223500155423},{"$f":"IFERROR(G111/Levelisation!H334, 0)","v":0.15753634746334583},{"$f":"IFERROR(H111/Levelisation!I334, 0)","v":0.16096099767697764},{"$f":"IFERROR(I111/Levelisation!J334, 0)","v":0.16070445789763346},{"$f":"IFERROR(J111/Levelisation!K334, 0)","v":0.21911559908210843},{"$f":"IFERROR(K111/Levelisation!L334, 0)","v":0.22283803796616247},"1.04 > Honduras",97,4," "]
[{"$f":"INDEX(Country!$F$31:$G$76, MATCH(AI112, Country!$O$31:$O$76, 0), 1)","v":1.04},{"$f":"INDEX(Country!$F$31:$G$76, MATCH(AI112, Country!$O$31:$O$76, 0), 2)","v":"Clean energy installed capacity"},{"$f":"INDEX(Country!$K$31:$K$76, MATCH(AI112, Country!$O$31:$O$76, 0), 1)","v":"MW"},"Jamaica",{"$f":"Levelisation!F309","v":42.4},{"$f":"Levelisation!G309","v":43.5},{"$f":"Levelisation!H309","v":43.5},{"$f":"Levelisation!I309","v":43.5},{"$f":"Levelisation!J309","v":46.5},{"$f":"Levelisation!K309","v":64.5},{"$f":"Levelisation!L309","v":64.5},10.850603400564824,10.493421760689726,10.610830675494649,9.5392546255891126,8.9157443543983188,11.767333347330137,10.923121434517515,null,null,null,null,null,null,null,{"$f":"IFERROR(E112/Levelisation!F335, 0)","v":5.0562869681358515E-2},{"$f":"IFERROR(F112/Levelisation!G335, 0)","v":5.1806683657670966E-2},{"$f":"IFERROR(G112/Levelisation!H335, 0)","v":5.1806683657670966E-2},{"$f":"IFERROR(H112/Levelisation!I335, 0)","v":5.1806683657670966E-2},{"$f":"IFERROR(I112/Levelisation!J335, 0)","v":5.4407600683312664E-2},{"$f":"IFERROR(J112/Levelisation!K335, 0)","v":7.3911947379277157E-2},{"$f":"IFERROR(K112/Levelisation!L335, 0)","v":6.8751598874392431E-2},"1.04 > Jamaica",98,4," "]
[{"$f":"INDEX(Country!$F$31:$G$76, MATCH(AI113, Country!$O$31:$O$76, 0), 1)","v":1.04},{"$f":"INDEX(Country!$F$31:$G$76, MATCH(AI113, Country!$O$31:$O$76, 0), 2)","v":"Clean energy installed capacity"},{"$f":"INDEX(Country!$K$31:$K$76, MATCH(AI113, Country!$O$31:$O$76, 0), 1)","v":"MW"},"Mexico",{"$f":"Levelisation!F310","v":1407.2730000000001},{"$f":"Levelisation!G310","v":1517.5730000000003},{"$f":"Levelisation!H310","v":1529.5080000000003},{"$f":"Levelisation!I310","v":2007.7404000000001},{"$f":"Levelisation!J310","v":2231.1813982733738},{"$f":"Levelisation!K310","v":2290.1330000000003},{"$f":"Levelisation!L310","v":2931.2110000000002},5.5382592619911684,5.2959062113523006,5.3533246588613599,6.1566862385781089,5.946828536784615,5.9351277040362795,7.4577590546348098,null,null,null,null,null,null,null,{"$f":"IFERROR(E113/Levelisation!F336, 0)","v":2.5807807270060153E-2},{"$f":"IFERROR(F113/Levelisation!G336, 0)","v":2.6146222274228841E-2},{"$f":"IFERROR(G113/Levelisation!H336, 0)","v":2.6137255941605257E-2},{"$f":"IFERROR(H113/Levelisation!I336, 0)","v":3.3436312255042094E-2},{"$f":"IFERROR(I113/Levelisation!J336, 0)","v":3.6290034740833574E-2},{"$f":"IFERROR(J113/Levelisation!K336, 0)","v":3.7279206223009731E-2},{"$f":"IFERROR(K113/Levelisation!L336, 0)","v":4.6940140883709625E-2},"1.04 > Mexico",99,4," "]
[{"$f":"INDEX(Country!$F$31:$G$76, MATCH(AI114, Country!$O$31:$O$76, 0), 1)","v":1.04},{"$f":"INDEX(Country!$F$31:$G$76, MATCH(AI114, Country!$O$31:$O$76, 0), 2)","v":"Clean energy installed capacity"},{"$f":"INDEX(Country!$K$31:$K$76, MATCH(AI114, Country!$O$31:$O$76, 0), 1)","v":"MW"},"Nicaragua",{"$f":"Levelisation!F311","v":259.52999999999997},{"$f":"Levelisation!G311","v":260.2},{"$f":"Levelisation!H311","v":260.2},{"$f":"Levelisation!I311","v":300.2},{"$f":"Levelisation!J311","v":323.2},{"$f":"Levelisation!K311","v":323.2},{"$f":"Levelisation!L311","v":451.8},72.988887762864039,63.366757362366855,59.81535402116468,56.303893359194518,49.378243991283448,46.428146798988351,57.775704201082817,null,null,null,null,null,null,null,{"$f":"IFERROR(E114/Levelisation!F337, 0)","v":0.3401218793001769},{"$f":"IFERROR(F114/Levelisation!G337, 0)","v":0.31284566921560142},{"$f":"IFERROR(G114/Levelisation!H337, 0)","v":0.29204453623058274},{"$f":"IFERROR(H114/Levelisation!I337, 0)","v":0.30578049401578816},{"$f":"IFERROR(I114/Levelisation!J337, 0)","v":0.30132669519574118},{"$f":"IFERROR(J114/Levelisation!K337, 0)","v":0.29162042425718898},{"$f":"IFERROR(K114/Levelisation!L337, 0)","v":0.36364807108764419},"1.04 > Nicaragua",100,4," "]
[{"$f":"INDEX(Country!$F$31:$G$76, MATCH(AI115, Country!$O$31:$O$76, 0), 1)","v":1.04},{"$f":"INDEX(Country!$F$31:$G$76, MATCH(AI115, Country!$O$31:$O$76, 0), 2)","v":"Clean energy installed capacity"},{"$f":"INDEX(Country!$K$31:$K$76, MATCH(AI115, Country!$O$31:$O$76, 0), 1)","v":"MW"},"Panama",{"$f":"Levelisation!F312","v":106.535},{"$f":"Levelisation!G312","v":63.744999999999997},{"$f":"Levelisation!H312","v":74.248999999999995},{"$f":"Levelisation!I312","v":84.108999999999995},{"$f":"Levelisation!J312","v":200.03},{"$f":"Levelisation!K312","v":274.38},{"$f":"Levelisation!L312","v":279.8},15.155180397815137,8.2714368391651636,8.9199029655551882,8.5340752358297447,16.499954121518602,19.507327038597545,20.282553759318514,null,null,null,null,null,null,null,{"$f":"IFERROR(E115/Levelisation!F338, 0)","v":7.0621824719196452E-2},{"$f":"IFERROR(F115/Levelisation!G338, 0)","v":4.0836604254899336E-2},{"$f":"IFERROR(G115/Levelisation!H338, 0)","v":4.3550840205269455E-2},{"$f":"IFERROR(H115/Levelisation!I338, 0)","v":4.6347660630359923E-2},{"$f":"IFERROR(I115/Levelisation!J338, 0)","v":0.10068962045706233},{"$f":"IFERROR(J115/Levelisation!K338, 0)","v":0.1225277203449246},{"$f":"IFERROR(K115/Levelisation!L338, 0)","v":0.12766112768850318},"1.04 > Panama",101,4," "]
[{"$f":"INDEX(Country!$F$31:$G$76, MATCH(AI116, Country!$O$31:$O$76, 0), 1)","v":1.04},{"$f":"INDEX(Country!$F$31:$G$76, MATCH(AI116, Country!$O$31:$O$76, 0), 2)","v":"Clean energy installed capacity"},{"$f":"INDEX(Country!$K$31:$K$76, MATCH(AI116, Country!$O$31:$O$76, 0), 1)","v":"MW"},"Paraguay",{"$f":"Levelisation!F313","v":0},{"$f":"Levelisation!G313","v":0},{"$f":"Levelisation!H313","v":0},{"$f":"Levelisation!I313","v":0},{"$f":"Levelisation!J313","v":0},{"$f":"Levelisation!K313","v":0},{"$f":"Levelisation!L313","v":0},0,0,0,0,0,0,0,null,null,null,null,null,null,null,{"$f":"IFERROR(E116/Levelisation!F339, 0)","v":0},{"$f":"IFERROR(F116/Levelisation!G339, 0)","v":0},{"$f":"IFERROR(G116/Levelisation!H339, 0)","v":0},{"$f":"IFERROR(H116/Levelisation!I339, 0)","v":0},{"$f":"IFERROR(I116/Levelisation!J339, 0)","v":0},{"$f":"IFERROR(J116/Levelisation!K339, 0)","v":0},{"$f":"IFERROR(K116/Levelisation!L339, 0)","v":0},"1.04 > Paraguay",102,4," "]
[{"$f":"INDEX(Country!$F$31:$G$76, MATCH(AI117, Country!$O$31:$O$76, 0), 1)","v":1.04},{"$f":"INDEX(Country!$F$31:$G$76, MATCH(AI117, Country!$O$31:$O$76, 0), 2)","v":"Clean energy installed capacity"},{"$f":"INDEX(Country!$K$31:$K$76, MATCH(AI117, Country!$O$31:$O$76, 0), 1)","v":"MW"},"Peru",{"$f":"Levelisation!F314","v":509.98700000000002},{"$f":"Levelisation!G314","v":512.15},{"$f":"Levelisation!H314","v":519.28200000000004},{"$f":"Levelisation!I314","v":589.42100000000005},{"$f":"Levelisation!J314","v":585.37600000000009},{"$f":"Levelisation!K314","v":595.87599999999998},{"$f":"Levelisation!L314","v":737.87599999999998},17.435630748751198,15.602202035636747,15.688734067669328,14.2685741031977,11.652210668750874,11.542701329527123,13.185110983532033,null,null,null,null,null,null,null,{"$f":"IFERROR(E117/Levelisation!F340, 0)","v":8.1248525341503425E-2},{"$f":"IFERROR(F117/Levelisation!G340, 0)","v":7.7029053406710096E-2},{"$f":"IFERROR(G117/Levelisation!H340, 0)","v":7.6599213359436688E-2},{"$f":"IFERROR(H117/Levelisation!I340, 0)","v":7.7491117893789152E-2},{"$f":"IFERROR(I117/Levelisation!J340, 0)","v":7.1106662544724406E-2},{"$f":"IFERROR(J117/Levelisation!K340, 0)","v":7.2501008350909765E-2},{"$f":"IFERROR(K117/Levelisation!L340, 0)","v":8.2988866038747014E-2},"1.04 > Peru",103,4," "]
[{"$f":"INDEX(Country!$F$31:$G$76, MATCH(AI118, Country!$O$31:$O$76, 0), 1)","v":1.04},{"$f":"INDEX(Country!$F$31:$G$76, MATCH(AI118, Country!$O$31:$O$76, 0), 2)","v":"Clean energy installed capacity"},{"$f":"INDEX(Country!$K$31:$K$76, MATCH(AI118, Country!$O$31:$O$76, 0), 1)","v":"MW"},"Suriname",{"$f":"Levelisation!F315","v":0},{"$f":"Levelisation!G315","v":0},{"$f":"Levelisation!H315","v":0},{"$f":"Levelisation!I315","v":0},{"$f":"Levelisation!J315","v":0},{"$f":"Levelisation!K315","v":0},{"$f":"Levelisation!L315","v":0},0,0,0,0,0,0,0,null,null,null,null,null,null,null,{"$f":"IFERROR(E118/Levelisation!F341, 0)","v":0},{"$f":"IFERROR(F118/Levelisation!G341, 0)","v":0},{"$f":"IFERROR(G118/Levelisation!H341, 0)","v":0},{"$f":"IFERROR(H118/Levelisation!I341, 0)","v":0},{"$f":"IFERROR(I118/Levelisation!J341, 0)","v":0},{"$f":"IFERROR(J118/Levelisation!K341, 0)","v":0},{"$f":"IFERROR(K118/Levelisation!L341, 0)","v":0},"1.04 > Suriname",104,4," "]
[{"$f":"INDEX(Country!$F$31:$G$76, MATCH(AI119, Country!$O$31:$O$76, 0), 1)","v":1.04},{"$f":"INDEX(Country!$F$31:$G$76, MATCH(AI119, Country!$O$31:$O$76, 0), 2)","v":"Clean energy installed capacity"},{"$f":"INDEX(Country!$K$31:$K$76, MATCH(AI119, Country!$O$31:$O$76, 0), 1)","v":"MW"},"Trinidad & Tobago",{"$f":"Levelisation!F316","v":0},{"$f":"Levelisation!G316","v":0},{"$f":"Levelisation!H316","v":0},{"$f":"Levelisation!I316","v":0},{"$f":"Levelisation!J316","v":0},{"$f":"Levelisation!K316","v":0},{"$f":"Levelisation!L316","v":0},0,0,0,0,0,0,0,null,null,null,null,null,null,null,{"$f":"IFERROR(E119/Levelisation!F342, 0)","v":0},{"$f":"IFERROR(F119/Levelisation!G342, 0)","v":0},{"$f":"IFERROR(G119/Levelisation!H342, 0)","v":0},{"$f":"IFERROR(H119/Levelisation!I342, 0)","v":0},{"$f":"IFERROR(I119/Levelisation!J342, 0)","v":0},{"$f":"IFERROR(J119/Levelisation!K342, 0)","v":0},{"$f":"IFERROR(K119/Levelisation!L342, 0)","v":0},"1.04 > Trinidad & Tobago",105,4," "]
[{"$f":"INDEX(Country!$F$31:$G$76, MATCH(AI120, Country!$O$31:$O$76, 0), 1)","v":1.04},{"$f":"INDEX(Country!$F$31:$G$76, MATCH(AI120, Country!$O$31:$O$76, 0), 2)","v":"Clean energy installed capacity"},{"$f":"INDEX(Country!$K$31:$K$76, MATCH(AI120, Country!$O$31:$O$76, 0), 1)","v":"MW"},"Uruguay",{"$f":"Levelisation!F317","v":15.559999999999999},{"$f":"Levelisation!G317","v":176.56},{"$f":"Levelisation!H317","v":191.01},{"$f":"Levelisation!I317","v":207.01},{"$f":"Levelisation!J317","v":280.16000000000003},{"$f":"Levelisation!K317","v":295.30284999999998},{"$f":"Levelisation!L317","v":304.38297999999998},1.4861594938701357,14.858735410981444,15.497127380496757,14.541799694966489,17.051831477836913,17.364493797382863,16.87018347817088,null,null,null,null,null,null,null,{"$f":"IFERROR(E120/Levelisation!F343, 0)","v":6.9253741971951341E-3},{"$f":"IFERROR(F120/Levelisation!G343, 0)","v":7.3358511889181119E-2},{"$f":"IFERROR(G120/Levelisation!H343, 0)","v":7.566370629758444E-2},{"$f":"IFERROR(H120/Levelisation!I343, 0)","v":7.8974977205183872E-2},{"$f":"IFERROR(I120/Levelisation!J343, 0)","v":0.10405740688466626},{"$f":"IFERROR(J120/Levelisation!K343, 0)","v":0.10906834317829064},{"$f":"IFERROR(K120/Levelisation!L343, 0)","v":0.10618320911121854},"1.04 > Uruguay",106,4," "]
[{"$f":"INDEX(Country!$F$31:$G$76, MATCH(AI121, Country!$O$31:$O$76, 0), 1)","v":1.04},{"$f":"INDEX(Country!$F$31:$G$76, MATCH(AI121, Country!$O$31:$O$76, 0), 2)","v":"Clean energy installed capacity"},{"$f":"INDEX(Country!$K$31:$K$76, MATCH(AI121, Country!$O$31:$O$76, 0), 1)","v":"MW"},"Venezuela",{"$f":"Levelisation!F318","v":0},{"$f":"Levelisation!G318","v":0},{"$f":"Levelisation!H318","v":0},{"$f":"Levelisation!I318","v":26.33},{"$f":"Levelisation!J318","v":26.33},{"$f":"Levelisation!K318","v":26.33},{"$f":"Levelisation!L318","v":32.629999999999995},0,0,0,0.20434652005913048,0.17359186072697413,0.16307004542975989,0.18849117260644319,null,null,null,null,null,null,null,{"$f":"IFERROR(E121/Levelisation!F344, 0)","v":0},{"$f":"IFERROR(F121/Levelisation!G344, 0)","v":0},{"$f":"IFERROR(G121/Levelisation!H344, 0)","v":0},{"$f":"IFERROR(H121/Levelisation!I344, 0)","v":1.1097843528414567E-3},{"$f":"IFERROR(I121/Levelisation!J344, 0)","v":1.059330131605575E-3},{"$f":"IFERROR(J121/Levelisation!K344, 0)","v":1.024261339522211E-3},{"$f":"IFERROR(K121/Levelisation!L344, 0)","v":1.1863888512170936E-3},"1.04 > Venezuela",107,4," "]
[{"$f":"INDEX(Country!$F$31:$G$76, MATCH(AI122, Country!$O$31:$O$76, 0), 1)","v":1.04},{"$f":"INDEX(Country!$F$31:$G$76, MATCH(AI122, Country!$O$31:$O$76, 0), 2)","v":"Clean energy installed capacity"},{"$f":"INDEX(Country!$K$31:$K$76, MATCH(AI122, Country!$O$31:$O$76, 0), 1)","v":"MW"},{"$f":"D95","v":"Benchmark"},{"$f":"IFERROR(MAX(E96:E121), 0)","v":4819.4400000000005},{"$f":"IFERROR(MAX(F96:F121), 0)","v":5815.8},{"$f":"IFERROR(MAX(G96:G121), 0)","v":7588},{"$f":"IFERROR(MAX(H96:H121), 0)","v":9167},{"$f":"IFERROR(MAX(I96:I121), 0)","v":11244},{"$f":"IFERROR(MAX(J96:J121), 0)","v":13862.1},{"$f":"IFERROR(MAX(K96:K121), 0)","v":15880.9},{"$f":"MAX(Z96:Z121)","v":0.4659913169319827},0.49370629370629376,{"$f":"MAX(AB96:AB121)","v":0.48824343015214383},{"$f":"MAX(AC96:AC121)","v":0.54308943089430906},{"$f":"MAX(AD96:AD121)","v":0.61024182076813671},{"$f":"MAX(AE96:AE121)","v":0.62811127379209386},{"$f":"MAX(AF96:AF121)","v":0.62941348117887375},null,null,null,null,null,null,null,null,null,null,null,null,null,null,"1.04 > Benchmark",108,4," "]
[{"$f":"INDEX(Country!$F$31:$G$76, MATCH(AI123, Country!$O$31:$O$76, 0), 1)","v":1.05},{"$f":"INDEX(Country!$F$31:$G$76, MATCH(AI123, Country!$O$31:$O$76, 0), 2)","v":"Growth rate of installed capacity"},{"$f":"INDEX(Country!$K$31:$K$76, MATCH(AI123, Country!$O$31:$O$76, 0), 1)","v":"%"},"Argentina",null,{"$f":"IF(E96<>0, F96/E96-1, 0)","v":-2.5977301858377433E-2},{"$f":"IF(F96<>0, G96/F96-1, 0)","v":3.0773362491485212E-3},{"$f":"IF(G96<>0, H96/G96-1, 0)","v":-1.241156995458903E-3},{"$f":"IF(H96<>0, I96/H96-1, 0)","v":5.5969341897810221E-3},6.2465677989661295E-2,0,{"$f":"IFERROR(dbl_BenchmarkMax*E123/ SUMIFS(E$15:E$1256, $D$15:$D$1256, \"Benchmark\", $B$15:$B$1256,$B123), 0)","v":0},{"$f":"IFERROR(dbl_BenchmarkMax*F123/ SUMIFS(F$15:F$1256, $D$15:$D$1256, \"Benchmark\", $B$15:$B$1256,$B123), 0)","v":-0.25106013473065392},{"$f":"IFERROR(dbl_BenchmarkMax*G123/ SUMIFS(G$15:G$1256, $D$15:$D$1256, \"Benchmark\", $B$15:$B$1256,$B123), 0)","v":1.0098844463264851},{"$f":"IFERROR(dbl_BenchmarkMax*H123/ SUMIFS(H$15:H$1256, $D$15:$D$1256, \"Benchmark\", $B$15:$B$1256,$B123), 0)","v":-0.13908838711015642},{"$f":"IFERROR(dbl_BenchmarkMax*I123/ SUMIFS(I$15:I$1256, $D$15:$D$1256, \"Benchmark\", $B$15:$B$1256,$B123), 0)","v":0.40609771979908038},{"$f":"IFERROR(dbl_BenchmarkMax*J123/ SUMIFS(J$15:J$1256, $D$15:$D$1256, \"Benchmark\", $B$15:$B$1256,$B123), 0)","v":13.046157653725652},{"$f":"IFERROR(dbl_BenchmarkMax*K123/ SUMIFS(K$15:K$1256, $D$15:$D$1256, \"Benchmark\", $B$15:$B$1256,$B123), 0)","v":0},null,null,null,null,null,null,null,null,null,null,null,null,null,null,"1.05 > Argentina",109,5," "]
[{"$f":"INDEX(Country!$F$31:$G$76, MATCH(AI124, Country!$O$31:$O$76, 0), 1)","v":1.05},{"$f":"INDEX(Country!$F$31:$G$76, MATCH(AI124, Country!$O$31:$O$76, 0), 2)","v":"Growth rate of installed capacity"},{"$f":"INDEX(Country!$K$31:$K$76, MATCH(AI124, Country!$O$31:$O$76, 0), 1)","v":"%"},"Bahamas",null,{"$f":"IF(E97<>0, F97/E97-1, 0)","v":0},0,0,0,0,0,0,0,0,0,0,0,0,null,null,null,null,null,null,null,null,null,null,null,null,null,null,"1.05 > Bahamas",110,5," "]
[{"$f":"INDEX(Country!$F$31:$G$76, MATCH(AI125, Country!$O$31:$O$76, 0), 1)","v":1.05},{"$f":"INDEX(Country!$F$31:$G$76, MATCH(AI125, Country!$O$31:$O$76, 0), 2)","v":"Growth rate of installed capacity"},{"$f":"INDEX(Country!$K$31:$K$76, MATCH(AI125, Country!$O$31:$O$76, 0), 1)","v":"%"},"Barbados",null,{"$f":"IF(E98<>0, F98/E98-1, 0)","v":0},0,0,0,0,0,0,0,0,0,0,0,0,null,null,null,null,null,null,null,null,null,null,null,null,null,null,"1.05 > Barbados",111,5," "]
[{"$f":"INDEX(Country!$F$31:$G$76, MATCH(AI126, Country!$O$31:$O$76, 0), 1)","v":1.05},{"$f":"INDEX(Country!$F$31:$G$76, MATCH(AI126, Country!$O$31:$O$76, 0), 2)","v":"Growth rate of installed capacity"},{"$f":"INDEX(Country!$K$31:$K$76, MATCH(AI126, Country!$O$31:$O$76, 0), 1)","v":"%"},"Belize",null,{"$f":"IF(E99<>0, F99/E99-1, 0)","v":9.6273291925465854E-2},0,0.89235127478753551,0.28443113772455075,0,5.5944055944054938E-3,0,0.93044249836040283,0,100,20.637519140513138,0,1.4059968025753147,null,null,null,null,null,null,null,null,null,null,null,null,null,null,"1.05 > Belize",112,5," "]
[{"$f":"INDEX(Country!$F$31:$G$76, MATCH(AI127, Country!$O$31:$O$76, 0), 1)","v":1.05},{"$f":"INDEX(Country!$F$31:$G$76, MATCH(AI127, Country!$O$31:$O$76, 0), 2)","v":"Growth rate of installed capacity"},{"$f":"INDEX(Country!$K$31:$K$76, MATCH(AI127, Country!$O$31:$O$76, 0), 1)","v":"%"},"Bolivia",null,0,9.1027308192457301E-3,0,0,2.8994845360825749E-3,0,0,0,2.9872284109338292,0,0,0.6055666662024165,0,null,null,null,null,null,null,null,null,null,null,null,null,null,null,"1.05 > Bolivia",113,5," "]
[{"$f":"INDEX(Country!$F$31:$G$76, MATCH(AI128, Country!$O$31:$O$76, 0), 1)","v":1.05},{"$f":"INDEX(Country!$F$31:$G$76, MATCH(AI128, Country!$O$31:$O$76, 0), 2)","v":"Growth rate of installed capacity"},{"$f":"INDEX(Country!$K$31:$K$76, MATCH(AI128, Country!$O$31:$O$76, 0), 1)","v":"%"},"Brazil",null,{"$f":"IF(E101<>0, F101/E101-1, 0)","v":0.20673771226532534},0.30472162041335671,0.20809172377438068,0.2265735791425767,{"$f":"IF(I101<>0, J101/I101-1, 0)","v":0.23284418356456782},0.14563449982325904,0,1.9980365235083615,100,23.319485235668687,16.439538278744127,48.63025625110739,36.601143345938802,null,null,null,null,null,null,null,null,null,null,null,null,null,null,"1.05 > Brazil",114,5," "]
[{"$f":"INDEX(Country!$F$31:$G$76, MATCH(AI129, Country!$O$31:$O$76, 0), 1)","v":1.05},{"$f":"INDEX(Country!$F$31:$G$76, MATCH(AI129, Country!$O$31:$O$76, 0), 2)","v":"Growth rate of installed capacity"},{"$f":"INDEX(Country!$K$31:$K$76, MATCH(AI129, Country!$O$31:$O$76, 0), 1)","v":"%"},"Chile",null,{"$f":"IF(E102<>0, F102/E102-1, 0)","v":0.1503073137329185},0.10008253601677541,0.13547622669981374,0.14083856442672849,9.0843749033332477E-2,0.11711788560718017,0,1.4526595041516843,32.843923539462956,15.181939055566428,10.218848021814603,18.973009016895634,29.434292867994255,null,null,null,null,null,null,null,null,null,null,null,null,null,null,"1.05 > Chile",115,5," "]
[{"$f":"INDEX(Country!$F$31:$G$76, MATCH(AI130, Country!$O$31:$O$76, 0), 1)","v":1.05},{"$f":"INDEX(Country!$F$31:$G$76, MATCH(AI130, Country!$O$31:$O$76, 0), 2)","v":"Growth rate of installed capacity"},{"$f":"INDEX(Country!$K$31:$K$76, MATCH(AI130, Country!$O$31:$O$76, 0), 1)","v":"%"},"Colombia",null,{"$f":"IF(E103<>0, F103/E103-1, 0)","v":5.1100955546323323E-2},1.0276679841897174E-2,2.7777777777777679E-2,0.1269508945565283,2.3813545009289117E-2,0.10475090729132308,0,0.49387010453465269,3.3724813578888155,3.1128747795414347,9.211197962625441,4.9735354275142489,26.32620002842582,null,null,null,null,null,null,null,null,null,null,null,null,null,null,"1.05 > Colombia",116,5," "]
[{"$f":"INDEX(Country!$F$31:$G$76, MATCH(AI131, Country!$O$31:$O$76, 0), 1)","v":1.05},{"$f":"INDEX(Country!$F$31:$G$76, MATCH(AI131, Country!$O$31:$O$76, 0), 2)","v":"Growth rate of installed capacity"},{"$f":"INDEX(Country!$K$31:$K$76, MATCH(AI131, Country!$O$31:$O$76, 0), 1)","v":"%"},"Costa Rica",null,{"$f":"IF(E104<>0, F104/E104-1, 0)","v":4.6769419350228603E-2},4.0040108373476269E-2,5.8126604161738538E-2,0,0.12333377311949079,3.1810331205494036E-2,0,0.45200755595624659,13.139897431354434,6.5138702441567302,0,25.758654991498194,7.9946337835269574,null,null,null,null,null,null,null,null,null,null,null,null,null,null,"1.05 > Costa Rica",117,5," "]
[{"$f":"INDEX(Country!$F$31:$G$76, MATCH(AI132, Country!$O$31:$O$76, 0), 1)","v":1.05},{"$f":"INDEX(Country!$F$31:$G$76, MATCH(AI132, Country!$O$31:$O$76, 0), 2)","v":"Growth rate of installed capacity"},{"$f":"INDEX(Country!$K$31:$K$76, MATCH(AI132, Country!$O$31:$O$76, 0), 1)","v":"%"},"Dominican Republic",null,{"$f":"IF(E105<>0, F105/E105-1, 0)","v":0},1.7720023626698111E-2,0.2951247823563552,0,0.13443871835088483,2.8836658107841195E-2,0,0,5.8151514167786296,33.072713705331232,0,28.077958501639142,7.2472845260142069,null,null,null,null,null,null,null,null,null,null,null,null,null,null,"1.05 > Dominican Republic",118,5," "]
[{"$f":"INDEX(Country!$F$31:$G$76, MATCH(AI133, Country!$O$31:$O$76, 0), 1)","v":1.05},{"$f":"INDEX(Country!$F$31:$G$76, MATCH(AI133, Country!$O$31:$O$76, 0), 2)","v":"Growth rate of installed capacity"},{"$f":"INDEX(Country!$K$31:$K$76, MATCH(AI133, Country!$O$31:$O$76, 0), 1)","v":"%"},"Ecuador",null,{"$f":"IF(E106<>0, F106/E106-1, 0)","v":8.6440146962490472E-2},8.5932994285115027E-2,6.3731170336036591E-3,-1.3481097677988996E-2,-2.0595243884647063E-2,9.7370838402144999E-2,0,0.83540912219649177,28.200491375881505,0.71419375011494968,-0.97815033048194577,-4.3013828919059431,24.471426883027409,null,null,null,null,null,null,null,null,null,null,null,null,null,null,"1.05 > Ecuador",119,5," "]
[{"$f":"INDEX(Country!$F$31:$G$76, MATCH(AI134, Country!$O$31:$O$76, 0), 1)","v":1.05},{"$f":"INDEX(Country!$F$31:$G$76, MATCH(AI134, Country!$O$31:$O$76, 0), 2)","v":"Growth rate of installed capacity"},{"$f":"INDEX(Country!$K$31:$K$76, MATCH(AI134, Country!$O$31:$O$76, 0), 1)","v":"%"},"El Salvador",null,{"$f":"IF(E107<>0, F107/E107-1, 0)","v":0.4092369477911646},-1.1399259048161858E-2,0,-2.6520611127125893E-2,3.1092685815812926E-2,0,0,3.9551098805158511,-3.7408763555072642,0,-1.9242605578725438,6.4938073848808999,0,null,null,null,null,null,null,null,null,null,null,null,null,null,null,"1.05 > El Salvador",120,5," "]
[{"$f":"INDEX(Country!$F$31:$G$76, MATCH(AI135, Country!$O$31:$O$76, 0), 1)","v":1.05},{"$f":"INDEX(Country!$F$31:$G$76, MATCH(AI135, Country!$O$31:$O$76, 0), 2)","v":"Growth rate of installed capacity"},{"$f":"INDEX(Country!$K$31:$K$76, MATCH(AI135, Country!$O$31:$O$76, 0), 1)","v":"%"},"Guatemala",null,{"$f":"IF(E108<>0, F108/E108-1, 0)","v":0.10687328835749099},3.0173194134341941E-4,2.5450953185328196E-2,8.3429546340352267E-3,0.13287873539117911,2.4076607387140792E-2,0,1.0328871843742606,9.9018881868020464E-2,2.852122690292334,0.60534119901835626,27.75215104569806,6.0509793993187406,null,null,null,null,null,null,null,null,null,null,null,null,null,null,"1.05 > Guatemala",121,5," "]
[{"$f":"INDEX(Country!$F$31:$G$76, MATCH(AI136, Country!$O$31:$O$76, 0), 1)","v":1.05},{"$f":"INDEX(Country!$F$31:$G$76, MATCH(AI136, Country!$O$31:$O$76, 0), 2)","v":"Growth rate of installed capacity"},{"$f":"INDEX(Country!$K$31:$K$76, MATCH(AI136, Country!$O$31:$O$76, 0), 1)","v":"%"},"Guyana",null,{"$f":"IF(E109<>0, F109/E109-1, 0)","v":0},0,0,0,0,0,0,0,0,0,0,0,0,null,null,null,null,null,null,null,null,null,null,null,null,null,null,"1.05 > Guyana",122,5," "]
[{"$f":"INDEX(Country!$F$31:$G$76, MATCH(AI137, Country!$O$31:$O$76, 0), 1)","v":1.05},{"$f":"INDEX(Country!$F$31:$G$76, MATCH(AI137, Country!$O$31:$O$76, 0), 2)","v":"Growth rate of installed capacity"},{"$f":"INDEX(Country!$K$31:$K$76, MATCH(AI137, Country!$O$31:$O$76, 0), 1)","v":"%"},"Haiti",null,{"$f":"IF(E110<>0, F110/E110-1, 0)","v":0},0,0,0,0,0.14583333333333326,0,0,0,0,0,0,36.651114567133192,null,null,null,null,null,null,null,null,null,null,null,null,null,null,"1.05 > Haiti",123,5," "]
[{"$f":"INDEX(Country!$F$31:$G$76, MATCH(AI138, Country!$O$31:$O$76, 0), 1)","v":1.05},{"$f":"INDEX(Country!$F$31:$G$76, MATCH(AI138, Country!$O$31:$O$76, 0), 2)","v":"Growth rate of installed capacity"},{"$f":"INDEX(Country!$K$31:$K$76, MATCH(AI138, Country!$O$31:$O$76, 0), 1)","v":"%"},"Honduras",null,{"$f":"IF(E111<>0, F111/E111-1, 0)","v":0.17401612138454237},3.7156704361874127E-2,2.5311526479750768E-2,-1.8989745537409952E-3,0.47880517503805176,2.2154748732727603E-2,0,1.6817955582257633,12.193655412921089,2.8364980467784191,-0.13778422437746513,100,5.5679741760634194,null,null,null,null,null,null,null,null,null,null,null,null,null,null,"1.05 > Honduras",124,5," "]
[{"$f":"INDEX(Country!$F$31:$G$76, MATCH(AI139, Country!$O$31:$O$76, 0), 1)","v":1.05},{"$f":"INDEX(Country!$F$31:$G$76, MATCH(AI139, Country!$O$31:$O$76, 0), 2)","v":"Growth rate of installed capacity"},{"$f":"INDEX(Country!$K$31:$K$76, MATCH(AI139, Country!$O$31:$O$76, 0), 1)","v":"%"},"Jamaica",null,{"$f":"IF(E112<>0, F112/E112-1, 0)","v":2.5943396226415061E-2},{"$f":"IF(F112<>0, G112/F112-1, 0)","v":0},{"$f":"IF(G112<>0, H112/G112-1, 0)","v":0},{"$f":"IF(H112<>0, I112/H112-1, 0)","v":6.8965517241379226E-2},{"$f":"IF(I112<>0, J112/I112-1, 0)","v":0.38709677419354849},{"$f":"IF(J112<>0, K112/J112-1, 0)","v":0},0,0.25073245048634679,0,0,5.0039429349774114,80.846405672784343,0,null,null,null,null,null,null,null,null,null,null,null,null,null,null,"1.05 > Jamaica",125,5," "]
[{"$f":"INDEX(Country!$F$31:$G$76, MATCH(AI140, Country!$O$31:$O$76, 0), 1)","v":1.05},{"$f":"INDEX(Country!$F$31:$G$76, MATCH(AI140, Country!$O$31:$O$76, 0), 2)","v":"Growth rate of installed capacity"},{"$f":"INDEX(Country!$K$31:$K$76, MATCH(AI140, Country!$O$31:$O$76, 0), 1)","v":"%"},"Mexico",null,{"$f":"IF(E113<>0, F113/E113-1, 0)","v":7.8378537781937263E-2},7.8645310637444066E-3,0.31267074117951643,0.1112897854091961,{"$f":"IF(I113<>0, J113/I113-1, 0)","v":2.6421698286050121E-2},0.27993046692048007,0,0.7574969241533811,2.5808904051757544,35.038975122656915,8.074872163785745,5.5182566236779556,70.352664781259037,null,null,null,null,null,null,null,null,null,null,null,null,null,null,"1.05 > Mexico",126,5," "]
[{"$f":"INDEX(Country!$F$31:$G$76, MATCH(AI141, Country!$O$31:$O$76, 0), 1)","v":1.05},{"$f":"INDEX(Country!$F$31:$G$76, MATCH(AI141, Country!$O$31:$O$76, 0), 2)","v":"Growth rate of installed capacity"},{"$f":"INDEX(Country!$K$31:$K$76, MATCH(AI141, Country!$O$31:$O$76, 0), 1)","v":"%"},"Nicaragua",null,{"$f":"IF(E114<>0, F114/E114-1, 0)","v":2.5815897969407864E-3},0,0.15372790161414307,7.6615589606928713E-2,0,{"$f":"IF(J114<>0, K114/J114-1, 0)","v":0.39789603960396058},0,2.495002313068238E-2,0,17.22728548247381,5.5590105556794427,{"$f":"IFERROR(dbl_BenchmarkMax*J141/ SUMIFS(J$15:J$1256, $D$15:$D$1256, \"Benchmark\", $B$15:$B$1256,$B141), 0)","v":0},100,null,null,null,null,null,null,null,null,null,null,null,null,null,null,"1.05 > Nicaragua",127,5," "]
[{"$f":"INDEX(Country!$F$31:$G$76, MATCH(AI142, Country!$O$31:$O$76, 0), 1)","v":1.05},{"$f":"INDEX(Country!$F$31:$G$76, MATCH(AI142, Country!$O$31:$O$76, 0), 2)","v":"Growth rate of installed capacity"},{"$f":"INDEX(Country!$K$31:$K$76, MATCH(AI142, Country!$O$31:$O$76, 0), 1)","v":"%"},"Panama",null,{"$f":"IF(E115<>0, F115/E115-1, 0)","v":-0.40165203923593185},0.16478155149423479,0.13279640129833403,1.3782234957020059,0.3716942458631205,1.9753626357606358E-2,0,-3.8818048015596887,54.076094525458231,14.881628462956161,99.999999999999986,77.629538117164472,4.9645194702786712,null,null,null,null,null,null,null,null,null,null,null,null,null,null,"1.05 > Panama",128,5," "]
[{"$f":"INDEX(Country!$F$31:$G$76, MATCH(AI143, Country!$O$31:$O$76, 0), 1)","v":1.05},{"$f":"INDEX(Country!$F$31:$G$76, MATCH(AI143, Country!$O$31:$O$76, 0), 2)","v":"Growth rate of installed capacity"},{"$f":"INDEX(Country!$K$31:$K$76, MATCH(AI143, Country!$O$31:$O$76, 0), 1)","v":"%"},"Paraguay",null,{"$f":"IF(E116<>0, F116/E116-1, 0)","v":0},0,0,0,0,0,0,0,0,0,0,0,0,null,null,null,null,null,null,null,null,null,null,null,null,null,null,{"$f":"A143&\" > \" &D143","v":"1.05 > Paraguay"},129,5," "]
[{"$f":"INDEX(Country!$F$31:$G$76, MATCH(AI144, Country!$O$31:$O$76, 0), 1)","v":1.05},{"$f":"INDEX(Country!$F$31:$G$76, MATCH(AI144, Country!$O$31:$O$76, 0), 2)","v":"Growth rate of installed capacity"},{"$f":"INDEX(Country!$K$31:$K$76, MATCH(AI144, Country!$O$31:$O$76, 0), 1)","v":"%"},"Peru",null,{"$f":"IF(E117<>0, F117/E117-1, 0)","v":4.2412845817636491E-3},1.3925607732109935E-2,0.13506919169160492,-6.8626669222846548E-3,1.7937189088722327E-2,0.23830461371157763,0,4.0990303162883462E-2,4.5699441061056856,15.136325291154455,-0.49793570808260795,3.7462396030487386,59.891175078990557,null,null,null,null,null,null,null,null,null,null,null,null,null,null,"1.05 > Peru",130,5," "]
[{"$f":"INDEX(Country!$F$31:$G$76, MATCH(AI145, Country!$O$31:$O$76, 0), 1)","v":1.05},{"$f":"INDEX(Country!$F$31:$G$76, MATCH(AI145, Country!$O$31:$O$76, 0), 2)","v":"Growth rate of installed capacity"},{"$f":"INDEX(Country!$K$31:$K$76, MATCH(AI145, Country!$O$31:$O$76, 0), 1)","v":"%"},"Suriname",null,{"$f":"IF(E118<>0, F118/E118-1, 0)","v":0},0,0,0,0,0,0,0,0,0,0,0,0,null,null,null,null,null,null,null,null,null,null,null,null,null,null,"1.05 > Suriname",{"$f":"AH144+1","v":131},{"$f":"ROUNDUP(AH145/COUNTA($D$15:$D$41),0)","v":5}," "]
[{"$f":"INDEX(Country!$F$31:$G$76, MATCH(AI146, Country!$O$31:$O$76, 0), 1)","v":1.05},{"$f":"INDEX(Country!$F$31:$G$76, MATCH(AI146, Country!$O$31:$O$76, 0), 2)","v":"Growth rate of installed capacity"},{"$f":"INDEX(Country!$K$31:$K$76, MATCH(AI146, Country!$O$31:$O$76, 0), 1)","v":"%"},"Trinidad & Tobago",null,{"$f":"IF(E119<>0, F119/E119-1, 0)","v":0},0,0,0,0,0,0,0,0,0,0,0,0,null,null,null,null,null,null,null,null,null,null,null,null,null,null,"1.05 > Trinidad & Tobago",132,5," "]
[{"$f":"INDEX(Country!$F$31:$G$76, MATCH(AI147, Country!$O$31:$O$76, 0), 1)","v":1.05},{"$f":"INDEX(Country!$F$31:$G$76, MATCH(AI147, Country!$O$31:$O$76, 0), 2)","v":"Growth rate of installed capacity"},{"$f":"INDEX(Country!$K$31:$K$76, MATCH(AI147, Country!$O$31:$O$76, 0), 1)","v":"%"},"Uruguay",null,{"$f":"IF(E120<>0, F120/E120-1, 0)","v":10.347043701799487},8.1841866787494277E-2,8.3765247892780392E-2,0.35336457175981861,5.405072101656172E-2,3.0748534936252625E-2,0,100,26.857912699622457,9.3870261924290403,25.639134208768542,11.288666838712883,7.7277810975092098,null,null,null,null,null,null,null,null,null,null,null,null,null,null,"1.05 > Uruguay",133,5," "]
[{"$f":"INDEX(Country!$F$31:$G$76, MATCH(AI148, Country!$O$31:$O$76, 0), 1)","v":1.05},{"$f":"INDEX(Country!$F$31:$G$76, MATCH(AI148, Country!$O$31:$O$76, 0), 2)","v":"Growth rate of installed capacity"},{"$f":"INDEX(Country!$K$31:$K$76, MATCH(AI148, Country!$O$31:$O$76, 0), 1)","v":"%"},"Venezuela",null,{"$f":"IF(E121<>0, F121/E121-1, 0)","v":0},0,0,0,0,0.2392707937713634,0,0,0,0,0,0,60.133997314855847,null,null,null,null,null,null,null,null,null,null,null,null,null,null,"1.05 > Venezuela",134,5," "]
[{"$f":"INDEX(Country!$F$31:$G$76, MATCH(AI149, Country!$O$31:$O$76, 0), 1)","v":1.05},{"$f":"INDEX(Country!$F$31:$G$76, MATCH(AI149, Country!$O$31:$O$76, 0), 2)","v":"Growth rate of installed capacity"},{"$f":"INDEX(Country!$K$31:$K$76, MATCH(AI149, Country!$O$31:$O$76, 0), 1)","v":"%"},"Benchmark",{"$f":"IFERROR(MAX(E123:E148), 0)","v":0},{"$f":"IFERROR(MAX(F123:F148), 0)","v":10.347043701799487},{"$f":"IFERROR(MAX(G123:G148), 0)","v":0.30472162041335671},{"$f":"IFERROR(MAX(H123:H148), 0)","v":0.89235127478753551},{"$f":"IFERROR(MAX(I123:I148), 0)","v":1.3782234957020059},{"$f":"IFERROR(MAX(J123:J148), 0)","v":0.47880517503805176},0.39789603960396058,0,100,100,100,99.999999999999986,100,100,null,null,null,null,null,null,null,"Levelised by Generation for All Energy (GWh)",null,null,null,null,null,null,"1.05 > Benchmark",135,5," "]
[{"$f":"INDEX(Country!$F$31:$G$76, MATCH(AI150, Country!$O$31:$O$76, 0), 1)","v":1.06},{"$f":"INDEX(Country!$F$31:$G$76, MATCH(AI150, Country!$O$31:$O$76, 0), 2)","v":"Clean energy electricity generation"},{"$f":"INDEX(Country!$K$31:$K$76, MATCH(AI150, Country!$O$31:$O$76, 0), 1)","v":"GWh"},"Argentina",{"$f":"Levelisation!F632","v":2123.799},{"$f":"Levelisation!G632","v":2086.9339999999997},{"$f":"Levelisation!H632","v":1971.2850899999996},{"$f":"Levelisation!I632","v":1738.6360075999996},{"$f":"Levelisation!J632","v":1581.3846242000006},{"$f":"Levelisation!K632","v":1386.4304728299999},{"$f":"Levelisation!L632","v":1386.4304728299999},{"$f":"IFERROR(dbl_BenchmarkMax*Z150/L$176, 0)","v":2.1899416129135196},{"$f":"IFERROR(dbl_BenchmarkMax*AA150/M$176, 0)","v":2.2155091812202512},{"$f":"IFERROR(dbl_BenchmarkMax*AB150/N$176, 0)","v":1.7017105415611791},{"$f":"IFERROR(dbl_BenchmarkMax*AC150/O$176, 0)","v":1.9291265300246014},{"$f":"IFERROR(dbl_BenchmarkMax*AD150/P$176, 0)","v":1.3038067951308321},{"$f":"IFERROR(dbl_BenchmarkMax*AE150/Q$176, 0)","v":1.0941890947174162},{"$f":"IFERROR(dbl_BenchmarkMax*AF150/R$176, 0)","v":1.1371384140090737},null,null,null,null,null,null,null,{"$f":"IFERROR(E150/Levelisation!F658, 0)","v":1.8724496699786063E-2},{"$f":"IFERROR(F150/Levelisation!G658, 0)","v":1.8410908876422473E-2},{"$f":"IFERROR(G150/Levelisation!H658, 0)","v":1.6170633617686003E-2},{"$f":"IFERROR(H150/Levelisation!I658, 0)","v":1.4213134306094609E-2},{"$f":"IFERROR(I150/Levelisation!J658, 0)","v":1.2551482536667886E-2},{"$f":"IFERROR(J150/Levelisation!K658, 0)","v":1.0707241582374615E-2},{"$f":"IFERROR(K150/Levelisation!L658, 0)","v":1.0707241582374615E-2},"1.06 > Argentina",136,6," "]
[{"$f":"INDEX(Country!$F$31:$G$76, MATCH(AI151, Country!$O$31:$O$76, 0), 1)","v":1.06},{"$f":"INDEX(Country!$F$31:$G$76, MATCH(AI151, Country!$O$31:$O$76, 0), 2)","v":"Clean energy electricity generation"},{"$f":"INDEX(Country!$K$31:$K$76, MATCH(AI151, Country!$O$31:$O$76, 0), 1)","v":"GWh"},"Bahamas",{"$f":"Levelisation!F633","v":0},{"$f":"Levelisation!G633","v":0},{"$f":"Levelisation!H633","v":0},{"$f":"Levelisation!I633","v":0},{"$f":"Levelisation!J633","v":0},{"$f":"Levelisation!K633","v":0},{"$f":"Levelisation!L633","v":0},0,0,0,0,0,0,0,null,null,null,null,null,null,null,{"$f":"IFERROR(E151/Levelisation!F659, 0)","v":0},{"$f":"IFERROR(F151/Levelisation!G659, 0)","v":0},{"$f":"IFERROR(G151/Levelisation!H659, 0)","v":0},{"$f":"IFERROR(H151/Levelisation!I659, 0)","v":0},{"$f":"IFERROR(I151/Levelisation!J659, 0)","v":0},{"$f":"IFERROR(J151/Levelisation!K659, 0)","v":0},{"$f":"IFERROR(K151/Levelisation!L659, 0)","v":0},"1.06 > Bahamas",137,6," "]
[{"$f":"INDEX(Country!$F$31:$G$76, MATCH(AI152, Country!$O$31:$O$76, 0), 1)","v":1.06},{"$f":"INDEX(Country!$F$31:$G$76, MATCH(AI152, Country!$O$31:$O$76, 0), 2)","v":"Clean energy electricity generation"},{"$f":"INDEX(Country!$K$31:$K$76, MATCH(AI152, Country!$O$31:$O$76, 0), 1)","v":"GWh"},"Barbados",{"$f":"Levelisation!F634","v":0},{"$f":"Levelisation!G634","v":0},{"$f":"Levelisation!H634","v":0},{"$f":"Levelisation!I634","v":0},{"$f":"Levelisation!J634","v":0},{"$f":"Levelisation!K634","v":0},{"$f":"Levelisation!L634","v":0},0,0,0,0,0,0,0,null,null,null,null,null,null,null,{"$f":"IFERROR(E152/Levelisation!F660, 0)","v":0},{"$f":"IFERROR(F152/Levelisation!G660, 0)","v":0},{"$f":"IFERROR(G152/Levelisation!H660, 0)","v":0},{"$f":"IFERROR(H152/Levelisation!I660, 0)","v":0},{"$f":"IFERROR(I152/Levelisation!J660, 0)","v":0},{"$f":"IFERROR(J152/Levelisation!K660, 0)","v":0},{"$f":"IFERROR(K152/Levelisation!L660, 0)","v":0},"1.06 > Barbados",138,6," "]
[{"$f":"INDEX(Country!$F$31:$G$76, MATCH(AI153, Country!$O$31:$O$76, 0), 1)","v":1.06},{"$f":"INDEX(Country!$F$31:$G$76, MATCH(AI153, Country!$O$31:$O$76, 0), 2)","v":"Clean energy electricity generation"},{"$f":"INDEX(Country!$K$31:$K$76, MATCH(AI153, Country!$O$31:$O$76, 0), 1)","v":"GWh"},"Belize",{"$f":"Levelisation!F635","v":177.73267000000001},{"$f":"Levelisation!G635","v":177.40299999999999},{"$f":"Levelisation!H635","v":204.48727695566078},{"$f":"Levelisation!I635","v":189.03943200000001},{"$f":"Levelisation!J635","v":311.32498000000004},{"$f":"Levelisation!K635","v":315.31938799999995},{"$f":"Levelisation!L635","v":273.35275509999997},100,100,100,100,100,100,{"$f":"IFERROR(dbl_BenchmarkMax*AF153/R$176, 0)","v":100},null,null,null,null,null,null,null,{"$f":"IFERROR(E153/Levelisation!F661, 0)","v":0.85502264486744961},{"$f":"IFERROR(F153/Levelisation!G661, 0)","v":0.83100124488232407},{"$f":"IFERROR(G153/Levelisation!H661, 0)","v":0.95025759215493721},{"$f":"IFERROR(H153/Levelisation!I661, 0)","v":0.73676527095987598},{"$f":"IFERROR(I153/Levelisation!J661, 0)","v":0.96267963808306367},{"$f":"IFERROR(J153/Levelisation!K661, 0)","v":0.97855495307599039},{"$f":"IFERROR(K153/Levelisation!L661, 0)","v":0.94159527551491007},"1.06 > Belize",139,6," "]
[{"$f":"INDEX(Country!$F$31:$G$76, MATCH(AI154, Country!$O$31:$O$76, 0), 1)","v":1.06},{"$f":"INDEX(Country!$F$31:$G$76, MATCH(AI154, Country!$O$31:$O$76, 0), 2)","v":"Clean energy electricity generation"},{"$f":"INDEX(Country!$K$31:$K$76, MATCH(AI154, Country!$O$31:$O$76, 0), 1)","v":"GWh"},"Bolivia",{"$f":"Levelisation!F636","v":1218.9689999999998},{"$f":"Levelisation!G636","v":1333.7660000000003},{"$f":"Levelisation!H636","v":1289.229},{"$f":"Levelisation!I636","v":1339.6355000000001},{"$f":"Levelisation!J636","v":1368.7239999999997},{"$f":"Levelisation!K636","v":1409.3},{"$f":"Levelisation!L636","v":1409.3},27.990830659810843,28.812171627328169,21.7708412503288,27.828193727368483,20.399522954279888,19.948539805889315,20.731563699713394,null,null,null,null,null,null,null,{"$f":"IFERROR(E154/Levelisation!F662, 0)","v":0.23932794062788368},{"$f":"IFERROR(F154/Levelisation!G662, 0)","v":0.23942950490072887},{"$f":"IFERROR(G154/Levelisation!H662, 0)","v":0.2068790718572483},{"$f":"IFERROR(H154/Levelisation!I662, 0)","v":0.20502846691868562},{"$f":"IFERROR(I154/Levelisation!J662, 0)","v":0.19638205374693313},{"$f":"IFERROR(J154/Levelisation!K662, 0)","v":0.19520742433686541},{"$f":"IFERROR(K154/Levelisation!L662, 0)","v":0.19520742433686541},"1.06 > Bolivia",140,6," "]
[{"$f":"INDEX(Country!$F$31:$G$76, MATCH(AI155, Country!$O$31:$O$76, 0), 1)","v":1.06},{"$f":"INDEX(Country!$F$31:$G$76, MATCH(AI155, Country!$O$31:$O$76, 0), 2)","v":"Clean energy electricity generation"},{"$f":"INDEX(Country!$K$31:$K$76, MATCH(AI155, Country!$O$31:$O$76, 0), 1)","v":"GWh"},"Brazil",{"$f":"Levelisation!F637","v":26251.739999999998},{"$f":"Levelisation!G637","v":30696.16},{"$f":"Levelisation!H637","v":36102.720000000001},{"$f":"Levelisation!I637","v":39584.879999999997},{"$f":"Levelisation!J637","v":52952.94},{"$f":"Levelisation!K637","v":57399.82},{"$f":"Levelisation!L637","v":57399.82},7.1682375177119066,8.1198704755408126,7.9730759233804651,11.226019344204316,10.347971663834381,10.679979310453859,11.099191897791373,null,null,null,null,null,null,null,{"$f":"IFERROR(E155/Levelisation!F663, 0)","v":6.1290054014321166E-2},{"$f":"IFERROR(F155/Levelisation!G663, 0)","v":6.7476224734576443E-2},{"$f":"IFERROR(G155/Levelisation!H663, 0)","v":7.576475929020024E-2},{"$f":"IFERROR(H155/Levelisation!I663, 0)","v":8.2709411839335015E-2},{"$f":"IFERROR(I155/Levelisation!J663, 0)","v":9.9617816162338807E-2},{"$f":"IFERROR(J155/Levelisation!K663, 0)","v":0.10450946652993726},{"$f":"IFERROR(K155/Levelisation!L663, 0)","v":0.10450946652993726},"1.06 > Brazil",141,6," "]
[{"$f":"INDEX(Country!$F$31:$G$76, MATCH(AI156, Country!$O$31:$O$76, 0), 1)","v":1.06},{"$f":"INDEX(Country!$F$31:$G$76, MATCH(AI156, Country!$O$31:$O$76, 0), 2)","v":"Clean energy electricity generation"},{"$f":"INDEX(Country!$K$31:$K$76, MATCH(AI156, Country!$O$31:$O$76, 0), 1)","v":"GWh"},"Chile",{"$f":"Levelisation!F638","v":3355.2783599999993},{"$f":"Levelisation!G638","v":3287.8808199999999},{"$f":"Levelisation!H638","v":4030.9044888734397},{"$f":"Levelisation!I638","v":4282.8779090499993},{"$f":"Levelisation!J638","v":4203.7636394999981},{"$f":"Levelisation!K638","v":4242.9130165099987},{"$f":"Levelisation!L638","v":5428.6768119499993},7.303170926740429,7.0437760186282823,7.4808739718641037,10.190389410660782,7.4426347937292503,6.9519544105061222,8.7355124623579865,null,null,null,null,null,null,null,{"$f":"IFERROR(E156/Levelisation!F664, 0)","v":6.2443765217006647E-2},{"$f":"IFERROR(F156/Levelisation!G664, 0)","v":5.8533866401523624E-2},{"$f":"IFERROR(G156/Levelisation!H664, 0)","v":7.1087572877181246E-2},{"$f":"IFERROR(H156/Levelisation!I664, 0)","v":7.5079250153321411E-2},{"$f":"IFERROR(I156/Levelisation!J664, 0)","v":7.1648729696116922E-2},{"$f":"IFERROR(J156/Levelisation!K664, 0)","v":6.8028694219592428E-2},{"$f":"IFERROR(K156/Levelisation!L664, 0)","v":8.2253172637578989E-2},"1.06 > Chile",142,6," "]
[{"$f":"INDEX(Country!$F$31:$G$76, MATCH(AI157, Country!$O$31:$O$76, 0), 1)","v":1.06},{"$f":"INDEX(Country!$F$31:$G$76, MATCH(AI157, Country!$O$31:$O$76, 0), 2)","v":"Clean energy electricity generation"},{"$f":"INDEX(Country!$K$31:$K$76, MATCH(AI157, Country!$O$31:$O$76, 0), 1)","v":"GWh"},"Colombia",{"$f":"Levelisation!F639","v":2077.73},{"$f":"Levelisation!G639","v":2150.8779999999997},{"$f":"Levelisation!H639","v":2151.4092000000001},{"$f":"Levelisation!I639","v":2221.9151999999999},{"$f":"Levelisation!J639","v":2543.3991999999998},{"$f":"Levelisation!K639","v":3206.27},{"$f":"Levelisation!L639","v":3059.85},4.642729462962901,4.8267079913611379,4.162166267807148,5.3886040801248871,4.6442125187798222,5.5894240279263405,5.4051873807251809,null,null,null,null,null,null,null,{"$f":"IFERROR(E157/Levelisation!F665, 0)","v":3.9696388248265733E-2},{"$f":"IFERROR(F157/Levelisation!G665, 0)","v":4.0110003495045676E-2},{"$f":"IFERROR(G157/Levelisation!H665, 0)","v":3.9551300957949224E-2},{"$f":"IFERROR(H157/Levelisation!I665, 0)","v":3.9701363451887059E-2},{"$f":"IFERROR(I157/Levelisation!J665, 0)","v":4.4708888267597925E-2},{"$f":"IFERROR(J157/Levelisation!K665, 0)","v":5.4695585673692738E-2},{"$f":"IFERROR(K157/Levelisation!L665, 0)","v":5.0894989009636425E-2},"1.06 > Colombia",143,6," "]
[{"$f":"INDEX(Country!$F$31:$G$76, MATCH(AI158, Country!$O$31:$O$76, 0), 1)","v":1.06},{"$f":"INDEX(Country!$F$31:$G$76, MATCH(AI158, Country!$O$31:$O$76, 0), 2)","v":"Clean energy electricity generation"},{"$f":"INDEX(Country!$K$31:$K$76, MATCH(AI158, Country!$O$31:$O$76, 0), 1)","v":"GWh"},"Costa Rica",{"$f":"Levelisation!F640","v":3545.9718567403083},{"$f":"Levelisation!G640","v":3815.015386474332},{"$f":"Levelisation!H640","v":3923.2745480305598},{"$f":"Levelisation!I640","v":4006.7318534988053},{"$f":"Levelisation!J640","v":4191.2031404119753},{"$f":"Levelisation!K640","v":4185.5863351607113},{"$f":"Levelisation!L640","v":4461.1504290619732},48.151358246027428,51.474306349999019,44.189525205016217,59.316169799384369,45.881443585802138,43.879934619695597,47.174554193754808,null,null,null,null,null,null,null,{"$f":"IFERROR(E158/Levelisation!F666, 0)","v":0.4117050168147845},{"$f":"IFERROR(F158/Levelisation!G666, 0)","v":0.42775212656303302},{"$f":"IFERROR(G158/Levelisation!H666, 0)","v":0.41991431819788616},{"$f":"IFERROR(H158/Levelisation!I666, 0)","v":0.43702093914545437},{"$f":"IFERROR(I158/Levelisation!J666, 0)","v":0.44169131505908504},{"$f":"IFERROR(J158/Levelisation!K666, 0)","v":0.42938927362753754},{"$f":"IFERROR(K158/Levelisation!L666, 0)","v":0.44419337353361615},"1.06 > Costa Rica",144,6," "]
[{"$f":"INDEX(Country!$F$31:$G$76, MATCH(AI159, Country!$O$31:$O$76, 0), 1)","v":1.06},{"$f":"INDEX(Country!$F$31:$G$76, MATCH(AI159, Country!$O$31:$O$76, 0), 2)","v":"Clean energy electricity generation"},{"$f":"INDEX(Country!$K$31:$K$76, MATCH(AI159, Country!$O$31:$O$76, 0), 1)","v":"GWh"},"Dominican Republic",{"$f":"Levelisation!F641","v":673.85733592416},{"$f":"Levelisation!G641","v":673.85733592416},{"$f":"Levelisation!H641","v":744.38099999999997},{"$f":"Levelisation!I641","v":788.88800000000003},{"$f":"Levelisation!J641","v":911.62865999999997},{"$f":"Levelisation!K641","v":831.82995270639992},{"$f":"Levelisation!L641","v":934.88923361770003},7.3939073400601059,7.2812899006213403,6.8107662246909175,9.219951815747093,7.6666172547006335,6.8158110145887907,7.4328456605303792,null,null,null,null,null,null,null,{"$f":"IFERROR(E159/Levelisation!F667, 0)","v":6.3219582098030414E-2},{"$f":"IFERROR(F159/Levelisation!G667, 0)","v":6.050760971765428E-2},{"$f":"IFERROR(G159/Levelisation!H667, 0)","v":6.4719823134049628E-2},{"$f":"IFERROR(H159/Levelisation!I667, 0)","v":6.7929402977659079E-2},{"$f":"IFERROR(I159/Levelisation!J667, 0)","v":7.380496324076577E-2},{"$f":"IFERROR(J159/Levelisation!K667, 0)","v":6.6696456275557522E-2},{"$f":"IFERROR(K159/Levelisation!L667, 0)","v":6.9987323575869065E-2},"1.06 > Dominican Republic",145,6," "]
[{"$f":"INDEX(Country!$F$31:$G$76, MATCH(AI160, Country!$O$31:$O$76, 0), 1)","v":1.06},{"$f":"INDEX(Country!$F$31:$G$76, MATCH(AI160, Country!$O$31:$O$76, 0), 2)","v":"Clean energy electricity generation"},{"$f":"INDEX(Country!$K$31:$K$76, MATCH(AI160, Country!$O$31:$O$76, 0), 1)","v":"GWh"},"Ecuador",{"$f":"Levelisation!F642","v":1306.6746099999998},{"$f":"Levelisation!G642","v":1689.6709300000002},{"$f":"Levelisation!H642","v":1907.8861899999999},{"$f":"Levelisation!I642","v":1941.5702299999998},{"$f":"Levelisation!J642","v":1640.92164},{"$f":"Levelisation!K642","v":2131.5691699999998},{"$f":"Levelisation!L642","v":2042.3042000000005},10.316115108471356,11.728298907627279,10.789444097955171,14.191693295566949,8.7367937649552783,10.602964362559696,9.5256662655028368,null,null,null,null,null,null,null,{"$f":"IFERROR(E160/Levelisation!F668, 0)","v":8.8205120248022351E-2},{"$f":"IFERROR(F160/Levelisation!G668, 0)","v":9.7462309925902699E-2},{"$f":"IFERROR(G160/Levelisation!H668, 0)","v":0.10252751169213178},{"$f":"IFERROR(H160/Levelisation!I668, 0)","v":0.10455946756287839},{"$f":"IFERROR(I160/Levelisation!J668, 0)","v":8.4107334596535147E-2},{"$f":"IFERROR(J160/Levelisation!K668, 0)","v":0.10375583294271001},{"$f":"IFERROR(K160/Levelisation!L668, 0)","v":8.9693223517292281E-2},"1.06 > Ecuador",146,6," "]
[{"$f":"INDEX(Country!$F$31:$G$76, MATCH(AI161, Country!$O$31:$O$76, 0), 1)","v":1.06},{"$f":"INDEX(Country!$F$31:$G$76, MATCH(AI161, Country!$O$31:$O$76, 0), 2)","v":"Clean energy electricity generation"},{"$f":"INDEX(Country!$K$31:$K$76, MATCH(AI161, Country!$O$31:$O$76, 0), 1)","v":"GWh"},"El Salvador",{"$f":"Levelisation!F643","v":1456.9544000000001},{"$f":"Levelisation!G643","v":1737.7424000000001},{"$f":"Levelisation!H643","v":1921.5305000000001},{"$f":"Levelisation!I643","v":1873.9254000000001},{"$f":"Levelisation!J643","v":1954.0146},{"$f":"Levelisation!K643","v":1775.7506999999998},{"$f":"Levelisation!L643","v":1775.7506999999998},29.941352089001708,34.786554849467386,33.215903063283477,43.442317606040781,33.602342117054718,31.166602590917133,32.389960027374862,null,null,null,null,null,null,null,{"$f":"IFERROR(E161/Levelisation!F669, 0)","v":0.25600534054045776},{"$f":"IFERROR(F161/Levelisation!G669, 0)","v":0.28907670385074646},{"$f":"IFERROR(G161/Levelisation!H669, 0)","v":0.31563664066167557},{"$f":"IFERROR(H161/Levelisation!I669, 0)","v":0.32006790902139626},{"$f":"IFERROR(I161/Levelisation!J669, 0)","v":0.32348290547989522},{"$f":"IFERROR(J161/Levelisation!K669, 0)","v":0.30498233335892955},{"$f":"IFERROR(K161/Levelisation!L669, 0)","v":0.30498233335892955},"1.06 > El Salvador",147,6," "]
[{"$f":"INDEX(Country!$F$31:$G$76, MATCH(AI162, Country!$O$31:$O$76, 0), 1)","v":1.06},{"$f":"INDEX(Country!$F$31:$G$76, MATCH(AI162, Country!$O$31:$O$76, 0), 2)","v":"Clean energy electricity generation"},{"$f":"INDEX(Country!$K$31:$K$76, MATCH(AI162, Country!$O$31:$O$76, 0), 1)","v":"GWh"},"Guatemala",{"$f":"Levelisation!F644","v":1389.8346000000001},{"$f":"Levelisation!G644","v":1502.5444139696874},{"$f":"Levelisation!H644","v":1716.8606222863573},{"$f":"Levelisation!I644","v":1655.9061985930562},{"$f":"Levelisation!J644","v":1680.410601323834},{"$f":"Levelisation!K644","v":1707.4977029543793},{"$f":"Levelisation!L644","v":1955.0441998160431},21.858003744611374,22.811695229699868,22.823963399115335,28.491113416534965,22.349006866756433,21.419043691741877,23.855862693498452,null,null,null,null,null,null,null,{"$f":"IFERROR(E162/Levelisation!F670, 0)","v":0.18689088173240231},{"$f":"IFERROR(F162/Levelisation!G670, 0)","v":0.18956547133756765},{"$f":"IFERROR(G162/Levelisation!H670, 0)","v":0.21688644503075755},{"$f":"IFERROR(H162/Levelisation!I670, 0)","v":0.20991262896281943},{"$f":"IFERROR(I162/Levelisation!J670, 0)","v":0.21514933842004988},{"$f":"IFERROR(J162/Levelisation!K670, 0)","v":0.20959711294705061},{"$f":"IFERROR(K162/Levelisation!L670, 0)","v":0.22462567605530537},"1.06 > Guatemala",148,6," "]
[{"$f":"INDEX(Country!$F$31:$G$76, MATCH(AI163, Country!$O$31:$O$76, 0), 1)","v":1.06},{"$f":"INDEX(Country!$F$31:$G$76, MATCH(AI163, Country!$O$31:$O$76, 0), 2)","v":"Clean energy electricity generation"},{"$f":"INDEX(Country!$K$31:$K$76, MATCH(AI163, Country!$O$31:$O$76, 0), 1)","v":"GWh"},"Guyana",{"$f":"Levelisation!F645","v":0},{"$f":"Levelisation!G645","v":0},{"$f":"Levelisation!H645","v":0},{"$f":"Levelisation!I645","v":0},{"$f":"Levelisation!J645","v":0},{"$f":"Levelisation!K645","v":0},{"$f":"Levelisation!L645","v":0},0,0,0,0,0,0,0,null,null,null,null,null,null,null,{"$f":"IFERROR(E163/Levelisation!F671, 0)","v":0},{"$f":"IFERROR(F163/Levelisation!G671, 0)","v":0},{"$f":"IFERROR(G163/Levelisation!H671, 0)","v":0},{"$f":"IFERROR(H163/Levelisation!I671, 0)","v":0},{"$f":"IFERROR(I163/Levelisation!J671, 0)","v":0},{"$f":"IFERROR(J163/Levelisation!K671, 0)","v":0},{"$f":"IFERROR(K163/Levelisation!L671, 0)","v":0},"1.06 > Guyana",149,6," "]
[{"$f":"INDEX(Country!$F$31:$G$76, MATCH(AI164, Country!$O$31:$O$76, 0), 1)","v":1.06},{"$f":"INDEX(Country!$F$31:$G$76, MATCH(AI164, Country!$O$31:$O$76, 0), 2)","v":"Clean energy electricity generation"},{"$f":"INDEX(Country!$K$31:$K$76, MATCH(AI164, Country!$O$31:$O$76, 0), 1)","v":"GWh"},"Haiti",{"$f":"Levelisation!F646","v":0},{"$f":"Levelisation!G646","v":0},{"$f":"Levelisation!H646","v":0},{"$f":"Levelisation!I646","v":0},{"$f":"Levelisation!J646","v":0},{"$f":"Levelisation!K646","v":0},{"$f":"Levelisation!L646","v":0},0,0,0,0,0,0,0,null,null,null,null,null,null,null,{"$f":"IFERROR(E164/Levelisation!F672, 0)","v":0},{"$f":"IFERROR(F164/Levelisation!G672, 0)","v":0},{"$f":"IFERROR(G164/Levelisation!H672, 0)","v":0},{"$f":"IFERROR(H164/Levelisation!I672, 0)","v":0},{"$f":"IFERROR(I164/Levelisation!J672, 0)","v":0},{"$f":"IFERROR(J164/Levelisation!K672, 0)","v":0},{"$f":"IFERROR(K164/Levelisation!L672, 0)","v":0},"1.06 > Haiti",150,6," "]
[{"$f":"INDEX(Country!$F$31:$G$76, MATCH(AI165, Country!$O$31:$O$76, 0), 1)","v":1.06},{"$f":"INDEX(Country!$F$31:$G$76, MATCH(AI165, Country!$O$31:$O$76, 0), 2)","v":"Clean energy electricity generation"},{"$f":"INDEX(Country!$K$31:$K$76, MATCH(AI165, Country!$O$31:$O$76, 0), 1)","v":"GWh"},"Honduras",{"$f":"Levelisation!F647","v":544.9},{"$f":"Levelisation!G647","v":571.29999999999995},{"$f":"Levelisation!H647","v":702.59999999999991},{"$f":"Levelisation!I647","v":672.40000000000009},{"$f":"Levelisation!J647","v":829.1},{"$f":"Levelisation!K647","v":960.70864118300005},{"$f":"Levelisation!L647","v":1196.1045449400001},10.486278057561728,10.979365146200275,11.391702721918977,14.045771093750735,12.812476499684859,13.774989335806811,16.959876236705252,null,null,null,null,null,null,null,{"$f":"IFERROR(E165/Levelisation!F673, 0)","v":8.966005199591931E-2},{"$f":"IFERROR(F165/Levelisation!G673, 0)","v":9.1238661045100283E-2},{"$f":"IFERROR(G165/Levelisation!H673, 0)","v":0.1082505199907557},{"$f":"IFERROR(H165/Levelisation!I673, 0)","v":0.10348436345727655},{"$f":"IFERROR(I165/Levelisation!J673, 0)","v":0.1233431023966438},{"$f":"IFERROR(J165/Levelisation!K673, 0)","v":0.13479584043122703},{"$f":"IFERROR(K165/Levelisation!L673, 0)","v":0.15969339337799257},"1.06 > Honduras",151,6," "]
[{"$f":"INDEX(Country!$F$31:$G$76, MATCH(AI166, Country!$O$31:$O$76, 0), 1)","v":1.06},{"$f":"INDEX(Country!$F$31:$G$76, MATCH(AI166, Country!$O$31:$O$76, 0), 2)","v":"Clean energy electricity generation"},{"$f":"INDEX(Country!$K$31:$K$76, MATCH(AI166, Country!$O$31:$O$76, 0), 1)","v":"GWh"},"Jamaica",{"$f":"Levelisation!F648","v":225.04334499999999},{"$f":"Levelisation!G648","v":211.74699600000002},{"$f":"Levelisation!H648","v":207.41838200000001},{"$f":"Levelisation!I648","v":198.63785423000002},{"$f":"Levelisation!J648","v":204.87798500000002},{"$f":"Levelisation!K648","v":243.31353337532084},{"$f":"Levelisation!L648","v":258.153520469},6.5045400282057617,6.252252731587026,5.2937340434264852,6.3979413058816439,5.1438829297803066,6.0104669285117467,6.6289058503491738,null,null,null,null,null,null,null,{"$f":"IFERROR(E166/Levelisation!F674, 0)","v":5.5615290185626859E-2},{"$f":"IFERROR(F166/Levelisation!G674, 0)","v":5.1956298032677303E-2},{"$f":"IFERROR(G166/Levelisation!H674, 0)","v":5.0304109656150717E-2},{"$f":"IFERROR(H166/Levelisation!I674, 0)","v":4.7137809598132727E-2},{"$f":"IFERROR(I166/Levelisation!J674, 0)","v":4.9519113571825542E-2},{"$f":"IFERROR(J166/Levelisation!K674, 0)","v":5.8815721831946048E-2},{"$f":"IFERROR(K166/Levelisation!L674, 0)","v":6.2417464305219293E-2},"1.06 > Jamaica",152,6," "]
[{"$f":"INDEX(Country!$F$31:$G$76, MATCH(AI167, Country!$O$31:$O$76, 0), 1)","v":1.06},{"$f":"INDEX(Country!$F$31:$G$76, MATCH(AI167, Country!$O$31:$O$76, 0), 2)","v":"Clean energy electricity generation"},{"$f":"INDEX(Country!$K$31:$K$76, MATCH(AI167, Country!$O$31:$O$76, 0), 1)","v":"GWh"},"Mexico",{"$f":"Levelisation!F649","v":7826.2246336445351},{"$f":"Levelisation!G649","v":8672.3859087410074},{"$f":"Levelisation!H649","v":8686.0063677765102},{"$f":"Levelisation!I649","v":9362.7847546894427},{"$f":"Levelisation!J649","v":9691.3100863693981},{"$f":"Levelisation!K649","v":9553.0145789046746},{"$f":"Levelisation!L649","v":12215.045636871557},3.2320563958923016,3.433174484778772,2.9709520266721321,4.0689685435334653,3.1386810820723756,2.9087130916609341,3.7747836307924967,null,null,null,null,null,null,null,{"$f":"IFERROR(E167/Levelisation!F675, 0)","v":2.7634814079765927E-2},{"$f":"IFERROR(F167/Levelisation!G675, 0)","v":2.8529722707493911E-2},{"$f":"IFERROR(G167/Levelisation!H675, 0)","v":2.8231697192732913E-2},{"$f":"IFERROR(H167/Levelisation!I675, 0)","v":2.9978747115036456E-2},{"$f":"IFERROR(I167/Levelisation!J675, 0)","v":3.0215443681475933E-2},{"$f":"IFERROR(J167/Levelisation!K675, 0)","v":2.8463356029217842E-2},{"$f":"IFERROR(K167/Levelisation!L675, 0)","v":3.5543184328452333E-2},"1.06 > Mexico",153,6," "]
[{"$f":"INDEX(Country!$F$31:$G$76, MATCH(AI168, Country!$O$31:$O$76, 0), 1)","v":1.06},{"$f":"INDEX(Country!$F$31:$G$76, MATCH(AI168, Country!$O$31:$O$76, 0), 2)","v":"Clean energy electricity generation"},{"$f":"INDEX(Country!$K$31:$K$76, MATCH(AI168, Country!$O$31:$O$76, 0), 1)","v":"GWh"},"Nicaragua",{"$f":"Levelisation!F650","v":826.82999999999993},{"$f":"Levelisation!G650","v":798.42000000000007},{"$f":"Levelisation!H650","v":962.55},{"$f":"Levelisation!I650","v":959.22},{"$f":"Levelisation!J650","v":1126.3600000000001},{"$f":"Levelisation!K650","v":1089.04},{"$f":"Levelisation!L650","v":1446.16},30.822167743468128,29.938980624519008,30.138379598708681,37.692869573626574,31.976042704221534,29.100002835340337,39.255448512386252,null,null,null,null,null,null,null,{"$f":"IFERROR(E168/Levelisation!F676, 0)","v":0.26353651384568311},{"$f":"IFERROR(F168/Levelisation!G676, 0)","v":0.24879330169483077},{"$f":"IFERROR(G168/Levelisation!H676, 0)","v":0.28639224028920396},{"$f":"IFERROR(H168/Levelisation!I676, 0)","v":0.27770797264668245},{"$f":"IFERROR(I168/Levelisation!J676, 0)","v":0.30782685217828576},{"$f":"IFERROR(J168/Levelisation!K676, 0)","v":0.28475951909047653},{"$f":"IFERROR(K168/Levelisation!L676, 0)","v":0.369627448574817},"1.06 > Nicaragua",154,6," "]
[{"$f":"INDEX(Country!$F$31:$G$76, MATCH(AI169, Country!$O$31:$O$76, 0), 1)","v":1.06},{"$f":"INDEX(Country!$F$31:$G$76, MATCH(AI169, Country!$O$31:$O$76, 0), 2)","v":"Clean energy electricity generation"},{"$f":"INDEX(Country!$K$31:$K$76, MATCH(AI169, Country!$O$31:$O$76, 0), 1)","v":"GWh"},"Panama",{"$f":"Levelisation!F651","v":552.6},{"$f":"Levelisation!G651","v":330.9},{"$f":"Levelisation!H651","v":402.1},{"$f":"Levelisation!I651","v":401.79999999999995},{"$f":"Levelisation!J651","v":794.6},{"$f":"Levelisation!K651","v":1085.5899999999999},{"$f":"Levelisation!L651","v":1085.5899999999999},10.790708119475736,6.1916989213665046,6.6024094453734499,7.9126674669332502,11.027844565995562,14.379548406828651,14.943977186804956,null,null,null,null,null,null,null,{"$f":"IFERROR(E169/Levelisation!F677, 0)","v":9.2262997963068083E-2},{"$f":"IFERROR(F169/Levelisation!G677, 0)","v":5.1453095115921083E-2},{"$f":"IFERROR(G169/Levelisation!H677, 0)","v":6.2739897019815888E-2},{"$f":"IFERROR(H169/Levelisation!I677, 0)","v":5.8297785902904714E-2},{"$f":"IFERROR(I169/Levelisation!J677, 0)","v":0.10616281415628886},{"$f":"IFERROR(J169/Levelisation!K677, 0)","v":0.14071178316498142},{"$f":"IFERROR(K169/Levelisation!L677, 0)","v":0.14071178316498142},"1.06 > Panama",155,6," "]
[{"$f":"INDEX(Country!$F$31:$G$76, MATCH(AI170, Country!$O$31:$O$76, 0), 1)","v":1.06},{"$f":"INDEX(Country!$F$31:$G$76, MATCH(AI170, Country!$O$31:$O$76, 0), 2)","v":"Clean energy electricity generation"},{"$f":"INDEX(Country!$K$31:$K$76, MATCH(AI170, Country!$O$31:$O$76, 0), 1)","v":"GWh"},"Paraguay",{"$f":"Levelisation!F652","v":0},{"$f":"Levelisation!G652","v":0},{"$f":"Levelisation!H652","v":0},{"$f":"Levelisation!I652","v":0},{"$f":"Levelisation!J652","v":0},{"$f":"Levelisation!K652","v":0},{"$f":"Levelisation!L652","v":0},0,0,0,0,0,0,0,null,null,null,null,null,null,null,{"$f":"IFERROR(E170/Levelisation!F678, 0)","v":0},{"$f":"IFERROR(F170/Levelisation!G678, 0)","v":0},{"$f":"IFERROR(G170/Levelisation!H678, 0)","v":0},{"$f":"IFERROR(H170/Levelisation!I678, 0)","v":0},{"$f":"IFERROR(I170/Levelisation!J678, 0)","v":0},{"$f":"IFERROR(J170/Levelisation!K678, 0)","v":0},{"$f":"IFERROR(K170/Levelisation!L678, 0)","v":0},"1.06 > Paraguay",156,6," "]
[{"$f":"INDEX(Country!$F$31:$G$76, MATCH(AI171, Country!$O$31:$O$76, 0), 1)","v":1.06},{"$f":"INDEX(Country!$F$31:$G$76, MATCH(AI171, Country!$O$31:$O$76, 0), 2)","v":"Clean energy electricity generation"},{"$f":"INDEX(Country!$K$31:$K$76, MATCH(AI171, Country!$O$31:$O$76, 0), 1)","v":"GWh"},{"$f":"D144","v":"Peru"},{"$f":"Levelisation!F653","v":1984.7314429999994},{"$f":"Levelisation!G653","v":2538.275838},{"$f":"Levelisation!H653","v":2586.2980940000002},{"$f":"Levelisation!I653","v":3014.1270979999995},{"$f":"Levelisation!J653","v":3200.8246159999999},{"$f":"Levelisation!K653","v":3761.2482976647011},{"$f":"Levelisation!L653","v":4119.0274758163796},8.168037315444888,10.360050856966705,8.5096252170041975,12.463479674776107,9.379633232201197,8.5731675186438654,9.7457470450553387,null,null,null,null,null,null,null,{"$f":"IFERROR(E171/Levelisation!F679, 0)","v":6.9838568688277106E-2},{"$f":"IFERROR(F171/Levelisation!G679, 0)","v":8.6092151591835211E-2},{"$f":"IFERROR(G171/Levelisation!H679, 0)","v":8.0863359688513436E-2},{"$f":"IFERROR(H171/Levelisation!I679, 0)","v":9.1826589796893246E-2},{"$f":"IFERROR(I171/Levelisation!J679, 0)","v":9.0295819253273235E-2},{"$f":"IFERROR(J171/Levelisation!K679, 0)","v":8.3893155389191523E-2},{"$f":"IFERROR(K171/Levelisation!L679, 0)","v":9.1765493739875026E-2},"1.06 > Peru",157,6," "]
[{"$f":"INDEX(Country!$F$31:$G$76, MATCH(AI172, Country!$O$31:$O$76, 0), 1)","v":1.06},{"$f":"INDEX(Country!$F$31:$G$76, MATCH(AI172, Country!$O$31:$O$76, 0), 2)","v":"Clean energy electricity generation"},{"$f":"INDEX(Country!$K$31:$K$76, MATCH(AI172, Country!$O$31:$O$76, 0), 1)","v":"GWh"},"Suriname",{"$f":"Levelisation!F654","v":0},{"$f":"Levelisation!G654","v":0},{"$f":"Levelisation!H654","v":0},{"$f":"Levelisation!I654","v":0},{"$f":"Levelisation!J654","v":0},{"$f":"Levelisation!K654","v":0},{"$f":"Levelisation!L654","v":0},0,0,0,0,0,0,0,null,null,null,null,null,null,null,{"$f":"IFERROR(E172/Levelisation!F680, 0)","v":0},{"$f":"IFERROR(F172/Levelisation!G680, 0)","v":0},{"$f":"IFERROR(G172/Levelisation!H680, 0)","v":0},{"$f":"IFERROR(H172/Levelisation!I680, 0)","v":0},{"$f":"IFERROR(I172/Levelisation!J680, 0)","v":0},{"$f":"IFERROR(J172/Levelisation!K680, 0)","v":0},{"$f":"IFERROR(K172/Levelisation!L680, 0)","v":0},"1.06 > Suriname",158,6," "]
[{"$f":"INDEX(Country!$F$31:$G$76, MATCH(AI173, Country!$O$31:$O$76, 0), 1)","v":1.06},{"$f":"INDEX(Country!$F$31:$G$76, MATCH(AI173, Country!$O$31:$O$76, 0), 2)","v":"Clean energy electricity generation"},{"$f":"INDEX(Country!$K$31:$K$76, MATCH(AI173, Country!$O$31:$O$76, 0), 1)","v":"GWh"},"Trinidad & Tobago",{"$f":"Levelisation!F655","v":0},{"$f":"Levelisation!G655","v":0},{"$f":"Levelisation!H655","v":0},{"$f":"Levelisation!I655","v":0},{"$f":"Levelisation!J655","v":0},{"$f":"Levelisation!K655","v":0},{"$f":"Levelisation!L655","v":0},0,0,0,0,0,0,0,null,null,null,null,null,null,null,{"$f":"IFERROR(E173/Levelisation!F681, 0)","v":0},{"$f":"IFERROR(F173/Levelisation!G681, 0)","v":0},{"$f":"IFERROR(G173/Levelisation!H681, 0)","v":0},{"$f":"IFERROR(H173/Levelisation!I681, 0)","v":0},{"$f":"IFERROR(I173/Levelisation!J681, 0)","v":0},{"$f":"IFERROR(J173/Levelisation!K681, 0)","v":0},{"$f":"IFERROR(K173/Levelisation!L681, 0)","v":0},"1.06 > Trinidad & Tobago",159,6," "]
[{"$f":"INDEX(Country!$F$31:$G$76, MATCH(AI174, Country!$O$31:$O$76, 0), 1)","v":1.06},{"$f":"INDEX(Country!$F$31:$G$76, MATCH(AI174, Country!$O$31:$O$76, 0), 2)","v":"Clean energy electricity generation"},{"$f":"INDEX(Country!$K$31:$K$76, MATCH(AI174, Country!$O$31:$O$76, 0), 1)","v":"GWh"},"Uruguay",{"$f":"Levelisation!F656","v":0},{"$f":"Levelisation!G656","v":23.189},{"$f":"Levelisation!H656","v":136.904},{"$f":"Levelisation!I656","v":231.17907290000002},{"$f":"Levelisation!J656","v":352.48428000000001},{"$f":"Levelisation!K656","v":478.96314999999998},{"$f":"Levelisation!L656","v":616.32772},0,0.29985176607694131,1.7968765716619555,3.9104931346886014,3.6038034833425558,5.139051604576494,6.7298263001531557,null,null,null,null,null,null,null,{"$f":"IFERROR(E174/Levelisation!F682, 0)","v":0},{"$f":"IFERROR(F174/Levelisation!G682, 0)","v":2.4917719089010168E-3},{"$f":"IFERROR(G174/Levelisation!H682, 0)","v":1.7074956043871083E-2},{"$f":"IFERROR(H174/Levelisation!I682, 0)","v":2.8811155339655822E-2},{"$f":"IFERROR(I174/Levelisation!J682, 0)","v":3.4693082330666959E-2},{"$f":"IFERROR(J174/Levelisation!K682, 0)","v":5.0288444017714436E-2},{"$f":"IFERROR(K174/Levelisation!L682, 0)","v":6.3367726492601986E-2},"1.06 > Uruguay",160,6," "]
[{"$f":"INDEX(Country!$F$31:$G$76, MATCH(AI175, Country!$O$31:$O$76, 0), 1)","v":1.06},{"$f":"INDEX(Country!$F$31:$G$76, MATCH(AI175, Country!$O$31:$O$76, 0), 2)","v":"Clean energy electricity generation"},{"$f":"INDEX(Country!$K$31:$K$76, MATCH(AI175, Country!$O$31:$O$76, 0), 1)","v":"GWh"},"Venezuela",{"$f":"Levelisation!F657","v":0},{"$f":"Levelisation!G657","v":0},{"$f":"Levelisation!H657","v":0},{"$f":"Levelisation!I657","v":115.32539999999999},{"$f":"Levelisation!J657","v":115.32539999999999},{"$f":"Levelisation!K657","v":115.32539999999999},{"$f":"Levelisation!L657","v":115.32539999999999},0,0,0,0.12538297913055813,0.10267427662553029,9.5938488402826247E-2,9.597970118324671E-2,null,null,null,null,null,null,null,{"$f":"IFERROR(E175/Levelisation!F683, 0)","v":0},{"$f":"IFERROR(F175/Levelisation!G683, 0)","v":0},{"$f":"IFERROR(G175/Levelisation!H683, 0)","v":0},{"$f":"IFERROR(H175/Levelisation!I683, 0)","v":9.2377824592882135E-4},{"$f":"IFERROR(I175/Levelisation!J683, 0)","v":9.8842435462305868E-4},{"$f":"IFERROR(J175/Levelisation!K683, 0)","v":9.3881083017209089E-4},{"$f":"IFERROR(K175/Levelisation!L683, 0)","v":9.0374033179477925E-4},"1.06 > Venezuela",161,6," "]
[{"$f":"INDEX(Country!$F$31:$G$76, MATCH(AI176, Country!$O$31:$O$76, 0), 1)","v":1.06},{"$f":"INDEX(Country!$F$31:$G$76, MATCH(AI176, Country!$O$31:$O$76, 0), 2)","v":"Clean energy electricity generation"},{"$f":"INDEX(Country!$K$31:$K$76, MATCH(AI176, Country!$O$31:$O$76, 0), 1)","v":"GWh"},"Benchmark",{"$f":"IFERROR(MAX(E150:E175), 0)","v":26251.739999999998},{"$f":"IFERROR(MAX(F150:F175), 0)","v":30696.16},{"$f":"IFERROR(MAX(G150:G175), 0)","v":36102.720000000001},{"$f":"IFERROR(MAX(H150:H175), 0)","v":39584.879999999997},{"$f":"IFERROR(MAX(I150:I175), 0)","v":52952.94},{"$f":"IFERROR(MAX(J150:J175), 0)","v":57399.82},57399.82,{"$f":"MAX(Z150:Z175)","v":0.85502264486744961},0.83100124488232407,{"$f":"MAX(AB150:AB175)","v":0.95025759215493721},{"$f":"MAX(AC150:AC175)","v":0.73676527095987598},{"$f":"MAX(AD150:AD175)","v":0.96267963808306367},{"$f":"MAX(AE150:AE175)","v":0.97855495307599039},{"$f":"MAX(AF150:AF175)","v":0.94159527551491007},null,null,null,null,null,null,null,null,null,null,null,null,null,null,"1.06 > Benchmark",162,6," "]
[{"$f":"INDEX(Country!$F$31:$G$76, MATCH(AI177, Country!$O$31:$O$76, 0), 1)","v":1.07},{"$f":"INDEX(Country!$F$31:$G$76, MATCH(AI177, Country!$O$31:$O$76, 0), 2)","v":"Growth rate of electricity generation"},{"$f":"INDEX(Country!$K$31:$K$76, MATCH(AI177, Country!$O$31:$O$76, 0), 1)","v":"%"},"Argentina",null,{"$f":"IF(E150<>0, F150/E150-1, 0)","v":-1.7358045653096288E-2},{"$f":"IF(F150<>0, G150/F150-1, 0)","v":-5.5415700736103801E-2},-0.1180189935896081,-9.0445258646786986E-2,-0.12328066707277185,0,{"$f":"IFERROR(dbl_BenchmarkMax*E177/ SUMIFS(E$15:E$1256, $D$15:$D$1256, \"Benchmark\", $B$15:$B$1256,$B177), 0)","v":0},{"$f":"IFERROR(dbl_BenchmarkMax*F177/ SUMIFS(F$15:F$1256, $D$15:$D$1256, \"Benchmark\", $B$15:$B$1256,$B177), 0)","v":-5.9220719233338235},{"$f":"IFERROR(dbl_BenchmarkMax*G177/ SUMIFS(G$15:G$1256, $D$15:$D$1256, \"Benchmark\", $B$15:$B$1256,$B177), 0)","v":-1.1300485286633346},{"$f":"IFERROR(dbl_BenchmarkMax*H177/ SUMIFS(H$15:H$1256, $D$15:$D$1256, \"Benchmark\", $B$15:$B$1256,$B177), 0)","v":-17.138435220867066},{"$f":"IFERROR(dbl_BenchmarkMax*I177/ SUMIFS(I$15:I$1256, $D$15:$D$1256, \"Benchmark\", $B$15:$B$1256,$B177), 0)","v":-9.2517578727797858},{"$f":"IFERROR(dbl_BenchmarkMax*J177/ SUMIFS(J$15:J$1256, $D$15:$D$1256, \"Benchmark\", $B$15:$B$1256,$B177), 0)","v":-33.663980912067281},{"$f":"IFERROR(dbl_BenchmarkMax*K177/ SUMIFS(K$15:K$1256, $D$15:$D$1256, \"Benchmark\", $B$15:$B$1256,$B177), 0)","v":0},null,null,null,null,null,null,null,null,null,null,null,null,null,null,"1.07 > Argentina",163,7," "]
[{"$f":"INDEX(Country!$F$31:$G$76, MATCH(AI178, Country!$O$31:$O$76, 0), 1)","v":1.07},{"$f":"INDEX(Country!$F$31:$G$76, MATCH(AI178, Country!$O$31:$O$76, 0), 2)","v":"Growth rate of electricity generation"},{"$f":"INDEX(Country!$K$31:$K$76, MATCH(AI178, Country!$O$31:$O$76, 0), 1)","v":"%"},"Bahamas",null,{"$f":"IF(E151<>0, F151/E151-1, 0)","v":0},0,0,0,0,0,0,0,0,0,0,0,0,null,null,null,null,null,null,null,null,null,null,null,null,null,null,"1.07 > Bahamas",164,7," "]
[{"$f":"INDEX(Country!$F$31:$G$76, MATCH(AI179, Country!$O$31:$O$76, 0), 1)","v":1.07},{"$f":"INDEX(Country!$F$31:$G$76, MATCH(AI179, Country!$O$31:$O$76, 0), 2)","v":"Growth rate of electricity generation"},{"$f":"INDEX(Country!$K$31:$K$76, MATCH(AI179, Country!$O$31:$O$76, 0), 1)","v":"%"},"Barbados",null,{"$f":"IF(E152<>0, F152/E152-1, 0)","v":0},0,0,0,0,0,0,0,0,0,0,0,0,null,null,null,null,null,null,null,null,null,null,null,null,null,null,"1.07 > Barbados",165,7," "]
[{"$f":"INDEX(Country!$F$31:$G$76, MATCH(AI180, Country!$O$31:$O$76, 0), 1)","v":1.07},{"$f":"INDEX(Country!$F$31:$G$76, MATCH(AI180, Country!$O$31:$O$76, 0), 2)","v":"Growth rate of electricity generation"},{"$f":"INDEX(Country!$K$31:$K$76, MATCH(AI180, Country!$O$31:$O$76, 0), 1)","v":"%"},"Belize",null,{"$f":"IF(E153<>0, F153/E153-1, 0)","v":-1.8548643870596182E-3},0.15267090723190013,-7.5544284151284113E-2,0.64687852003279422,1.2830348531620794E-2,-0.13309245957308524,0,-0.63282702026066817,3.1132969861500523,-10.970359777305882,66.170007471786306,3.5035550854757518,-40.586640953593388,null,null,null,null,null,null,null,null,null,null,null,null,null,null,"1.07 > Belize",166,7," "]
[{"$f":"INDEX(Country!$F$31:$G$76, MATCH(AI181, Country!$O$31:$O$76, 0), 1)","v":1.07},{"$f":"INDEX(Country!$F$31:$G$76, MATCH(AI181, Country!$O$31:$O$76, 0), 2)","v":"Growth rate of electricity generation"},{"$f":"INDEX(Country!$K$31:$K$76, MATCH(AI181, Country!$O$31:$O$76, 0), 1)","v":"%"},"Bolivia",null,9.417548764570749E-2,-3.3391914323802063E-2,3.9098174180071998E-2,2.171374228288192E-2,2.9645129332137365E-2,0,0,32.130000254575435,-0.68093488216562992,5.6777430908235083,2.2211256744556906,8.0951303368900529,0,null,null,null,null,null,null,null,null,null,null,null,null,null,null,"1.07 > Bolivia",167,7," "]
[{"$f":"INDEX(Country!$F$31:$G$76, MATCH(AI182, Country!$O$31:$O$76, 0), 1)","v":1.07},{"$f":"INDEX(Country!$F$31:$G$76, MATCH(AI182, Country!$O$31:$O$76, 0), 2)","v":"Growth rate of electricity generation"},{"$f":"INDEX(Country!$K$31:$K$76, MATCH(AI182, Country!$O$31:$O$76, 0), 1)","v":"%"},"Brazil",null,{"$f":"IF(E155<>0, F155/E155-1, 0)","v":0.16930001592275423},0.17613147703165488,9.6451458505065535E-2,0.33770621510031118,8.3977962318994903E-2,0,0,57.760354532612347,3.5917098191857231,14.006449498250655,34.544388296157074,22.931677672316368,0,null,null,null,null,null,null,null,null,null,null,null,null,null,null,"1.07 > Brazil",168,7," "]
[{"$f":"INDEX(Country!$F$31:$G$76, MATCH(AI183, Country!$O$31:$O$76, 0), 1)","v":1.07},{"$f":"INDEX(Country!$F$31:$G$76, MATCH(AI183, Country!$O$31:$O$76, 0), 2)","v":"Growth rate of electricity generation"},{"$f":"INDEX(Country!$K$31:$K$76, MATCH(AI183, Country!$O$31:$O$76, 0), 1)","v":"%"},"Chile",null,{"$f":"IF(E156<>0, F156/E156-1, 0)","v":-2.0087018950046054E-2},0.22598862597259228,6.2510392114743851E-2,-1.8472221536557809E-2,9.3129348762950315E-3,0.27946926812450856,0,-6.8531200646037576,4.6084072001745087,9.0776092330944156,-1.8895464901702967,2.5430626663129443,85.224353650961774,null,null,null,null,null,null,null,null,null,null,null,null,null,null,"1.07 > Chile",169,7," "]
[{"$f":"INDEX(Country!$F$31:$G$76, MATCH(AI184, Country!$O$31:$O$76, 0), 1)","v":1.07},{"$f":"INDEX(Country!$F$31:$G$76, MATCH(AI184, Country!$O$31:$O$76, 0), 2)","v":"Growth rate of electricity generation"},{"$f":"INDEX(Country!$K$31:$K$76, MATCH(AI184, Country!$O$31:$O$76, 0), 1)","v":"%"},"Colombia",null,{"$f":"IF(E157<>0, F157/E157-1, 0)","v":3.5205729329604862E-2},2.4696891223041639E-4,3.2772008226050087E-2,0.14468779006507537,0.26062397125862113,-4.5666771669260586E-2,0,12.011194426496566,5.0362415738566821E-3,4.7590724421271275,14.800293800444823,71.168015245231956,-13.926114756578052,null,null,null,null,null,null,null,null,null,null,null,null,null,null,"1.07 > Colombia",170,7," "]
[{"$f":"INDEX(Country!$F$31:$G$76, MATCH(AI185, Country!$O$31:$O$76, 0), 1)","v":1.07},{"$f":"INDEX(Country!$F$31:$G$76, MATCH(AI185, Country!$O$31:$O$76, 0), 2)","v":"Growth rate of electricity generation"},{"$f":"INDEX(Country!$K$31:$K$76, MATCH(AI185, Country!$O$31:$O$76, 0), 1)","v":"%"},"Costa Rica",null,{"$f":"IF(E158<>0, F158/E158-1, 0)","v":7.5873001987485145E-2},2.8377123180170383E-2,2.1272359210787295E-2,4.6040337526476627E-2,-1.3401414971052628E-3,6.5836437678135074E-2,0,25.885712239095739,0.57867221512111067,3.0891209901081109,4.7095233243732952,-0.36594949434683066,20.076868864526265,null,null,null,null,null,null,null,null,null,null,null,null,null,null,"1.07 > Costa Rica",171,7," "]
[{"$f":"INDEX(Country!$F$31:$G$76, MATCH(AI186, Country!$O$31:$O$76, 0), 1)","v":1.07},{"$f":"INDEX(Country!$F$31:$G$76, MATCH(AI186, Country!$O$31:$O$76, 0), 2)","v":"Growth rate of electricity generation"},{"$f":"INDEX(Country!$K$31:$K$76, MATCH(AI186, Country!$O$31:$O$76, 0), 1)","v":"%"},"Dominican Republic",null,{"$f":"IF(E159<>0, F159/E159-1, 0)","v":0},0.10465666887653668,5.9790617976547056E-2,0.15558692742188995,-8.7534223960883395E-2,0.12389465007360179,0,0,2.1341806222380595,8.6826501551940947,15.915180101353199,-23.902778225821503,37.781762353314086,null,null,null,null,null,null,null,null,null,null,null,null,null,null,"1.07 > Dominican Republic",172,7," "]
[{"$f":"INDEX(Country!$F$31:$G$76, MATCH(AI187, Country!$O$31:$O$76, 0), 1)","v":1.07},{"$f":"INDEX(Country!$F$31:$G$76, MATCH(AI187, Country!$O$31:$O$76, 0), 2)","v":"Growth rate of electricity generation"},{"$f":"INDEX(Country!$K$31:$K$76, MATCH(AI187, Country!$O$31:$O$76, 0), 1)","v":"%"},"Ecuador",null,{"$f":"IF(E160<>0, F160/E160-1, 0)","v":0.29310764674611711},0.12914660252810273,1.7655162124738721E-2,-0.15484816637304943,0.29900728836752966,-4.1877585422198327E-2,0,100,2.6335844576565748,2.5638403038829467,-15.83961131585826,81.64926332067742,-12.770599694273871,null,null,null,null,null,null,null,null,null,null,null,null,null,null,"1.07 > Ecuador",173,7," "]
[{"$f":"INDEX(Country!$F$31:$G$76, MATCH(AI188, Country!$O$31:$O$76, 0), 1)","v":1.07},{"$f":"INDEX(Country!$F$31:$G$76, MATCH(AI188, Country!$O$31:$O$76, 0), 2)","v":"Growth rate of electricity generation"},{"$f":"INDEX(Country!$K$31:$K$76, MATCH(AI188, Country!$O$31:$O$76, 0), 1)","v":"%"},"El Salvador",null,{"$f":"IF(E161<>0, F161/E161-1, 0)","v":0.19272257251153513},0.10576256872134793,-2.4774574226118173E-2,4.2738734423472646E-2,-9.1229563996093055E-2,0,0,65.751465255516464,2.1567323625549282,-3.5977042557688459,4.3717982411790492,-24.911856610638026,0,null,null,null,null,null,null,null,null,null,null,null,null,null,null,"1.07 > El Salvador",174,7," "]
[{"$f":"INDEX(Country!$F$31:$G$76, MATCH(AI189, Country!$O$31:$O$76, 0), 1)","v":1.07},{"$f":"INDEX(Country!$F$31:$G$76, MATCH(AI189, Country!$O$31:$O$76, 0), 2)","v":"Growth rate of electricity generation"},{"$f":"INDEX(Country!$K$31:$K$76, MATCH(AI189, Country!$O$31:$O$76, 0), 1)","v":"%"},"Guatemala",null,{"$f":"IF(E162<>0, F162/E162-1, 0)","v":8.1095846922854875E-2},0.14263552299958393,-3.5503419964357796E-2,1.4798182863013709E-2,1.6119335125121204E-2,0.144976181480859,0,27.667598516492532,2.9086533375872592,-5.1557215044067481,1.5137245097655057,4.4016714287162158,44.21059046816606,null,null,null,null,null,null,null,null,null,null,null,null,null,null,"1.07 > Guatemala",175,7," "]
[{"$f":"INDEX(Country!$F$31:$G$76, MATCH(AI190, Country!$O$31:$O$76, 0), 1)","v":1.07},{"$f":"INDEX(Country!$F$31:$G$76, MATCH(AI190, Country!$O$31:$O$76, 0), 2)","v":"Growth rate of electricity generation"},{"$f":"INDEX(Country!$K$31:$K$76, MATCH(AI190, Country!$O$31:$O$76, 0), 1)","v":"%"},"Guyana",null,{"$f":"IF(E163<>0, F163/E163-1, 0)","v":0},0,0,0,0,0,0,0,0,0,0,0,0,null,null,null,null,null,null,null,null,null,null,null,null,null,null,"1.07 > Guyana",176,7," "]
[{"$f":"INDEX(Country!$F$31:$G$76, MATCH(AI191, Country!$O$31:$O$76, 0), 1)","v":1.07},{"$f":"INDEX(Country!$F$31:$G$76, MATCH(AI191, Country!$O$31:$O$76, 0), 2)","v":"Growth rate of electricity generation"},{"$f":"INDEX(Country!$K$31:$K$76, MATCH(AI191, Country!$O$31:$O$76, 0), 1)","v":"%"},"Haiti",null,{"$f":"IF(E164<>0, F164/E164-1, 0)","v":0},0,0,0,0,0,0,0,0,0,0,0,0,null,null,null,null,null,null,null,null,null,null,null,null,null,null,"1.07 > Haiti",177,7," "]
[{"$f":"INDEX(Country!$F$31:$G$76, MATCH(AI192, Country!$O$31:$O$76, 0), 1)","v":1.07},{"$f":"INDEX(Country!$F$31:$G$76, MATCH(AI192, Country!$O$31:$O$76, 0), 2)","v":"Growth rate of electricity generation"},{"$f":"INDEX(Country!$K$31:$K$76, MATCH(AI192, Country!$O$31:$O$76, 0), 1)","v":"%"},"Honduras",null,{"$f":"IF(E165<>0, F165/E165-1, 0)","v":4.8449256744356628E-2},0.2298267110099772,-4.2983205237688282E-2,0.23304580606781666,0.15873675212037153,0.24502319815416418,0,16.529509646782511,4.6866742308493698,-6.2419179840915033,23.838545030053133,43.345896159609367,74.719999920981977,null,null,null,null,null,null,null,null,null,null,null,null,null,null,"1.07 > Honduras",178,7," "]
[{"$f":"INDEX(Country!$F$31:$G$76, MATCH(AI193, Country!$O$31:$O$76, 0), 1)","v":1.07},{"$f":"INDEX(Country!$F$31:$G$76, MATCH(AI193, Country!$O$31:$O$76, 0), 2)","v":"Growth rate of electricity generation"},{"$f":"INDEX(Country!$K$31:$K$76, MATCH(AI193, Country!$O$31:$O$76, 0), 1)","v":"%"},"Jamaica",null,{"$f":"IF(E166<>0, F166/E166-1, 0)","v":-5.9083502335960936E-2},{"$f":"IF(F166<>0, G166/F166-1, 0)","v":-2.0442386819031988E-2},{"$f":"IF(G166<>0, H166/G166-1, 0)","v":-4.2332447516633231E-2},{"$f":"IF(H166<>0, I166/H166-1, 0)","v":3.1414610242288754E-2},{"$f":"IF(I166<>0, J166/I166-1, 0)","v":0.18760213975806539},{"$f":"IF(J166<>0, K166/J166-1, 0)","v":6.0991211166161907E-2},0,-20.157612055456767,-0.41686541612499034,-6.1474165084598456,3.2134395100182327,51.228104145076763,18.599313566419394,null,null,null,null,null,null,null,null,null,null,null,null,null,null,"1.07 > Jamaica",179,7," "]
[{"$f":"INDEX(Country!$F$31:$G$76, MATCH(AI194, Country!$O$31:$O$76, 0), 1)","v":1.07},{"$f":"INDEX(Country!$F$31:$G$76, MATCH(AI194, Country!$O$31:$O$76, 0), 2)","v":"Growth rate of electricity generation"},{"$f":"INDEX(Country!$K$31:$K$76, MATCH(AI194, Country!$O$31:$O$76, 0), 1)","v":"%"},"Mexico",null,{"$f":"IF(E167<>0, F167/E167-1, 0)","v":0.10811870534087009},1.5705549982243383E-3,7.7915944135576121E-2,3.5088420837124268E-2,-1.4270052885753115E-2,0.2786587454650471,0,36.887029915845204,3.2027085128456388E-2,11.314766552608956,3.5892381599685659,-3.896691990453085,84.977184184939176,null,null,null,null,null,null,null,null,null,null,null,null,null,null,"1.07 > Mexico",180,7," "]
[{"$f":"INDEX(Country!$F$31:$G$76, MATCH(AI195, Country!$O$31:$O$76, 0), 1)","v":1.07},{"$f":"INDEX(Country!$F$31:$G$76, MATCH(AI195, Country!$O$31:$O$76, 0), 2)","v":"Growth rate of electricity generation"},{"$f":"INDEX(Country!$K$31:$K$76, MATCH(AI195, Country!$O$31:$O$76, 0), 1)","v":"%"},"Nicaragua",null,{"$f":"IF(E168<>0, F168/E168-1, 0)","v":-3.4360146583940931E-2},0.20556849778312158,-3.4595605423094478E-3,0.17424574133149862,-3.3133278880642214E-2,0.3279218394182033,0,-11.722705622109844,4.1919956866664965,-0.50238908538073646,17.823813357178238,-9.0476316706960098,99.999999999999986,null,null,null,null,null,null,null,null,null,null,null,null,null,null,"1.07 > Nicaragua",181,7," "]
[{"$f":"INDEX(Country!$F$31:$G$76, MATCH(AI196, Country!$O$31:$O$76, 0), 1)","v":1.07},{"$f":"INDEX(Country!$F$31:$G$76, MATCH(AI196, Country!$O$31:$O$76, 0), 2)","v":"Growth rate of electricity generation"},{"$f":"INDEX(Country!$K$31:$K$76, MATCH(AI196, Country!$O$31:$O$76, 0), 1)","v":"%"},"Panama",null,{"$f":"IF(E169<>0, F169/E169-1, 0)","v":-0.40119435396308367},0.21517074644907841,-7.4608306391465984E-4,0.97760079641612774,0.36620941354140424,0,0,-136.87611306524141,4.3878067444116242,-0.10834439331647822,100,100.00000000000001,0,null,null,null,null,null,null,null,null,null,null,null,null,null,null,"1.07 > Panama",182,7," "]
[{"$f":"INDEX(Country!$F$31:$G$76, MATCH(AI197, Country!$O$31:$O$76, 0), 1)","v":1.07},{"$f":"INDEX(Country!$F$31:$G$76, MATCH(AI197, Country!$O$31:$O$76, 0), 2)","v":"Growth rate of electricity generation"},{"$f":"INDEX(Country!$K$31:$K$76, MATCH(AI197, Country!$O$31:$O$76, 0), 1)","v":"%"},"Paraguay",null,{"$f":"IF(E170<>0, F170/E170-1, 0)","v":0},0,0,0,0,0,0,0,0,0,0,0,0,null,null,null,null,null,null,null,null,null,null,null,null,null,null,"1.07 > Paraguay",183,7," "]
[{"$f":"INDEX(Country!$F$31:$G$76, MATCH(AI198, Country!$O$31:$O$76, 0), 1)","v":1.07},{"$f":"INDEX(Country!$F$31:$G$76, MATCH(AI198, Country!$O$31:$O$76, 0), 2)","v":"Growth rate of electricity generation"},{"$f":"INDEX(Country!$K$31:$K$76, MATCH(AI198, Country!$O$31:$O$76, 0), 1)","v":"%"},"Peru",null,{"$f":"IF(E171<>0, F171/E171-1, 0)","v":0.27890140852673584},1.8919242456264529E-2,0.16542138162361386,6.1940824633401226E-2,0.17508728184084332,9.5122456651909326E-2,0,95.153235209968301,0.38580513856423354,24.022096332740389,6.3360039047099299,47.810699388547441,29.007661344140704,null,null,null,null,null,null,null,null,null,null,null,null,null,null,"1.07 > Peru",184,7," "]
[{"$f":"INDEX(Country!$F$31:$G$76, MATCH(AI199, Country!$O$31:$O$76, 0), 1)","v":1.07},{"$f":"INDEX(Country!$F$31:$G$76, MATCH(AI199, Country!$O$31:$O$76, 0), 2)","v":"Growth rate of electricity generation"},{"$f":"INDEX(Country!$K$31:$K$76, MATCH(AI199, Country!$O$31:$O$76, 0), 1)","v":"%"},"Suriname",null,{"$f":"IF(E172<>0, F172/E172-1, 0)","v":0},0,0,0,0,0,0,0,0,0,0,0,0,null,null,null,null,null,null,null,null,null,null,null,null,null,null,"1.07 > Suriname",185,7," "]
[{"$f":"INDEX(Country!$F$31:$G$76, MATCH(AI200, Country!$O$31:$O$76, 0), 1)","v":1.07},{"$f":"INDEX(Country!$F$31:$G$76, MATCH(AI200, Country!$O$31:$O$76, 0), 2)","v":"Growth rate of electricity generation"},{"$f":"INDEX(Country!$K$31:$K$76, MATCH(AI200, Country!$O$31:$O$76, 0), 1)","v":"%"},"Trinidad & Tobago",null,{"$f":"IF(E173<>0, F173/E173-1, 0)","v":0},0,0,0,0,0,0,0,0,0,0,0,0,null,null,null,null,null,null,null,null,null,null,null,null,null,null,"1.07 > Trinidad & Tobago",186,7," "]
[{"$f":"INDEX(Country!$F$31:$G$76, MATCH(AI201, Country!$O$31:$O$76, 0), 1)","v":1.07},{"$f":"INDEX(Country!$F$31:$G$76, MATCH(AI201, Country!$O$31:$O$76, 0), 2)","v":"Growth rate of electricity generation"},{"$f":"INDEX(Country!$K$31:$K$76, MATCH(AI201, Country!$O$31:$O$76, 0), 1)","v":"%"},"Uruguay",null,{"$f":"IF(E174<>0, F174/E174-1, 0)","v":0},4.9038337142610722,0.68862175612107768,0.52472399676277082,0.35882130686792602,0.28679569607808042,0,0,100,99.999999999999986,53.674669526293592,97.98254594221595,87.458553107323198,null,null,null,null,null,null,null,null,null,null,null,null,null,null,"1.07 > Uruguay",187,7," "]
[{"$f":"INDEX(Country!$F$31:$G$76, MATCH(AI202, Country!$O$31:$O$76, 0), 1)","v":1.07},{"$f":"INDEX(Country!$F$31:$G$76, MATCH(AI202, Country!$O$31:$O$76, 0), 2)","v":"Growth rate of electricity generation"},{"$f":"INDEX(Country!$K$31:$K$76, MATCH(AI202, Country!$O$31:$O$76, 0), 1)","v":"%"},"Venezuela",null,{"$f":"IF(E175<>0, F175/E175-1, 0)","v":0},0,0,0,0,0,0,0,0,0,0,0,0,null,null,null,null,null,null,null,null,null,null,null,null,null,null,"1.07 > Venezuela",188,7," "]
[{"$f":"INDEX(Country!$F$31:$G$76, MATCH(AI203, Country!$O$31:$O$76, 0), 1)","v":1.07},{"$f":"INDEX(Country!$F$31:$G$76, MATCH(AI203, Country!$O$31:$O$76, 0), 2)","v":"Growth rate of electricity generation"},{"$f":"INDEX(Country!$K$31:$K$76, MATCH(AI203, Country!$O$31:$O$76, 0), 1)","v":"%"},"Benchmark",{"$f":"IFERROR(MAX(E177:E202), 0)","v":0},{"$f":"IFERROR(MAX(F177:F202), 0)","v":0.29310764674611711},4.9038337142610722,0.68862175612107768,0.97760079641612774,0.36620941354140424,0.3279218394182033,0,100,100,99.999999999999986,100,100.00000000000001,99.999999999999986,null,null,null,null,null,null,null,"Levelised by Population (m)",null,null,null,null,null,null,"1.07 > Benchmark",189,7," "]
[{"$f":"INDEX(Country!$F$31:$G$76, MATCH(AI204, Country!$O$31:$O$76, 0), 1)","v":1.08},{"$f":"INDEX(Country!$F$31:$G$76, MATCH(AI204, Country!$O$31:$O$76, 0), 2)","v":"Biofuels production"},{"$f":"INDEX(Country!$K$31:$K$76, MATCH(AI204, Country!$O$31:$O$76, 0), 1)","v":"Billion Litres"},"Argentina",0,0.55686199999999997,0.93629249999999997,1.465622,2.1961469999999998,2.9348355000000002,3.2078509999999998,{"$f":"IFERROR(dbl_BenchmarkMax*Z204/L$230, 0)","v":0},{"$f":"IFERROR(dbl_BenchmarkMax*AA204/M$230, 0)","v":11.94880646727727},{"$f":"IFERROR(dbl_BenchmarkMax*AB204/N$230, 0)","v":15.893051611145252},{"$f":"IFERROR(dbl_BenchmarkMax*AC204/O$230, 0)","v":26.144868258845285},{"$f":"IFERROR(dbl_BenchmarkMax*AD204/P$230, 0)","v":35.589772002931042},{"$f":"IFERROR(dbl_BenchmarkMax*AE204/Q$230, 0)","v":56.208780297595915},{"$f":"IFERROR(dbl_BenchmarkMax*AF204/R$230, 0)","v":61.363020684976007},null,null,null,null,null,null,null,{"$f":"IFERROR(E204/Levelisation!F1441, 0)","v":0},{"$f":"IFERROR(F204/Levelisation!G1441, 0)","v":1.4356553573270084E-2},{"$f":"IFERROR(G204/Levelisation!H1441, 0)","v":2.3869181155356141E-2},{"$f":"IFERROR(H204/Levelisation!I1441, 0)","v":3.6946280470896674E-2},{"$f":"IFERROR(I204/Levelisation!J1441, 0)","v":5.4743550115910963E-2},{"$f":"IFERROR(J204/Levelisation!J1441, 0)","v":7.3156903557095504E-2},{"$f":"IFERROR(K204/Levelisation!L1441, 0)","v":7.8186872379838152E-2},"1.08 > Argentina",190,8," "]
[{"$f":"INDEX(Country!$F$31:$G$76, MATCH(AI205, Country!$O$31:$O$76, 0), 1)","v":1.08},{"$f":"INDEX(Country!$F$31:$G$76, MATCH(AI205, Country!$O$31:$O$76, 0), 2)","v":"Biofuels production"},{"$f":"INDEX(Country!$K$31:$K$76, MATCH(AI205, Country!$O$31:$O$76, 0), 1)","v":"Billion Litres"},"Bahamas",0,0,0,0,0,0,0,0,0,0,0,0,0,0,null,null,null,null,null,null,null,{"$f":"IFERROR(E205/Levelisation!F1442, 0)","v":0},{"$f":"IFERROR(F205/Levelisation!G1442, 0)","v":0},{"$f":"IFERROR(G205/Levelisation!H1442, 0)","v":0},{"$f":"IFERROR(H205/Levelisation!I1442, 0)","v":0},{"$f":"IFERROR(I205/Levelisation!J1442, 0)","v":0},{"$f":"IFERROR(J205/Levelisation!J1442, 0)","v":0},{"$f":"IFERROR(K205/Levelisation!L1442, 0)","v":0},"1.08 > Bahamas",191,8," "]
[{"$f":"INDEX(Country!$F$31:$G$76, MATCH(AI206, Country!$O$31:$O$76, 0), 1)","v":1.08},{"$f":"INDEX(Country!$F$31:$G$76, MATCH(AI206, Country!$O$31:$O$76, 0), 2)","v":"Biofuels production"},{"$f":"INDEX(Country!$K$31:$K$76, MATCH(AI206, Country!$O$31:$O$76, 0), 1)","v":"Billion Litres"},"Barbados",0,0,0,0,0,0,0,0,0,0,0,0,0,0,null,null,null,null,null,null,null,{"$f":"IFERROR(E206/Levelisation!F1443, 0)","v":0},{"$f":"IFERROR(F206/Levelisation!G1443, 0)","v":0},{"$f":"IFERROR(G206/Levelisation!H1443, 0)","v":0},{"$f":"IFERROR(H206/Levelisation!I1443, 0)","v":0},{"$f":"IFERROR(I206/Levelisation!J1443, 0)","v":0},{"$f":"IFERROR(J206/Levelisation!J1443, 0)","v":0},{"$f":"IFERROR(K206/Levelisation!L1443, 0)","v":0},"1.08 > Barbados",192,8," "]
[{"$f":"INDEX(Country!$F$31:$G$76, MATCH(AI207, Country!$O$31:$O$76, 0), 1)","v":1.08},{"$f":"INDEX(Country!$F$31:$G$76, MATCH(AI207, Country!$O$31:$O$76, 0), 2)","v":"Biofuels production"},{"$f":"INDEX(Country!$K$31:$K$76, MATCH(AI207, Country!$O$31:$O$76, 0), 1)","v":"Billion Litres"},"Belize",0,0,0,0,0,0,0,0,0,0,0,0,0,0,null,null,null,null,null,null,null,{"$f":"IFERROR(E207/Levelisation!F1444, 0)","v":0},{"$f":"IFERROR(F207/Levelisation!G1444, 0)","v":0},{"$f":"IFERROR(G207/Levelisation!H1444, 0)","v":0},{"$f":"IFERROR(H207/Levelisation!I1444, 0)","v":0},{"$f":"IFERROR(I207/Levelisation!J1444, 0)","v":0},{"$f":"IFERROR(J207/Levelisation!J1444, 0)","v":0},{"$f":"IFERROR(K207/Levelisation!L1444, 0)","v":0},{"$f":"A207&\" > \" &D207","v":"1.08 > Belize"},193,8," "]
[{"$f":"INDEX(Country!$F$31:$G$76, MATCH(AI208, Country!$O$31:$O$76, 0), 1)","v":1.08},{"$f":"INDEX(Country!$F$31:$G$76, MATCH(AI208, Country!$O$31:$O$76, 0), 2)","v":"Biofuels production"},{"$f":"INDEX(Country!$K$31:$K$76, MATCH(AI208, Country!$O$31:$O$76, 0), 1)","v":"Billion Litres"},"Bolivia",0,0,0,0,0,0,0,0,0,0,0,0,0,0,null,null,null,null,null,null,null,{"$f":"IFERROR(E208/Levelisation!F1445, 0)","v":0},{"$f":"IFERROR(F208/Levelisation!G1445, 0)","v":0},{"$f":"IFERROR(G208/Levelisation!H1445, 0)","v":0},{"$f":"IFERROR(H208/Levelisation!I1445, 0)","v":0},{"$f":"IFERROR(I208/Levelisation!J1445, 0)","v":0},{"$f":"IFERROR(J208/Levelisation!J1445, 0)","v":0},{"$f":"IFERROR(K208/Levelisation!L1445, 0)","v":0},"1.08 > Bolivia",194,8," "]
[{"$f":"INDEX(Country!$F$31:$G$76, MATCH(AI209, Country!$O$31:$O$76, 0), 1)","v":1.08},{"$f":"INDEX(Country!$F$31:$G$76, MATCH(AI209, Country!$O$31:$O$76, 0), 2)","v":"Biofuels production"},{"$f":"INDEX(Country!$K$31:$K$76, MATCH(AI209, Country!$O$31:$O$76, 0), 1)","v":"Billion Litres"},"Brazil",12.169001980999999,22.80432914,28.767128415000002,27.308448417000001,29.986398518000001,25.372759918,25.274548121999999,100,100,100,100,100,100,100,null,null,null,null,null,null,null,{"$f":"IFERROR(E209/Levelisation!F1446, 0)","v":6.4743197847391437E-2},{"$f":"IFERROR(F209/Levelisation!G1446, 0)","v":0.12015052392543651},{"$f":"IFERROR(G209/Levelisation!H1446, 0)","v":0.15018626843580815},{"$f":"IFERROR(H209/Levelisation!I1446, 0)","v":0.14131369913633846},{"$f":"IFERROR(I209/Levelisation!J1446, 0)","v":0.1538182096569837},{"$f":"IFERROR(J209/Levelisation!J1446, 0)","v":0.13015209219941831},{"$f":"IFERROR(K209/Levelisation!L1446, 0)","v":0.12741692228815141},"1.08 > Brazil",{"$f":"AH208+1","v":195},{"$f":"ROUNDUP(AH209/COUNTA($D$15:$D$41),0)","v":8}," "]
[{"$f":"INDEX(Country!$F$31:$G$76, MATCH(AI210, Country!$O$31:$O$76, 0), 1)","v":1.08},{"$f":"INDEX(Country!$F$31:$G$76, MATCH(AI210, Country!$O$31:$O$76, 0), 2)","v":"Biofuels production"},{"$f":"INDEX(Country!$K$31:$K$76, MATCH(AI210, Country!$O$31:$O$76, 0), 1)","v":"Billion Litres"},"Chile",0,0,0,0,0,0,0,0,0,0,0,0,0,0,null,null,null,null,null,null,null,{"$f":"IFERROR(E210/Levelisation!F1447, 0)","v":0},{"$f":"IFERROR(F210/Levelisation!G1447, 0)","v":0},{"$f":"IFERROR(G210/Levelisation!H1447, 0)","v":0},{"$f":"IFERROR(H210/Levelisation!I1447, 0)","v":0},{"$f":"IFERROR(I210/Levelisation!J1447, 0)","v":0},{"$f":"IFERROR(J210/Levelisation!J1447, 0)","v":0},{"$f":"IFERROR(K210/Levelisation!L1447, 0)","v":0},"1.08 > Chile",196,8," "]
[{"$f":"INDEX(Country!$F$31:$G$76, MATCH(AI211, Country!$O$31:$O$76, 0), 1)","v":1.08},{"$f":"INDEX(Country!$F$31:$G$76, MATCH(AI211, Country!$O$31:$O$76, 0), 2)","v":"Biofuels production"},{"$f":"INDEX(Country!$K$31:$K$76, MATCH(AI211, Country!$O$31:$O$76, 0), 1)","v":"Billion Litres"},"Colombia",0,0,0.32580500000000001,0.50142039999999999,0.66878097600000008,0.77970000000000006,0.87485000000000002,0,0,4.8804037574825463,7.8889207617523418,9.5532300895350009,13.162865985643975,14.734629107164839,null,null,null,null,null,null,null,{"$f":"IFERROR(E211/Levelisation!F1448, 0)","v":0},{"$f":"IFERROR(F211/Levelisation!G1448, 0)","v":0},{"$f":"IFERROR(G211/Levelisation!H1448, 0)","v":7.3296962879640043E-3},{"$f":"IFERROR(H211/Levelisation!I1448, 0)","v":1.1148125750366845E-2},{"$f":"IFERROR(I211/Levelisation!J1448, 0)","v":1.4694607488135E-2},{"$f":"IFERROR(J211/Levelisation!J1448, 0)","v":1.7131745473721219E-2},{"$f":"IFERROR(K211/Levelisation!L1448, 0)","v":1.8774410918923561E-2},"1.08 > Colombia",197,8," "]
[{"$f":"INDEX(Country!$F$31:$G$76, MATCH(AI212, Country!$O$31:$O$76, 0), 1)","v":1.08},{"$f":"INDEX(Country!$F$31:$G$76, MATCH(AI212, Country!$O$31:$O$76, 0), 2)","v":"Biofuels production"},{"$f":"INDEX(Country!$K$31:$K$76, MATCH(AI212, Country!$O$31:$O$76, 0), 1)","v":"Billion Litres"},"Costa Rica",3.1E-2,3.1E-2,3.1E-2,3.1E-2,3.1E-2,3.1E-2,3.1E-2,10.997124011897371,5.8071054407585203,4.5535042675578934,4.7482705151487057,4.4177248257535746,5.2210188247566425,5.2142259746409474,null,null,null,null,null,null,null,{"$f":"IFERROR(E212/Levelisation!F1449, 0)","v":7.1198897565457053E-3},{"$f":"IFERROR(F212/Levelisation!G1449, 0)","v":6.9772676119738922E-3},{"$f":"IFERROR(G212/Levelisation!H1449, 0)","v":6.8387381425104778E-3},{"$f":"IFERROR(H212/Levelisation!I1449, 0)","v":6.7099567099567102E-3},{"$f":"IFERROR(I212/Levelisation!J1449, 0)","v":6.7952652345462513E-3},{"$f":"IFERROR(J212/Levelisation!J1449, 0)","v":6.7952652345462513E-3},{"$f":"IFERROR(K212/Levelisation!L1449, 0)","v":6.6438062580368622E-3},"1.08 > Costa Rica",198,8," "]
[{"$f":"INDEX(Country!$F$31:$G$76, MATCH(AI213, Country!$O$31:$O$76, 0), 1)","v":1.08},{"$f":"INDEX(Country!$F$31:$G$76, MATCH(AI213, Country!$O$31:$O$76, 0), 2)","v":"Biofuels production"},{"$f":"INDEX(Country!$K$31:$K$76, MATCH(AI213, Country!$O$31:$O$76, 0), 1)","v":"Billion Litres"},"Dominican Republic",0,0,0,0,0,0,0,0,0,0,0,0,0,0,null,null,null,null,null,null,null,{"$f":"IFERROR(E213/Levelisation!F1450, 0)","v":0},{"$f":"IFERROR(F213/Levelisation!G1450, 0)","v":0},{"$f":"IFERROR(G213/Levelisation!H1450, 0)","v":0},{"$f":"IFERROR(H213/Levelisation!I1450, 0)","v":0},{"$f":"IFERROR(I213/Levelisation!J1450, 0)","v":0},{"$f":"IFERROR(J213/Levelisation!J1450, 0)","v":0},{"$f":"IFERROR(K213/Levelisation!L1450, 0)","v":0},"1.08 > Dominican Republic",199,8," "]
[{"$f":"INDEX(Country!$F$31:$G$76, MATCH(AI214, Country!$O$31:$O$76, 0), 1)","v":1.08},{"$f":"INDEX(Country!$F$31:$G$76, MATCH(AI214, Country!$O$31:$O$76, 0), 2)","v":"Biofuels production"},{"$f":"INDEX(Country!$K$31:$K$76, MATCH(AI214, Country!$O$31:$O$76, 0), 1)","v":"Billion Litres"},"Ecuador",0,0,0,0,0,0,0,0,0,0,0,0,0,0,null,null,null,null,null,null,null,{"$f":"IFERROR(E214/Levelisation!F1451, 0)","v":0},{"$f":"IFERROR(F214/Levelisation!G1451, 0)","v":0},{"$f":"IFERROR(G214/Levelisation!H1451, 0)","v":0},{"$f":"IFERROR(H214/Levelisation!I1451, 0)","v":0},{"$f":"IFERROR(I214/Levelisation!J1451, 0)","v":0},{"$f":"IFERROR(J214/Levelisation!J1451, 0)","v":0},{"$f":"IFERROR(K214/Levelisation!L1451, 0)","v":0},"1.08 > Ecuador",200,8," "]
[{"$f":"INDEX(Country!$F$31:$G$76, MATCH(AI215, Country!$O$31:$O$76, 0), 1)","v":1.08},{"$f":"INDEX(Country!$F$31:$G$76, MATCH(AI215, Country!$O$31:$O$76, 0), 2)","v":"Biofuels production"},{"$f":"INDEX(Country!$K$31:$K$76, MATCH(AI215, Country!$O$31:$O$76, 0), 1)","v":"Billion Litres"},"El Salvador",0,0,0,0,0,0,0,0,0,0,0,0,0,0,null,null,null,null,null,null,null,{"$f":"IFERROR(E215/Levelisation!F1452, 0)","v":0},{"$f":"IFERROR(F215/Levelisation!G1452, 0)","v":0},{"$f":"IFERROR(G215/Levelisation!H1452, 0)","v":0},{"$f":"IFERROR(H215/Levelisation!I1452, 0)","v":0},{"$f":"IFERROR(I215/Levelisation!J1452, 0)","v":0},{"$f":"IFERROR(J215/Levelisation!J1452, 0)","v":0},{"$f":"IFERROR(K215/Levelisation!L1452, 0)","v":0},"1.08 > El Salvador",201,8," "]
[{"$f":"INDEX(Country!$F$31:$G$76, MATCH(AI216, Country!$O$31:$O$76, 0), 1)","v":1.08},{"$f":"INDEX(Country!$F$31:$G$76, MATCH(AI216, Country!$O$31:$O$76, 0), 2)","v":"Biofuels production"},{"$f":"INDEX(Country!$K$31:$K$76, MATCH(AI216, Country!$O$31:$O$76, 0), 1)","v":"Billion Litres"},"Guatemala",0,0.11,0.185,0.17,0.14499999999999999,0.1137,0.13120000000000001,0,6.8557606083036902,9.0004653832628296,8.5762979291039958,6.5568006134074635,6.076325609205508,6.8168854273310826,null,null,null,null,null,null,null,{"$f":"IFERROR(E216/Levelisation!F1453, 0)","v":0},{"$f":"IFERROR(F216/Levelisation!G1453, 0)","v":8.2372322899505763E-3},{"$f":"IFERROR(G216/Levelisation!H1453, 0)","v":1.3517463100979102E-2},{"$f":"IFERROR(H216/Levelisation!I1453, 0)","v":1.2119483852570044E-2},{"$f":"IFERROR(I216/Levelisation!J1453, 0)","v":1.0085553314321484E-2},{"$f":"IFERROR(J216/Levelisation!J1453, 0)","v":7.9084649092300199E-3},{"$f":"IFERROR(K216/Levelisation!L1453, 0)","v":8.6858656074147635E-3},"1.08 > Guatemala",202,8," "]
[{"$f":"INDEX(Country!$F$31:$G$76, MATCH(AI217, Country!$O$31:$O$76, 0), 1)","v":1.08},{"$f":"INDEX(Country!$F$31:$G$76, MATCH(AI217, Country!$O$31:$O$76, 0), 2)","v":"Biofuels production"},{"$f":"INDEX(Country!$K$31:$K$76, MATCH(AI217, Country!$O$31:$O$76, 0), 1)","v":"Billion Litres"},"Guyana",0,0,0,0,0,0,0,0,0,0,0,0,0,0,null,null,null,null,null,null,null,{"$f":"IFERROR(E217/Levelisation!F1454, 0)","v":0},{"$f":"IFERROR(F217/Levelisation!G1454, 0)","v":0},{"$f":"IFERROR(G217/Levelisation!H1454, 0)","v":0},{"$f":"IFERROR(H217/Levelisation!I1454, 0)","v":0},{"$f":"IFERROR(I217/Levelisation!J1454, 0)","v":0},{"$f":"IFERROR(J217/Levelisation!J1454, 0)","v":0},{"$f":"IFERROR(K217/Levelisation!L1454, 0)","v":0},"1.08 > Guyana",203,8," "]
[{"$f":"INDEX(Country!$F$31:$G$76, MATCH(AI218, Country!$O$31:$O$76, 0), 1)","v":1.08},{"$f":"INDEX(Country!$F$31:$G$76, MATCH(AI218, Country!$O$31:$O$76, 0), 2)","v":"Biofuels production"},{"$f":"INDEX(Country!$K$31:$K$76, MATCH(AI218, Country!$O$31:$O$76, 0), 1)","v":"Billion Litres"},"Haiti",0,0,0,0,0,0,0,0,0,0,0,0,0,0,null,null,null,null,null,null,null,{"$f":"IFERROR(E218/Levelisation!F1455, 0)","v":0},{"$f":"IFERROR(F218/Levelisation!G1455, 0)","v":0},{"$f":"IFERROR(G218/Levelisation!H1455, 0)","v":0},{"$f":"IFERROR(H218/Levelisation!I1455, 0)","v":0},{"$f":"IFERROR(I218/Levelisation!J1455, 0)","v":0},{"$f":"IFERROR(J218/Levelisation!J1455, 0)","v":0},{"$f":"IFERROR(K218/Levelisation!L1455, 0)","v":0},"1.08 > Haiti",204,8," "]
[{"$f":"INDEX(Country!$F$31:$G$76, MATCH(AI219, Country!$O$31:$O$76, 0), 1)","v":1.08},{"$f":"INDEX(Country!$F$31:$G$76, MATCH(AI219, Country!$O$31:$O$76, 0), 2)","v":"Biofuels production"},{"$f":"INDEX(Country!$K$31:$K$76, MATCH(AI219, Country!$O$31:$O$76, 0), 1)","v":"Billion Litres"},"Honduras",0,0,0,0,0,0,0,0,0,0,0,0,0,0,null,null,null,null,null,null,null,{"$f":"IFERROR(E219/Levelisation!F1456, 0)","v":0},{"$f":"IFERROR(F219/Levelisation!G1456, 0)","v":0},{"$f":"IFERROR(G219/Levelisation!H1456, 0)","v":0},{"$f":"IFERROR(H219/Levelisation!I1456, 0)","v":0},{"$f":"IFERROR(I219/Levelisation!J1456, 0)","v":0},{"$f":"IFERROR(J219/Levelisation!J1456, 0)","v":0},{"$f":"IFERROR(K219/Levelisation!L1456, 0)","v":0},"1.08 > Honduras",205,8," "]
[{"$f":"INDEX(Country!$F$31:$G$76, MATCH(AI220, Country!$O$31:$O$76, 0), 1)","v":1.08},{"$f":"INDEX(Country!$F$31:$G$76, MATCH(AI220, Country!$O$31:$O$76, 0), 2)","v":"Biofuels production"},{"$f":"INDEX(Country!$K$31:$K$76, MATCH(AI220, Country!$O$31:$O$76, 0), 1)","v":"Billion Litres"},"Jamaica",0,0,0,0,0,0,0,0,0,0,0,0,0,0,null,null,null,null,null,null,null,{"$f":"IFERROR(E220/Levelisation!F1457, 0)","v":0},{"$f":"IFERROR(F220/Levelisation!G1457, 0)","v":0},{"$f":"IFERROR(G220/Levelisation!H1457, 0)","v":0},{"$f":"IFERROR(H220/Levelisation!I1457, 0)","v":0},{"$f":"IFERROR(I220/Levelisation!J1457, 0)","v":0},{"$f":"IFERROR(J220/Levelisation!J1457, 0)","v":0},{"$f":"IFERROR(K220/Levelisation!L1457, 0)","v":0},"1.08 > Jamaica",206,8," "]
[{"$f":"INDEX(Country!$F$31:$G$76, MATCH(AI221, Country!$O$31:$O$76, 0), 1)","v":1.08},{"$f":"INDEX(Country!$F$31:$G$76, MATCH(AI221, Country!$O$31:$O$76, 0), 2)","v":"Biofuels production"},{"$f":"INDEX(Country!$K$31:$K$76, MATCH(AI221, Country!$O$31:$O$76, 0), 1)","v":"Billion Litres"},"Mexico",0,0,0,0,0,0,0,0,0,0,0,0,0,0,null,null,null,null,null,null,null,{"$f":"IFERROR(E221/Levelisation!F1458, 0)","v":0},{"$f":"IFERROR(F221/Levelisation!G1458, 0)","v":0},{"$f":"IFERROR(G221/Levelisation!H1458, 0)","v":0},{"$f":"IFERROR(H221/Levelisation!I1458, 0)","v":0},{"$f":"IFERROR(I221/Levelisation!J1458, 0)","v":0},{"$f":"IFERROR(J221/Levelisation!J1458, 0)","v":0},{"$f":"IFERROR(K221/Levelisation!L1458, 0)","v":0},"1.08 > Mexico",207,8," "]
[{"$f":"INDEX(Country!$F$31:$G$76, MATCH(AI222, Country!$O$31:$O$76, 0), 1)","v":1.08},{"$f":"INDEX(Country!$F$31:$G$76, MATCH(AI222, Country!$O$31:$O$76, 0), 2)","v":"Biofuels production"},{"$f":"INDEX(Country!$K$31:$K$76, MATCH(AI222, Country!$O$31:$O$76, 0), 1)","v":"Billion Litres"},"Nicaragua",0,0.03,0.03,0.03,0.03,0.03,0.03,0,4.4578968283238778,3.5198581517419241,3.6933479998631258,3.3528524272717575,3.9625160755527129,3.9365914208447177,null,null,null,null,null,null,null,{"$f":"IFERROR(E222/Levelisation!F1459, 0)","v":0},{"$f":"IFERROR(F222/Levelisation!G1459, 0)","v":5.3561863952865559E-3},{"$f":"IFERROR(G222/Levelisation!H1459, 0)","v":5.2863436123348016E-3},{"$f":"IFERROR(H222/Levelisation!I1459, 0)","v":5.2192066805845511E-3},{"$f":"IFERROR(I222/Levelisation!J1459, 0)","v":5.1572975760701386E-3},{"$f":"IFERROR(J222/Levelisation!J1459, 0)","v":5.1572975760701386E-3},{"$f":"IFERROR(K222/Levelisation!L1459, 0)","v":5.0158836314997488E-3},"1.08 > Nicaragua",208,8," "]
[{"$f":"INDEX(Country!$F$31:$G$76, MATCH(AI223, Country!$O$31:$O$76, 0), 1)","v":1.08},{"$f":"INDEX(Country!$F$31:$G$76, MATCH(AI223, Country!$O$31:$O$76, 0), 2)","v":"Biofuels production"},{"$f":"INDEX(Country!$K$31:$K$76, MATCH(AI223, Country!$O$31:$O$76, 0), 1)","v":"Billion Litres"},"Panama",0,0,0,0,0,0,0,0,0,0,0,0,0,0,null,null,null,null,null,null,null,{"$f":"IFERROR(E223/Levelisation!F1460, 0)","v":0},{"$f":"IFERROR(F223/Levelisation!G1460, 0)","v":0},{"$f":"IFERROR(G223/Levelisation!H1460, 0)","v":0},{"$f":"IFERROR(H223/Levelisation!I1460, 0)","v":0},{"$f":"IFERROR(I223/Levelisation!J1460, 0)","v":0},{"$f":"IFERROR(J223/Levelisation!J1460, 0)","v":0},{"$f":"IFERROR(K223/Levelisation!L1460, 0)","v":0},"1.08 > Panama",209,8," "]
[{"$f":"INDEX(Country!$F$31:$G$76, MATCH(AI224, Country!$O$31:$O$76, 0), 1)","v":1.08},{"$f":"INDEX(Country!$F$31:$G$76, MATCH(AI224, Country!$O$31:$O$76, 0), 2)","v":"Biofuels production"},{"$f":"INDEX(Country!$K$31:$K$76, MATCH(AI224, Country!$O$31:$O$76, 0), 1)","v":"Billion Litres"},"Paraguay",3.1E-2,5.16E-2,5.5641000000000003E-2,0.1025716,0.13847709999999999,0.146976,0.20974000000000001,8.0949244205919104,7.118536355537926,6.020148551698548,11.563538120989152,14.06224104312493,17.639229067712034,24.712388303259146,null,null,null,null,null,null,null,{"$f":"IFERROR(E224/Levelisation!F1461, 0)","v":5.2409129332206253E-3},{"$f":"IFERROR(F224/Levelisation!G1461, 0)","v":8.5529587270014914E-3},{"$f":"IFERROR(G224/Levelisation!H1461, 0)","v":9.0414364640883978E-3},{"$f":"IFERROR(H224/Levelisation!I1461, 0)","v":1.6340863469810417E-2},{"$f":"IFERROR(I224/Levelisation!J1461, 0)","v":2.1630287410184315E-2},{"$f":"IFERROR(J224/Levelisation!J1461, 0)","v":2.2957825679475161E-2},{"$f":"IFERROR(K224/Levelisation!L1461, 0)","v":3.1487764599909929E-2},"1.08 > Paraguay",210,8," "]
[{"$f":"INDEX(Country!$F$31:$G$76, MATCH(AI225, Country!$O$31:$O$76, 0), 1)","v":1.08},{"$f":"INDEX(Country!$F$31:$G$76, MATCH(AI225, Country!$O$31:$O$76, 0), 2)","v":"Biofuels production"},{"$f":"INDEX(Country!$K$31:$K$76, MATCH(AI225, Country!$O$31:$O$76, 0), 1)","v":"Billion Litres"},"Peru",2.7300000000000001E-2,4.8300000000000003E-2,0.39899999999999997,0.41774999999999995,0.43374000000000001,0.55845,0.59150000000000003,1.525564105288002,1.424456079446571,9.2706875684161307,10.158375929426631,9.5418996504115086,14.519319543648106,15.233446621048257,null,null,null,null,null,null,null,{"$f":"IFERROR(E225/Levelisation!F1462, 0)","v":9.8769898697539807E-4},{"$f":"IFERROR(F225/Levelisation!G1462, 0)","v":1.7114914425427875E-3},{"$f":"IFERROR(G225/Levelisation!H1462, 0)","v":1.3923299717346545E-2},{"$f":"IFERROR(H225/Levelisation!I1462, 0)","v":1.4355176798048175E-2},{"$f":"IFERROR(I225/Levelisation!J1462, 0)","v":1.4677179209528967E-2},{"$f":"IFERROR(J225/Levelisation!J1462, 0)","v":1.8897198159177044E-2},{"$f":"IFERROR(K225/Levelisation!L1462, 0)","v":1.9409988842948086E-2},"1.08 > Peru",211,8," "]
[{"$f":"INDEX(Country!$F$31:$G$76, MATCH(AI226, Country!$O$31:$O$76, 0), 1)","v":1.08},{"$f":"INDEX(Country!$F$31:$G$76, MATCH(AI226, Country!$O$31:$O$76, 0), 2)","v":"Biofuels production"},{"$f":"INDEX(Country!$K$31:$K$76, MATCH(AI226, Country!$O$31:$O$76, 0), 1)","v":"Billion Litres"},"Suriname",0,0,0,0,0,0,0,0,0,0,0,0,0,0,null,null,null,null,null,null,null,{"$f":"IFERROR(E226/Levelisation!F1463, 0)","v":0},{"$f":"IFERROR(F226/Levelisation!G1463, 0)","v":0},{"$f":"IFERROR(G226/Levelisation!H1463, 0)","v":0},{"$f":"IFERROR(H226/Levelisation!I1463, 0)","v":0},{"$f":"IFERROR(I226/Levelisation!J1463, 0)","v":0},{"$f":"IFERROR(J226/Levelisation!J1463, 0)","v":0},{"$f":"IFERROR(K226/Levelisation!L1463, 0)","v":0},"1.08 > Suriname",212,8," "]
[{"$f":"INDEX(Country!$F$31:$G$76, MATCH(AI227, Country!$O$31:$O$76, 0), 1)","v":1.08},{"$f":"INDEX(Country!$F$31:$G$76, MATCH(AI227, Country!$O$31:$O$76, 0), 2)","v":"Biofuels production"},{"$f":"INDEX(Country!$K$31:$K$76, MATCH(AI227, Country!$O$31:$O$76, 0), 1)","v":"Billion Litres"},"Trinidad & Tobago",0,0,0,0,0,0,0,0,0,0,0,0,0,0,null,null,null,null,null,null,null,{"$f":"IFERROR(E227/Levelisation!F1464, 0)","v":0},{"$f":"IFERROR(F227/Levelisation!G1464, 0)","v":0},{"$f":"IFERROR(G227/Levelisation!H1464, 0)","v":0},{"$f":"IFERROR(H227/Levelisation!I1464, 0)","v":0},{"$f":"IFERROR(I227/Levelisation!J1464, 0)","v":0},{"$f":"IFERROR(J227/Levelisation!J1464, 0)","v":0},{"$f":"IFERROR(K227/Levelisation!L1464, 0)","v":0},"1.08 > Trinidad & Tobago",213,8," "]
[{"$f":"INDEX(Country!$F$31:$G$76, MATCH(AI228, Country!$O$31:$O$76, 0), 1)","v":1.08},{"$f":"INDEX(Country!$F$31:$G$76, MATCH(AI228, Country!$O$31:$O$76, 0), 2)","v":"Biofuels production"},{"$f":"INDEX(Country!$K$31:$K$76, MATCH(AI228, Country!$O$31:$O$76, 0), 1)","v":"Billion Litres"},"Uruguay",0,0,0,0,0,0,0,0,0,0,0,0,0,0,null,null,null,null,null,null,null,{"$f":"IFERROR(E228/Levelisation!F1465, 0)","v":0},{"$f":"IFERROR(F228/Levelisation!G1465, 0)","v":0},{"$f":"IFERROR(G228/Levelisation!H1465, 0)","v":0},{"$f":"IFERROR(H228/Levelisation!I1465, 0)","v":0},{"$f":"IFERROR(I228/Levelisation!J1465, 0)","v":0},{"$f":"IFERROR(J228/Levelisation!J1465, 0)","v":0},{"$f":"IFERROR(K228/Levelisation!L1465, 0)","v":0},"1.08 > Uruguay",214,8," "]
[{"$f":"INDEX(Country!$F$31:$G$76, MATCH(AI229, Country!$O$31:$O$76, 0), 1)","v":1.08},{"$f":"INDEX(Country!$F$31:$G$76, MATCH(AI229, Country!$O$31:$O$76, 0), 2)","v":"Biofuels production"},{"$f":"INDEX(Country!$K$31:$K$76, MATCH(AI229, Country!$O$31:$O$76, 0), 1)","v":"Billion Litres"},"Venezuela",0,0,0,0,0,0,0,0,0,0,0,0,0,0,null,null,null,null,null,null,null,{"$f":"IFERROR(E229/Levelisation!F1466, 0)","v":0},{"$f":"IFERROR(F229/Levelisation!G1466, 0)","v":0},{"$f":"IFERROR(G229/Levelisation!H1466, 0)","v":0},{"$f":"IFERROR(H229/Levelisation!I1466, 0)","v":0},{"$f":"IFERROR(I229/Levelisation!J1466, 0)","v":0},{"$f":"IFERROR(J229/Levelisation!J1466, 0)","v":0},{"$f":"IFERROR(K229/Levelisation!L1466, 0)","v":0},"1.08 > Venezuela",215,8," "]
[{"$f":"INDEX(Country!$F$31:$G$76, MATCH(AI230, Country!$O$31:$O$76, 0), 1)","v":1.08},{"$f":"INDEX(Country!$F$31:$G$76, MATCH(AI230, Country!$O$31:$O$76, 0), 2)","v":"Biofuels production"},{"$f":"INDEX(Country!$K$31:$K$76, MATCH(AI230, Country!$O$31:$O$76, 0), 1)","v":"Billion Litres"},"Benchmark",{"$f":"IFERROR(MAX(E204:E229), 0)","v":12.169001980999999},{"$f":"IFERROR(MAX(F204:F229), 0)","v":22.80432914},28.767128415000002,27.308448417000001,29.986398518000001,25.372759918,25.274548121999999,{"$f":"MAX(Z204:Z229)","v":6.4743197847391437E-2},0.12015052392543651,{"$f":"MAX(AB204:AB229)","v":0.15018626843580815},{"$f":"MAX(AC204:AC229)","v":0.14131369913633846},{"$f":"MAX(AD204:AD229)","v":0.1538182096569837},{"$f":"MAX(AE204:AE229)","v":0.13015209219941831},{"$f":"MAX(AF204:AF229)","v":0.12741692228815141},null,null,null,null,null,null,null,null,null,null,null,null,null,null,"1.08 > Benchmark",216,8," "]
[{"$f":"INDEX(Country!$F$31:$G$76, MATCH(AI231, Country!$O$31:$O$76, 0), 1)","v":1.0900000000000001},{"$f":"INDEX(Country!$F$31:$G$76, MATCH(AI231, Country!$O$31:$O$76, 0), 2)","v":"Growth rate biofuels production"},{"$f":"INDEX(Country!$K$31:$K$76, MATCH(AI231, Country!$O$31:$O$76, 0), 1)","v":"%"},"Argentina",null,{"$f":"IF(E204<>0, F204/E204-1, 0)","v":0},{"$f":"IF(F204<>0, G204/F204-1, 0)","v":0.68137258423092262},0.56534629936691805,0.49844025267087955,0.33635658268777102,9.3025827171573816E-2,{"$f":"IFERROR(dbl_BenchmarkMax*E231/ SUMIFS(E$15:E$1256, $D$15:$D$1256, \"Benchmark\", $B$15:$B$1256,$B231), 0)","v":0},{"$f":"IFERROR(dbl_BenchmarkMax*F231/ SUMIFS(F$15:F$1256, $D$15:$D$1256, \"Benchmark\", $B$15:$B$1256,$B231), 0)","v":0},{"$f":"IFERROR(dbl_BenchmarkMax*G231/ SUMIFS(G$15:G$1256, $D$15:$D$1256, \"Benchmark\", $B$15:$B$1256,$B231), 0)","v":9.3841733157552234},{"$f":"IFERROR(dbl_BenchmarkMax*H231/ SUMIFS(H$15:H$1256, $D$15:$D$1256, \"Benchmark\", $B$15:$B$1256,$B231), 0)","v":67.027554395372519},{"$f":"IFERROR(dbl_BenchmarkMax*I231/ SUMIFS(I$15:I$1256, $D$15:$D$1256, \"Benchmark\", $B$15:$B$1256,$B231), 0)","v":100},{"$f":"IFERROR(dbl_BenchmarkMax*J231/ SUMIFS(J$15:J$1256, $D$15:$D$1256, \"Benchmark\", $B$15:$B$1256,$B231), 0)","v":99.999999999999986},{"$f":"IFERROR(dbl_BenchmarkMax*K231/ SUMIFS(K$15:K$1256, $D$15:$D$1256, \"Benchmark\", $B$15:$B$1256,$B231), 0)","v":21.784086378129551},null,null,null,null,null,null,null,null,null,null,null,null,null,null,"1.09 > Argentina",217,9," "]
[{"$f":"INDEX(Country!$F$31:$G$76, MATCH(AI232, Country!$O$31:$O$76, 0), 1)","v":1.0900000000000001},{"$f":"INDEX(Country!$F$31:$G$76, MATCH(AI232, Country!$O$31:$O$76, 0), 2)","v":"Growth rate biofuels production"},{"$f":"INDEX(Country!$K$31:$K$76, MATCH(AI232, Country!$O$31:$O$76, 0), 1)","v":"%"},"Bahamas",null,{"$f":"IF(E205<>0, F205/E205-1, 0)","v":0},0,0,0,0,0,0,0,0,0,0,0,0,null,null,null,null,null,null,null,null,null,null,null,null,null,null,"1.09 > Bahamas",218,9," "]
[{"$f":"INDEX(Country!$F$31:$G$76, MATCH(AI233, Country!$O$31:$O$76, 0), 1)","v":1.0900000000000001},{"$f":"INDEX(Country!$F$31:$G$76, MATCH(AI233, Country!$O$31:$O$76, 0), 2)","v":"Growth rate biofuels production"},{"$f":"INDEX(Country!$K$31:$K$76, MATCH(AI233, Country!$O$31:$O$76, 0), 1)","v":"%"},"Barbados",null,{"$f":"IF(E206<>0, F206/E206-1, 0)","v":0},0,0,0,0,0,0,0,0,0,0,0,0,null,null,null,null,null,null,null,null,null,null,null,null,null,null,"1.09 > Barbados",219,9," "]
[{"$f":"INDEX(Country!$F$31:$G$76, MATCH(AI234, Country!$O$31:$O$76, 0), 1)","v":1.0900000000000001},{"$f":"INDEX(Country!$F$31:$G$76, MATCH(AI234, Country!$O$31:$O$76, 0), 2)","v":"Growth rate biofuels production"},{"$f":"INDEX(Country!$K$31:$K$76, MATCH(AI234, Country!$O$31:$O$76, 0), 1)","v":"%"},"Belize",null,{"$f":"IF(E207<>0, F207/E207-1, 0)","v":0},0,0,0,0,0,0,0,0,0,0,0,0,null,null,null,null,null,null,null,null,null,null,null,null,null,null,"1.09 > Belize",220,9," "]
[{"$f":"INDEX(Country!$F$31:$G$76, MATCH(AI235, Country!$O$31:$O$76, 0), 1)","v":1.0900000000000001},{"$f":"INDEX(Country!$F$31:$G$76, MATCH(AI235, Country!$O$31:$O$76, 0), 2)","v":"Growth rate biofuels production"},{"$f":"INDEX(Country!$K$31:$K$76, MATCH(AI235, Country!$O$31:$O$76, 0), 1)","v":"%"},{"$f":"D208","v":"Bolivia"},null,{"$f":"IF(E208<>0, F208/E208-1, 0)","v":0},0,0,0,0,0,0,0,0,0,0,0,0,null,null,null,null,null,null,null,null,null,null,null,null,null,null,"1.09 > Bolivia",221,9," "]
[{"$f":"INDEX(Country!$F$31:$G$76, MATCH(AI236, Country!$O$31:$O$76, 0), 1)","v":1.0900000000000001},{"$f":"INDEX(Country!$F$31:$G$76, MATCH(AI236, Country!$O$31:$O$76, 0), 2)","v":"Growth rate biofuels production"},{"$f":"INDEX(Country!$K$31:$K$76, MATCH(AI236, Country!$O$31:$O$76, 0), 1)","v":"%"},"Brazil",null,{"$f":"IF(E209<>0, F209/E209-1, 0)","v":0.87396872608003573},0.26147663622960682,-5.0706486130864703E-2,9.8063063126388794E-2,-0.15385770976232982,-3.8707573128584638E-3,0,100,3.6011752295095554,-6.0117697084789956,19.673985518007491,-45.742440517405001,-0.90642474478153967,null,null,null,null,null,null,null,null,null,null,null,null,null,null,"1.09 > Brazil",222,9," "]
[{"$f":"INDEX(Country!$F$31:$G$76, MATCH(AI237, Country!$O$31:$O$76, 0), 1)","v":1.0900000000000001},{"$f":"INDEX(Country!$F$31:$G$76, MATCH(AI237, Country!$O$31:$O$76, 0), 2)","v":"Growth rate biofuels production"},{"$f":"INDEX(Country!$K$31:$K$76, MATCH(AI237, Country!$O$31:$O$76, 0), 1)","v":"%"},"Chile",null,{"$f":"IF(E210<>0, F210/E210-1, 0)","v":0},0,0,0,0,0,0,0,0,0,0,0,0,null,null,null,null,null,null,null,null,null,null,null,null,null,null,"1.09 > Chile",223,9," "]
[{"$f":"INDEX(Country!$F$31:$G$76, MATCH(AI238, Country!$O$31:$O$76, 0), 1)","v":1.0900000000000001},{"$f":"INDEX(Country!$F$31:$G$76, MATCH(AI238, Country!$O$31:$O$76, 0), 2)","v":"Growth rate biofuels production"},{"$f":"INDEX(Country!$K$31:$K$76, MATCH(AI238, Country!$O$31:$O$76, 0), 1)","v":"%"},"Colombia",null,{"$f":"IF(E211<>0, F211/E211-1, 0)","v":0},0,0.53901996593054124,0.33377296974754134,0.16585254063805777,0.12203411568552003,0,0,0,63.906299779549478,66.963486186965696,49.308546100913787,28.577028530678398,null,null,null,null,null,null,null,null,null,null,null,null,null,null,"1.09 > Colombia",224,9," "]
[{"$f":"INDEX(Country!$F$31:$G$76, MATCH(AI239, Country!$O$31:$O$76, 0), 1)","v":1.0900000000000001},{"$f":"INDEX(Country!$F$31:$G$76, MATCH(AI239, Country!$O$31:$O$76, 0), 2)","v":"Growth rate biofuels production"},{"$f":"INDEX(Country!$K$31:$K$76, MATCH(AI239, Country!$O$31:$O$76, 0), 1)","v":"%"},"Costa Rica",null,{"$f":"IF(E212<>0, F212/E212-1, 0)","v":0},0,0,0,0,0,0,0,0,0,0,0,0,null,null,null,null,null,null,null,null,null,null,null,null,null,null,"1.09 > Costa Rica",225,9," "]
[{"$f":"INDEX(Country!$F$31:$G$76, MATCH(AI240, Country!$O$31:$O$76, 0), 1)","v":1.0900000000000001},{"$f":"INDEX(Country!$F$31:$G$76, MATCH(AI240, Country!$O$31:$O$76, 0), 2)","v":"Growth rate biofuels production"},{"$f":"INDEX(Country!$K$31:$K$76, MATCH(AI240, Country!$O$31:$O$76, 0), 1)","v":"%"},"Dominican Republic",null,{"$f":"IF(E213<>0, F213/E213-1, 0)","v":0},0,0,0,0,0,0,0,0,0,0,0,0,null,null,null,null,null,null,null,null,null,null,null,null,null,null,"1.09 > Dominican Republic",226,9," "]
[{"$f":"INDEX(Country!$F$31:$G$76, MATCH(AI241, Country!$O$31:$O$76, 0), 1)","v":1.0900000000000001},{"$f":"INDEX(Country!$F$31:$G$76, MATCH(AI241, Country!$O$31:$O$76, 0), 2)","v":"Growth rate biofuels production"},{"$f":"INDEX(Country!$K$31:$K$76, MATCH(AI241, Country!$O$31:$O$76, 0), 1)","v":"%"},"Ecuador",null,{"$f":"IF(E214<>0, F214/E214-1, 0)","v":0},0,0,0,0,0,0,0,0,0,0,0,0,null,null,null,null,null,null,null,null,null,null,null,null,null,null,"1.09 > Ecuador",227,9," "]
[{"$f":"INDEX(Country!$F$31:$G$76, MATCH(AI242, Country!$O$31:$O$76, 0), 1)","v":1.0900000000000001},{"$f":"INDEX(Country!$F$31:$G$76, MATCH(AI242, Country!$O$31:$O$76, 0), 2)","v":"Growth rate biofuels production"},{"$f":"INDEX(Country!$K$31:$K$76, MATCH(AI242, Country!$O$31:$O$76, 0), 1)","v":"%"},"El Salvador",null,{"$f":"IF(E215<>0, F215/E215-1, 0)","v":0},0,0,0,0,0,0,0,0,0,0,0,0,null,null,null,null,null,null,null,null,null,null,null,null,null,null,"1.09 > El Salvador",228,9," "]
[{"$f":"INDEX(Country!$F$31:$G$76, MATCH(AI243, Country!$O$31:$O$76, 0), 1)","v":1.0900000000000001},{"$f":"INDEX(Country!$F$31:$G$76, MATCH(AI243, Country!$O$31:$O$76, 0), 2)","v":"Growth rate biofuels production"},{"$f":"INDEX(Country!$K$31:$K$76, MATCH(AI243, Country!$O$31:$O$76, 0), 1)","v":"%"},"Guatemala",null,{"$f":"IF(E216<>0, F216/E216-1, 0)","v":0},0.68181818181818188,-8.108108108108103E-2,-0.14705882352941191,-0.21586206896551718,0.15391380826737033,0,0,9.3903102885138825,-9.612986904988281,-29.503801657550913,-64.176555499701635,36.042374424678194,null,null,null,null,null,null,null,null,null,null,null,null,null,null,"1.09 > Guatemala",229,9," "]
[{"$f":"INDEX(Country!$F$31:$G$76, MATCH(AI244, Country!$O$31:$O$76, 0), 1)","v":1.0900000000000001},{"$f":"INDEX(Country!$F$31:$G$76, MATCH(AI244, Country!$O$31:$O$76, 0), 2)","v":"Growth rate biofuels production"},{"$f":"INDEX(Country!$K$31:$K$76, MATCH(AI244, Country!$O$31:$O$76, 0), 1)","v":"%"},"Guyana",null,{"$f":"IF(E217<>0, F217/E217-1, 0)","v":0},0,0,0,0,0,0,0,0,0,0,0,0,null,null,null,null,null,null,null,null,null,null,null,null,null,null,"1.09 > Guyana",230,9," "]
[{"$f":"INDEX(Country!$F$31:$G$76, MATCH(AI245, Country!$O$31:$O$76, 0), 1)","v":1.0900000000000001},{"$f":"INDEX(Country!$F$31:$G$76, MATCH(AI245, Country!$O$31:$O$76, 0), 2)","v":"Growth rate biofuels production"},{"$f":"INDEX(Country!$K$31:$K$76, MATCH(AI245, Country!$O$31:$O$76, 0), 1)","v":"%"},"Haiti",null,{"$f":"IF(E218<>0, F218/E218-1, 0)","v":0},0,0,0,0,0,0,0,0,0,0,0,0,null,null,null,null,null,null,null,null,null,null,null,null,null,null,"1.09 > Haiti",231,9," "]
[{"$f":"INDEX(Country!$F$31:$G$76, MATCH(AI246, Country!$O$31:$O$76, 0), 1)","v":1.0900000000000001},{"$f":"INDEX(Country!$F$31:$G$76, MATCH(AI246, Country!$O$31:$O$76, 0), 2)","v":"Growth rate biofuels production"},{"$f":"INDEX(Country!$K$31:$K$76, MATCH(AI246, Country!$O$31:$O$76, 0), 1)","v":"%"},"Honduras",null,{"$f":"IF(E219<>0, F219/E219-1, 0)","v":0},0,0,0,0,0,0,0,0,0,0,0,0,null,null,null,null,null,null,null,null,null,null,null,null,null,null,"1.09 > Honduras",232,9," "]
[{"$f":"INDEX(Country!$F$31:$G$76, MATCH(AI247, Country!$O$31:$O$76, 0), 1)","v":1.0900000000000001},{"$f":"INDEX(Country!$F$31:$G$76, MATCH(AI247, Country!$O$31:$O$76, 0), 2)","v":"Growth rate biofuels production"},{"$f":"INDEX(Country!$K$31:$K$76, MATCH(AI247, Country!$O$31:$O$76, 0), 1)","v":"%"},"Jamaica",null,{"$f":"IF(E220<>0, F220/E220-1, 0)","v":0},{"$f":"IF(F220<>0, G220/F220-1, 0)","v":0},{"$f":"IF(G220<>0, H220/G220-1, 0)","v":0},{"$f":"IF(H220<>0, I220/H220-1, 0)","v":0},{"$f":"IF(I220<>0, J220/I220-1, 0)","v":0},{"$f":"IF(J220<>0, K220/J220-1, 0)","v":0},0,0,0,0,0,0,0,null,null,null,null,null,null,null,null,null,null,null,null,null,null,"1.09 > Jamaica",233,9," "]
[{"$f":"INDEX(Country!$F$31:$G$76, MATCH(AI248, Country!$O$31:$O$76, 0), 1)","v":1.0900000000000001},{"$f":"INDEX(Country!$F$31:$G$76, MATCH(AI248, Country!$O$31:$O$76, 0), 2)","v":"Growth rate biofuels production"},{"$f":"INDEX(Country!$K$31:$K$76, MATCH(AI248, Country!$O$31:$O$76, 0), 1)","v":"%"},"Mexico",null,{"$f":"IF(E221<>0, F221/E221-1, 0)","v":0},0,0,0,0,0,0,0,0,0,0,0,0,null,null,null,null,null,null,null,null,null,null,null,null,null,null,"1.09 > Mexico",234,9," "]
[{"$f":"INDEX(Country!$F$31:$G$76, MATCH(AI249, Country!$O$31:$O$76, 0), 1)","v":1.0900000000000001},{"$f":"INDEX(Country!$F$31:$G$76, MATCH(AI249, Country!$O$31:$O$76, 0), 2)","v":"Growth rate biofuels production"},{"$f":"INDEX(Country!$K$31:$K$76, MATCH(AI249, Country!$O$31:$O$76, 0), 1)","v":"%"},"Nicaragua",null,{"$f":"IF(E222<>0, F222/E222-1, 0)","v":0},0,0,0,0,0,0,0,0,0,0,0,0,null,null,null,null,null,null,null,null,null,null,null,null,null,null,"1.09 > Nicaragua",235,9," "]
[{"$f":"INDEX(Country!$F$31:$G$76, MATCH(AI250, Country!$O$31:$O$76, 0), 1)","v":1.0900000000000001},{"$f":"INDEX(Country!$F$31:$G$76, MATCH(AI250, Country!$O$31:$O$76, 0), 2)","v":"Growth rate biofuels production"},{"$f":"INDEX(Country!$K$31:$K$76, MATCH(AI250, Country!$O$31:$O$76, 0), 1)","v":"%"},"Panama",null,{"$f":"IF(E223<>0, F223/E223-1, 0)","v":0},0,0,0,0,0,0,0,0,0,0,0,0,null,null,null,null,null,null,null,null,null,null,null,null,null,null,"1.09 > Panama",236,9," "]
[{"$f":"INDEX(Country!$F$31:$G$76, MATCH(AI251, Country!$O$31:$O$76, 0), 1)","v":1.0900000000000001},{"$f":"INDEX(Country!$F$31:$G$76, MATCH(AI251, Country!$O$31:$O$76, 0), 2)","v":"Growth rate biofuels production"},{"$f":"INDEX(Country!$K$31:$K$76, MATCH(AI251, Country!$O$31:$O$76, 0), 1)","v":"%"},"Paraguay",null,{"$f":"IF(E224<>0, F224/E224-1, 0)","v":0.6645161290322581},7.8313953488372112E-2,0.84345356841178254,0.35005303612305938,6.1374046683531081E-2,0.42703570650990641,0,76.034314409941885,1.0785754073248854,100,70.229688362308011,18.246720844022438,100,null,null,null,null,null,null,null,null,null,null,null,null,null,null,"1.09 > Paraguay",237,9," "]
[{"$f":"INDEX(Country!$F$31:$G$76, MATCH(AI252, Country!$O$31:$O$76, 0), 1)","v":1.0900000000000001},{"$f":"INDEX(Country!$F$31:$G$76, MATCH(AI252, Country!$O$31:$O$76, 0), 2)","v":"Growth rate biofuels production"},{"$f":"INDEX(Country!$K$31:$K$76, MATCH(AI252, Country!$O$31:$O$76, 0), 1)","v":"%"},"Peru",null,{"$f":"IF(E225<>0, F225/E225-1, 0)","v":0.76923076923076916},7.2608695652173907,4.6992481203007586E-2,3.8276481149012609E-2,0.28752247890441285,5.9181663532993145E-2,0,88.015823252733313,99.999999999999986,5.5714366460615157,7.6792516141922826,85.481448469617348,13.858715472922695,null,null,null,null,null,null,null,null,null,null,null,null,null,null,"1.09 > Peru",238,9," "]
[{"$f":"INDEX(Country!$F$31:$G$76, MATCH(AI253, Country!$O$31:$O$76, 0), 1)","v":1.0900000000000001},{"$f":"INDEX(Country!$F$31:$G$76, MATCH(AI253, Country!$O$31:$O$76, 0), 2)","v":"Growth rate biofuels production"},{"$f":"INDEX(Country!$K$31:$K$76, MATCH(AI253, Country!$O$31:$O$76, 0), 1)","v":"%"},"Suriname",null,{"$f":"IF(E226<>0, F226/E226-1, 0)","v":0},0,0,0,0,0,0,0,0,0,0,0,0,null,null,null,null,null,null,null,null,null,null,null,null,null,null,"1.09 > Suriname",239,9," "]
[{"$f":"INDEX(Country!$F$31:$G$76, MATCH(AI254, Country!$O$31:$O$76, 0), 1)","v":1.0900000000000001},{"$f":"INDEX(Country!$F$31:$G$76, MATCH(AI254, Country!$O$31:$O$76, 0), 2)","v":"Growth rate biofuels production"},{"$f":"INDEX(Country!$K$31:$K$76, MATCH(AI254, Country!$O$31:$O$76, 0), 1)","v":"%"},"Trinidad & Tobago",null,{"$f":"IF(E227<>0, F227/E227-1, 0)","v":0},0,0,0,0,0,0,0,0,0,0,0,0,null,null,null,null,null,null,null,null,null,null,null,null,null,null,"1.09 > Trinidad & Tobago",240,9," "]
[{"$f":"INDEX(Country!$F$31:$G$76, MATCH(AI255, Country!$O$31:$O$76, 0), 1)","v":1.0900000000000001},{"$f":"INDEX(Country!$F$31:$G$76, MATCH(AI255, Country!$O$31:$O$76, 0), 2)","v":"Growth rate biofuels production"},{"$f":"INDEX(Country!$K$31:$K$76, MATCH(AI255, Country!$O$31:$O$76, 0), 1)","v":"%"},"Uruguay",null,{"$f":"IF(E228<>0, F228/E228-1, 0)","v":0},0,0,0,0,0,0,0,0,0,0,0,0,null,null,null,null,null,null,null,null,null,null,null,null,null,null,"1.09 > Uruguay",241,9," "]
[{"$f":"INDEX(Country!$F$31:$G$76, MATCH(AI256, Country!$O$31:$O$76, 0), 1)","v":1.0900000000000001},{"$f":"INDEX(Country!$F$31:$G$76, MATCH(AI256, Country!$O$31:$O$76, 0), 2)","v":"Growth rate biofuels production"},{"$f":"INDEX(Country!$K$31:$K$76, MATCH(AI256, Country!$O$31:$O$76, 0), 1)","v":"%"},"Venezuela",null,{"$f":"IF(E229<>0, F229/E229-1, 0)","v":0},0,0,0,0,0,0,0,0,0,0,0,0,null,null,null,null,null,null,null,null,null,null,null,null,null,null,"1.09 > Venezuela",242,9," "]
[{"$f":"INDEX(Country!$F$31:$G$76, MATCH(AI257, Country!$O$31:$O$76, 0), 1)","v":1.0900000000000001},{"$f":"INDEX(Country!$F$31:$G$76, MATCH(AI257, Country!$O$31:$O$76, 0), 2)","v":"Growth rate biofuels production"},{"$f":"INDEX(Country!$K$31:$K$76, MATCH(AI257, Country!$O$31:$O$76, 0), 1)","v":"%"},"Benchmark",{"$f":"IFERROR(MAX(E231:E256), 0)","v":0},{"$f":"IFERROR(MAX(F231:F256), 0)","v":0.87396872608003573},7.2608695652173907,0.84345356841178254,0.49844025267087955,0.33635658268777102,0.42703570650990641,0,100,99.999999999999986,100,100,99.999999999999986,100,null,null,null,null,null,null,null,null,null,null,null,null,null,null,"1.09 > Benchmark",243,9," "]
[{"$f":"INDEX(Country!$F$31:$G$76, MATCH(AI258, Country!$O$31:$O$76, 0), 1)","v":1.1000000000000001},{"$f":"INDEX(Country!$F$31:$G$76, MATCH(AI258, Country!$O$31:$O$76, 0), 2)","v":"Average electricity spot prices"},{"$f":"INDEX(Country!$K$31:$K$76, MATCH(AI258, Country!$O$31:$O$76, 0), 1)","v":"USD/MWh"},"Argentina",30.090249999999997,42.147300000000001,52.555599999999998,48.025680000000001,65.535910000000001,77.228640000000013,77.228640000000013,14.397937700368436,29.912883347445067,22.928905909157006,31.421622073517817,36.46736676146903,35.692355409831023,34.713921622978212,null,null,null,null,null,null,null,null,null,null,null,null,null,null,"1.1 > Argentina",244,10," "]
[{"$f":"INDEX(Country!$F$31:$G$76, MATCH(AI259, Country!$O$31:$O$76, 0), 1)","v":1.1000000000000001},{"$f":"INDEX(Country!$F$31:$G$76, MATCH(AI259, Country!$O$31:$O$76, 0), 2)","v":"Average electricity spot prices"},{"$f":"INDEX(Country!$K$31:$K$76, MATCH(AI259, Country!$O$31:$O$76, 0), 1)","v":"USD/MWh"},"Bahamas",0,0,0,0,0,0,0,0,0,0,0,0,0,0,null,null,null,null,null,null,null,null,null,null,null,null,null,null,"1.1 > Bahamas",245,10," "]
[{"$f":"INDEX(Country!$F$31:$G$76, MATCH(AI260, Country!$O$31:$O$76, 0), 1)","v":1.1000000000000001},{"$f":"INDEX(Country!$F$31:$G$76, MATCH(AI260, Country!$O$31:$O$76, 0), 2)","v":"Average electricity spot prices"},{"$f":"INDEX(Country!$K$31:$K$76, MATCH(AI260, Country!$O$31:$O$76, 0), 1)","v":"USD/MWh"},"Barbados",0,0,0,0,0,0,0,0,0,0,0,0,0,0,null,null,null,null,null,null,null,null,null,null,null,null,null,null,"1.1 > Barbados",246,10," "]
[{"$f":"INDEX(Country!$F$31:$G$76, MATCH(AI261, Country!$O$31:$O$76, 0), 1)","v":1.1000000000000001},{"$f":"INDEX(Country!$F$31:$G$76, MATCH(AI261, Country!$O$31:$O$76, 0), 2)","v":"Average electricity spot prices"},{"$f":"INDEX(Country!$K$31:$K$76, MATCH(AI261, Country!$O$31:$O$76, 0), 1)","v":"USD/MWh"},"Belize",0,0,0,0,0,0,0,0,0,0,0,0,0,0,null,null,null,null,null,null,null,null,null,null,null,null,null,null,"1.1 > Belize",247,10," "]
[{"$f":"INDEX(Country!$F$31:$G$76, MATCH(AI262, Country!$O$31:$O$76, 0), 1)","v":1.1000000000000001},{"$f":"INDEX(Country!$F$31:$G$76, MATCH(AI262, Country!$O$31:$O$76, 0), 2)","v":"Average electricity spot prices"},{"$f":"INDEX(Country!$K$31:$K$76, MATCH(AI262, Country!$O$31:$O$76, 0), 1)","v":"USD/MWh"},"Bolivia",17.84,18.170000000000002,18.829999999999998,21.17,21.11,21.9,21.9,8.5362936025647151,12.895656196792602,8.2151340346114665,13.850834372285247,11.746630394460245,10.121408113302257,9.8439501659387343,null,null,null,null,null,null,null,null,null,null,null,null,null,null,"1.1 > Bolivia",248,10," "]
[{"$f":"INDEX(Country!$F$31:$G$76, MATCH(AI263, Country!$O$31:$O$76, 0), 1)","v":1.1000000000000001},{"$f":"INDEX(Country!$F$31:$G$76, MATCH(AI263, Country!$O$31:$O$76, 0), 2)","v":"Average electricity spot prices"},{"$f":"INDEX(Country!$K$31:$K$76, MATCH(AI263, Country!$O$31:$O$76, 0), 1)","v":"USD/MWh"},"Brazil",26.015292416666668,48.559883541666672,74.729131249999995,17.148317083333335,43.848678624999998,17.389907500000003,84.201081999999985,{"$f":"IFERROR(dbl_BenchmarkMax*E263/ SUMIFS(E$15:E$1256, $D$15:$D$1256, \"Benchmark\", $B$15:$B$1256,$B263), 0)","v":12.44810393639249},{"$f":"IFERROR(dbl_BenchmarkMax*F263/ SUMIFS(F$15:F$1256, $D$15:$D$1256, \"Benchmark\", $B$15:$B$1256,$B263), 0)","v":34.464037595466195},32.602752496485522,11.219579578870084,24.39953676425127,8.0370023223778908,37.848002517174464,null,null,null,null,null,null,null,null,null,null,null,null,null,null,"1.1 > Brazil",249,10," "]
[{"$f":"INDEX(Country!$F$31:$G$76, MATCH(AI264, Country!$O$31:$O$76, 0), 1)","v":1.1000000000000001},{"$f":"INDEX(Country!$F$31:$G$76, MATCH(AI264, Country!$O$31:$O$76, 0), 2)","v":"Average electricity spot prices"},{"$f":"INDEX(Country!$K$31:$K$76, MATCH(AI264, Country!$O$31:$O$76, 0), 1)","v":"USD/MWh"},"Chile",41.147481215525161,140.90015833796213,201.61144216264725,107.96117281851163,129.72235066870613,138.96389046553773,137.53005447656449,19.688732099873274,100,87.95884334983883,70.635442765558267,72.183823174128548,64.224212256344288,61.819132538179915,null,null,null,null,null,null,null,null,null,null,null,null,null,null,"1.1 > Chile",250,10," "]
[{"$f":"INDEX(Country!$F$31:$G$76, MATCH(AI265, Country!$O$31:$O$76, 0), 1)","v":1.1000000000000001},{"$f":"INDEX(Country!$F$31:$G$76, MATCH(AI265, Country!$O$31:$O$76, 0), 2)","v":"Average electricity spot prices"},{"$f":"INDEX(Country!$K$31:$K$76, MATCH(AI265, Country!$O$31:$O$76, 0), 1)","v":"USD/MWh"},"Colombia",30.894863999999998,40.291860000000007,45.756078200000012,65.366117599999995,68.770053000000004,68.770053000000004,100,14.782938896597921,28.596035998310402,19.962417170003395,42.76689978445534,38.267001174724875,31.783094629517183,44.94954413670655,null,null,null,null,null,null,null,null,null,null,null,null,null,null,"1.1 > Colombia",251,10," "]
[{"$f":"INDEX(Country!$F$31:$G$76, MATCH(AI266, Country!$O$31:$O$76, 0), 1)","v":1.1000000000000001},{"$f":"INDEX(Country!$F$31:$G$76, MATCH(AI266, Country!$O$31:$O$76, 0), 2)","v":"Average electricity spot prices"},{"$f":"INDEX(Country!$K$31:$K$76, MATCH(AI266, Country!$O$31:$O$76, 0), 1)","v":"USD/MWh"},"Costa Rica",0,0,0,0,0,0,0,0,0,0,0,0,0,0,null,null,null,null,null,null,null,null,null,null,null,null,null,null,"1.1 > Costa Rica",252,10," "]
[{"$f":"INDEX(Country!$F$31:$G$76, MATCH(AI267, Country!$O$31:$O$76, 0), 1)","v":1.1000000000000001},{"$f":"INDEX(Country!$F$31:$G$76, MATCH(AI267, Country!$O$31:$O$76, 0), 2)","v":"Average electricity spot prices"},{"$f":"INDEX(Country!$K$31:$K$76, MATCH(AI267, Country!$O$31:$O$76, 0), 1)","v":"USD/MWh"},"Dominican Republic",90.447499999999991,99.441666666666663,160.25,115.99166666666666,136.69166666666669,185.80313284139731,193.73875290559513,43.278386525671081,70.57597935990006,69.913713704008913,75.889530636056662,76.061889452207268,85.871659188031771,87.084686247205326,null,null,null,null,null,null,null,null,null,null,null,null,null,null,"1.1 > Dominican Republic",253,10," "]
[{"$f":"INDEX(Country!$F$31:$G$76, MATCH(AI268, Country!$O$31:$O$76, 0), 1)","v":1.1000000000000001},{"$f":"INDEX(Country!$F$31:$G$76, MATCH(AI268, Country!$O$31:$O$76, 0), 2)","v":"Average electricity spot prices"},{"$f":"INDEX(Country!$K$31:$K$76, MATCH(AI268, Country!$O$31:$O$76, 0), 1)","v":"USD/MWh"},"Ecuador",102.03721429537127,93.100000000000009,93.2,107.69999999999999,57.800000000000004,33.199999999999996,33.199999999999996,48.823969709254634,66.075156407341282,40.661205099617042,70.464565984653788,32.162730307901569,15.343869833864607,14.923248653386572,null,null,null,null,null,null,null,null,null,null,null,null,null,null,"1.1 > Ecuador",254,10," "]
[{"$f":"INDEX(Country!$F$31:$G$76, MATCH(AI269, Country!$O$31:$O$76, 0), 1)","v":1.1000000000000001},{"$f":"INDEX(Country!$F$31:$G$76, MATCH(AI269, Country!$O$31:$O$76, 0), 2)","v":"Average electricity spot prices"},{"$f":"INDEX(Country!$K$31:$K$76, MATCH(AI269, Country!$O$31:$O$76, 0), 1)","v":"USD/MWh"},"El Salvador",89.36,94.35,128.88,124.92,126.45,166.35,166.35,42.758026699842098,66.96230942032922,56.22764069998545,81.731045337074775,70.362928156300242,76.88110683323427,74.773566671411345,null,null,null,null,null,null,null,null,null,null,null,null,null,null,"1.1 > El Salvador",255,10," "]
[{"$f":"INDEX(Country!$F$31:$G$76, MATCH(AI270, Country!$O$31:$O$76, 0), 1)","v":1.1000000000000001},{"$f":"INDEX(Country!$F$31:$G$76, MATCH(AI270, Country!$O$31:$O$76, 0), 2)","v":"Average electricity spot prices"},{"$f":"INDEX(Country!$K$31:$K$76, MATCH(AI270, Country!$O$31:$O$76, 0), 1)","v":"USD/MWh"},"Guatemala",76.930000000000007,89.65,120.52,103.24,103.97,132.55000000000001,146.55000000000001,36.810373702091013,63.626614091494588,52.580348053710793,67.546534747034897,57.853963150735751,61.259938146950432,65.873556932343448,null,null,null,null,null,null,null,null,null,null,null,null,null,null,"1.1 > Guatemala",256,10," "]
[{"$f":"INDEX(Country!$F$31:$G$76, MATCH(AI271, Country!$O$31:$O$76, 0), 1)","v":1.1000000000000001},{"$f":"INDEX(Country!$F$31:$G$76, MATCH(AI271, Country!$O$31:$O$76, 0), 2)","v":"Average electricity spot prices"},{"$f":"INDEX(Country!$K$31:$K$76, MATCH(AI271, Country!$O$31:$O$76, 0), 1)","v":"USD/MWh"},"Guyana",0,0,0,0,0,0,0,0,0,0,0,0,0,0,null,null,null,null,null,null,null,null,null,null,null,null,null,null,{"$f":"A271&\" > \" &D271","v":"1.1 > Guyana"},257,10," "]
[{"$f":"INDEX(Country!$F$31:$G$76, MATCH(AI272, Country!$O$31:$O$76, 0), 1)","v":1.1000000000000001},{"$f":"INDEX(Country!$F$31:$G$76, MATCH(AI272, Country!$O$31:$O$76, 0), 2)","v":"Average electricity spot prices"},{"$f":"INDEX(Country!$K$31:$K$76, MATCH(AI272, Country!$O$31:$O$76, 0), 1)","v":"USD/MWh"},"Haiti",0,0,0,0,0,0,0,0,0,0,0,0,0,0,null,null,null,null,null,null,null,null,null,null,null,null,null,null,"1.1 > Haiti",258,10," "]
[{"$f":"INDEX(Country!$F$31:$G$76, MATCH(AI273, Country!$O$31:$O$76, 0), 1)","v":1.1000000000000001},{"$f":"INDEX(Country!$F$31:$G$76, MATCH(AI273, Country!$O$31:$O$76, 0), 2)","v":"Average electricity spot prices"},{"$f":"INDEX(Country!$K$31:$K$76, MATCH(AI273, Country!$O$31:$O$76, 0), 1)","v":"USD/MWh"},"Honduras",0,0,0,0,0,0,0,0,0,0,0,0,0,0,null,null,null,null,null,null,null,null,null,null,null,null,null,null,"1.1 > Honduras",{"$f":"AH272+1","v":259},{"$f":"ROUNDUP(AH273/COUNTA($D$15:$D$41),0)","v":10}," "]
[{"$f":"INDEX(Country!$F$31:$G$76, MATCH(AI274, Country!$O$31:$O$76, 0), 1)","v":1.1000000000000001},{"$f":"INDEX(Country!$F$31:$G$76, MATCH(AI274, Country!$O$31:$O$76, 0), 2)","v":"Average electricity spot prices"},{"$f":"INDEX(Country!$K$31:$K$76, MATCH(AI274, Country!$O$31:$O$76, 0), 1)","v":"USD/MWh"},"Jamaica",0,0,0,0,0,0,0,0,0,0,0,0,0,0,null,null,null,null,null,null,null,null,null,null,null,null,null,null,"1.1 > Jamaica",260,10," "]
[{"$f":"INDEX(Country!$F$31:$G$76, MATCH(AI275, Country!$O$31:$O$76, 0), 1)","v":1.1000000000000001},{"$f":"INDEX(Country!$F$31:$G$76, MATCH(AI275, Country!$O$31:$O$76, 0), 2)","v":"Average electricity spot prices"},{"$f":"INDEX(Country!$K$31:$K$76, MATCH(AI275, Country!$O$31:$O$76, 0), 1)","v":"USD/MWh"},"Mexico",0,0,0,0,0,0,0,0,0,0,0,0,0,0,null,null,null,null,null,null,null,null,null,null,null,null,null,null,"1.1 > Mexico",261,10," "]
[{"$f":"INDEX(Country!$F$31:$G$76, MATCH(AI276, Country!$O$31:$O$76, 0), 1)","v":1.1000000000000001},{"$f":"INDEX(Country!$F$31:$G$76, MATCH(AI276, Country!$O$31:$O$76, 0), 2)","v":"Average electricity spot prices"},{"$f":"INDEX(Country!$K$31:$K$76, MATCH(AI276, Country!$O$31:$O$76, 0), 1)","v":"USD/MWh"},"Nicaragua",104.35522098416307,120.23029483720255,137.021160126148,120.33504038807033,137.01586168209488,168.51,170.66650304824097,49.933116887967394,85.330134653801466,59.779458099536186,78.731257137336698,76.242287321556446,77.879382701943541,76.713815114242692,null,null,null,null,null,null,null,null,null,null,null,null,null,null,"1.1 > Nicaragua",262,10," "]
[{"$f":"INDEX(Country!$F$31:$G$76, MATCH(AI277, Country!$O$31:$O$76, 0), 1)","v":1.1000000000000001},{"$f":"INDEX(Country!$F$31:$G$76, MATCH(AI277, Country!$O$31:$O$76, 0), 2)","v":"Average electricity spot prices"},{"$f":"INDEX(Country!$K$31:$K$76, MATCH(AI277, Country!$O$31:$O$76, 0), 1)","v":"USD/MWh"},"Panama",125.51944444444446,117.45055555555557,229.21111111111114,152.84277777777777,179.71111111111111,216.37305555555554,222.47166666666666,60.060024137252711,83.357291390574233,100,100,99.999999999999986,100,100,null,null,null,null,null,null,null,null,null,null,null,null,null,null,"1.1 > Panama",263,10," "]
[{"$f":"INDEX(Country!$F$31:$G$76, MATCH(AI278, Country!$O$31:$O$76, 0), 1)","v":1.1000000000000001},{"$f":"INDEX(Country!$F$31:$G$76, MATCH(AI278, Country!$O$31:$O$76, 0), 2)","v":"Average electricity spot prices"},{"$f":"INDEX(Country!$K$31:$K$76, MATCH(AI278, Country!$O$31:$O$76, 0), 1)","v":"USD/MWh"},"Paraguay",0,0,0,0,0,0,0,0,0,0,0,0,0,0,null,null,null,null,null,null,null,null,null,null,null,null,null,null,"1.1 > Paraguay",264,10," "]
[{"$f":"INDEX(Country!$F$31:$G$76, MATCH(AI279, Country!$O$31:$O$76, 0), 1)","v":1.1000000000000001},{"$f":"INDEX(Country!$F$31:$G$76, MATCH(AI279, Country!$O$31:$O$76, 0), 2)","v":"Average electricity spot prices"},{"$f":"INDEX(Country!$K$31:$K$76, MATCH(AI279, Country!$O$31:$O$76, 0), 1)","v":"USD/MWh"},"Peru",68.06,37.99,88.48,31.83,21.44,23.88,30.8,32.566151490501937,26.962354370729276,38.601968103155748,20.82532159045061,11.930258439470755,11.03649432628575,13.844459594105617,null,null,null,null,null,null,null,null,null,null,null,null,null,null,"1.1 > Peru",265,10," "]
[{"$f":"INDEX(Country!$F$31:$G$76, MATCH(AI280, Country!$O$31:$O$76, 0), 1)","v":1.1000000000000001},{"$f":"INDEX(Country!$F$31:$G$76, MATCH(AI280, Country!$O$31:$O$76, 0), 2)","v":"Average electricity spot prices"},{"$f":"INDEX(Country!$K$31:$K$76, MATCH(AI280, Country!$O$31:$O$76, 0), 1)","v":"USD/MWh"},"Suriname",0,0,0,0,0,0,0,0,0,0,0,0,0,0,null,null,null,null,null,null,null,null,null,null,null,null,null,null,"1.1 > Suriname",266,10," "]
[{"$f":"INDEX(Country!$F$31:$G$76, MATCH(AI281, Country!$O$31:$O$76, 0), 1)","v":1.1000000000000001},{"$f":"INDEX(Country!$F$31:$G$76, MATCH(AI281, Country!$O$31:$O$76, 0), 2)","v":"Average electricity spot prices"},{"$f":"INDEX(Country!$K$31:$K$76, MATCH(AI281, Country!$O$31:$O$76, 0), 1)","v":"USD/MWh"},"Trinidad & Tobago",0,0,0,0,0,0,0,0,0,0,0,0,0,0,null,null,null,null,null,null,null,null,null,null,null,null,null,null,"1.1 > Trinidad & Tobago",267,10," "]
[{"$f":"INDEX(Country!$F$31:$G$76, MATCH(AI282, Country!$O$31:$O$76, 0), 1)","v":1.1000000000000001},{"$f":"INDEX(Country!$F$31:$G$76, MATCH(AI282, Country!$O$31:$O$76, 0), 2)","v":"Average electricity spot prices"},{"$f":"INDEX(Country!$K$31:$K$76, MATCH(AI282, Country!$O$31:$O$76, 0), 1)","v":"USD/MWh"},"Uruguay",208.99,89.77901,227.08,146,76.64,76.64,208.30327776361591,100,63.718175379659051,99.070240922972502,95.52299567093273,42.646222332138002,35.420306749017584,93.631373776562967,null,null,null,null,null,null,null,null,null,null,null,null,null,null,"1.1 > Uruguay",268,10," "]
[{"$f":"INDEX(Country!$F$31:$G$76, MATCH(AI283, Country!$O$31:$O$76, 0), 1)","v":1.1000000000000001},{"$f":"INDEX(Country!$F$31:$G$76, MATCH(AI283, Country!$O$31:$O$76, 0), 2)","v":"Average electricity spot prices"},{"$f":"INDEX(Country!$K$31:$K$76, MATCH(AI283, Country!$O$31:$O$76, 0), 1)","v":"USD/MWh"},"Venezuela",0,0,0,0,0,0,0,0,0,0,0,0,0,0,null,null,null,null,null,null,null,null,null,null,null,null,null,null,"1.1 > Venezuela",269,10," "]
[{"$f":"INDEX(Country!$F$31:$G$76, MATCH(AI284, Country!$O$31:$O$76, 0), 1)","v":1.1000000000000001},{"$f":"INDEX(Country!$F$31:$G$76, MATCH(AI284, Country!$O$31:$O$76, 0), 2)","v":"Average electricity spot prices"},{"$f":"INDEX(Country!$K$31:$K$76, MATCH(AI284, Country!$O$31:$O$76, 0), 1)","v":"USD/MWh"},"Benchmark",{"$f":"IFERROR(MAX(E258:E283), 0)","v":208.99},{"$f":"IFERROR(MAX(F258:F283), 0)","v":140.90015833796213},{"$f":"IFERROR(MAX(G258:G283), 0)","v":229.21111111111114},{"$f":"IFERROR(MAX(H258:H283), 0)","v":152.84277777777777},{"$f":"IFERROR(MAX(I258:I283), 0)","v":179.71111111111111},{"$f":"IFERROR(MAX(J258:J283), 0)","v":216.37305555555554},222.47166666666666,100,100,100,100,99.999999999999986,100,100,null,null,null,null,null,null,null,null,null,null,null,null,null,null,"1.1 > Benchmark",270,10," "]
[{"$f":"INDEX(Country!$F$31:$G$76, MATCH(AI285, Country!$O$31:$O$76, 0), 1)","v":1.1100000000000001},{"$f":"INDEX(Country!$F$31:$G$76, MATCH(AI285, Country!$O$31:$O$76, 0), 2)","v":"Average retail electricity prices"},{"$f":"INDEX(Country!$K$31:$K$76, MATCH(AI285, Country!$O$31:$O$76, 0), 1)","v":"USD/MWh"},{"$f":"D258","v":"Argentina"},11.42,11.02,11.29,24.28,39.799999999999997,51.54,72.697092753522853,4.868405124401149,4.3938873372142178,3.6320223982092763,8.306724949188407,13.459204746187803,17.429331975339682,17.796597261741507,null,null,null,null,null,null,null,null,null,null,null,null,null,null,"1.11 > Argentina",271,11," "]
[{"$f":"INDEX(Country!$F$31:$G$76, MATCH(AI286, Country!$O$31:$O$76, 0), 1)","v":1.1100000000000001},{"$f":"INDEX(Country!$F$31:$G$76, MATCH(AI286, Country!$O$31:$O$76, 0), 2)","v":"Average retail electricity prices"},{"$f":"INDEX(Country!$K$31:$K$76, MATCH(AI286, Country!$O$31:$O$76, 0), 1)","v":"USD/MWh"},"Bahamas",0,0,0,0,0,0,225.37619047619049,0,0,0,0,0,0,55.173173264152808,null,null,null,null,null,null,null,null,null,null,null,null,null,null,"1.11 > Bahamas",272,11," "]
[{"$f":"INDEX(Country!$F$31:$G$76, MATCH(AI287, Country!$O$31:$O$76, 0), 1)","v":1.1100000000000001},{"$f":"INDEX(Country!$F$31:$G$76, MATCH(AI287, Country!$O$31:$O$76, 0), 2)","v":"Average retail electricity prices"},{"$f":"INDEX(Country!$K$31:$K$76, MATCH(AI287, Country!$O$31:$O$76, 0), 1)","v":"USD/MWh"},"Barbados",200.24223001992473,211.32865646258503,250.69385593220338,218.12224322621299,264.40784681028202,264.40784681028202,92.083333333333329,85.364299365193972,84.260826462926119,80.648866239079908,74.624443154041415,89.41505896276999,89.41505896276999,22.542442012202979,null,null,null,null,null,null,null,null,null,null,null,null,null,null,"1.11 > Barbados",273,11," "]
[{"$f":"INDEX(Country!$F$31:$G$76, MATCH(AI288, Country!$O$31:$O$76, 0), 1)","v":1.1100000000000001},{"$f":"INDEX(Country!$F$31:$G$76, MATCH(AI288, Country!$O$31:$O$76, 0), 2)","v":"Average retail electricity prices"},{"$f":"INDEX(Country!$K$31:$K$76, MATCH(AI288, Country!$O$31:$O$76, 0), 1)","v":"USD/MWh"},"Belize",210.80950852769661,212.38623319947925,176.36673636620515,229.13198138839505,229.17671836765339,229.17671836765339,207.51922900086615,89.869184902690534,84.682502781653156,56.737638333137966,78.391118058317744,77.500913959036836,77.500913959036836,50.801703379211901,null,null,null,null,null,null,null,null,null,null,null,null,null,null,"1.11 > Belize",274,11," "]
[{"$f":"INDEX(Country!$F$31:$G$76, MATCH(AI289, Country!$O$31:$O$76, 0), 1)","v":1.1100000000000001},{"$f":"INDEX(Country!$F$31:$G$76, MATCH(AI289, Country!$O$31:$O$76, 0), 2)","v":"Average retail electricity prices"},{"$f":"INDEX(Country!$K$31:$K$76, MATCH(AI289, Country!$O$31:$O$76, 0), 1)","v":"USD/MWh"},"Bolivia",62.261770761577075,66,71.3,74.2,74.2,74.2,83.766666666666666,26.542515221536906,26.315477700194045,22.937395659195875,25.385460923796533,25.09228623535515,25.09228623535515,20.506482091100846,null,null,null,null,null,null,null,null,null,null,null,null,null,null,"1.11 > Bolivia",275,11," "]
[{"$f":"INDEX(Country!$F$31:$G$76, MATCH(AI290, Country!$O$31:$O$76, 0), 1)","v":1.1100000000000001},{"$f":"INDEX(Country!$F$31:$G$76, MATCH(AI290, Country!$O$31:$O$76, 0), 2)","v":"Average retail electricity prices"},{"$f":"INDEX(Country!$K$31:$K$76, MATCH(AI290, Country!$O$31:$O$76, 0), 1)","v":"USD/MWh"},"Brazil",115.64736989137187,130.73401307240161,134.49329828524182,129.66306622596773,148.63391548000965,163.09797514363788,154.96167999999997,49.301072522125217,52.126181903994869,43.266844267585434,44.360602438530265,50.263675896307106,55.155001033840989,37.93536310059968,null,null,null,null,null,null,null,null,null,null,null,null,null,null,"1.11 > Brazil",276,11," "]
[{"$f":"INDEX(Country!$F$31:$G$76, MATCH(AI291, Country!$O$31:$O$76, 0), 1)","v":1.1100000000000001},{"$f":"INDEX(Country!$F$31:$G$76, MATCH(AI291, Country!$O$31:$O$76, 0), 2)","v":"Average retail electricity prices"},{"$f":"INDEX(Country!$K$31:$K$76, MATCH(AI291, Country!$O$31:$O$76, 0), 1)","v":"USD/MWh"},"Chile",110,125,205,172.5,192.5,192.5,202.29999999999998,46.893569499485672,49.839919886731145,65.949033802737077,59.0160648161038,65.09791240304402,65.09791240304402,49.52401106680901,null,null,null,null,null,null,null,null,null,null,null,null,null,null,"1.11 > Chile",277,11," "]
[{"$f":"INDEX(Country!$F$31:$G$76, MATCH(AI292, Country!$O$31:$O$76, 0), 1)","v":1.1100000000000001},{"$f":"INDEX(Country!$F$31:$G$76, MATCH(AI292, Country!$O$31:$O$76, 0), 2)","v":"Average retail electricity prices"},{"$f":"INDEX(Country!$K$31:$K$76, MATCH(AI292, Country!$O$31:$O$76, 0), 1)","v":"USD/MWh"},"Colombia",82.620146773486624,77.468267676531539,111.01973261531198,242.05889112015277,166.69481303387997,185.12590798787846,170,35.221396316183657,30.888098038097407,35.715337068380698,82.813699754557376,56.371347204786083,62.604208528461818,41.616816022528582,null,null,null,null,null,null,null,null,null,null,null,null,null,null,"1.11 > Colombia",278,11," "]
[{"$f":"INDEX(Country!$F$31:$G$76, MATCH(AI293, Country!$O$31:$O$76, 0), 1)","v":1.1100000000000001},{"$f":"INDEX(Country!$F$31:$G$76, MATCH(AI293, Country!$O$31:$O$76, 0), 2)","v":"Average retail electricity prices"},{"$f":"INDEX(Country!$K$31:$K$76, MATCH(AI293, Country!$O$31:$O$76, 0), 1)","v":"USD/MWh"},"Costa Rica",82.542384678320118,89.328881154164989,104.69079320447433,127.40028574353892,144.18402750142457,149.30803618050936,151.31585355599213,35.188245932418965,35.617154242359284,33.679300779888955,43.586455194381664,48.758852946523781,50.491643949866635,37.042847286656482,null,null,null,null,null,null,null,null,null,null,null,null,null,null,"1.11 > Costa Rica",279,11," "]
[{"$f":"INDEX(Country!$F$31:$G$76, MATCH(AI294, Country!$O$31:$O$76, 0), 1)","v":1.1100000000000001},{"$f":"INDEX(Country!$F$31:$G$76, MATCH(AI294, Country!$O$31:$O$76, 0), 2)","v":"Average retail electricity prices"},{"$f":"INDEX(Country!$K$31:$K$76, MATCH(AI294, Country!$O$31:$O$76, 0), 1)","v":"USD/MWh"},"Dominican Republic",162.19424348105278,182.64822959102381,162.54969835078271,164.68794044980078,174.65082120500367,197.94092331945035,219.60090000000005,69.144245719047717,72.825385042159226,52.292661225173099,56.343386481252665,59.061838233366402,66.937874738842766,53.759354433421755,null,null,null,null,null,null,null,null,null,null,null,null,null,null,"1.11 > Dominican Republic",280,11," "]
[{"$f":"INDEX(Country!$F$31:$G$76, MATCH(AI295, Country!$O$31:$O$76, 0), 1)","v":1.1100000000000001},{"$f":"INDEX(Country!$F$31:$G$76, MATCH(AI295, Country!$O$31:$O$76, 0), 2)","v":"Average retail electricity prices"},{"$f":"INDEX(Country!$K$31:$K$76, MATCH(AI295, Country!$O$31:$O$76, 0), 1)","v":"USD/MWh"},"Ecuador",98.233333333333334,83.63333333333334,81.466666666666669,78.133333333333326,78.666666666666671,78.8,78.284848484848496,{"$f":"IFERROR(dbl_BenchmarkMax*E295/ SUMIFS(E$15:E$1256, $D$15:$D$1256, \"Benchmark\", $B$15:$B$1256,$B295), 0)","v":41.87737858029827},{"$f":"IFERROR(dbl_BenchmarkMax*F295/ SUMIFS(F$15:F$1256, $D$15:$D$1256, \"Benchmark\", $B$15:$B$1256,$B295), 0)","v":33.346229065548918},{"$f":"IFERROR(dbl_BenchmarkMax*G295/ SUMIFS(G$15:G$1256, $D$15:$D$1256, \"Benchmark\", $B$15:$B$1256,$B295), 0)","v":26.208038799006413},{"$f":"IFERROR(dbl_BenchmarkMax*H295/ SUMIFS(H$15:H$1256, $D$15:$D$1256, \"Benchmark\", $B$15:$B$1256,$B295), 0)","v":26.731141242308652},{"$f":"IFERROR(dbl_BenchmarkMax*I295/ SUMIFS(I$15:I$1256, $D$15:$D$1256, \"Benchmark\", $B$15:$B$1256,$B295), 0)","v":26.602783250421457},{"$f":"IFERROR(dbl_BenchmarkMax*J295/ SUMIFS(J$15:J$1256, $D$15:$D$1256, \"Benchmark\", $B$15:$B$1256,$B295), 0)","v":26.647872713557764},{"$f":"IFERROR(dbl_BenchmarkMax*K295/ SUMIFS(K$15:K$1256, $D$15:$D$1256, \"Benchmark\", $B$15:$B$1256,$B295), 0)","v":19.164506686738029},null,null,null,null,null,null,null,null,null,null,null,null,null,null,"1.11 > Ecuador",281,11," "]
[{"$f":"INDEX(Country!$F$31:$G$76, MATCH(AI296, Country!$O$31:$O$76, 0), 1)","v":1.1100000000000001},{"$f":"INDEX(Country!$F$31:$G$76, MATCH(AI296, Country!$O$31:$O$76, 0), 2)","v":"Average retail electricity prices"},{"$f":"INDEX(Country!$K$31:$K$76, MATCH(AI296, Country!$O$31:$O$76, 0), 1)","v":"USD/MWh"},"El Salvador",131.30000000000001,140.1,137.9,179.2,169.4,187.7,210.33333333333334,55.973869775295178,55.860582209048268,44.362789079987529,61.308282985772756,57.286162914678741,63.474691730136954,51.490609627873603,null,null,null,null,null,null,null,null,null,null,null,null,null,null,"1.11 > El Salvador",282,11," "]
[{"$f":"INDEX(Country!$F$31:$G$76, MATCH(AI297, Country!$O$31:$O$76, 0), 1)","v":1.1100000000000001},{"$f":"INDEX(Country!$F$31:$G$76, MATCH(AI297, Country!$O$31:$O$76, 0), 2)","v":"Average retail electricity prices"},{"$f":"INDEX(Country!$K$31:$K$76, MATCH(AI297, Country!$O$31:$O$76, 0), 1)","v":"USD/MWh"},"Guatemala",0,0,0,0,0,0,0,0,0,0,0,0,0,0,null,null,null,null,null,null,null,null,null,null,null,null,null,null,"1.11 > Guatemala",283,11," "]
[{"$f":"INDEX(Country!$F$31:$G$76, MATCH(AI298, Country!$O$31:$O$76, 0), 1)","v":1.1100000000000001},{"$f":"INDEX(Country!$F$31:$G$76, MATCH(AI298, Country!$O$31:$O$76, 0), 2)","v":"Average retail electricity prices"},{"$f":"INDEX(Country!$K$31:$K$76, MATCH(AI298, Country!$O$31:$O$76, 0), 1)","v":"USD/MWh"},"Guyana",0,0,292.86529680365294,292.29329427083331,292.86529680365294,293.2957700473624,295.32149317546458,0,0,94.215528578306021,100,99.038542530990583,99.184116086891123,72.296119111657291,null,null,null,null,null,null,null,null,null,null,null,null,null,null,"1.11 > Guyana",284,11," "]
[{"$f":"INDEX(Country!$F$31:$G$76, MATCH(AI299, Country!$O$31:$O$76, 0), 1)","v":1.1100000000000001},{"$f":"INDEX(Country!$F$31:$G$76, MATCH(AI299, Country!$O$31:$O$76, 0), 2)","v":"Average retail electricity prices"},{"$f":"INDEX(Country!$K$31:$K$76, MATCH(AI299, Country!$O$31:$O$76, 0), 1)","v":"USD/MWh"},"Haiti",168.31527777777777,181.62083333333331,170.97638888888889,292.17794444444445,293.34200000000004,288.68577777777779,279.37333333333339,71.753674329976889,72.415742264757455,55.003549513674415,99.960536273445257,99.199749714980484,97.62515051315539,68.391933029022866,null,null,null,null,null,null,null,null,null,null,null,null,null,null,"1.11 > Haiti",285,11," "]
[{"$f":"INDEX(Country!$F$31:$G$76, MATCH(AI300, Country!$O$31:$O$76, 0), 1)","v":1.1100000000000001},{"$f":"INDEX(Country!$F$31:$G$76, MATCH(AI300, Country!$O$31:$O$76, 0), 2)","v":"Average retail electricity prices"},{"$f":"INDEX(Country!$K$31:$K$76, MATCH(AI300, Country!$O$31:$O$76, 0), 1)","v":"USD/MWh"},"Honduras",106.62376438727151,105.0592123769339,137.11380311121431,128.11851000000001,128.11851000000001,128.11851000000001,125.45441999999998,45.454262778102745,41.889141825835672,44.109867493674685,43.832175595957359,43.325961252927385,43.325961252927385,30.711844213841349,null,null,null,null,null,null,null,null,null,null,null,null,null,null,"1.11 > Honduras",286,11," "]
[{"$f":"INDEX(Country!$F$31:$G$76, MATCH(AI301, Country!$O$31:$O$76, 0), 1)","v":1.1100000000000001},{"$f":"INDEX(Country!$F$31:$G$76, MATCH(AI301, Country!$O$31:$O$76, 0), 2)","v":"Average retail electricity prices"},{"$f":"INDEX(Country!$K$31:$K$76, MATCH(AI301, Country!$O$31:$O$76, 0), 1)","v":"USD/MWh"},"Jamaica",234.57374043834832,250.80297136127356,310.84610066189003,247.68670966872023,295.70840737282776,295.70840737282776,408.48872222222212,100,100,100,84.73910093853145,100,100,100,null,null,null,null,null,null,null,null,null,null,null,null,null,null,"1.11 > Jamaica",287,11," "]
[{"$f":"INDEX(Country!$F$31:$G$76, MATCH(AI302, Country!$O$31:$O$76, 0), 1)","v":1.1100000000000001},{"$f":"INDEX(Country!$F$31:$G$76, MATCH(AI302, Country!$O$31:$O$76, 0), 2)","v":"Average retail electricity prices"},{"$f":"INDEX(Country!$K$31:$K$76, MATCH(AI302, Country!$O$31:$O$76, 0), 1)","v":"USD/MWh"},"Mexico",90.641049256651939,94.069286604785518,104.94624108022391,99.94127563809937,108.857200825438,111.68202531793027,142.20873600000002,38.640748571119197,37.507245665475693,33.761479026682352,34.192120584708221,36.812345578051605,37.767619226707374,34.813381193578451,null,null,null,null,null,null,null,null,null,null,null,null,null,null,"1.11 > Mexico",288,11," "]
[{"$f":"INDEX(Country!$F$31:$G$76, MATCH(AI303, Country!$O$31:$O$76, 0), 1)","v":1.1100000000000001},{"$f":"INDEX(Country!$F$31:$G$76, MATCH(AI303, Country!$O$31:$O$76, 0), 2)","v":"Average retail electricity prices"},{"$f":"INDEX(Country!$K$31:$K$76, MATCH(AI303, Country!$O$31:$O$76, 0), 1)","v":"USD/MWh"},"Nicaragua",157.20882000490491,162.81098544351232,192.90952632240788,168.63840862165111,183.72358585676682,183.72358585676682,250.33333333333334,67.018933880292195,64.915891769475238,62.059496938080372,57.694929006956286,62.129983888191916,62.129983888191916,61.282801633174444,null,null,null,null,null,null,null,null,null,null,null,null,null,null,"1.11 > Nicaragua",289,11," "]
[{"$f":"INDEX(Country!$F$31:$G$76, MATCH(AI304, Country!$O$31:$O$76, 0), 1)","v":1.1100000000000001},{"$f":"INDEX(Country!$F$31:$G$76, MATCH(AI304, Country!$O$31:$O$76, 0), 2)","v":"Average retail electricity prices"},{"$f":"INDEX(Country!$K$31:$K$76, MATCH(AI304, Country!$O$31:$O$76, 0), 1)","v":"USD/MWh"},"Panama",142.17777777777778,130.97777777777779,188.55833333333337,142.15,152.76111111111109,144.92222222222225,146.23333333333332,60.611122759133195,52.223375611092159,60.659706823354966,48.632658629618291,51.65937366079369,49.008488973904953,35.798621939378997,null,null,null,null,null,null,null,null,null,null,null,null,null,null,"1.11 > Panama",290,11," "]
[{"$f":"INDEX(Country!$F$31:$G$76, MATCH(AI305, Country!$O$31:$O$76, 0), 1)","v":1.1100000000000001},{"$f":"INDEX(Country!$F$31:$G$76, MATCH(AI305, Country!$O$31:$O$76, 0), 2)","v":"Average retail electricity prices"},{"$f":"INDEX(Country!$K$31:$K$76, MATCH(AI305, Country!$O$31:$O$76, 0), 1)","v":"USD/MWh"},"Paraguay",55.382919999999999,61.896960000000007,71.74094199999999,66.226700701331879,67.575682158512748,77.424096771424033,72.365200231978363,23.610025528222316,24.679516221057622,23.079247848771704,22.657618905197154,22.852134221978222,26.182582179277741,17.715348379339328,null,null,null,null,null,null,null,null,null,null,null,null,null,null,"1.11 > Paraguay",291,11," "]
[{"$f":"INDEX(Country!$F$31:$G$76, MATCH(AI306, Country!$O$31:$O$76, 0), 1)","v":1.1100000000000001},{"$f":"INDEX(Country!$F$31:$G$76, MATCH(AI306, Country!$O$31:$O$76, 0), 2)","v":"Average retail electricity prices"},{"$f":"INDEX(Country!$K$31:$K$76, MATCH(AI306, Country!$O$31:$O$76, 0), 1)","v":"USD/MWh"},"Peru",83.466666666666683,82.7,90.166666666666671,93.066666666666677,94.899999999999991,97.388249304634471,97.388249304634471,35.582272129306709,32.974090997061325,29.006851453073793,31.840164824456391,32.0924253872669,32.933879076981341,23.841110906277173,null,null,null,null,null,null,null,null,null,null,null,null,null,null,"1.11 > Peru",292,11," "]
[{"$f":"INDEX(Country!$F$31:$G$76, MATCH(AI307, Country!$O$31:$O$76, 0), 1)","v":1.1100000000000001},{"$f":"INDEX(Country!$F$31:$G$76, MATCH(AI307, Country!$O$31:$O$76, 0), 2)","v":"Average retail electricity prices"},{"$f":"INDEX(Country!$K$31:$K$76, MATCH(AI307, Country!$O$31:$O$76, 0), 1)","v":"USD/MWh"},"Suriname",0,0,0,0,0,0,3.9496455833333333E-2,0,0,0,0,0,0,9.6689219762221106E-3,null,null,null,null,null,null,null,null,null,null,null,null,null,null,"1.11 > Suriname",293,11," "]
[{"$f":"INDEX(Country!$F$31:$G$76, MATCH(AI308, Country!$O$31:$O$76, 0), 1)","v":1.1100000000000001},{"$f":"INDEX(Country!$F$31:$G$76, MATCH(AI308, Country!$O$31:$O$76, 0), 2)","v":"Average retail electricity prices"},{"$f":"INDEX(Country!$K$31:$K$76, MATCH(AI308, Country!$O$31:$O$76, 0), 1)","v":"USD/MWh"},"Trinidad & Tobago",0,0,0,0,0,0,55.015375555555551,0,0,0,0,0,0,13.46802801709336,null,null,null,null,null,null,null,null,null,null,null,null,null,null,"1.11 > Trinidad & Tobago",294,11," "]
[{"$f":"INDEX(Country!$F$31:$G$76, MATCH(AI309, Country!$O$31:$O$76, 0), 1)","v":1.1100000000000001},{"$f":"INDEX(Country!$F$31:$G$76, MATCH(AI309, Country!$O$31:$O$76, 0), 2)","v":"Average retail electricity prices"},{"$f":"INDEX(Country!$K$31:$K$76, MATCH(AI309, Country!$O$31:$O$76, 0), 1)","v":"USD/MWh"},"Uruguay",196.67853285759199,219.722468594308,265.32362715040495,282.84088114378295,233.15977877641262,254.47362220954051,261.70733201891017,83.845076814676062,87.607601856440894,85.355301734667634,96.766120430292204,78.847869375065116,86.055592558347982,64.06721110810463,null,null,null,null,null,null,null,null,null,null,null,null,null,null,"1.11 > Uruguay",295,11," "]
[{"$f":"INDEX(Country!$F$31:$G$76, MATCH(AI310, Country!$O$31:$O$76, 0), 1)","v":1.1100000000000001},{"$f":"INDEX(Country!$F$31:$G$76, MATCH(AI310, Country!$O$31:$O$76, 0), 2)","v":"Average retail electricity prices"},{"$f":"INDEX(Country!$K$31:$K$76, MATCH(AI310, Country!$O$31:$O$76, 0), 1)","v":"USD/MWh"},"Venezuela",34.278816782415568,35.764456331504796,35.868364065944114,36.881778468808811,23.158942756896305,24.387986787753466,25.55714831460989,14.61323706496673,14.259981106837548,11.538946118213799,12.618072050135666,7.8316822178469945,8.2473092342637404,6.2565125851152716,null,null,null,null,null,null,null,null,null,null,null,null,null,null,"1.11 > Venezuela",296,11," "]
[{"$f":"INDEX(Country!$F$31:$G$76, MATCH(AI311, Country!$O$31:$O$76, 0), 1)","v":1.1100000000000001},{"$f":"INDEX(Country!$F$31:$G$76, MATCH(AI311, Country!$O$31:$O$76, 0), 2)","v":"Average retail electricity prices"},{"$f":"INDEX(Country!$K$31:$K$76, MATCH(AI311, Country!$O$31:$O$76, 0), 1)","v":"USD/MWh"},"Benchmark",{"$f":"IFERROR(MAX(E285:E310), 0)","v":234.57374043834832},{"$f":"IFERROR(MAX(F285:F310), 0)","v":250.80297136127356},{"$f":"IFERROR(MAX(G285:G310), 0)","v":310.84610066189003},{"$f":"IFERROR(MAX(H285:H310), 0)","v":292.29329427083331},{"$f":"IFERROR(MAX(I285:I310), 0)","v":295.70840737282776},{"$f":"IFERROR(MAX(J285:J310), 0)","v":295.70840737282776},408.48872222222212,100,100,100,100,100,100,100,null,null,null,null,null,null,null,null,null,null,null,null,null,null,"1.11 > Benchmark",297,11," "]
[{"$f":"INDEX(Country!$F$31:$G$76, MATCH(AI312, Country!$O$31:$O$76, 0), 1)","v":1.1200000000000001},{"$f":"INDEX(Country!$F$31:$G$76, MATCH(AI312, Country!$O$31:$O$76, 0), 2)","v":"Average residential electricity prices"},{"$f":"INDEX(Country!$K$31:$K$76, MATCH(AI312, Country!$O$31:$O$76, 0), 1)","v":"USD/MWh"},{"$f":"D285","v":"Argentina"},0,0,0,0,0,0,66.825048104317389,0,0,0,0,0,0,17.111461432808252,null,null,null,null,null,null,null,null,null,null,null,null,null,null,"1.12 > Argentina",298,12," "]
[{"$f":"INDEX(Country!$F$31:$G$76, MATCH(AI313, Country!$O$31:$O$76, 0), 1)","v":1.1200000000000001},{"$f":"INDEX(Country!$F$31:$G$76, MATCH(AI313, Country!$O$31:$O$76, 0), 2)","v":"Average residential electricity prices"},{"$f":"INDEX(Country!$K$31:$K$76, MATCH(AI313, Country!$O$31:$O$76, 0), 1)","v":"USD/MWh"},"Bahamas",0,0,0,0,0,0,162.22857142857143,0,0,0,0,0,0,41.540829704546532,null,null,null,null,null,null,null,null,null,null,null,null,null,null,"1.12 > Bahamas",299,12," "]
[{"$f":"INDEX(Country!$F$31:$G$76, MATCH(AI314, Country!$O$31:$O$76, 0), 1)","v":1.1200000000000001},{"$f":"INDEX(Country!$F$31:$G$76, MATCH(AI314, Country!$O$31:$O$76, 0), 2)","v":"Average residential electricity prices"},{"$f":"INDEX(Country!$K$31:$K$76, MATCH(AI314, Country!$O$31:$O$76, 0), 1)","v":"USD/MWh"},"Barbados",0,0,0,0,0,0,93.75,0,0,0,0,0,0,24.005961160275326,null,null,null,null,null,null,null,null,null,null,null,null,null,null,"1.12 > Barbados",300,12," "]
[{"$f":"INDEX(Country!$F$31:$G$76, MATCH(AI315, Country!$O$31:$O$76, 0), 1)","v":1.1200000000000001},{"$f":"INDEX(Country!$F$31:$G$76, MATCH(AI315, Country!$O$31:$O$76, 0), 2)","v":"Average residential electricity prices"},{"$f":"INDEX(Country!$K$31:$K$76, MATCH(AI315, Country!$O$31:$O$76, 0), 1)","v":"USD/MWh"},"Belize",0,0,0,0,0,0,216.21358435177501,0,0,0,0,0,0,55.364425688241326,null,null,null,null,null,null,null,null,null,null,null,null,null,null,"1.12 > Belize",301,12," "]
[{"$f":"INDEX(Country!$F$31:$G$76, MATCH(AI316, Country!$O$31:$O$76, 0), 1)","v":1.1200000000000001},{"$f":"INDEX(Country!$F$31:$G$76, MATCH(AI316, Country!$O$31:$O$76, 0), 2)","v":"Average residential electricity prices"},{"$f":"INDEX(Country!$K$31:$K$76, MATCH(AI316, Country!$O$31:$O$76, 0), 1)","v":"USD/MWh"},"Bolivia",62.613748689055626,66.600000000000009,75.199999999999989,76.5,76.5,80.600000000000009,80.600000000000009,38.35843293182905,39.613971954973323,30.079999999999995,30.659882583170255,30.6,32.192681017612529,20.638725008194044,null,null,null,null,null,null,null,null,null,null,null,null,null,null,"1.12 > Bolivia",302,12," "]
[{"$f":"INDEX(Country!$F$31:$G$76, MATCH(AI317, Country!$O$31:$O$76, 0), 1)","v":1.1200000000000001},{"$f":"INDEX(Country!$F$31:$G$76, MATCH(AI317, Country!$O$31:$O$76, 0), 2)","v":"Average residential electricity prices"},{"$f":"INDEX(Country!$K$31:$K$76, MATCH(AI317, Country!$O$31:$O$76, 0), 1)","v":"USD/MWh"},"Brazil",137.898618,153.64134600000003,156.52109999999999,148.68498400000001,171.04547400000001,189.31723999999997,171.31127999999998,84.479447416785789,91.386546119644933,62.608439999999995,59.590381063013709,68.418189600000019,75.615750849315063,43.866580629301872,null,null,null,null,null,null,null,null,null,null,null,null,null,null,"1.12 > Brazil",303,12," "]
[{"$f":"INDEX(Country!$F$31:$G$76, MATCH(AI318, Country!$O$31:$O$76, 0), 1)","v":1.1200000000000001},{"$f":"INDEX(Country!$F$31:$G$76, MATCH(AI318, Country!$O$31:$O$76, 0), 2)","v":"Average residential electricity prices"},{"$f":"INDEX(Country!$K$31:$K$76, MATCH(AI318, Country!$O$31:$O$76, 0), 1)","v":"USD/MWh"},"Chile",140,150,250,210,240,240,259.39999999999998,85.766795997549508,89.220657556246209,100,84.164383561643831,96,95.859099804305274,66.422894133071125,null,null,null,null,null,null,null,null,null,null,null,null,null,null,"1.12 > Chile",304,12," "]
[{"$f":"INDEX(Country!$F$31:$G$76, MATCH(AI319, Country!$O$31:$O$76, 0), 1)","v":1.1200000000000001},{"$f":"INDEX(Country!$F$31:$G$76, MATCH(AI319, Country!$O$31:$O$76, 0), 2)","v":"Average residential electricity prices"},{"$f":"INDEX(Country!$K$31:$K$76, MATCH(AI319, Country!$O$31:$O$76, 0), 1)","v":"USD/MWh"},"Colombia",0,0,0,0,170,180,210,0,0,0,0,68,71.894324853228966,53.77335299901673,null,null,null,null,null,null,null,null,null,null,null,null,null,null,"1.12 > Colombia",305,12," "]
[{"$f":"INDEX(Country!$F$31:$G$76, MATCH(AI320, Country!$O$31:$O$76, 0), 1)","v":1.1200000000000001},{"$f":"INDEX(Country!$F$31:$G$76, MATCH(AI320, Country!$O$31:$O$76, 0), 2)","v":"Average residential electricity prices"},{"$f":"INDEX(Country!$K$31:$K$76, MATCH(AI320, Country!$O$31:$O$76, 0), 1)","v":"USD/MWh"},"Costa Rica",75.058312936736598,82.946658732914827,97.261224802728876,118.38933087248687,135.18896002467758,141.84354991463474,146.68414127557355,45.982221525466571,49.337036228294743,38.904489921091553,47.448405015039747,54.075584009871029,56.654145866099704,37.56046718175741,null,null,null,null,null,null,null,null,null,null,null,null,null,null,"1.12 > Costa Rica",306,12," "]
[{"$f":"INDEX(Country!$F$31:$G$76, MATCH(AI321, Country!$O$31:$O$76, 0), 1)","v":1.1200000000000001},{"$f":"INDEX(Country!$F$31:$G$76, MATCH(AI321, Country!$O$31:$O$76, 0), 2)","v":"Average residential electricity prices"},{"$f":"INDEX(Country!$K$31:$K$76, MATCH(AI321, Country!$O$31:$O$76, 0), 1)","v":"USD/MWh"},"Dominican Republic",0,0,0,0,0,0,245.65680000000003,0,0,0,0,0,0,62.903761061946931,null,null,null,null,null,null,null,null,null,null,null,null,null,null,"1.12 > Dominican Republic",307,12," "]
[{"$f":"INDEX(Country!$F$31:$G$76, MATCH(AI322, Country!$O$31:$O$76, 0), 1)","v":1.1200000000000001},{"$f":"INDEX(Country!$F$31:$G$76, MATCH(AI322, Country!$O$31:$O$76, 0), 2)","v":"Average residential electricity prices"},{"$f":"INDEX(Country!$K$31:$K$76, MATCH(AI322, Country!$O$31:$O$76, 0), 1)","v":"USD/MWh"},"Ecuador",97.699999999999989,96.5,93.6,89.9,92.2,94.2,95.927272727272737,59.852971206861326,57.398623027851727,37.44,36.030371819960862,36.880000000000003,37.624696673189824,24.563481421888511,null,null,null,null,null,null,null,null,null,null,null,null,null,null,"1.12 > Ecuador",308,12," "]
[{"$f":"INDEX(Country!$F$31:$G$76, MATCH(AI323, Country!$O$31:$O$76, 0), 1)","v":1.1200000000000001},{"$f":"INDEX(Country!$F$31:$G$76, MATCH(AI323, Country!$O$31:$O$76, 0), 2)","v":"Average residential electricity prices"},{"$f":"INDEX(Country!$K$31:$K$76, MATCH(AI323, Country!$O$31:$O$76, 0), 1)","v":"USD/MWh"},"El Salvador",150.5,160.5,157.79999999999998,203.6,210.79999999999998,238.2,238.2,92.19930569736573,95.466103585183433,63.11999999999999,81.599373776908024,84.32,95.14015655577299,60.994346116027543,null,null,null,null,null,null,null,null,null,null,null,null,null,null,"1.12 > El Salvador",309,12," "]
[{"$f":"INDEX(Country!$F$31:$G$76, MATCH(AI324, Country!$O$31:$O$76, 0), 1)","v":1.1200000000000001},{"$f":"INDEX(Country!$F$31:$G$76, MATCH(AI324, Country!$O$31:$O$76, 0), 2)","v":"Average residential electricity prices"},{"$f":"INDEX(Country!$K$31:$K$76, MATCH(AI324, Country!$O$31:$O$76, 0), 1)","v":"USD/MWh"},"Guatemala",0,0,0,0,0,0,0,0,0,0,0,0,0,0,null,null,null,null,null,null,null,null,null,null,null,null,null,null,"1.12 > Guatemala",310,12," "]
[{"$f":"INDEX(Country!$F$31:$G$76, MATCH(AI325, Country!$O$31:$O$76, 0), 1)","v":1.1200000000000001},{"$f":"INDEX(Country!$F$31:$G$76, MATCH(AI325, Country!$O$31:$O$76, 0), 2)","v":"Average residential electricity prices"},{"$f":"INDEX(Country!$K$31:$K$76, MATCH(AI325, Country!$O$31:$O$76, 0), 1)","v":"USD/MWh"},"Guyana",0,0,250,249.51171875,250,250.36746692797649,252.09669462259498,0,0,100,100,100,100,64.552783570600582,null,null,null,null,null,null,null,null,null,null,null,null,null,null,"1.12 > Guyana",311,12," "]
[{"$f":"INDEX(Country!$F$31:$G$76, MATCH(AI326, Country!$O$31:$O$76, 0), 1)","v":1.1200000000000001},{"$f":"INDEX(Country!$F$31:$G$76, MATCH(AI326, Country!$O$31:$O$76, 0), 2)","v":"Average residential electricity prices"},{"$f":"INDEX(Country!$K$31:$K$76, MATCH(AI326, Country!$O$31:$O$76, 0), 1)","v":"USD/MWh"},"Haiti",155.80583333333331,168.12249999999997,158.26916666666665,207.20050000000003,208.02600000000001,204.72400000000002,198.12,95.449765162344264,100,63.307666666666655,83.042392172211365,83.210400000000007,81.769409784735814,50.731317600786639,null,null,null,null,null,null,null,null,null,null,null,null,null,null,"1.12 > Haiti",312,12," "]
[{"$f":"INDEX(Country!$F$31:$G$76, MATCH(AI327, Country!$O$31:$O$76, 0), 1)","v":1.1200000000000001},{"$f":"INDEX(Country!$F$31:$G$76, MATCH(AI327, Country!$O$31:$O$76, 0), 2)","v":"Average residential electricity prices"},{"$f":"INDEX(Country!$K$31:$K$76, MATCH(AI327, Country!$O$31:$O$76, 0), 1)","v":"USD/MWh"},"Honduras",0,0,0,74.25573,74.25573,74.25573,72.711659999999995,{"$f":"IFERROR(dbl_BenchmarkMax*E327/ SUMIFS(E$15:E$1256, $D$15:$D$1256, \"Benchmark\", $B$15:$B$1256,$B327), 0)","v":0},{"$f":"IFERROR(dbl_BenchmarkMax*F327/ SUMIFS(F$15:F$1256, $D$15:$D$1256, \"Benchmark\", $B$15:$B$1256,$B327), 0)","v":0},0,29.760417816046967,29.702292,29.658697637964774,18.618808382497544,null,null,null,null,null,null,null,null,null,null,null,null,null,null,"1.12 > Honduras",313,12," "]
[{"$f":"INDEX(Country!$F$31:$G$76, MATCH(AI328, Country!$O$31:$O$76, 0), 1)","v":1.1200000000000001},{"$f":"INDEX(Country!$F$31:$G$76, MATCH(AI328, Country!$O$31:$O$76, 0), 2)","v":"Average residential electricity prices"},{"$f":"INDEX(Country!$K$31:$K$76, MATCH(AI328, Country!$O$31:$O$76, 0), 1)","v":"USD/MWh"},"Jamaica",0,0,0,0,0,0,390.52799999999991,0,0,0,0,0,0,100,null,null,null,null,null,null,null,null,null,null,null,null,null,null,"1.12 > Jamaica",314,12," "]
[{"$f":"INDEX(Country!$F$31:$G$76, MATCH(AI329, Country!$O$31:$O$76, 0), 1)","v":1.1200000000000001},{"$f":"INDEX(Country!$F$31:$G$76, MATCH(AI329, Country!$O$31:$O$76, 0), 2)","v":"Average residential electricity prices"},{"$f":"INDEX(Country!$K$31:$K$76, MATCH(AI329, Country!$O$31:$O$76, 0), 1)","v":"USD/MWh"},"Mexico",91.056495407499995,93.870538666666675,96.931977999999987,80.04599808333333,89.721166999999994,95.487602499999994,90.237220000000008,55.783027613334681,55.834607899993564,38.772791199999993,32.081057548858446,35.888466799999996,38.138981742172206,23.106466117666347,null,null,null,null,null,null,null,null,null,null,null,null,null,null,"1.12 > Mexico",315,12," "]
[{"$f":"INDEX(Country!$F$31:$G$76, MATCH(AI330, Country!$O$31:$O$76, 0), 1)","v":1.1200000000000001},{"$f":"INDEX(Country!$F$31:$G$76, MATCH(AI330, Country!$O$31:$O$76, 0), 2)","v":"Average residential electricity prices"},{"$f":"INDEX(Country!$K$31:$K$76, MATCH(AI330, Country!$O$31:$O$76, 0), 1)","v":"USD/MWh"},"Nicaragua",146.611954,152.63332460000001,186.25432799999999,161.37649199999998,182.015028,223.08474000000001,226.89999999999998,89.817411068000808,90.786970572053136,74.501731199999995,64.67691890724069,72.8060112,89.102926485322897,58.100827597509017,null,null,null,null,null,null,null,null,null,null,null,null,null,null,"1.12 > Nicaragua",316,12," "]
[{"$f":"INDEX(Country!$F$31:$G$76, MATCH(AI331, Country!$O$31:$O$76, 0), 1)","v":1.1200000000000001},{"$f":"INDEX(Country!$F$31:$G$76, MATCH(AI331, Country!$O$31:$O$76, 0), 2)","v":"Average residential electricity prices"},{"$f":"INDEX(Country!$K$31:$K$76, MATCH(AI331, Country!$O$31:$O$76, 0), 1)","v":"USD/MWh"},"Panama",163.23333333333335,156.33333333333334,198.65,168,173.33333333333334,169.16666666666669,168,100,92.98775198639882,79.459999999999994,67.331506849315062,69.333333333333343,67.567351598173516,43.018682399213382,null,null,null,null,null,null,null,null,null,null,null,null,null,null,"1.12 > Panama",317,12," "]
[{"$f":"INDEX(Country!$F$31:$G$76, MATCH(AI332, Country!$O$31:$O$76, 0), 1)","v":1.1200000000000001},{"$f":"INDEX(Country!$F$31:$G$76, MATCH(AI332, Country!$O$31:$O$76, 0), 2)","v":"Average residential electricity prices"},{"$f":"INDEX(Country!$K$31:$K$76, MATCH(AI332, Country!$O$31:$O$76, 0), 1)","v":"USD/MWh"},"Paraguay",62.462281231140608,70.776391955600644,81.308669243511872,71.254604375918348,74.25253014076209,86.291149197873708,82.563210339607295,38.265640942091444,42.098108198248696,32.523467697404747,28.557618348704654,29.701012056304837,34.46579951327989,21.141431687256055,null,null,null,null,null,null,null,null,null,null,null,null,null,null,"1.12 > Paraguay",318,12," "]
[{"$f":"INDEX(Country!$F$31:$G$76, MATCH(AI333, Country!$O$31:$O$76, 0), 1)","v":1.1200000000000001},{"$f":"INDEX(Country!$F$31:$G$76, MATCH(AI333, Country!$O$31:$O$76, 0), 2)","v":"Average residential electricity prices"},{"$f":"INDEX(Country!$K$31:$K$76, MATCH(AI333, Country!$O$31:$O$76, 0), 1)","v":"USD/MWh"},"Peru",107.2,106.89999999999999,112.69999999999999,119.3,122.1,129.71820400083789,129.71820400083789,65.672860935266485,63.584588618418131,45.079999999999991,47.813385518590998,48.84,51.811126098964799,33.216108448264379,null,null,null,null,null,null,null,null,null,null,null,null,null,null,"1.12 > Peru",319,12," "]
[{"$f":"INDEX(Country!$F$31:$G$76, MATCH(AI334, Country!$O$31:$O$76, 0), 1)","v":1.1200000000000001},{"$f":"INDEX(Country!$F$31:$G$76, MATCH(AI334, Country!$O$31:$O$76, 0), 2)","v":"Average residential electricity prices"},{"$f":"INDEX(Country!$K$31:$K$76, MATCH(AI334, Country!$O$31:$O$76, 0), 1)","v":"USD/MWh"},"Suriname",0,0,0,0,0,0,3.0082675E-2,0,0,0,0,0,0,7.7030776282366459E-3,null,null,null,null,null,null,null,null,null,null,null,null,null,null,"1.12 > Suriname",320,12," "]
[{"$f":"INDEX(Country!$F$31:$G$76, MATCH(AI335, Country!$O$31:$O$76, 0), 1)","v":1.1200000000000001},{"$f":"INDEX(Country!$F$31:$G$76, MATCH(AI335, Country!$O$31:$O$76, 0), 2)","v":"Average residential electricity prices"},{"$f":"INDEX(Country!$K$31:$K$76, MATCH(AI335, Country!$O$31:$O$76, 0), 1)","v":"USD/MWh"},"Trinidad & Tobago",0,0,0,0,0,0,53.628666666666668,0,0,0,0,0,0,13.732348683491756,null,null,null,null,null,null,null,null,null,null,null,null,null,null,{"$f":"A335&\" > \" &D335","v":"1.12 > Trinidad & Tobago"},321,12," "]
[{"$f":"INDEX(Country!$F$31:$G$76, MATCH(AI336, Country!$O$31:$O$76, 0), 1)","v":1.1200000000000001},{"$f":"INDEX(Country!$F$31:$G$76, MATCH(AI336, Country!$O$31:$O$76, 0), 2)","v":"Average residential electricity prices"},{"$f":"INDEX(Country!$K$31:$K$76, MATCH(AI336, Country!$O$31:$O$76, 0), 1)","v":"USD/MWh"},"Uruguay",152.98273562469299,161.89389293102698,190.47864144337899,203.24615313663,206.44167162863039,224.6599524383397,229.87212352549872,93.720279124786387,96.295197210978316,76.191456577351587,81.457558047713931,82.576668651452152,89.732086678405352,58.8618802046201,null,null,null,null,null,null,null,null,null,null,null,null,null,null,"1.12 > Uruguay",322,12," "]
[{"$f":"INDEX(Country!$F$31:$G$76, MATCH(AI337, Country!$O$31:$O$76, 0), 1)","v":1.1200000000000001},{"$f":"INDEX(Country!$F$31:$G$76, MATCH(AI337, Country!$O$31:$O$76, 0), 2)","v":"Average residential electricity prices"},{"$f":"INDEX(Country!$K$31:$K$76, MATCH(AI337, Country!$O$31:$O$76, 0), 1)","v":"USD/MWh"},"Venezuela",36.204989777042158,35.422322598764275,39.173064001701036,40.22374761589662,21.060870438714854,23.287341018184367,24.680250644104454,22.179899802149574,21.069352762874857,15.669225600680415,16.120985345862284,8.4243481754859424,9.3012647784959466,6.3197134761411373,null,null,null,null,null,null,null,null,null,null,null,null,null,null,"1.12 > Venezuela",{"$f":"AH336+1","v":323},{"$f":"ROUNDUP(AH337/COUNTA($D$15:$D$41),0)","v":12}," "]
[{"$f":"INDEX(Country!$F$31:$G$76, MATCH(AI338, Country!$O$31:$O$76, 0), 1)","v":1.1200000000000001},{"$f":"INDEX(Country!$F$31:$G$76, MATCH(AI338, Country!$O$31:$O$76, 0), 2)","v":"Average residential electricity prices"},{"$f":"INDEX(Country!$K$31:$K$76, MATCH(AI338, Country!$O$31:$O$76, 0), 1)","v":"USD/MWh"},"Benchmark",{"$f":"IFERROR(MAX(E312:E337), 0)","v":163.23333333333335},{"$f":"IFERROR(MAX(F312:F337), 0)","v":168.12249999999997},250,249.51171875,250,250.36746692797649,390.52799999999991,100,100,100,100,100,100,100,null,null,null,null,null,null,null,null,null,null,null,null,null,null,"1.12 > Benchmark",324,12," "]
[{"$f":"INDEX(Country!$F$31:$G$76, MATCH(AI339, Country!$O$31:$O$76, 0), 1)","v":1.1300000000000001},{"$f":"INDEX(Country!$F$31:$G$76, MATCH(AI339, Country!$O$31:$O$76, 0), 2)","v":"Average commercial electricity prices"},{"$f":"INDEX(Country!$K$31:$K$76, MATCH(AI339, Country!$O$31:$O$76, 0), 1)","v":"USD/MWh"},"Argentina",0,0,0,0,0,0,94.310985944684106,0,0,0,0,0,0,20.090924656024878,null,null,null,null,null,null,null,null,null,null,null,null,null,null,"1.13 > Argentina",325,13," "]
[{"$f":"INDEX(Country!$F$31:$G$76, MATCH(AI340, Country!$O$31:$O$76, 0), 1)","v":1.1300000000000001},{"$f":"INDEX(Country!$F$31:$G$76, MATCH(AI340, Country!$O$31:$O$76, 0), 2)","v":"Average commercial electricity prices"},{"$f":"INDEX(Country!$K$31:$K$76, MATCH(AI340, Country!$O$31:$O$76, 0), 1)","v":"USD/MWh"},"Bahamas",0,0,0,0,0,0,171.6,0,0,0,0,0,0,36.555684753375175,null,null,null,null,null,null,null,null,null,null,null,null,null,null,"1.13 > Bahamas",326,13," "]
[{"$f":"INDEX(Country!$F$31:$G$76, MATCH(AI341, Country!$O$31:$O$76, 0), 1)","v":1.1300000000000001},{"$f":"INDEX(Country!$F$31:$G$76, MATCH(AI341, Country!$O$31:$O$76, 0), 2)","v":"Average commercial electricity prices"},{"$f":"INDEX(Country!$K$31:$K$76, MATCH(AI341, Country!$O$31:$O$76, 0), 1)","v":"USD/MWh"},"Barbados",0,0,0,0,0,0,118.75,0,0,0,0,0,0,25.297130329040222,null,null,null,null,null,null,null,null,null,null,null,null,null,null,"1.13 > Barbados",327,13," "]
[{"$f":"INDEX(Country!$F$31:$G$76, MATCH(AI342, Country!$O$31:$O$76, 0), 1)","v":1.1300000000000001},{"$f":"INDEX(Country!$F$31:$G$76, MATCH(AI342, Country!$O$31:$O$76, 0), 2)","v":"Average commercial electricity prices"},{"$f":"INDEX(Country!$K$31:$K$76, MATCH(AI342, Country!$O$31:$O$76, 0), 1)","v":"USD/MWh"},"Belize",0,0,0,0,0,0,214.10504096220075,0,0,0,0,0,0,45.610468423791886,null,null,null,null,null,null,null,null,null,null,null,null,null,null,"1.13 > Belize",328,13," "]
[{"$f":"INDEX(Country!$F$31:$G$76, MATCH(AI343, Country!$O$31:$O$76, 0), 1)","v":1.1300000000000001},{"$f":"INDEX(Country!$F$31:$G$76, MATCH(AI343, Country!$O$31:$O$76, 0), 2)","v":"Average commercial electricity prices"},{"$f":"INDEX(Country!$K$31:$K$76, MATCH(AI343, Country!$O$31:$O$76, 0), 1)","v":"USD/MWh"},"Bolivia",90.636856925154589,95.7,109.49999999999999,105.89999999999999,107.10000000000001,113.4,113.4,42.748864340044015,43.737066563994595,32.056430822114002,31.063191062732741,31.353824119163562,33.149441420796329,24.157428036321356,null,null,null,null,null,null,null,null,null,null,null,null,null,null,"1.13 > Bolivia",329,13," "]
[{"$f":"INDEX(Country!$F$31:$G$76, MATCH(AI344, Country!$O$31:$O$76, 0), 1)","v":1.1300000000000001},{"$f":"INDEX(Country!$F$31:$G$76, MATCH(AI344, Country!$O$31:$O$76, 0), 2)","v":"Average commercial electricity prices"},{"$f":"INDEX(Country!$K$31:$K$76, MATCH(AI344, Country!$O$31:$O$76, 0), 1)","v":"USD/MWh"},"Brazil",99.151271999999992,115.88994400000001,120.10755,116.705904,134.311601,149.82396799999998,134.301264,46.764687343151429,52.964328054604039,35.161820710398167,34.232840359782301,39.320096311085642,43.797009264967052,28.609992242213369,null,null,null,null,null,null,null,null,null,null,null,null,null,null,"1.13 > Brazil",330,13," "]
[{"$f":"INDEX(Country!$F$31:$G$76, MATCH(AI345, Country!$O$31:$O$76, 0), 1)","v":1.1300000000000001},{"$f":"INDEX(Country!$F$31:$G$76, MATCH(AI345, Country!$O$31:$O$76, 0), 2)","v":"Average commercial electricity prices"},{"$f":"INDEX(Country!$K$31:$K$76, MATCH(AI345, Country!$O$31:$O$76, 0), 1)","v":"USD/MWh"},"Chile",80,100,160,135,145,145,145.19999999999999,37.73199185434671,45.702263912220054,46.840446863362935,39.598968776854768,42.44915496992266,42.386851904898307,30.931733252855913,null,null,null,null,null,null,null,null,null,null,null,null,null,null,"1.13 > Chile",331,13," "]
[{"$f":"INDEX(Country!$F$31:$G$76, MATCH(AI346, Country!$O$31:$O$76, 0), 1)","v":1.1300000000000001},{"$f":"INDEX(Country!$F$31:$G$76, MATCH(AI346, Country!$O$31:$O$76, 0), 2)","v":"Average commercial electricity prices"},{"$f":"INDEX(Country!$K$31:$K$76, MATCH(AI346, Country!$O$31:$O$76, 0), 1)","v":"USD/MWh"},"Colombia",0,0,0,0,120,150,180,0,0,0,0,35.130335147522196,43.848467487825836,38.345123867176753,null,null,null,null,null,null,null,null,null,null,null,null,null,null,"1.13 > Colombia",332,13," "]
[{"$f":"INDEX(Country!$F$31:$G$76, MATCH(AI347, Country!$O$31:$O$76, 0), 1)","v":1.1300000000000001},{"$f":"INDEX(Country!$F$31:$G$76, MATCH(AI347, Country!$O$31:$O$76, 0), 2)","v":"Average commercial electricity prices"},{"$f":"INDEX(Country!$K$31:$K$76, MATCH(AI347, Country!$O$31:$O$76, 0), 1)","v":"USD/MWh"},"Costa Rica",97.730356005942085,106.14410436447635,123.0590165016164,146.72673915129545,166.50965071534924,163.4136034401885,171.5125045298345,46.094512459232632,48.51025870391527,36.025870771885408,43.038722684310095,48.746165291058986,47.769573850103789,36.537045727590105,null,null,null,null,null,null,null,null,null,null,null,null,null,null,"1.13 > Costa Rica",333,13," "]
[{"$f":"INDEX(Country!$F$31:$G$76, MATCH(AI348, Country!$O$31:$O$76, 0), 1)","v":1.1300000000000001},{"$f":"INDEX(Country!$F$31:$G$76, MATCH(AI348, Country!$O$31:$O$76, 0), 2)","v":"Average commercial electricity prices"},{"$f":"INDEX(Country!$K$31:$K$76, MATCH(AI348, Country!$O$31:$O$76, 0), 1)","v":"USD/MWh"},"Dominican Republic",0,0,0,0,0,0,225.04770000000002,0,0,0,0,0,0,47.941566291795745,null,null,null,null,null,null,null,null,null,null,null,null,null,null,"1.13 > Dominican Republic",334,13," "]
[{"$f":"INDEX(Country!$F$31:$G$76, MATCH(AI349, Country!$O$31:$O$76, 0), 1)","v":1.1300000000000001},{"$f":"INDEX(Country!$F$31:$G$76, MATCH(AI349, Country!$O$31:$O$76, 0), 2)","v":"Average commercial electricity prices"},{"$f":"INDEX(Country!$K$31:$K$76, MATCH(AI349, Country!$O$31:$O$76, 0), 1)","v":"USD/MWh"},"Ecuador",81.099999999999994,82,81.7,80.199999999999989,78.5,78.3,78.654545454545456,38.250806742343968,37.475856408020448,23.917903179604696,23.524720710398164,22.981094242337438,22.888900028645086,16.755657156505723,null,null,null,null,null,null,null,null,null,null,null,null,null,null,"1.13 > Ecuador",335,13," "]
[{"$f":"INDEX(Country!$F$31:$G$76, MATCH(AI350, Country!$O$31:$O$76, 0), 1)","v":1.1300000000000001},{"$f":"INDEX(Country!$F$31:$G$76, MATCH(AI350, Country!$O$31:$O$76, 0), 2)","v":"Average commercial electricity prices"},{"$f":"INDEX(Country!$K$31:$K$76, MATCH(AI350, Country!$O$31:$O$76, 0), 1)","v":"USD/MWh"},"El Salvador",0,0,0,0,0,0,212.5,0,0,0,0,0,0,45.268549009861445,null,null,null,null,null,null,null,null,null,null,null,null,null,null,"1.13 > El Salvador",336,13," "]
[{"$f":"INDEX(Country!$F$31:$G$76, MATCH(AI351, Country!$O$31:$O$76, 0), 1)","v":1.1300000000000001},{"$f":"INDEX(Country!$F$31:$G$76, MATCH(AI351, Country!$O$31:$O$76, 0), 2)","v":"Average commercial electricity prices"},{"$f":"INDEX(Country!$K$31:$K$76, MATCH(AI351, Country!$O$31:$O$76, 0), 1)","v":"USD/MWh"},"Guatemala",0,0,0,0,0,0,0,0,0,0,0,0,0,0,null,null,null,null,null,null,null,null,null,null,null,null,null,null,"1.13 > Guatemala",337,13," "]
[{"$f":"INDEX(Country!$F$31:$G$76, MATCH(AI352, Country!$O$31:$O$76, 0), 1)","v":1.1300000000000001},{"$f":"INDEX(Country!$F$31:$G$76, MATCH(AI352, Country!$O$31:$O$76, 0), 2)","v":"Average commercial electricity prices"},{"$f":"INDEX(Country!$K$31:$K$76, MATCH(AI352, Country!$O$31:$O$76, 0), 1)","v":"USD/MWh"},"Guyana",0,0,341.58512720156557,340.91796875,341.58512720156557,342.08721215090645,344.44992599901332,0,0,100,100,100,99.999999999999986,73.377639324844623,null,null,null,null,null,null,null,null,null,null,null,null,null,null,"1.13 > Guyana",338,13," "]
[{"$f":"INDEX(Country!$F$31:$G$76, MATCH(AI353, Country!$O$31:$O$76, 0), 1)","v":1.1300000000000001},{"$f":"INDEX(Country!$F$31:$G$76, MATCH(AI353, Country!$O$31:$O$76, 0), 2)","v":"Average commercial electricity prices"},{"$f":"INDEX(Country!$K$31:$K$76, MATCH(AI353, Country!$O$31:$O$76, 0), 1)","v":"USD/MWh"},"Haiti",177.31083333333333,191.32750000000001,180.11416666666668,328.97733333333332,330.28800000000001,325.04533333333336,314.56,83.628636487759493,87.440998986652829,52.728925331805598,96.49750482192303,96.692734460040114,95.01826487157453,67.010234242550666,null,null,null,null,null,null,null,null,null,null,null,null,null,null,"1.13 > Haiti",339,13," "]
[{"$f":"INDEX(Country!$F$31:$G$76, MATCH(AI354, Country!$O$31:$O$76, 0), 1)","v":1.1300000000000001},{"$f":"INDEX(Country!$F$31:$G$76, MATCH(AI354, Country!$O$31:$O$76, 0), 2)","v":"Average commercial electricity prices"},{"$f":"INDEX(Country!$K$31:$K$76, MATCH(AI354, Country!$O$31:$O$76, 0), 1)","v":"USD/MWh"},"Honduras",0,0,0,189.76288000000002,189.76288000000002,189.76288000000002,185.81695999999999,0,0,0,55.662328593526219,55.553613107991993,55.472076493841314,39.58430193234571,null,null,null,null,null,null,null,null,null,null,null,null,null,null,"1.13 > Honduras",340,13," "]
[{"$f":"INDEX(Country!$F$31:$G$76, MATCH(AI355, Country!$O$31:$O$76, 0), 1)","v":1.1300000000000001},{"$f":"INDEX(Country!$F$31:$G$76, MATCH(AI355, Country!$O$31:$O$76, 0), 2)","v":"Average commercial electricity prices"},{"$f":"INDEX(Country!$K$31:$K$76, MATCH(AI355, Country!$O$31:$O$76, 0), 1)","v":"USD/MWh"},"Jamaica",0,0,0,0,0,0,469.42083333333329,0,0,0,0,0,0,100,null,null,null,null,null,null,null,null,null,null,null,null,null,null,"1.13 > Jamaica",341,13," "]
[{"$f":"INDEX(Country!$F$31:$G$76, MATCH(AI356, Country!$O$31:$O$76, 0), 1)","v":1.1300000000000001},{"$f":"INDEX(Country!$F$31:$G$76, MATCH(AI356, Country!$O$31:$O$76, 0), 2)","v":"Average commercial electricity prices"},{"$f":"INDEX(Country!$K$31:$K$76, MATCH(AI356, Country!$O$31:$O$76, 0), 1)","v":"USD/MWh"},"Mexico",212.02167197750001,218.80754133333338,230.51061800000002,176.46890633333331,203.50039124999998,219.79182999999995,221.59504600000002,100,100.00000000000001,67.482627211687202,51.762864533180554,59.575307893869947,64.250232745631592,47.20605270679296,null,null,null,null,null,null,null,null,null,null,null,null,null,null,"1.13 > Mexico",342,13," "]
[{"$f":"INDEX(Country!$F$31:$G$76, MATCH(AI357, Country!$O$31:$O$76, 0), 1)","v":1.1300000000000001},{"$f":"INDEX(Country!$F$31:$G$76, MATCH(AI357, Country!$O$31:$O$76, 0), 2)","v":"Average commercial electricity prices"},{"$f":"INDEX(Country!$K$31:$K$76, MATCH(AI357, Country!$O$31:$O$76, 0), 1)","v":"USD/MWh"},"Nicaragua",185.262417,195.31241,242.975628,210.714744,237.73042800000002,294.43225200000001,297.5,87.379000114507278,89.262193071517288,71.131793702663984,61.808048655399595,69.596246753365804,86.069353527928953,63.375968613806023,null,null,null,null,null,null,null,null,null,null,null,null,null,null,"1.13 > Nicaragua",343,13," "]
[{"$f":"INDEX(Country!$F$31:$G$76, MATCH(AI358, Country!$O$31:$O$76, 0), 1)","v":1.1300000000000001},{"$f":"INDEX(Country!$F$31:$G$76, MATCH(AI358, Country!$O$31:$O$76, 0), 2)","v":"Average commercial electricity prices"},{"$f":"INDEX(Country!$K$31:$K$76, MATCH(AI358, Country!$O$31:$O$76, 0), 1)","v":"USD/MWh"},"Panama",160.75,155,215.57500000000002,162.35,168.8,158.65,154.54999999999998,75.817721132327918,70.838509063941089,63.110183328559152,47.621426525350905,49.416671440847892,46.377062446290459,32.923549409289812,null,null,null,null,null,null,null,null,null,null,null,null,null,null,"1.13 > Panama",344,13," "]
[{"$f":"INDEX(Country!$F$31:$G$76, MATCH(AI359, Country!$O$31:$O$76, 0), 1)","v":1.1300000000000001},{"$f":"INDEX(Country!$F$31:$G$76, MATCH(AI359, Country!$O$31:$O$76, 0), 2)","v":"Average commercial electricity prices"},{"$f":"INDEX(Country!$K$31:$K$76, MATCH(AI359, Country!$O$31:$O$76, 0), 1)","v":"USD/MWh"},"Paraguay",61.82328091164046,68.548467307195011,79.076937235413212,68.235341478633686,71.348917457445239,81.80973039975207,77.027362903043581,{"$f":"IFERROR(dbl_BenchmarkMax*E359/ SUMIFS(E$15:E$1256, $D$15:$D$1256, \"Benchmark\", $B$15:$B$1256,$B359), 0)","v":29.158944147087578},{"$f":"IFERROR(dbl_BenchmarkMax*F359/ SUMIFS(F$15:F$1256, $D$15:$D$1256, \"Benchmark\", $B$15:$B$1256,$B359), 0)","v":31.328201436516149},{"$f":"IFERROR(dbl_BenchmarkMax*G359/ SUMIFS(G$15:G$1256, $D$15:$D$1256, \"Benchmark\", $B$15:$B$1256,$B359), 0)","v":23.149994229330364},{"$f":"IFERROR(dbl_BenchmarkMax*H359/ SUMIFS(H$15:H$1256, $D$15:$D$1256, \"Benchmark\", $B$15:$B$1256,$B359), 0)","v":20.01517893844769},{"$f":"IFERROR(dbl_BenchmarkMax*I359/ SUMIFS(I$15:I$1256, $D$15:$D$1256, \"Benchmark\", $B$15:$B$1256,$B359), 0)","v":20.887594855774573},{"$f":"IFERROR(dbl_BenchmarkMax*J359/ SUMIFS(J$15:J$1256, $D$15:$D$1256, \"Benchmark\", $B$15:$B$1256,$B359), 0)","v":23.914875357475502},{"$f":"IFERROR(dbl_BenchmarkMax*K359/ SUMIFS(K$15:K$1256, $D$15:$D$1256, \"Benchmark\", $B$15:$B$1256,$B359), 0)","v":16.409020953773233},null,null,null,null,null,null,null,null,null,null,null,null,null,null,"1.13 > Paraguay",345,13," "]
[{"$f":"INDEX(Country!$F$31:$G$76, MATCH(AI360, Country!$O$31:$O$76, 0), 1)","v":1.1300000000000001},{"$f":"INDEX(Country!$F$31:$G$76, MATCH(AI360, Country!$O$31:$O$76, 0), 2)","v":"Average commercial electricity prices"},{"$f":"INDEX(Country!$K$31:$K$76, MATCH(AI360, Country!$O$31:$O$76, 0), 1)","v":"USD/MWh"},"Peru",85.9,85.2,91.2,99,103.5,93.506007256326455,93.506007256326455,40.514726253604778,38.938328853211488,26.699054712116872,29.039243769693499,30.299914064737898,27.333967460636245,19.919441280938699,null,null,null,null,null,null,null,null,null,null,null,null,null,null,"1.13 > Peru",346,13," "]
[{"$f":"INDEX(Country!$F$31:$G$76, MATCH(AI361, Country!$O$31:$O$76, 0), 1)","v":1.1300000000000001},{"$f":"INDEX(Country!$F$31:$G$76, MATCH(AI361, Country!$O$31:$O$76, 0), 2)","v":"Average commercial electricity prices"},{"$f":"INDEX(Country!$K$31:$K$76, MATCH(AI361, Country!$O$31:$O$76, 0), 1)","v":"USD/MWh"},"Suriname",0,0,0,0,0,0,4.6071199999999993E-2,0,0,0,0,0,0,9.8144770594970742E-3,null,null,null,null,null,null,null,null,null,null,null,null,null,null,"1.13 > Suriname",347,13," "]
[{"$f":"INDEX(Country!$F$31:$G$76, MATCH(AI362, Country!$O$31:$O$76, 0), 1)","v":1.1300000000000001},{"$f":"INDEX(Country!$F$31:$G$76, MATCH(AI362, Country!$O$31:$O$76, 0), 2)","v":"Average commercial electricity prices"},{"$f":"INDEX(Country!$K$31:$K$76, MATCH(AI362, Country!$O$31:$O$76, 0), 1)","v":"USD/MWh"},"Trinidad & Tobago",0,0,0,0,0,0,84.347999999999999,0,0,0,0,0,0,17.968525044159026,null,null,null,null,null,null,null,null,null,null,null,null,null,null,"1.13 > Trinidad & Tobago",348,13," "]
[{"$f":"INDEX(Country!$F$31:$G$76, MATCH(AI363, Country!$O$31:$O$76, 0), 1)","v":1.1300000000000001},{"$f":"INDEX(Country!$F$31:$G$76, MATCH(AI363, Country!$O$31:$O$76, 0), 2)","v":"Average commercial electricity prices"},{"$f":"INDEX(Country!$K$31:$K$76, MATCH(AI363, Country!$O$31:$O$76, 0), 1)","v":"USD/MWh"},{"$f":"D336","v":"Uruguay"},91.422299916742602,101.15839752305999,123.68113718017399,132.44007039891301,151.86645793235994,165.97730035799145,175.52527725924131,43.119318447052166,46.231677805361556,36.20799833805151,38.848075648377808,44.459329706924045,48.519001723096608,37.391880546256395,null,null,null,null,null,null,null,null,null,null,null,null,null,null,"1.13 > Uruguay",349,13," "]
[{"$f":"INDEX(Country!$F$31:$G$76, MATCH(AI364, Country!$O$31:$O$76, 0), 1)","v":1.1300000000000001},{"$f":"INDEX(Country!$F$31:$G$76, MATCH(AI364, Country!$O$31:$O$76, 0), 2)","v":"Average commercial electricity prices"},{"$f":"INDEX(Country!$K$31:$K$76, MATCH(AI364, Country!$O$31:$O$76, 0), 1)","v":"USD/MWh"},"Venezuela",27.193801091228103,29.332194179432729,27.928653328470709,28.740637448377726,19.759643802746496,20.355772693048348,21.21877839961898,12.825953515786791,13.405476795129196,8.1761912637344789,8.4303674440386107,5.7846909098845369,5.950462914138023,4.5202038113531353,null,null,null,null,null,null,null,null,null,null,null,null,null,null,"1.13 > Venezuela",350,13," "]
[{"$f":"INDEX(Country!$F$31:$G$76, MATCH(AI365, Country!$O$31:$O$76, 0), 1)","v":1.1300000000000001},{"$f":"INDEX(Country!$F$31:$G$76, MATCH(AI365, Country!$O$31:$O$76, 0), 2)","v":"Average commercial electricity prices"},{"$f":"INDEX(Country!$K$31:$K$76, MATCH(AI365, Country!$O$31:$O$76, 0), 1)","v":"USD/MWh"},"Benchmark",{"$f":"IFERROR(MAX(E339:E364), 0)","v":212.02167197750001},{"$f":"IFERROR(MAX(F339:F364), 0)","v":218.80754133333338},341.58512720156557,340.91796875,341.58512720156557,342.08721215090645,469.42083333333329,100,100.00000000000001,100,100,100,99.999999999999986,100,null,null,null,null,null,null,null,null,null,null,null,null,null,null,"1.13 > Benchmark",351,13," "]
[{"$f":"INDEX(Country!$F$31:$G$76, MATCH(AI366, Country!$O$31:$O$76, 0), 1)","v":1.1400000000000001},{"$f":"INDEX(Country!$F$31:$G$76, MATCH(AI366, Country!$O$31:$O$76, 0), 2)","v":"Average industrial electricity prices"},{"$f":"INDEX(Country!$K$31:$K$76, MATCH(AI366, Country!$O$31:$O$76, 0), 1)","v":"USD/MWh"},"Argentina",0,0,0,0,0,0,56.95524421156707,0,0,0,0,0,0,15.582091194462391,null,null,null,null,null,null,null,null,null,null,null,null,null,null,"1.14 > Argentina",352,14," "]
[{"$f":"INDEX(Country!$F$31:$G$76, MATCH(AI367, Country!$O$31:$O$76, 0), 1)","v":1.1400000000000001},{"$f":"INDEX(Country!$F$31:$G$76, MATCH(AI367, Country!$O$31:$O$76, 0), 2)","v":"Average industrial electricity prices"},{"$f":"INDEX(Country!$K$31:$K$76, MATCH(AI367, Country!$O$31:$O$76, 0), 1)","v":"USD/MWh"},"Bahamas",0,0,0,0,0,0,342.30000000000007,0,0,0,0,0,0,93.648089648279367,null,null,null,null,null,null,null,null,null,null,null,null,null,null,"1.14 > Bahamas",353,14," "]
[{"$f":"INDEX(Country!$F$31:$G$76, MATCH(AI368, Country!$O$31:$O$76, 0), 1)","v":1.1400000000000001},{"$f":"INDEX(Country!$F$31:$G$76, MATCH(AI368, Country!$O$31:$O$76, 0), 2)","v":"Average industrial electricity prices"},{"$f":"INDEX(Country!$K$31:$K$76, MATCH(AI368, Country!$O$31:$O$76, 0), 1)","v":"USD/MWh"},"Barbados",0,0,0,0,0,0,63.75,0,0,0,0,0,0,17.441033348167714,null,null,null,null,null,null,null,null,null,null,null,null,null,null,"1.14 > Barbados",354,14," "]
[{"$f":"INDEX(Country!$F$31:$G$76, MATCH(AI369, Country!$O$31:$O$76, 0), 1)","v":1.1400000000000001},{"$f":"INDEX(Country!$F$31:$G$76, MATCH(AI369, Country!$O$31:$O$76, 0), 2)","v":"Average industrial electricity prices"},{"$f":"INDEX(Country!$K$31:$K$76, MATCH(AI369, Country!$O$31:$O$76, 0), 1)","v":"USD/MWh"},"Belize",0,0,0,0,0,0,192.2390616886226,0,0,0,0,0,0,52.593692325203719,null,null,null,null,null,null,null,null,null,null,null,null,null,null,"1.14 > Belize",355,14," "]
[{"$f":"INDEX(Country!$F$31:$G$76, MATCH(AI370, Country!$O$31:$O$76, 0), 1)","v":1.1400000000000001},{"$f":"INDEX(Country!$F$31:$G$76, MATCH(AI370, Country!$O$31:$O$76, 0), 2)","v":"Average industrial electricity prices"},{"$f":"INDEX(Country!$K$31:$K$76, MATCH(AI370, Country!$O$31:$O$76, 0), 1)","v":"USD/MWh"},"Bolivia",44.067406374848261,47.300000000000004,54.1,53.3,53.2,57.300000000000004,57.300000000000004,25.646057203044645,25.51068563338502,18.84946731441234,15.660073570026675,15.568666011143888,17.038966600057098,15.676411150588391,null,null,null,null,null,null,null,null,null,null,null,null,null,null,"1.14 > Bolivia",356,14," "]
[{"$f":"INDEX(Country!$F$31:$G$76, MATCH(AI371, Country!$O$31:$O$76, 0), 1)","v":1.1400000000000001},{"$f":"INDEX(Country!$F$31:$G$76, MATCH(AI371, Country!$O$31:$O$76, 0), 2)","v":"Average industrial electricity prices"},{"$f":"INDEX(Country!$K$31:$K$76, MATCH(AI371, Country!$O$31:$O$76, 0), 1)","v":"USD/MWh"},"Brazil",132.13272599999999,147.79733200000001,151.6593,142.87705600000001,163.17758699999999,178.08823199999998,159.27249599999999,76.897728460922892,79.7127119261107,52.840980005113778,41.978709351385021,47.752957753898016,52.957058235797895,43.574539830304452,null,null,null,null,null,null,null,null,null,null,null,null,null,null,"1.14 > Brazil",357,14," "]
[{"$f":"INDEX(Country!$F$31:$G$76, MATCH(AI372, Country!$O$31:$O$76, 0), 1)","v":1.1400000000000001},{"$f":"INDEX(Country!$F$31:$G$76, MATCH(AI372, Country!$O$31:$O$76, 0), 2)","v":"Average industrial electricity prices"},{"$f":"INDEX(Country!$K$31:$K$76, MATCH(AI372, Country!$O$31:$O$76, 0), 1)","v":"USD/MWh"},"Chile",110,125,205,172.5,192.5,192.5,202.29999999999998,64.017071218991731,67.417245331355758,71.425892781044908,50.682226844833046,56.333988856112754,57.24260157959845,55.346212491518877,null,null,null,null,null,null,null,null,null,null,null,null,null,null,"1.14 > Chile",358,14," "]
[{"$f":"INDEX(Country!$F$31:$G$76, MATCH(AI373, Country!$O$31:$O$76, 0), 1)","v":1.1400000000000001},{"$f":"INDEX(Country!$F$31:$G$76, MATCH(AI373, Country!$O$31:$O$76, 0), 2)","v":"Average industrial electricity prices"},{"$f":"INDEX(Country!$K$31:$K$76, MATCH(AI373, Country!$O$31:$O$76, 0), 1)","v":"USD/MWh"},"Colombia",0,0,0,0,100,110,120,0,0,0,0,29.264409795383248,32.710058045484828,32.830180420080403,null,null,null,null,null,null,null,null,null,null,null,null,null,null,"1.14 > Colombia",359,14," "]
[{"$f":"INDEX(Country!$F$31:$G$76, MATCH(AI374, Country!$O$31:$O$76, 0), 1)","v":1.1400000000000001},{"$f":"INDEX(Country!$F$31:$G$76, MATCH(AI374, Country!$O$31:$O$76, 0), 2)","v":"Average industrial electricity prices"},{"$f":"INDEX(Country!$K$31:$K$76, MATCH(AI374, Country!$O$31:$O$76, 0), 1)","v":"USD/MWh"},"Costa Rica",74.838485092281672,78.895880365103764,93.752138309077708,117.08478720683442,130.8534717642469,142.66695518670488,135.75091486256835,43.554005727945878,42.551543377659961,32.665025262721358,34.40068258142486,38.29349620857532,42.424039866633635,37.139391892742445,null,null,null,null,null,null,null,null,null,null,null,null,null,null,"1.14 > Costa Rica",360,14," "]
[{"$f":"INDEX(Country!$F$31:$G$76, MATCH(AI375, Country!$O$31:$O$76, 0), 1)","v":1.1400000000000001},{"$f":"INDEX(Country!$F$31:$G$76, MATCH(AI375, Country!$O$31:$O$76, 0), 2)","v":"Average industrial electricity prices"},{"$f":"INDEX(Country!$K$31:$K$76, MATCH(AI375, Country!$O$31:$O$76, 0), 1)","v":"USD/MWh"},"Dominican Republic",0,0,0,0,0,0,188.09820000000008,0,0,0,0,0,0,51.460815355769746,null,null,null,null,null,null,null,null,null,null,null,null,null,null,"1.14 > Dominican Republic",361,14," "]
[{"$f":"INDEX(Country!$F$31:$G$76, MATCH(AI376, Country!$O$31:$O$76, 0), 1)","v":1.1400000000000001},{"$f":"INDEX(Country!$F$31:$G$76, MATCH(AI376, Country!$O$31:$O$76, 0), 2)","v":"Average industrial electricity prices"},{"$f":"INDEX(Country!$K$31:$K$76, MATCH(AI376, Country!$O$31:$O$76, 0), 1)","v":"USD/MWh"},"Ecuador",115.9,72.400000000000006,69.099999999999994,64.3,65.3,63.9,60.272727272727273,67.450714129828555,39.048068495921264,24.07575215204977,18.891983687668205,19.10965959638526,19.001570082786184,16.489704256449475,null,null,null,null,null,null,null,null,null,null,null,null,null,null,"1.14 > Ecuador",362,14," "]
[{"$f":"INDEX(Country!$F$31:$G$76, MATCH(AI377, Country!$O$31:$O$76, 0), 1)","v":1.1400000000000001},{"$f":"INDEX(Country!$F$31:$G$76, MATCH(AI377, Country!$O$31:$O$76, 0), 2)","v":"Average industrial electricity prices"},{"$f":"INDEX(Country!$K$31:$K$76, MATCH(AI377, Country!$O$31:$O$76, 0), 1)","v":"USD/MWh"},"El Salvador",0,0,0,0,0,0,180.29999999999998,0,0,0,0,0,0,49.327346081170802,null,null,null,null,null,null,null,null,null,null,null,null,null,null,"1.14 > El Salvador",363,14," "]
[{"$f":"INDEX(Country!$F$31:$G$76, MATCH(AI378, Country!$O$31:$O$76, 0), 1)","v":1.1400000000000001},{"$f":"INDEX(Country!$F$31:$G$76, MATCH(AI378, Country!$O$31:$O$76, 0), 2)","v":"Average industrial electricity prices"},{"$f":"INDEX(Country!$K$31:$K$76, MATCH(AI378, Country!$O$31:$O$76, 0), 1)","v":"USD/MWh"},"Guatemala",0,0,0,0,0,0,0,0,0,0,0,0,0,0,null,null,null,null,null,null,null,null,null,null,null,null,null,null,"1.14 > Guatemala",364,14," "]
[{"$f":"INDEX(Country!$F$31:$G$76, MATCH(AI379, Country!$O$31:$O$76, 0), 1)","v":1.1400000000000001},{"$f":"INDEX(Country!$F$31:$G$76, MATCH(AI379, Country!$O$31:$O$76, 0), 2)","v":"Average industrial electricity prices"},{"$f":"INDEX(Country!$K$31:$K$76, MATCH(AI379, Country!$O$31:$O$76, 0), 1)","v":"USD/MWh"},"Guyana",0,0,287.01076320939336,286.4501953125,287.01076320939336,287.43263106320433,289.41785890478542,0,0,100,84.16193494826004,83.992005902453926,85.472164056762168,79.180337705312326,null,null,null,null,null,null,null,null,null,null,null,null,null,null,"1.14 > Guyana",365,14," "]
[{"$f":"INDEX(Country!$F$31:$G$76, MATCH(AI380, Country!$O$31:$O$76, 0), 1)","v":1.1400000000000001},{"$f":"INDEX(Country!$F$31:$G$76, MATCH(AI380, Country!$O$31:$O$76, 0), 2)","v":"Average industrial electricity prices"},{"$f":"INDEX(Country!$K$31:$K$76, MATCH(AI380, Country!$O$31:$O$76, 0), 1)","v":"USD/MWh"},"Haiti",171.82916666666668,185.41249999999999,174.54583333333335,340.35600000000005,341.71199999999999,336.28799999999995,325.44,100,100,60.815082814852701,100,100,100,89.035449299258048,null,null,null,null,null,null,null,null,null,null,null,null,null,null,"1.14 > Haiti",366,14," "]
[{"$f":"INDEX(Country!$F$31:$G$76, MATCH(AI381, Country!$O$31:$O$76, 0), 1)","v":1.1400000000000001},{"$f":"INDEX(Country!$F$31:$G$76, MATCH(AI381, Country!$O$31:$O$76, 0), 2)","v":"Average industrial electricity prices"},{"$f":"INDEX(Country!$K$31:$K$76, MATCH(AI381, Country!$O$31:$O$76, 0), 1)","v":"USD/MWh"},"Honduras",0,0,0,120.33692000000001,120.33692000000001,120.33692000000001,117.83463999999999,0,0,0,35.35619175216538,35.215889403942505,35.783887620135133,32.237770757793527,null,null,null,null,null,null,null,null,null,null,null,null,null,null,"1.14 > Honduras",367,14," "]
[{"$f":"INDEX(Country!$F$31:$G$76, MATCH(AI382, Country!$O$31:$O$76, 0), 1)","v":1.1400000000000001},{"$f":"INDEX(Country!$F$31:$G$76, MATCH(AI382, Country!$O$31:$O$76, 0), 2)","v":"Average industrial electricity prices"},{"$f":"INDEX(Country!$K$31:$K$76, MATCH(AI382, Country!$O$31:$O$76, 0), 1)","v":"USD/MWh"},"Jamaica",0,0,0,0,0,0,365.51733333333328,0,0,0,0,0,0,100,null,null,null,null,null,null,null,null,null,null,null,null,null,null,"1.14 > Jamaica",368,14," "]
[{"$f":"INDEX(Country!$F$31:$G$76, MATCH(AI383, Country!$O$31:$O$76, 0), 1)","v":1.1400000000000001},{"$f":"INDEX(Country!$F$31:$G$76, MATCH(AI383, Country!$O$31:$O$76, 0), 2)","v":"Average industrial electricity prices"},{"$f":"INDEX(Country!$K$31:$K$76, MATCH(AI383, Country!$O$31:$O$76, 0), 1)","v":"USD/MWh"},"Mexico",98.982479566666669,102.145472,127.16134600000001,86.39961091666666,104.10042233333331,115.719765,114.793942,57.605167671379029,55.090930762489045,44.305427635557834,25.385070607442398,30.464374190351325,34.41091118327148,31.405881891602046,null,null,null,null,null,null,null,null,null,null,null,null,null,null,"1.14 > Mexico",369,14," "]
[{"$f":"INDEX(Country!$F$31:$G$76, MATCH(AI384, Country!$O$31:$O$76, 0), 1)","v":1.1400000000000001},{"$f":"INDEX(Country!$F$31:$G$76, MATCH(AI384, Country!$O$31:$O$76, 0), 2)","v":"Average industrial electricity prices"},{"$f":"INDEX(Country!$K$31:$K$76, MATCH(AI384, Country!$O$31:$O$76, 0), 1)","v":"USD/MWh"},"Nicaragua",143.702088,149.512326,186.22491599999998,163.47684000000001,181.999584,227.905554,226.6,83.630789107398328,80.637673296029121,64.884296992073629,48.031132108733203,53.261104087652761,67.770944547530704,61.994324026585161,null,null,null,null,null,null,null,null,null,null,null,null,null,null,"1.14 > Nicaragua",370,14," "]
[{"$f":"INDEX(Country!$F$31:$G$76, MATCH(AI385, Country!$O$31:$O$76, 0), 1)","v":1.1400000000000001},{"$f":"INDEX(Country!$F$31:$G$76, MATCH(AI385, Country!$O$31:$O$76, 0), 2)","v":"Average industrial electricity prices"},{"$f":"INDEX(Country!$K$31:$K$76, MATCH(AI385, Country!$O$31:$O$76, 0), 1)","v":"USD/MWh"},"Panama",102.55,81.600000000000009,151.45000000000002,96.1,116.15,106.95,116.15,59.681369577341833,44.009977752309048,52.768055910679287,28.235142027759167,33.990611977337643,31.803097345132748,31.77687879826949,null,null,null,null,null,null,null,null,null,null,null,null,null,null,"1.14 > Panama",371,14," "]
[{"$f":"INDEX(Country!$F$31:$G$76, MATCH(AI386, Country!$O$31:$O$76, 0), 1)","v":1.1400000000000001},{"$f":"INDEX(Country!$F$31:$G$76, MATCH(AI386, Country!$O$31:$O$76, 0), 2)","v":"Average industrial electricity prices"},{"$f":"INDEX(Country!$K$31:$K$76, MATCH(AI386, Country!$O$31:$O$76, 0), 1)","v":"USD/MWh"},"Paraguay",38.446519223259614,43.046686956694707,51.513896558071053,46.71806123065155,48.37250405032929,57.47181235250649,57.505027453284228,22.374850538524957,23.216712442092472,17.948419767271325,13.72623406981265,14.155927813576723,17.090057436633629,15.732503552941649,null,null,null,null,null,null,null,null,null,null,null,null,null,null,"1.14 > Paraguay",372,14," "]
[{"$f":"INDEX(Country!$F$31:$G$76, MATCH(AI387, Country!$O$31:$O$76, 0), 1)","v":1.1400000000000001},{"$f":"INDEX(Country!$F$31:$G$76, MATCH(AI387, Country!$O$31:$O$76, 0), 2)","v":"Average industrial electricity prices"},{"$f":"INDEX(Country!$K$31:$K$76, MATCH(AI387, Country!$O$31:$O$76, 0), 1)","v":"USD/MWh"},"Peru",57.3,56,66.600000000000009,60.900000000000006,59.1,68.940536656739027,68.940536656739027,33.34707437134751,30.20292590844738,23.204704679110204,17.893029651306279,17.295266189071498,20.500445052080071,18.861085472482571,null,null,null,null,null,null,null,null,null,null,null,null,null,null,"1.14 > Peru",373,14," "]
[{"$f":"INDEX(Country!$F$31:$G$76, MATCH(AI388, Country!$O$31:$O$76, 0), 1)","v":1.1400000000000001},{"$f":"INDEX(Country!$F$31:$G$76, MATCH(AI388, Country!$O$31:$O$76, 0), 2)","v":"Average industrial electricity prices"},{"$f":"INDEX(Country!$K$31:$K$76, MATCH(AI388, Country!$O$31:$O$76, 0), 1)","v":"USD/MWh"},"Suriname",0,0,0,0,0,0,4.2335492499999995E-2,0,0,0,0,0,0,1.158234880789967E-2,null,null,null,null,null,null,null,null,null,null,null,null,null,null,"1.14 > Suriname",374,14," "]
[{"$f":"INDEX(Country!$F$31:$G$76, MATCH(AI389, Country!$O$31:$O$76, 0), 1)","v":1.1400000000000001},{"$f":"INDEX(Country!$F$31:$G$76, MATCH(AI389, Country!$O$31:$O$76, 0), 2)","v":"Average industrial electricity prices"},{"$f":"INDEX(Country!$K$31:$K$76, MATCH(AI389, Country!$O$31:$O$76, 0), 1)","v":"USD/MWh"},"Trinidad & Tobago",0,0,0,0,0,0,27.069459999999992,0,0,0,0,0,0,7.405793797284578,null,null,null,null,null,null,null,null,null,null,null,null,null,null,"1.14 > Trinidad & Tobago",375,14," "]
[{"$f":"INDEX(Country!$F$31:$G$76, MATCH(AI390, Country!$O$31:$O$76, 0), 1)","v":1.1400000000000001},{"$f":"INDEX(Country!$F$31:$G$76, MATCH(AI390, Country!$O$31:$O$76, 0), 2)","v":"Average industrial electricity prices"},{"$f":"INDEX(Country!$K$31:$K$76, MATCH(AI390, Country!$O$31:$O$76, 0), 1)","v":"USD/MWh"},"Uruguay",147.02785613300918,160.92491968279901,193.16113525798602,206.17570155977501,197.15596944580099,215.03695833529056,222.3682442678834,85.56629761129561,86.792918321471859,67.301007494643045,60.576485080261541,57.696530834679784,63.944285355198694,60.836579825092677,null,null,null,null,null,null,null,null,null,null,null,null,null,null,"1.14 > Uruguay",376,14," "]
[{"$f":"INDEX(Country!$F$31:$G$76, MATCH(AI391, Country!$O$31:$O$76, 0), 1)","v":1.1400000000000001},{"$f":"INDEX(Country!$F$31:$G$76, MATCH(AI391, Country!$O$31:$O$76, 0), 2)","v":"Average industrial electricity prices"},{"$f":"INDEX(Country!$K$31:$K$76, MATCH(AI391, Country!$O$31:$O$76, 0), 1)","v":"USD/MWh"},"Venezuela",39.437659478976435,42.538852216317387,40.503374867660597,41.680950342152066,28.656314029227559,29.520846652027689,30.772415900106246,{"$f":"IFERROR(dbl_BenchmarkMax*E391/ SUMIFS(E$15:E$1256, $D$15:$D$1256, \"Benchmark\", $B$15:$B$1256,$B391), 0)","v":22.95166777796344},{"$f":"IFERROR(dbl_BenchmarkMax*F391/ SUMIFS(F$15:F$1256, $D$15:$D$1256, \"Benchmark\", $B$15:$B$1256,$B391), 0)","v":22.942817887854051},14.112144929599975,12.246280465792305,8.3861011697650536,8.7784418867243836,8.4188663830186581,null,null,null,null,null,null,null,null,null,null,null,null,null,null,"1.14 > Venezuela",377,14," "]
[{"$f":"INDEX(Country!$F$31:$G$76, MATCH(AI392, Country!$O$31:$O$76, 0), 1)","v":1.1400000000000001},{"$f":"INDEX(Country!$F$31:$G$76, MATCH(AI392, Country!$O$31:$O$76, 0), 2)","v":"Average industrial electricity prices"},{"$f":"INDEX(Country!$K$31:$K$76, MATCH(AI392, Country!$O$31:$O$76, 0), 1)","v":"USD/MWh"},"Benchmark",{"$f":"IFERROR(MAX(E366:E391), 0)","v":171.82916666666668},{"$f":"IFERROR(MAX(F366:F391), 0)","v":185.41249999999999},287.01076320939336,340.35600000000005,341.71199999999999,336.28799999999995,365.51733333333328,100,100,100,100,100,100,100,"Power Demand (MW)",null,null,null,null,null,null,null,null,null,null,null,null,null,"1.14 > Benchmark",378,14," "]
[{"$f":"INDEX(Country!$F$31:$G$76, MATCH(AI393, Country!$O$31:$O$76, 0), 1)","v":1.1500000000000001},{"$f":"INDEX(Country!$F$31:$G$76, MATCH(AI393, Country!$O$31:$O$76, 0), 2)","v":"Growth rate of power demand"},{"$f":"INDEX(Country!$K$31:$K$76, MATCH(AI393, Country!$O$31:$O$76, 0), 1)","v":"%"},"Argentina",null,{"$f":"IF(S393<>0, T393/S393-1, 0)","v":5.4613394653636016E-2},{"$f":"IF(T393<>0, U393/T393-1, 0)","v":4.2572908149359545E-2},2.3005333054480825E-2,{"$f":"IF(V393<>0, W393/V393-1, 0)","v":6.0155371562915283E-2},3.9579617220267149E-2,1.7853830458171016E-2,0,31.408274721213544,27.87562779829927,16.783693721027625,70.815257258990783,30.565157461528763,15.446816068466193,17395,18345,19126,19566,20743,21564,21949,null,null,null,null,null,null,null,"1.15 > Argentina",379,15," "]
[{"$f":"INDEX(Country!$F$31:$G$76, MATCH(AI394, Country!$O$31:$O$76, 0), 1)","v":1.1500000000000001},{"$f":"INDEX(Country!$F$31:$G$76, MATCH(AI394, Country!$O$31:$O$76, 0), 2)","v":"Growth rate of power demand"},{"$f":"INDEX(Country!$K$31:$K$76, MATCH(AI394, Country!$O$31:$O$76, 0), 1)","v":"%"},"Bahamas",null,{"$f":"IF(S394<>0, T394/S394-1, 0)","v":0},0,0,0,0,0,0,0,0,0,0,0,0,0,0,0,0,0,0,0,null,null,null,null,null,null,null,"1.15 > Bahamas",380,15," "]
[{"$f":"INDEX(Country!$F$31:$G$76, MATCH(AI395, Country!$O$31:$O$76, 0), 1)","v":1.1500000000000001},{"$f":"INDEX(Country!$F$31:$G$76, MATCH(AI395, Country!$O$31:$O$76, 0), 2)","v":"Growth rate of power demand"},{"$f":"INDEX(Country!$K$31:$K$76, MATCH(AI395, Country!$O$31:$O$76, 0), 1)","v":"%"},"Barbados",null,3.4394904458598718E-2,9.8522167487684609E-3,1.0365853658536484E-2,1.086300543150287E-2,-2.68656716417911E-2,-3.4355828220858808E-2,0,19.780579747822703,6.4509740822338291,7.5624774720652805,12.787993893997141,-20.746877855619907,-29.724050570030503,157,162.4,164,165.7,167.5,163,157.4,null,null,null,null,null,null,null,"1.15 > Barbados",381,15," "]
[{"$f":"INDEX(Country!$F$31:$G$76, MATCH(AI396, Country!$O$31:$O$76, 0), 1)","v":1.1500000000000001},{"$f":"INDEX(Country!$F$31:$G$76, MATCH(AI396, Country!$O$31:$O$76, 0), 2)","v":"Growth rate of power demand"},{"$f":"INDEX(Country!$K$31:$K$76, MATCH(AI396, Country!$O$31:$O$76, 0), 1)","v":"%"},"Belize",null,5.2857263011180322E-2,6.0113693910885058E-2,2.4973591963883379E-2,5.8625135223131286E-2,-1.7060639243810849E-2,3.4500291445138886E-2,0,30.398319829695147,39.360875962755436,18.219650097788797,69.013854038406819,-13.174991611955157,29.849037578243671,66.581199999999995,70.100499999999997,74.314499999999995,76.170400000000001,80.635900000000007,79.260199999999998,81.994699999999995,null,null,null,null,null,null,null,"1.15 > Belize",382,15," "]
[{"$f":"INDEX(Country!$F$31:$G$76, MATCH(AI397, Country!$O$31:$O$76, 0), 1)","v":1.1500000000000001},{"$f":"INDEX(Country!$F$31:$G$76, MATCH(AI397, Country!$O$31:$O$76, 0), 2)","v":"Growth rate of power demand"},{"$f":"INDEX(Country!$K$31:$K$76, MATCH(AI397, Country!$O$31:$O$76, 0), 1)","v":"%"},"Bolivia",null,0.10125237210320548,3.6407292626405852E-3,4.5340692233652558E-2,7.4470531129448458E-2,5.7470239510517107E-2,3.9018101896005408E-2,0,58.230445834047593,2.3838543865430593,33.078603545832209,87.667147307534634,44.381099246489143,33.757766701118882,813.09699999999998,895.42499999999995,898.68499999999995,939.43200000000002,1009.3920000000001,1067.402,1109.05,null,null,null,null,null,null,null,"1.15 > Bolivia",383,15," "]
[{"$f":"INDEX(Country!$F$31:$G$76, MATCH(AI398, Country!$O$31:$O$76, 0), 1)","v":1.1500000000000001},{"$f":"INDEX(Country!$F$31:$G$76, MATCH(AI398, Country!$O$31:$O$76, 0), 2)","v":"Growth rate of power demand"},{"$f":"INDEX(Country!$K$31:$K$76, MATCH(AI398, Country!$O$31:$O$76, 0), 1)","v":"%"},"Brazil",null,4.1905409342526845E-2,1.8874959220767096E-2,-2.3511115177019537E-2,5.6835925301355283E-2,3.0627622480940753E-2,0,0,24.099886434130756,12.358830082743495,-17.15269043210143,66.907585593727859,23.652025197526498,0,61782,64371,65586,64044,67684,69757,69757,null,null,null,null,null,null,null,"1.15 > Brazil",384,15," "]
[{"$f":"INDEX(Country!$F$31:$G$76, MATCH(AI399, Country!$O$31:$O$76, 0), 1)","v":1.1500000000000001},{"$f":"INDEX(Country!$F$31:$G$76, MATCH(AI399, Country!$O$31:$O$76, 0), 2)","v":"Growth rate of power demand"},{"$f":"INDEX(Country!$K$31:$K$76, MATCH(AI399, Country!$O$31:$O$76, 0), 1)","v":"%"},"Chile",null,3.1847870808475509E-2,8.7224153614062772E-5,2.1181161226002665E-4,5.3639274013727478E-2,5.9361810292848594E-2,1.4139993750279078E-2,0,18.315775497608985,5.7112096562373829E-2,0.15452857032369419,63.144468894101308,45.841855132273295,12.233670706213124,7777.6,8025.3,8026,8027.7,8458.2999999999993,8960.4,9087.1,null,null,null,null,null,null,null,{"$f":"A399&\" > \" &D399","v":"1.15 > Chile"},385,15," "]
[{"$f":"INDEX(Country!$F$31:$G$76, MATCH(AI400, Country!$O$31:$O$76, 0), 1)","v":1.1500000000000001},{"$f":"INDEX(Country!$F$31:$G$76, MATCH(AI400, Country!$O$31:$O$76, 0), 2)","v":"Growth rate of power demand"},{"$f":"INDEX(Country!$K$31:$K$76, MATCH(AI400, Country!$O$31:$O$76, 0), 1)","v":"%"},"Colombia",null,3.7776763296051064E-2,-1.5396458814472824E-3,2.3240444982927544E-2,-2.0452099031216364E-2,2.1428571428571352E-2,2.2485207100591653E-2,0,21.725493666994275,-1.0081198912190006,16.955221191978161,-24.076331286012817,16.548104956268165,19.453800637232554,8762,9093,9079,9290,9100,9295,9504,null,null,null,null,null,null,null,"1.15 > Colombia",386,15," "]
[{"$f":"INDEX(Country!$F$31:$G$76, MATCH(AI401, Country!$O$31:$O$76, 0), 1)","v":1.1500000000000001},{"$f":"INDEX(Country!$F$31:$G$76, MATCH(AI401, Country!$O$31:$O$76, 0), 2)","v":"Growth rate of power demand"},{"$f":"INDEX(Country!$K$31:$K$76, MATCH(AI401, Country!$O$31:$O$76, 0), 1)","v":"%"},"Costa Rica",null,5.7082452431289621E-2,1.7333333333333423E-2,-1.9003931847968558E-2,2.6052104208416749E-2,6.5104166666667407E-3,3.0401034928848603E-2,0,32.82823488803556,11.349413735343456,-13.864444860513011,30.668690321820041,5.0276360544218273,26.302433863542316,1419,1500,1526,1497,1536,1546,1593,null,null,null,null,null,null,null,"1.15 > Costa Rica",{"$f":"AH400+1","v":387},{"$f":"ROUNDUP(AH401/COUNTA($D$15:$D$41),0)","v":15}," "]
[{"$f":"INDEX(Country!$F$31:$G$76, MATCH(AI402, Country!$O$31:$O$76, 0), 1)","v":1.1500000000000001},{"$f":"INDEX(Country!$F$31:$G$76, MATCH(AI402, Country!$O$31:$O$76, 0), 2)","v":"Growth rate of power demand"},{"$f":"INDEX(Country!$K$31:$K$76, MATCH(AI402, Country!$O$31:$O$76, 0), 1)","v":"%"},"Dominican Republic",null,3.9772727272726627E-3,0.10752688172043001,-0.10066428206438427,2.8409090909090828E-2,-1.6668734650773231E-3,7.5827323586195261E-2,0,2.2873376623376265,70.40579240287461,-73.440296422341376,33.443348930481221,-1.2872345289495086,65.604449596639441,1760,1767,1957,1760,1810,1806.98295902821,1944.0016405771826,null,null,null,null,null,null,null,"1.15 > Dominican Republic",388,15," "]
[{"$f":"INDEX(Country!$F$31:$G$76, MATCH(AI403, Country!$O$31:$O$76, 0), 1)","v":1.1500000000000001},{"$f":"INDEX(Country!$F$31:$G$76, MATCH(AI403, Country!$O$31:$O$76, 0), 2)","v":"Growth rate of power demand"},{"$f":"INDEX(Country!$K$31:$K$76, MATCH(AI403, Country!$O$31:$O$76, 0), 1)","v":"%"},"Ecuador",null,2.4492731677771218E-2,2.9139415438051763E-2,-9.1233537750075033E-3,4.3297400126822927E-2,5.1308678679095943E-2,0,0,14.085819973052924,19.079727796875122,-6.6560034191064537,50.969954119884981,39.622865330959002,0,2641.6,2706.3,2785.16,2759.75,2879.24,3026.97,3026.97,null,null,null,null,null,null,null,"1.15 > Ecuador",389,15," "]
[{"$f":"INDEX(Country!$F$31:$G$76, MATCH(AI404, Country!$O$31:$O$76, 0), 1)","v":1.1500000000000001},{"$f":"INDEX(Country!$F$31:$G$76, MATCH(AI404, Country!$O$31:$O$76, 0), 2)","v":"Growth rate of power demand"},{"$f":"INDEX(Country!$K$31:$K$76, MATCH(AI404, Country!$O$31:$O$76, 0), 1)","v":"%"},"El Salvador",null,2.8376844494892195E-2,1.9867549668874274E-2,-1.9480519480519431E-2,4.635761589403975E-2,1.4767932489451407E-2,0,0,16.319581180940052,13.00875237112724,-14.212142537265644,54.572458122321848,11.404460518384518,0,881,906,924,906,948,962,962,null,null,null,null,null,null,null,"1.15 > El Salvador",390,15," "]
[{"$f":"INDEX(Country!$F$31:$G$76, MATCH(AI405, Country!$O$31:$O$76, 0), 1)","v":1.1500000000000001},{"$f":"INDEX(Country!$F$31:$G$76, MATCH(AI405, Country!$O$31:$O$76, 0), 2)","v":"Growth rate of power demand"},{"$f":"INDEX(Country!$K$31:$K$76, MATCH(AI405, Country!$O$31:$O$76, 0), 1)","v":"%"},"Guatemala",null,4.4034573794799581E-2,-9.2695870253494128E-3,2.9663298486066969E-2,-3.1172112165273047E-3,1.5859607052347569E-2,2.803857399608356E-2,0,25.324373255866384,-6.0694833638343209,21.641056678751305,-3.6695993806325142,12.247500629812901,24.258474748838307,1382.55,1443.43,1430.05,1472.47,1467.88,1491.16,1532.97,null,null,null,null,null,null,null,"1.15 > Guatemala",391,15," "]
[{"$f":"INDEX(Country!$F$31:$G$76, MATCH(AI406, Country!$O$31:$O$76, 0), 1)","v":1.1500000000000001},{"$f":"INDEX(Country!$F$31:$G$76, MATCH(AI406, Country!$O$31:$O$76, 0), 2)","v":"Growth rate of power demand"},{"$f":"INDEX(Country!$K$31:$K$76, MATCH(AI406, Country!$O$31:$O$76, 0), 1)","v":"%"},"Guyana",null,2.862638606019452E-2,4.2899571004288983E-3,3.7458926615553167E-2,6.1760979729729604E-2,3.2713532862682859E-2,5.3918736761024322E-2,0,16.463093044413917,2.8089518099793271,27.32840902346512,72.705388637718528,25.262858847426934,46.649530549922702,88.38,90.91,91.3,94.72,100.57,103.86,109.46,null,null,null,null,null,null,null,"1.15 > Guyana",392,15," "]
[{"$f":"INDEX(Country!$F$31:$G$76, MATCH(AI407, Country!$O$31:$O$76, 0), 1)","v":1.1500000000000001},{"$f":"INDEX(Country!$F$31:$G$76, MATCH(AI407, Country!$O$31:$O$76, 0), 2)","v":"Growth rate of power demand"},{"$f":"INDEX(Country!$K$31:$K$76, MATCH(AI407, Country!$O$31:$O$76, 0), 1)","v":"%"},"Haiti",null,0,0,0,0,0,0,0,0,0,0,0,0,0,0,0,0,0,0,0,0,null,null,null,null,null,null,null,"1.15 > Haiti",393,15," "]
[{"$f":"INDEX(Country!$F$31:$G$76, MATCH(AI408, Country!$O$31:$O$76, 0), 1)","v":1.1500000000000001},{"$f":"INDEX(Country!$F$31:$G$76, MATCH(AI408, Country!$O$31:$O$76, 0), 2)","v":"Growth rate of power demand"},{"$f":"INDEX(Country!$K$31:$K$76, MATCH(AI408, Country!$O$31:$O$76, 0), 1)","v":"%"},"Honduras",null,3.4926470588235281E-2,7.0159857904085188E-2,-1.6597510373443924E-3,3.4912718204488824E-2,-4.0160642570281624E-3,3.418548387096787E-2,0,20.086284513805523,45.938841632674929,-1.2108824070478046,41.099457239254896,-3.1013851323662389,29.57667167297911,1088,1126,1205,1203,1245,1240,1282.3900000000001,null,null,null,null,null,null,null,"1.15 > Honduras",394,15," "]
[{"$f":"INDEX(Country!$F$31:$G$76, MATCH(AI409, Country!$O$31:$O$76, 0), 1)","v":1.1500000000000001},{"$f":"INDEX(Country!$F$31:$G$76, MATCH(AI409, Country!$O$31:$O$76, 0), 2)","v":"Growth rate of power demand"},{"$f":"INDEX(Country!$K$31:$K$76, MATCH(AI409, Country!$O$31:$O$76, 0), 1)","v":"%"},"Jamaica",null,5.9133770177399736E-3,{"$f":"IF(T409<>0, U409/T409-1, 0)","v":-1.2233873530346218E-2},{"$f":"IF(U409<>0, V409/U409-1, 0)","v":3.6512787518095502E-2},{"$f":"IF(V409<>0, W409/V409-1, 0)","v":-9.4661700806952798E-3},{"$f":"IF(W409<>0, X409/W409-1, 0)","v":-3.2273225755913959E-2},{"$f":"IF(X409<>0, Y409/X409-1, 0)","v":2.9302250283308906E-2},0,3.4007951910186232,-8.0104207085633874,26.638146952856843,-11.143631102347911,-24.922833930689478,25.35178496171303,625.70000000000005,629.4,621.70000000000005,644.4,638.29999999999995,617.70000000000005,635.79999999999995,null,null,null,null,null,null,null,"1.15 > Jamaica",395,15," "]
[{"$f":"INDEX(Country!$F$31:$G$76, MATCH(AI410, Country!$O$31:$O$76, 0), 1)","v":1.1500000000000001},{"$f":"INDEX(Country!$F$31:$G$76, MATCH(AI410, Country!$O$31:$O$76, 0), 2)","v":"Growth rate of power demand"},{"$f":"INDEX(Country!$K$31:$K$76, MATCH(AI410, Country!$O$31:$O$76, 0), 1)","v":"%"},"Mexico",null,3.2649697277078671E-2,3.3858243546060152E-2,-3.3254156769596532E-3,5.1894661582459589E-2,5.5111866326819525E-2,4.4180803092119358E-2,0,18.776907536083211,22.169493135937902,-2.4260791219592326,61.090700877586677,42.559857587894925,38.224443808849863,31547,32577,33680,33568,35310,37256,38902,null,null,null,null,null,null,null,"1.15 > Mexico",396,15," "]
[{"$f":"INDEX(Country!$F$31:$G$76, MATCH(AI411, Country!$O$31:$O$76, 0), 1)","v":1.1500000000000001},{"$f":"INDEX(Country!$F$31:$G$76, MATCH(AI411, Country!$O$31:$O$76, 0), 2)","v":"Growth rate of power demand"},{"$f":"INDEX(Country!$K$31:$K$76, MATCH(AI411, Country!$O$31:$O$76, 0), 1)","v":"%"},"Nicaragua",null,1.317891373801916E-2,-2.227039810800191E-3,3.600845398700292E-2,2.7454718779790221E-2,5.6782334384858135E-2,7.0939420544336995E-2,0,7.5792201864771451,-1.4582074741068605,26.27020707130605,32.319856445914844,43.849868022919026,61.375522956780685,500.8,507.4,506.27,524.5,538.9,569.5,609.9,null,null,null,null,null,null,null,"1.15 > Nicaragua",397,15," "]
[{"$f":"INDEX(Country!$F$31:$G$76, MATCH(AI412, Country!$O$31:$O$76, 0), 1)","v":1.1500000000000001},{"$f":"INDEX(Country!$F$31:$G$76, MATCH(AI412, Country!$O$31:$O$76, 0), 2)","v":"Growth rate of power demand"},{"$f":"INDEX(Country!$K$31:$K$76, MATCH(AI412, Country!$O$31:$O$76, 0), 1)","v":"%"},"Panama",null,5.4378487450326363E-2,3.8900171848148535E-2,8.4586466165413432E-2,5.9272097053726158E-2,5.2429646596858559E-2,7.7559872210432923E-2,0,31.273179109187708,25.470816039265124,61.71061891181143,69.775461311040928,40.488527086227108,67.1034198031155,971.34,1024.1600000000001,1064,1154,1222.4000000000001,1286.49,1386.27,null,null,null,null,null,null,null,"1.15 > Panama",398,15," "]
[{"$f":"INDEX(Country!$F$31:$G$76, MATCH(AI413, Country!$O$31:$O$76, 0), 1)","v":1.1500000000000001},{"$f":"INDEX(Country!$F$31:$G$76, MATCH(AI413, Country!$O$31:$O$76, 0), 2)","v":"Growth rate of power demand"},{"$f":"INDEX(Country!$K$31:$K$76, MATCH(AI413, Country!$O$31:$O$76, 0), 1)","v":"%"},"Paraguay",null,4.8965517241379208E-2,8.3497698882314175E-2,9.8300970873786309E-2,4.5303867403314824E-2,0.12949260042283295,0.11558259241927926,0,28.160168895144221,54.672111378721354,71.716127026639114,53.331979200519925,100,100,1450,1521,1648,1810,1892,2137,2384,null,null,null,null,null,null,null,"1.15 > Paraguay",399,15," "]
[{"$f":"INDEX(Country!$F$31:$G$76, MATCH(AI414, Country!$O$31:$O$76, 0), 1)","v":1.1500000000000001},{"$f":"INDEX(Country!$F$31:$G$76, MATCH(AI414, Country!$O$31:$O$76, 0), 2)","v":"Growth rate of power demand"},{"$f":"INDEX(Country!$K$31:$K$76, MATCH(AI414, Country!$O$31:$O$76, 0), 1)","v":"%"},"Peru",null,0.10782122905027935,5.8749369641956539E-2,2.9292688735413241E-2,5.9463211476168398E-2,8.342432845599479E-2,6.6498689780286169E-2,0,62.008208870140287,38.46755208214546,21.37067587051575,70.00044233334242,64.424012015813133,57.533481805858976,3580,3966,4199,4322,4579,4961,5290.9,null,null,null,null,null,null,null,"1.15 > Peru",400,15," "]
[{"$f":"INDEX(Country!$F$31:$G$76, MATCH(AI415, Country!$O$31:$O$76, 0), 1)","v":1.1500000000000001},{"$f":"INDEX(Country!$F$31:$G$76, MATCH(AI415, Country!$O$31:$O$76, 0), 2)","v":"Growth rate of power demand"},{"$f":"INDEX(Country!$K$31:$K$76, MATCH(AI415, Country!$O$31:$O$76, 0), 1)","v":"%"},"Suriname",null,5.934959349593516E-2,0.15272448196469668,6.5912117177097329E-2,8.4946908182385927E-2,4.7207829591249473E-2,0,0,34.13207234113171,100,48.086623418365058,99.999999999999986,36.456005545568992,0,123,130.30000000000001,150.19999999999999,160.1,173.7,181.9,181.9,null,null,null,null,null,null,null,"1.15 > Suriname",401,15," "]
[{"$f":"INDEX(Country!$F$31:$G$76, MATCH(AI416, Country!$O$31:$O$76, 0), 1)","v":1.1500000000000001},{"$f":"INDEX(Country!$F$31:$G$76, MATCH(AI416, Country!$O$31:$O$76, 0), 2)","v":"Growth rate of power demand"},{"$f":"INDEX(Country!$K$31:$K$76, MATCH(AI416, Country!$O$31:$O$76, 0), 1)","v":"%"},"Trinidad & Tobago",null,5.7943925233644888E-2,4.328621908127217E-2,8.4674005080431769E-4,3.384094754653133E-2,-3.2733224222586399E-3,0,0,33.323669654777831,28.342685157235028,0.61774483509418399,39.837762516174053,-2.5278065399646321,0,1070,1132,1181,1182,1222,1218,1218,null,null,null,null,null,null,null,"1.15 > Trinidad & Tobago",402,15," "]
[{"$f":"INDEX(Country!$F$31:$G$76, MATCH(AI417, Country!$O$31:$O$76, 0), 1)","v":1.1500000000000001},{"$f":"INDEX(Country!$F$31:$G$76, MATCH(AI417, Country!$O$31:$O$76, 0), 2)","v":"Growth rate of power demand"},{"$f":"INDEX(Country!$K$31:$K$76, MATCH(AI417, Country!$O$31:$O$76, 0), 1)","v":"%"},"Uruguay",null,0.17388218594748039,-0.10459492140266025,0.13706954760297108,8.3135391923989665E-3,2.7679623085983485E-2,-1.7191977077364307E-3,0,100,-68.486021400837416,100,9.786747240463793,21.375447705583987,-1.4874192313492938,1409,1654,1481,1684,1698,1745,1742,null,null,null,null,null,null,null,"1.15 > Uruguay",403,15," "]
[{"$f":"INDEX(Country!$F$31:$G$76, MATCH(AI418, Country!$O$31:$O$76, 0), 1)","v":1.1500000000000001},{"$f":"INDEX(Country!$F$31:$G$76, MATCH(AI418, Country!$O$31:$O$76, 0), 2)","v":"Growth rate of power demand"},{"$f":"INDEX(Country!$K$31:$K$76, MATCH(AI418, Country!$O$31:$O$76, 0), 1)","v":"%"},"Venezuela",null,-2.4709940420194365E-2,5.1443637065140546E-2,6.0302122194361152E-2,-3.3569821768472008E-2,2.3992837958818347E-2,4.7094480387014137E-2,0,-14.210737164103623,33.683949294411157,43.993814270861478,-39.518591655385102,18.528346701258908,40.745305500829673,15945,15551,16351,17337,16755,17157,17965,null,null,null,null,null,null,null,"1.15 > Venezuela",404,15," "]
[{"$f":"INDEX(Country!$F$31:$G$76, MATCH(AI419, Country!$O$31:$O$76, 0), 1)","v":1.1500000000000001},{"$f":"INDEX(Country!$F$31:$G$76, MATCH(AI419, Country!$O$31:$O$76, 0), 2)","v":"Growth rate of power demand"},{"$f":"INDEX(Country!$K$31:$K$76, MATCH(AI419, Country!$O$31:$O$76, 0), 1)","v":"%"},"Benchmark",{"$f":"IFERROR(MAX(E393:E418), 0)","v":0},{"$f":"IFERROR(MAX(F393:F418), 0)","v":0.17388218594748039},0.15272448196469668,0.13706954760297108,8.4946908182385927E-2,0.12949260042283295,0.11558259241927926,0,100,100,100,99.999999999999986,100,100,null,null,null,null,null,null,null,null,null,null,null,null,null,null,"1.15 > Benchmark",405,15," "]
[{"$f":"INDEX(Country!$F$31:$G$76, MATCH(AI420, Country!$O$31:$O$76, 0), 1)","v":1.1600000000000001},{"$f":"INDEX(Country!$F$31:$G$76, MATCH(AI420, Country!$O$31:$O$76, 0), 2)","v":"Electrification rate"},{"$f":"INDEX(Country!$K$31:$K$76, MATCH(AI420, Country!$O$31:$O$76, 0), 1)","v":"%"},"Argentina",0.95,0.95,0.95,0.97199999999999998,0.97199999999999998,0.97199999999999998,0.97199999999999998,{"$f":"IFERROR(dbl_BenchmarkMax*( SUMIFS(E$15:E$1256, $D$15:$D$1256, \"Benchmark\", $B$15:$B$1256,$B420)/E420), 0)","v":41.052631578947377},{"$f":"IFERROR(dbl_BenchmarkMax*( SUMIFS(F$15:F$1256, $D$15:$D$1256, \"Benchmark\", $B$15:$B$1256,$B420)/F420), 0)","v":41.052631578947377},{"$f":"IFERROR(dbl_BenchmarkMax*( SUMIFS(G$15:G$1256, $D$15:$D$1256, \"Benchmark\", $B$15:$B$1256,$B420)/G420), 0)","v":41.052631578947377},{"$f":"IFERROR(dbl_BenchmarkMax*( SUMIFS(H$15:H$1256, $D$15:$D$1256, \"Benchmark\", $B$15:$B$1256,$B420)/H420), 0)","v":39.609053497942384},{"$f":"IFERROR(dbl_BenchmarkMax*( SUMIFS(I$15:I$1256, $D$15:$D$1256, \"Benchmark\", $B$15:$B$1256,$B420)/I420), 0)","v":39.609053497942384},{"$f":"IFERROR(dbl_BenchmarkMax*( SUMIFS(J$15:J$1256, $D$15:$D$1256, \"Benchmark\", $B$15:$B$1256,$B420)/J420), 0)","v":12.345679012345679},{"$f":"IFERROR(dbl_BenchmarkMax*( SUMIFS(K$15:K$1256, $D$15:$D$1256, \"Benchmark\", $B$15:$B$1256,$B420)/K420), 0)","v":15.432098765432098},null,null,null,null,null,null,null,null,null,null,null,null,null,null,"1.16 > Argentina",406,16," "]
[{"$f":"INDEX(Country!$F$31:$G$76, MATCH(AI421, Country!$O$31:$O$76, 0), 1)","v":1.1600000000000001},{"$f":"INDEX(Country!$F$31:$G$76, MATCH(AI421, Country!$O$31:$O$76, 0), 2)","v":"Electrification rate"},{"$f":"INDEX(Country!$K$31:$K$76, MATCH(AI421, Country!$O$31:$O$76, 0), 1)","v":"%"},"Bahamas",0.87659166666666666,0.87659166666666666,0.87659166666666666,0.87659166666666666,0.87659166666666666,0.87659166666666666,0.87659166666666666,44.49049823654115,44.49049823654115,44.49049823654115,43.920107233508574,43.920107233508574,13.689384072781891,17.111730090977364,null,null,null,null,null,null,null,null,null,null,null,null,null,null,"1.16 > Bahamas",407,16," "]
[{"$f":"INDEX(Country!$F$31:$G$76, MATCH(AI422, Country!$O$31:$O$76, 0), 1)","v":1.1600000000000001},{"$f":"INDEX(Country!$F$31:$G$76, MATCH(AI422, Country!$O$31:$O$76, 0), 2)","v":"Electrification rate"},{"$f":"INDEX(Country!$K$31:$K$76, MATCH(AI422, Country!$O$31:$O$76, 0), 1)","v":"%"},"Barbados",0.87659166666666666,0.87659166666666666,0.87659166666666666,0.98,0.98,0.98,0.98,44.49049823654115,44.49049823654115,44.49049823654115,39.285714285714285,39.285714285714285,12.244897959183673,15.306122448979592,null,null,null,null,null,null,null,null,null,null,null,null,null,null,"1.16 > Barbados",408,16," "]
[{"$f":"INDEX(Country!$F$31:$G$76, MATCH(AI423, Country!$O$31:$O$76, 0), 1)","v":1.1600000000000001},{"$f":"INDEX(Country!$F$31:$G$76, MATCH(AI423, Country!$O$31:$O$76, 0), 2)","v":"Electrification rate"},{"$f":"INDEX(Country!$K$31:$K$76, MATCH(AI423, Country!$O$31:$O$76, 0), 1)","v":"%"},"Belize",0.9,0.9,0.9,0.9,0.9,0.9,0.9,43.333333333333336,43.333333333333336,43.333333333333336,42.777777777777779,42.777777777777779,13.333333333333334,16.666666666666664,null,null,null,null,null,null,null,null,null,null,null,null,null,null,"1.16 > Belize",409,16," "]
[{"$f":"INDEX(Country!$F$31:$G$76, MATCH(AI424, Country!$O$31:$O$76, 0), 1)","v":1.1600000000000001},{"$f":"INDEX(Country!$F$31:$G$76, MATCH(AI424, Country!$O$31:$O$76, 0), 2)","v":"Electrification rate"},{"$f":"INDEX(Country!$K$31:$K$76, MATCH(AI424, Country!$O$31:$O$76, 0), 1)","v":"%"},"Bolivia",0.76,0.76,0.76,0.77500000000000002,0.77500000000000002,0.77500000000000002,0.77500000000000002,51.315789473684212,51.315789473684212,51.315789473684212,49.677419354838712,49.677419354838712,15.483870967741934,19.35483870967742,null,null,null,null,null,null,null,null,null,null,null,null,null,null,"1.16 > Bolivia",410,16," "]
[{"$f":"INDEX(Country!$F$31:$G$76, MATCH(AI425, Country!$O$31:$O$76, 0), 1)","v":1.1600000000000001},{"$f":"INDEX(Country!$F$31:$G$76, MATCH(AI425, Country!$O$31:$O$76, 0), 2)","v":"Electrification rate"},{"$f":"INDEX(Country!$K$31:$K$76, MATCH(AI425, Country!$O$31:$O$76, 0), 1)","v":"%"},"Brazil",0.97,0.97,0.97,0.98299999999999998,0.98299999999999998,0.98299999999999998,0.98299999999999998,40.206185567010309,40.206185567010309,40.206185567010309,39.165818921668368,39.165818921668368,12.207527975584943,15.25940996948118,null,null,null,null,null,null,null,null,null,null,null,null,null,null,"1.16 > Brazil",411,16," "]
[{"$f":"INDEX(Country!$F$31:$G$76, MATCH(AI426, Country!$O$31:$O$76, 0), 1)","v":1.1600000000000001},{"$f":"INDEX(Country!$F$31:$G$76, MATCH(AI426, Country!$O$31:$O$76, 0), 2)","v":"Electrification rate"},{"$f":"INDEX(Country!$K$31:$K$76, MATCH(AI426, Country!$O$31:$O$76, 0), 1)","v":"%"},"Chile",0.97,0.97,0.97,0.98499999999999999,0.98499999999999999,0.98499999999999999,0.98499999999999999,40.206185567010309,40.206185567010309,40.206185567010309,39.086294416243653,39.086294416243653,12.182741116751268,15.228426395939085,null,null,null,null,null,null,null,null,null,null,null,null,null,null,"1.16 > Chile",412,16," "]
[{"$f":"INDEX(Country!$F$31:$G$76, MATCH(AI427, Country!$O$31:$O$76, 0), 1)","v":1.1600000000000001},{"$f":"INDEX(Country!$F$31:$G$76, MATCH(AI427, Country!$O$31:$O$76, 0), 2)","v":"Electrification rate"},{"$f":"INDEX(Country!$K$31:$K$76, MATCH(AI427, Country!$O$31:$O$76, 0), 1)","v":"%"},{"$f":"D400","v":"Colombia"},0.93,0.93,0.93,0.93,0.96,0.97099999999999997,0.97499999999999998,41.935483870967744,41.935483870967744,41.935483870967744,41.397849462365585,40.104166666666671,12.358393408856848,15.384615384615385,null,null,null,null,null,null,null,null,null,null,null,null,null,null,"1.16 > Colombia",413,16," "]
[{"$f":"INDEX(Country!$F$31:$G$76, MATCH(AI428, Country!$O$31:$O$76, 0), 1)","v":1.1600000000000001},{"$f":"INDEX(Country!$F$31:$G$76, MATCH(AI428, Country!$O$31:$O$76, 0), 2)","v":"Electrification rate"},{"$f":"INDEX(Country!$K$31:$K$76, MATCH(AI428, Country!$O$31:$O$76, 0), 1)","v":"%"},"Costa Rica",0.98980000000000001,0.98980000000000001,0.98980000000000001,0.99299999999999999,0.99299999999999999,0.99299999999999999,0.99299999999999999,39.401899373610831,39.401899373610831,39.401899373610831,38.771399798590132,38.771399798590132,12.084592145015105,15.105740181268882,null,null,null,null,null,null,null,null,null,null,null,null,null,null,"1.16 > Costa Rica",414,16," "]
[{"$f":"INDEX(Country!$F$31:$G$76, MATCH(AI429, Country!$O$31:$O$76, 0), 1)","v":1.1600000000000001},{"$f":"INDEX(Country!$F$31:$G$76, MATCH(AI429, Country!$O$31:$O$76, 0), 2)","v":"Electrification rate"},{"$f":"INDEX(Country!$K$31:$K$76, MATCH(AI429, Country!$O$31:$O$76, 0), 1)","v":"%"},"Dominican Republic",0.96,0.96,0.96,0.95899999999999996,0.95899999999999996,0.95899999999999996,0.95899999999999996,40.625000000000007,40.625000000000007,40.625000000000007,40.145985401459853,40.145985401459853,12.513034410844631,15.641293013555787,null,null,null,null,null,null,null,null,null,null,null,null,null,null,"1.16 > Dominican Republic",415,16," "]
[{"$f":"INDEX(Country!$F$31:$G$76, MATCH(AI430, Country!$O$31:$O$76, 0), 1)","v":1.1600000000000001},{"$f":"INDEX(Country!$F$31:$G$76, MATCH(AI430, Country!$O$31:$O$76, 0), 2)","v":"Electrification rate"},{"$f":"INDEX(Country!$K$31:$K$76, MATCH(AI430, Country!$O$31:$O$76, 0), 1)","v":"%"},"Ecuador",0.91,0.91,0.91,0.92200000000000004,0.92200000000000004,0.92200000000000004,0.92200000000000004,42.857142857142854,42.857142857142854,42.857142857142854,41.757049891540127,41.757049891540127,13.015184381778742,16.268980477223426,null,null,null,null,null,null,null,null,null,null,null,null,null,null,"1.16 > Ecuador",416,16," "]
[{"$f":"INDEX(Country!$F$31:$G$76, MATCH(AI431, Country!$O$31:$O$76, 0), 1)","v":1.1600000000000001},{"$f":"INDEX(Country!$F$31:$G$76, MATCH(AI431, Country!$O$31:$O$76, 0), 2)","v":"Electrification rate"},{"$f":"INDEX(Country!$K$31:$K$76, MATCH(AI431, Country!$O$31:$O$76, 0), 1)","v":"%"},"El Salvador",0.85,0.85,0.85,0.86399999999999999,0.86399999999999999,0.86399999999999999,0.86399999999999999,45.882352941176471,45.882352941176471,45.882352941176471,44.560185185185183,44.560185185185183,13.888888888888889,17.361111111111111,null,null,null,null,null,null,null,null,null,null,null,null,null,null,"1.16 > El Salvador",417,16," "]
[{"$f":"INDEX(Country!$F$31:$G$76, MATCH(AI432, Country!$O$31:$O$76, 0), 1)","v":1.1600000000000001},{"$f":"INDEX(Country!$F$31:$G$76, MATCH(AI432, Country!$O$31:$O$76, 0), 2)","v":"Electrification rate"},{"$f":"INDEX(Country!$K$31:$K$76, MATCH(AI432, Country!$O$31:$O$76, 0), 1)","v":"%"},"Guatemala",0.8,0.8,0.8,0.80500000000000005,0.80500000000000005,0.80500000000000005,0.80500000000000005,48.75,48.75,48.75,47.826086956521735,47.826086956521735,14.906832298136644,18.633540372670808,null,null,null,null,null,null,null,null,null,null,null,null,null,null,"1.16 > Guatemala",418,16," "]
[{"$f":"INDEX(Country!$F$31:$G$76, MATCH(AI433, Country!$O$31:$O$76, 0), 1)","v":1.1600000000000001},{"$f":"INDEX(Country!$F$31:$G$76, MATCH(AI433, Country!$O$31:$O$76, 0), 2)","v":"Electrification rate"},{"$f":"INDEX(Country!$K$31:$K$76, MATCH(AI433, Country!$O$31:$O$76, 0), 1)","v":"%"},"Guyana",0.82,0.82,0.82,0.82,0.82,0.82,0.82,47.560975609756099,47.560975609756099,47.560975609756099,46.951219512195124,46.951219512195124,14.634146341463413,18.292682926829269,null,null,null,null,null,null,null,null,null,null,null,null,null,null,"1.16 > Guyana",419,16," "]
[{"$f":"INDEX(Country!$F$31:$G$76, MATCH(AI434, Country!$O$31:$O$76, 0), 1)","v":1.1600000000000001},{"$f":"INDEX(Country!$F$31:$G$76, MATCH(AI434, Country!$O$31:$O$76, 0), 2)","v":"Electrification rate"},{"$f":"INDEX(Country!$K$31:$K$76, MATCH(AI434, Country!$O$31:$O$76, 0), 1)","v":"%"},"Haiti",0.39,0.39,0.39,0.38500000000000001,0.38500000000000001,0.12,0.15,100,100,100,100,100,100,100,null,null,null,null,null,null,null,null,null,null,null,null,null,null,"1.16 > Haiti",420,16," "]
[{"$f":"INDEX(Country!$F$31:$G$76, MATCH(AI435, Country!$O$31:$O$76, 0), 1)","v":1.1600000000000001},{"$f":"INDEX(Country!$F$31:$G$76, MATCH(AI435, Country!$O$31:$O$76, 0), 2)","v":"Electrification rate"},{"$f":"INDEX(Country!$K$31:$K$76, MATCH(AI435, Country!$O$31:$O$76, 0), 1)","v":"%"},"Honduras",0.7,0.7,0.7,0.70299999999999996,0.70299999999999996,0.70299999999999996,0.70299999999999996,55.714285714285715,55.714285714285715,55.714285714285715,54.765291607396868,54.765291607396868,17.069701280227598,21.337126600284495,null,null,null,null,null,null,null,null,null,null,null,null,null,null,"1.16 > Honduras",421,16," "]
[{"$f":"INDEX(Country!$F$31:$G$76, MATCH(AI436, Country!$O$31:$O$76, 0), 1)","v":1.1600000000000001},{"$f":"INDEX(Country!$F$31:$G$76, MATCH(AI436, Country!$O$31:$O$76, 0), 2)","v":"Electrification rate"},{"$f":"INDEX(Country!$K$31:$K$76, MATCH(AI436, Country!$O$31:$O$76, 0), 1)","v":"%"},"Jamaica",0.91,0.91,0.91,0.92,0.92,0.92,0.92,42.857142857142854,42.857142857142854,42.857142857142854,41.847826086956516,41.847826086956516,13.043478260869565,16.304347826086953,null,null,null,null,null,null,null,null,null,null,null,null,null,null,"1.16 > Jamaica",422,16," "]
[{"$f":"INDEX(Country!$F$31:$G$76, MATCH(AI437, Country!$O$31:$O$76, 0), 1)","v":1.1600000000000001},{"$f":"INDEX(Country!$F$31:$G$76, MATCH(AI437, Country!$O$31:$O$76, 0), 2)","v":"Electrification rate"},{"$f":"INDEX(Country!$K$31:$K$76, MATCH(AI437, Country!$O$31:$O$76, 0), 1)","v":"%"},"Mexico",0.96840000000000004,0.96840000000000004,0.96840000000000004,0.98,0.98,0.98,0.98,40.272614622056999,40.272614622056999,40.272614622056999,39.285714285714285,39.285714285714285,12.244897959183673,15.306122448979592,null,null,null,null,null,null,null,null,null,null,null,null,null,null,"1.16 > Mexico",423,16," "]
[{"$f":"INDEX(Country!$F$31:$G$76, MATCH(AI438, Country!$O$31:$O$76, 0), 1)","v":1.1600000000000001},{"$f":"INDEX(Country!$F$31:$G$76, MATCH(AI438, Country!$O$31:$O$76, 0), 2)","v":"Electrification rate"},{"$f":"INDEX(Country!$K$31:$K$76, MATCH(AI438, Country!$O$31:$O$76, 0), 1)","v":"%"},"Nicaragua",0.54,0.60399999999999998,0.63400000000000001,0.65600000000000003,0.69799999999999995,0.72399999999999998,0.751,72.222222222222214,64.569536423841072,61.514195583596219,58.689024390243901,55.157593123209168,16.574585635359114,19.973368841544605,null,null,null,null,null,null,null,null,null,null,null,null,null,null,"1.16 > Nicaragua",424,16," "]
[{"$f":"INDEX(Country!$F$31:$G$76, MATCH(AI439, Country!$O$31:$O$76, 0), 1)","v":1.1600000000000001},{"$f":"INDEX(Country!$F$31:$G$76, MATCH(AI439, Country!$O$31:$O$76, 0), 2)","v":"Electrification rate"},{"$f":"INDEX(Country!$K$31:$K$76, MATCH(AI439, Country!$O$31:$O$76, 0), 1)","v":"%"},"Panama",0.85,0.85,0.85,0.88100000000000001,0.88100000000000001,0.88100000000000001,0.88100000000000001,45.882352941176471,45.882352941176471,45.882352941176471,43.700340522133942,43.700340522133942,13.620885357548239,17.026106696935301,null,null,null,null,null,null,null,null,null,null,null,null,null,null,"1.16 > Panama",425,16," "]
[{"$f":"INDEX(Country!$F$31:$G$76, MATCH(AI440, Country!$O$31:$O$76, 0), 1)","v":1.1600000000000001},{"$f":"INDEX(Country!$F$31:$G$76, MATCH(AI440, Country!$O$31:$O$76, 0), 2)","v":"Electrification rate"},{"$f":"INDEX(Country!$K$31:$K$76, MATCH(AI440, Country!$O$31:$O$76, 0), 1)","v":"%"},"Paraguay",0.96799999999999997,0.96799999999999997,0.96799999999999997,0.96699999999999997,0.96699999999999997,0.96699999999999997,0.96699999999999997,40.289256198347111,40.289256198347111,40.289256198347111,39.813857290589453,39.813857290589453,12.409513960703206,15.511892450879008,null,null,null,null,null,null,null,null,null,null,null,null,null,null,"1.16 > Paraguay",426,16," "]
[{"$f":"INDEX(Country!$F$31:$G$76, MATCH(AI441, Country!$O$31:$O$76, 0), 1)","v":1.1600000000000001},{"$f":"INDEX(Country!$F$31:$G$76, MATCH(AI441, Country!$O$31:$O$76, 0), 2)","v":"Electrification rate"},{"$f":"INDEX(Country!$K$31:$K$76, MATCH(AI441, Country!$O$31:$O$76, 0), 1)","v":"%"},"Peru",0.83200000000000007,0.83200000000000007,0.83200000000000007,0.85699999999999998,0.85699999999999998,0.85699999999999998,0.85699999999999998,46.875,46.875,46.875,44.924154025670951,44.924154025670951,14.002333722287046,17.50291715285881,null,null,null,null,null,null,null,null,null,null,null,null,null,null,"1.16 > Peru",427,16," "]
[{"$f":"INDEX(Country!$F$31:$G$76, MATCH(AI442, Country!$O$31:$O$76, 0), 1)","v":1.1600000000000001},{"$f":"INDEX(Country!$F$31:$G$76, MATCH(AI442, Country!$O$31:$O$76, 0), 2)","v":"Electrification rate"},{"$f":"INDEX(Country!$K$31:$K$76, MATCH(AI442, Country!$O$31:$O$76, 0), 1)","v":"%"},"Suriname",0.85,0.85,0.85,0.85,0.85,0.85,0.85,45.882352941176471,45.882352941176471,45.882352941176471,45.294117647058826,45.294117647058826,14.117647058823529,17.647058823529413,null,null,null,null,null,null,null,null,null,null,null,null,null,null,"1.16 > Suriname",428,16," "]
[{"$f":"INDEX(Country!$F$31:$G$76, MATCH(AI443, Country!$O$31:$O$76, 0), 1)","v":1.1600000000000001},{"$f":"INDEX(Country!$F$31:$G$76, MATCH(AI443, Country!$O$31:$O$76, 0), 2)","v":"Electrification rate"},{"$f":"INDEX(Country!$K$31:$K$76, MATCH(AI443, Country!$O$31:$O$76, 0), 1)","v":"%"},"Trinidad & Tobago",0.97,0.97,0.97,0.99,0.99,0.99,0.99,40.206185567010309,40.206185567010309,40.206185567010309,38.888888888888893,38.888888888888893,12.121212121212121,15.151515151515152,null,null,null,null,null,null,null,null,null,null,null,null,null,null,"1.16 > Trinidad & Tobago",429,16," "]
[{"$f":"INDEX(Country!$F$31:$G$76, MATCH(AI444, Country!$O$31:$O$76, 0), 1)","v":1.1600000000000001},{"$f":"INDEX(Country!$F$31:$G$76, MATCH(AI444, Country!$O$31:$O$76, 0), 2)","v":"Electrification rate"},{"$f":"INDEX(Country!$K$31:$K$76, MATCH(AI444, Country!$O$31:$O$76, 0), 1)","v":"%"},"Uruguay",0.97,0.97,0.97,0.98299999999999998,0.98299999999999998,0.98299999999999998,0.98299999999999998,40.206185567010309,40.206185567010309,40.206185567010309,39.165818921668368,39.165818921668368,12.207527975584943,15.25940996948118,null,null,null,null,null,null,null,null,null,null,null,null,null,null,"1.16 > Uruguay",430,16," "]
[{"$f":"INDEX(Country!$F$31:$G$76, MATCH(AI445, Country!$O$31:$O$76, 0), 1)","v":1.1600000000000001},{"$f":"INDEX(Country!$F$31:$G$76, MATCH(AI445, Country!$O$31:$O$76, 0), 2)","v":"Electrification rate"},{"$f":"INDEX(Country!$K$31:$K$76, MATCH(AI445, Country!$O$31:$O$76, 0), 1)","v":"%"},"Venezuela",0.98,0.98,0.98,0.99,0.99,0.99,0.99,39.795918367346935,39.795918367346935,39.795918367346935,38.888888888888893,38.888888888888893,12.121212121212121,15.151515151515152,null,null,null,null,null,null,null,null,null,null,null,null,null,null,"1.16 > Venezuela",431,16," "]
[{"$f":"INDEX(Country!$F$31:$G$76, MATCH(AI446, Country!$O$31:$O$76, 0), 1)","v":1.1600000000000001},{"$f":"INDEX(Country!$F$31:$G$76, MATCH(AI446, Country!$O$31:$O$76, 0), 2)","v":"Electrification rate"},{"$f":"INDEX(Country!$K$31:$K$76, MATCH(AI446, Country!$O$31:$O$76, 0), 1)","v":"%"},"Benchmark",{"$f":"IFERROR(SMALL(E420:E445, COUNTIF(E420:E445, \"0\")+1), 0)","v":0.39},0.39,0.39,0.38500000000000001,0.38500000000000001,{"$f":"IFERROR(SMALL(J420:J445, COUNTIF(J420:J445, \"0\")+1), 0)","v":0.12},{"$f":"IFERROR(SMALL(K420:K445, COUNTIF(K420:K445, \"0\")+1), 0)","v":0.15},100,100,100,100,100,100,100,"*Cost hence bencmark is lowest cost of debt.",null,null,null,null,null,null,"Levelised by Gross Domestic Product (USDbn)",null,null,null,null,null,null,"1.16 > Benchmark",432,16," "]
[{"$f":"INDEX(Country!$F$31:$G$76, MATCH(AI447, Country!$O$31:$O$76, 0), 1)","v":2.0099999999999998},{"$f":"INDEX(Country!$F$31:$G$76, MATCH(AI447, Country!$O$31:$O$76, 0), 2)","v":"Clean energy investments"},{"$f":"INDEX(Country!$K$31:$K$76, MATCH(AI447, Country!$O$31:$O$76, 0), 1)","v":"USDm"},"Argentina",{"$f":"E501+E528+E555+E582","v":121.15051615307317},{"$f":"F501+F528+F555+F582","v":497.7859683413343},1016.7610034095242,1158.7111234095241,1633.7515167653823,1799.9339642612047,2070.7925519187133,{"$f":"IFERROR(dbl_BenchmarkMax*Z447/L$473, 0)","v":2.9963365962336828},{"$f":"IFERROR(dbl_BenchmarkMax*AA447/M$473, 0)","v":2.139821777137159},{"$f":"IFERROR(dbl_BenchmarkMax*AB447/N$473, 0)","v":2.413015097994335},{"$f":"IFERROR(dbl_BenchmarkMax*AC447/O$473, 0)","v":2.8854697264279956},{"$f":"IFERROR(dbl_BenchmarkMax*AD447/P$473, 0)","v":3.5148299277830182},{"$f":"IFERROR(dbl_BenchmarkMax*AE447/Q$473, 0)","v":3.4894657289353028},{"$f":"IFERROR(dbl_BenchmarkMax*AF447/R$473, 0)","v":3.0594804456457001},null,null,null,null,null,null,null,{"$f":"IFERROR(E447/Levelisation!F1415, 0)","v":0.57010129620705752},{"$f":"IFERROR(F447/Levelisation!G1415, 0)","v":1.9140387368885199},{"$f":"IFERROR(G447/Levelisation!H1415, 0)","v":3.1342334532745308},{"$f":"IFERROR(H447/Levelisation!I1415, 0)","v":3.7895727194249278},{"$f":"IFERROR(I447/Levelisation!J1415, 0)","v":4.4447962041145983},{"$f":"IFERROR(J447/Levelisation!J1415, 0)","v":4.8969133738555213},{"$f":"IFERROR(K447/Levelisation!L1415, 0)","v":4.3599854973717731},"2.01 > Argentina",433,17," "]
[{"$f":"INDEX(Country!$F$31:$G$76, MATCH(AI448, Country!$O$31:$O$76, 0), 1)","v":2.0099999999999998},{"$f":"INDEX(Country!$F$31:$G$76, MATCH(AI448, Country!$O$31:$O$76, 0), 2)","v":"Clean energy investments"},{"$f":"INDEX(Country!$K$31:$K$76, MATCH(AI448, Country!$O$31:$O$76, 0), 1)","v":"USDm"},"Bahamas",{"$f":"E502+E529+E556+E583","v":2.6},{"$f":"F502+F529+F556+F583","v":2.6},2.6,2.6,2.6,3.6,4.5999999999999996,1.7154245301884563,0.34940499063016717,0.24272027244023567,0.2565376573783788,0.26457505890077887,0.33011260499695561,0.40133071618053706,null,null,null,null,null,null,null,{"$f":"IFERROR(E448/Levelisation!F1416, 0)","v":0.32638714536781321},{"$f":"IFERROR(F448/Levelisation!G1416, 0)","v":0.31253756461113114},{"$f":"IFERROR(G448/Levelisation!H1416, 0)","v":0.31526615739056629},{"$f":"IFERROR(H448/Levelisation!I1416, 0)","v":0.33691849164182974},{"$f":"IFERROR(I448/Levelisation!J1416, 0)","v":0.33457727448204866},{"$f":"IFERROR(J448/Levelisation!J1416, 0)","v":0.46326084159052888},{"$f":"IFERROR(K448/Levelisation!L1416, 0)","v":0.57192589829665552},"2.01 > Bahamas",434,17," "]
[{"$f":"INDEX(Country!$F$31:$G$76, MATCH(AI449, Country!$O$31:$O$76, 0), 1)","v":2.0099999999999998},{"$f":"INDEX(Country!$F$31:$G$76, MATCH(AI449, Country!$O$31:$O$76, 0), 2)","v":"Clean energy investments"},{"$f":"INDEX(Country!$K$31:$K$76, MATCH(AI449, Country!$O$31:$O$76, 0), 1)","v":"USDm"},"Barbados",{"$f":"E503+E530+E557+E584","v":0},{"$f":"F503+F530+F557+F584","v":0},0,0,0,0,0,0,0,0,0,0,0,0,null,null,null,null,null,null,null,{"$f":"IFERROR(E449/Levelisation!F1417, 0)","v":0},{"$f":"IFERROR(F449/Levelisation!G1417, 0)","v":0},{"$f":"IFERROR(G449/Levelisation!H1417, 0)","v":0},{"$f":"IFERROR(H449/Levelisation!I1417, 0)","v":0},{"$f":"IFERROR(I449/Levelisation!J1417, 0)","v":0},{"$f":"IFERROR(J449/Levelisation!J1417, 0)","v":0},{"$f":"IFERROR(K449/Levelisation!L1417, 0)","v":0},"2.01 > Barbados",435,17," "]
[{"$f":"INDEX(Country!$F$31:$G$76, MATCH(AI450, Country!$O$31:$O$76, 0), 1)","v":2.0099999999999998},{"$f":"INDEX(Country!$F$31:$G$76, MATCH(AI450, Country!$O$31:$O$76, 0), 2)","v":"Clean energy investments"},{"$f":"INDEX(Country!$K$31:$K$76, MATCH(AI450, Country!$O$31:$O$76, 0), 1)","v":"USDm"},"Belize",{"$f":"E504+E531+E558+E585","v":0},{"$f":"F504+F531+F558+F585","v":114.67299225143825},177.16815919717453,177.16815919717453,177.16815919717453,177.16815919717453,177.16815919717453,0,100.00000000000001,100,100,100,90.112295601483126,80.001346281847702,null,null,null,null,null,null,null,{"$f":"IFERROR(E450/Levelisation!F1418, 0)","v":0},{"$f":"IFERROR(F450/Levelisation!G1418, 0)","v":89.448511896597694},{"$f":"IFERROR(G450/Levelisation!H1418, 0)","v":129.88867976332443},{"$f":"IFERROR(H450/Levelisation!I1418, 0)","v":131.3329571513525},{"$f":"IFERROR(I450/Levelisation!J1418, 0)","v":126.45835774245148},{"$f":"IFERROR(J450/Levelisation!J1418, 0)","v":126.45835774245148},{"$f":"IFERROR(K450/Levelisation!L1418, 0)","v":114.00782445120626},"2.01 > Belize",436,17," "]
[{"$f":"INDEX(Country!$F$31:$G$76, MATCH(AI451, Country!$O$31:$O$76, 0), 1)","v":2.0099999999999998},{"$f":"INDEX(Country!$F$31:$G$76, MATCH(AI451, Country!$O$31:$O$76, 0), 2)","v":"Clean energy investments"},{"$f":"INDEX(Country!$K$31:$K$76, MATCH(AI451, Country!$O$31:$O$76, 0), 1)","v":"USDm"},"Bolivia",{"$f":"E505+E532+E559+E586","v":0},{"$f":"F505+F532+F559+F586","v":0},0,0,0,0,0,0,0,0,0,0,0,0,null,null,null,null,null,null,null,{"$f":"IFERROR(E451/Levelisation!F1419, 0)","v":0},{"$f":"IFERROR(F451/Levelisation!G1419, 0)","v":0},{"$f":"IFERROR(G451/Levelisation!H1419, 0)","v":0},{"$f":"IFERROR(H451/Levelisation!I1419, 0)","v":0},{"$f":"IFERROR(I451/Levelisation!J1419, 0)","v":0},{"$f":"IFERROR(J451/Levelisation!J1419, 0)","v":0},{"$f":"IFERROR(K451/Levelisation!L1419, 0)","v":0},"2.01 > Bolivia",437,17," "]
[{"$f":"INDEX(Country!$F$31:$G$76, MATCH(AI452, Country!$O$31:$O$76, 0), 1)","v":2.0099999999999998},{"$f":"INDEX(Country!$F$31:$G$76, MATCH(AI452, Country!$O$31:$O$76, 0), 2)","v":"Clean energy investments"},{"$f":"INDEX(Country!$K$31:$K$76, MATCH(AI452, Country!$O$31:$O$76, 0), 1)","v":"USDm"},"Brazil",{"$f":"E506+E533+E560+E587","v":5017.6019599128622},{"$f":"F506+F533+F560+F587","v":17843.608124048733},33202.197298244333,44966.060479765241,58529.688374947451,73002.884314946132,{"$f":"K506+K533+K560+K587","v":82210.779189262335},24.212759565979042,14.601212391406978,15.488466247155012,21.1045941167339,21.59839602979045,24.275565803251538,24.077444371630751,null,null,null,null,null,null,null,{"$f":"IFERROR(E452/Levelisation!F1420, 0)","v":4.6068674763260598},{"$f":"IFERROR(F452/Levelisation!G1420, 0)","v":13.060567202975166},{"$f":"IFERROR(G452/Levelisation!H1420, 0)","v":20.117764324017767},{"$f":"IFERROR(H452/Levelisation!I1420, 0)","v":27.717287548296994},{"$f":"IFERROR(I452/Levelisation!J1420, 0)","v":27.312976917983846},{"$f":"IFERROR(J452/Levelisation!J1420, 0)","v":34.066917996676572},{"$f":"IFERROR(K452/Levelisation!L1420, 0)","v":34.312135716863637},"2.01 > Brazil",438,17," "]
[{"$f":"INDEX(Country!$F$31:$G$76, MATCH(AI453, Country!$O$31:$O$76, 0), 1)","v":2.0099999999999998},{"$f":"INDEX(Country!$F$31:$G$76, MATCH(AI453, Country!$O$31:$O$76, 0), 2)","v":"Clean energy investments"},{"$f":"INDEX(Country!$K$31:$K$76, MATCH(AI453, Country!$O$31:$O$76, 0), 1)","v":"USDm"},"Chile",{"$f":"E507+E534+E561+E588","v":181.01642414744015},{"$f":"F507+F534+F561+F588","v":478.70790691670476},1594.8247518467388,2374.2916011965567,3642.8809920377034,4145.2307864290779,6224.4300855157662,6.1495562715374747,3.0923649611808268,6.8394180246143499,10.504049310727346,13.256037907832223,13.592568242978974,16.286985215150189,null,null,null,null,null,null,null,{"$f":"IFERROR(E453/Levelisation!F1421, 0)","v":1.1700521249543665},{"$f":"IFERROR(F453/Levelisation!G1421, 0)","v":2.7660744401880506},{"$f":"IFERROR(G453/Levelisation!H1421, 0)","v":8.8836297756664226},{"$f":"IFERROR(H453/Levelisation!I1421, 0)","v":13.795278580414484},{"$f":"IFERROR(I453/Levelisation!J1421, 0)","v":16.763367839961454},{"$f":"IFERROR(J453/Levelisation!J1421, 0)","v":19.075020184937223},{"$f":"IFERROR(K453/Levelisation!L1421, 0)","v":23.210156297951599},"2.01 > Chile",439,17," "]
[{"$f":"INDEX(Country!$F$31:$G$76, MATCH(AI454, Country!$O$31:$O$76, 0), 1)","v":2.0099999999999998},{"$f":"INDEX(Country!$F$31:$G$76, MATCH(AI454, Country!$O$31:$O$76, 0), 2)","v":"Clean energy investments"},{"$f":"INDEX(Country!$K$31:$K$76, MATCH(AI454, Country!$O$31:$O$76, 0), 1)","v":"USDm"},"Colombia",{"$f":"E508+E535+E562+E589","v":203.01954227092605},{"$f":"F508+F535+F562+F589","v":528.0449870627358},812.37142367187641,924.89942367187643,1122.8873627585335,1193.8441117875291,1193.8441117875291,6.6402565828783144,2.803571390716491,2.6585477991796882,3.0407999975291258,3.1169602905329388,2.9862540411961418,2.288787337925041,null,null,null,null,null,null,null,{"$f":"IFERROR(E454/Levelisation!F1422, 0)","v":1.2634157623695543},{"$f":"IFERROR(F454/Levelisation!G1422, 0)","v":2.5077528889546499},{"$f":"IFERROR(G454/Levelisation!H1422, 0)","v":3.4531526372314145},{"$f":"IFERROR(H454/Levelisation!I1422, 0)","v":3.993572557813255},{"$f":"IFERROR(I454/Levelisation!J1422, 0)","v":3.9416567948922991},{"$f":"IFERROR(J454/Levelisation!J1422, 0)","v":4.190735341173661},{"$f":"IFERROR(K454/Levelisation!L1422, 0)","v":3.2616909234127345},"2.01 > Colombia",440,17," "]
[{"$f":"INDEX(Country!$F$31:$G$76, MATCH(AI455, Country!$O$31:$O$76, 0), 1)","v":2.0099999999999998},{"$f":"INDEX(Country!$F$31:$G$76, MATCH(AI455, Country!$O$31:$O$76, 0), 2)","v":"Clean energy investments"},{"$f":"INDEX(Country!$K$31:$K$76, MATCH(AI455, Country!$O$31:$O$76, 0), 1)","v":"USDm"},"Costa Rica",{"$f":"E509+E536+E563+E590","v":192.4890613589094},{"$f":"F509+F536+F563+F590","v":192.4890613589094},343.90958534533422,561.94159164902771,682.50056458633992,1074.2862954212844,1084.1748675608601,44.911808672784268,8.1754948651207382,8.8736698888914418,14.56200979950474,14.901535201384503,21.136451967378527,16.856140717090877,null,null,null,null,null,null,null,{"$f":"IFERROR(E455/Levelisation!F1423, 0)","v":8.5451949462358776},{"$f":"IFERROR(F455/Levelisation!G1423, 0)","v":7.3128584970332575},{"$f":"IFERROR(G455/Levelisation!H1423, 0)","v":11.525892665236752},{"$f":"IFERROR(H455/Levelisation!I1423, 0)","v":19.124718090359313},{"$f":"IFERROR(I455/Levelisation!J1423, 0)","v":18.844236694084152},{"$f":"IFERROR(J455/Levelisation!J1423, 0)","v":29.661668104845223},{"$f":"IFERROR(K455/Levelisation!L1423, 0)","v":24.021244905411887},"2.01 > Costa Rica",441,17," "]
[{"$f":"INDEX(Country!$F$31:$G$76, MATCH(AI456, Country!$O$31:$O$76, 0), 1)","v":2.0099999999999998},{"$f":"INDEX(Country!$F$31:$G$76, MATCH(AI456, Country!$O$31:$O$76, 0), 2)","v":"Clean energy investments"},{"$f":"INDEX(Country!$K$31:$K$76, MATCH(AI456, Country!$O$31:$O$76, 0), 1)","v":"USDm"},"Dominican Republic",{"$f":"E510+E537+E564+E591","v":0},{"$f":"F510+F537+F564+F591","v":37.510199999999998},37.510199999999998,245.5102,349.90437846666163,396.55688043602004,644.46042206804805,0,1.0231533350098669,0.63447423170916972,4.0017390066684611,5.3548408515878014,5.468733170315164,7.6654264611396146,null,null,null,null,null,null,null,{"$f":"IFERROR(E456/Levelisation!F1424, 0)","v":0},{"$f":"IFERROR(F456/Levelisation!G1424, 0)","v":0.91519543258673697},{"$f":"IFERROR(G456/Levelisation!H1424, 0)","v":0.8241102030055365},{"$f":"IFERROR(H456/Levelisation!I1424, 0)","v":5.2556021749368496},{"$f":"IFERROR(I456/Levelisation!J1424, 0)","v":6.7716438006398372},{"$f":"IFERROR(J456/Levelisation!J1424, 0)","v":7.6745022533677822},{"$f":"IFERROR(K456/Levelisation!L1424, 0)","v":10.923798597668453},"2.01 > Dominican Republic",442,17," "]
[{"$f":"INDEX(Country!$F$31:$G$76, MATCH(AI457, Country!$O$31:$O$76, 0), 1)","v":2.0099999999999998},{"$f":"INDEX(Country!$F$31:$G$76, MATCH(AI457, Country!$O$31:$O$76, 0), 2)","v":"Clean energy investments"},{"$f":"INDEX(Country!$K$31:$K$76, MATCH(AI457, Country!$O$31:$O$76, 0), 1)","v":"USDm"},"Ecuador",{"$f":"E511+E538+E565+E592","v":130.80338899034757},{"$f":"F511+F538+F565+F592","v":152.11838899034757},152.11838899034757,208.07038899034757,208.07038899034757,300.79301195461778,432.53076745851922,14.68997285621653,3.3340361322210379,1.9278730423890198,2.7382029414708464,2.5808056657033362,3.3619931194034667,3.7504743683355839,null,null,null,null,null,null,null,{"$f":"IFERROR(E457/Levelisation!F1425, 0)","v":2.7950039315016895},{"$f":"IFERROR(F457/Levelisation!G1425, 0)","v":2.9822457063666006},{"$f":"IFERROR(G457/Levelisation!H1425, 0)","v":2.5040888422721337},{"$f":"IFERROR(H457/Levelisation!I1425, 0)","v":3.5961628958389804},{"$f":"IFERROR(I457/Levelisation!J1425, 0)","v":3.2636444613725817},{"$f":"IFERROR(J457/Levelisation!J1425, 0)","v":4.7180257231643159},{"$f":"IFERROR(K457/Levelisation!L1425, 0)","v":5.3447028489690611},"2.01 > Ecuador",443,17," "]
[{"$f":"INDEX(Country!$F$31:$G$76, MATCH(AI458, Country!$O$31:$O$76, 0), 1)","v":2.0099999999999998},{"$f":"INDEX(Country!$F$31:$G$76, MATCH(AI458, Country!$O$31:$O$76, 0), 2)","v":"Clean energy investments"},{"$f":"INDEX(Country!$K$31:$K$76, MATCH(AI458, Country!$O$31:$O$76, 0), 1)","v":"USDm"},"El Salvador",{"$f":"E512+E539+E566+E593","v":20.427999488379204},{"$f":"F512+F539+F566+F593","v":20.427999488379204},21.697999488379203,21.787999488379203,21.787999488379203,21.897999488379202,22.007999488379202,5.7875810114298618,1.1359223404820347,0.77948175776257145,0.80295701297649158,0.80443490123260553,0.72855449657577875,0.64844684681672671,null,null,null,null,null,null,null,{"$f":"IFERROR(E458/Levelisation!F1426, 0)","v":1.1011805017723684},{"$f":"IFERROR(F458/Levelisation!G1426, 0)","v":1.0160656298621837},{"$f":"IFERROR(G458/Levelisation!H1426, 0)","v":1.0124585641537587},{"$f":"IFERROR(H458/Levelisation!I1426, 0)","v":1.0545471897961958},{"$f":"IFERROR(I458/Levelisation!J1426, 0)","v":1.0172751652058645},{"$f":"IFERROR(J458/Levelisation!J1426, 0)","v":1.022411032233598},{"$f":"IFERROR(K458/Levelisation!L1426, 0)","v":0.92408462749324838},"2.01 > El Salvador",444,17," "]
[{"$f":"INDEX(Country!$F$31:$G$76, MATCH(AI459, Country!$O$31:$O$76, 0), 1)","v":2.0099999999999998},{"$f":"INDEX(Country!$F$31:$G$76, MATCH(AI459, Country!$O$31:$O$76, 0), 2)","v":"Clean energy investments"},{"$f":"INDEX(Country!$K$31:$K$76, MATCH(AI459, Country!$O$31:$O$76, 0), 1)","v":"USDm"},"Guatemala",{"$f":"E513+E540+E567+E594","v":154.01527349687987},{"$f":"F513+F540+F567+F594","v":196.65709492140971},196.79709492140972,283.983945482553,337.65644096920948,446.38929409627008,446.38929409627008,26.776255801911514,6.4449059666768003,3.871326927974712,5.7304301142305842,6.4587209828922347,7.6943034218304343,6.2798600091041443,null,null,null,null,null,null,null,{"$f":"IFERROR(E459/Levelisation!F1427, 0)","v":5.0946139226912726},{"$f":"IFERROR(F459/Levelisation!G1427, 0)","v":5.7648724803274325},{"$f":"IFERROR(G459/Levelisation!H1427, 0)","v":5.0284154360684195},{"$f":"IFERROR(H459/Levelisation!I1427, 0)","v":7.525943326510653},{"$f":"IFERROR(I459/Levelisation!J1427, 0)","v":8.1675924861326408},{"$f":"IFERROR(J459/Levelisation!J1427, 0)","v":10.797738179924774},{"$f":"IFERROR(K459/Levelisation!L1427, 0)","v":8.949264115803329},"2.01 > Guatemala",445,17," "]
[{"$f":"INDEX(Country!$F$31:$G$76, MATCH(AI460, Country!$O$31:$O$76, 0), 1)","v":2.0099999999999998},{"$f":"INDEX(Country!$F$31:$G$76, MATCH(AI460, Country!$O$31:$O$76, 0), 2)","v":"Clean energy investments"},{"$f":"INDEX(Country!$K$31:$K$76, MATCH(AI460, Country!$O$31:$O$76, 0), 1)","v":"USDm"},"Guyana",{"$f":"E514+E541+E568+E595","v":0},{"$f":"F514+F541+F568+F595","v":0},32.96,32.96,40.06,40.06,40.06,0,0,13.195827093365731,12.399465704156995,14.023201565648719,12.636628847629183,10.082792104876239,null,null,null,null,null,null,null,{"$f":"IFERROR(E460/Levelisation!F1428, 0)","v":0},{"$f":"IFERROR(F460/Levelisation!G1428, 0)","v":0},{"$f":"IFERROR(G460/Levelisation!H1428, 0)","v":17.139885595423817},{"$f":"IFERROR(H460/Levelisation!I1428, 0)","v":16.284584980237156},{"$f":"IFERROR(I460/Levelisation!J1428, 0)","v":17.733510402833115},{"$f":"IFERROR(J460/Levelisation!J1428, 0)","v":17.733510402833115},{"$f":"IFERROR(K460/Levelisation!L1428, 0)","v":14.368723098995698},"2.01 > Guyana",446,17," "]
[{"$f":"INDEX(Country!$F$31:$G$76, MATCH(AI461, Country!$O$31:$O$76, 0), 1)","v":2.0099999999999998},{"$f":"INDEX(Country!$F$31:$G$76, MATCH(AI461, Country!$O$31:$O$76, 0), 2)","v":"Clean energy investments"},{"$f":"INDEX(Country!$K$31:$K$76, MATCH(AI461, Country!$O$31:$O$76, 0), 1)","v":"USDm"},"Haiti",{"$f":"E515+E542+E569+E596","v":0},{"$f":"F515+F542+F569+F596","v":0},0,0.83,0.83,0.83,0.83,0,0,0,9.6456273753805513E-2,0.10018967213789441,9.0283213519056188E-2,7.3706146179262522E-2,null,null,null,null,null,null,null,{"$f":"IFERROR(E461/Levelisation!F1429, 0)","v":0},{"$f":"IFERROR(F461/Levelisation!G1429, 0)","v":0},{"$f":"IFERROR(G461/Levelisation!H1429, 0)","v":0},{"$f":"IFERROR(H461/Levelisation!I1429, 0)","v":0.12667887667887667},{"$f":"IFERROR(I461/Levelisation!J1429, 0)","v":0.12669821401312775},{"$f":"IFERROR(J461/Levelisation!J1429, 0)","v":0.12669821401312775},{"$f":"IFERROR(K461/Levelisation!L1429, 0)","v":0.10503669956972918},"2.01 > Haiti",447,17," "]
[{"$f":"INDEX(Country!$F$31:$G$76, MATCH(AI462, Country!$O$31:$O$76, 0), 1)","v":2.0099999999999998},{"$f":"INDEX(Country!$F$31:$G$76, MATCH(AI462, Country!$O$31:$O$76, 0), 2)","v":"Clean energy investments"},{"$f":"INDEX(Country!$K$31:$K$76, MATCH(AI462, Country!$O$31:$O$76, 0), 1)","v":"USDm"},"Honduras",{"$f":"E516+E543+E570+E597","v":42.648992248874585},{"$f":"F516+F543+F570+F597","v":84.480992248874585},107.99499224887458,107.99499224887458,411.08778092388098,551.4676000550362,585.12964390811021,20.604323841896601,7.6673570278174337,6.008402094844973,5.656595244082343,20.595387061841016,24.896565812511238,22.329563986010537,null,null,null,null,null,null,null,{"$f":"IFERROR(E462/Levelisation!F1430, 0)","v":3.9203044626229051},{"$f":"IFERROR(F462/Levelisation!G1430, 0)","v":6.8583367631818959},{"$f":"IFERROR(G462/Levelisation!H1430, 0)","v":7.8042341558660633},{"$f":"IFERROR(H462/Levelisation!I1430, 0)","v":7.4289738081361065},{"$f":"IFERROR(I462/Levelisation!J1430, 0)","v":26.044588249105484},{"$f":"IFERROR(J462/Levelisation!J1430, 0)","v":34.938393313167524},{"$f":"IFERROR(K462/Levelisation!L1430, 0)","v":31.821277132266161},"2.01 > Honduras",448,17," "]
[{"$f":"INDEX(Country!$F$31:$G$76, MATCH(AI463, Country!$O$31:$O$76, 0), 1)","v":2.0099999999999998},{"$f":"INDEX(Country!$F$31:$G$76, MATCH(AI463, Country!$O$31:$O$76, 0), 2)","v":"Clean energy investments"},{"$f":"INDEX(Country!$K$31:$K$76, MATCH(AI463, Country!$O$31:$O$76, 0), 1)","v":"USDm"},"Jamaica",{"$f":"E517+E544+E571+E598","v":20.070218328899301},{"$f":"F517+F544+F571+F598","v":21.070218328899301},21.070218328899301,21.070218328899301,108.08070734856176,108.08070734856176,108.08070734856176,8.8323696100140783,1.829284355617063,1.1709919218058129,1.3068881884875336,6.3346745613879767,5.7083206661498878,4.973583928731677,null,null,null,null,null,null,null,{"$f":"IFERROR(E463/Levelisation!F1431, 0)","v":1.6805005717909489},{"$f":"IFERROR(F463/Levelisation!G1431, 0)","v":1.6362676344567291},{"$f":"IFERROR(G463/Levelisation!H1431, 0)","v":1.5209859473687506},{"$f":"IFERROR(H463/Levelisation!I1431, 0)","v":1.7163749046024195},{"$f":"IFERROR(I463/Levelisation!J1431, 0)","v":8.0107254186600763},{"$f":"IFERROR(J463/Levelisation!J1431, 0)","v":8.0107254186600763},{"$f":"IFERROR(K463/Levelisation!L1431, 0)","v":7.087724267070743},{"$f":"A463&\" > \" &D463","v":"2.01 > Jamaica"},449,17," "]
[{"$f":"INDEX(Country!$F$31:$G$76, MATCH(AI464, Country!$O$31:$O$76, 0), 1)","v":2.0099999999999998},{"$f":"INDEX(Country!$F$31:$G$76, MATCH(AI464, Country!$O$31:$O$76, 0), 2)","v":"Clean energy investments"},{"$f":"INDEX(Country!$K$31:$K$76, MATCH(AI464, Country!$O$31:$O$76, 0), 1)","v":"USDm"},"Mexico",{"$f":"E518+E545+E572+E599","v":189.31866687809182},{"$f":"F518+F545+F572+F599","v":956.15758489188897},1552.067174891889,2053.2615762377063,4737.1725279892325,5269.3600879138285,8191.1846684561924,1.0455409936540343,1.0327675353648511,1.0925052380643108,1.7708896772950931,3.6223449744583673,3.6308853611994727,4.8830378575357587,null,null,null,null,null,null,null,{"$f":"IFERROR(E464/Levelisation!F1432, 0)","v":0.19893101344789407},{"$f":"IFERROR(F464/Levelisation!G1432, 0)","v":0.92379519173502755},{"$f":"IFERROR(G464/Levelisation!H1432, 0)","v":1.4190406300668978},{"$f":"IFERROR(H464/Levelisation!I1432, 0)","v":2.3257617810796893},{"$f":"IFERROR(I464/Levelisation!J1432, 0)","v":4.5807579664662752},{"$f":"IFERROR(J464/Levelisation!J1432, 0)","v":5.0953734655588558},{"$f":"IFERROR(K464/Levelisation!L1432, 0)","v":6.9586894311658263},"2.01 > Mexico",450,17," "]
[{"$f":"INDEX(Country!$F$31:$G$76, MATCH(AI465, Country!$O$31:$O$76, 0), 1)","v":2.0099999999999998},{"$f":"INDEX(Country!$F$31:$G$76, MATCH(AI465, Country!$O$31:$O$76, 0), 2)","v":"Clean energy investments"},{"$f":"INDEX(Country!$K$31:$K$76, MATCH(AI465, Country!$O$31:$O$76, 0), 1)","v":"USDm"},"Nicaragua",{"$f":"E519+E546+E573+E600","v":129.1145794809554},{"$f":"F519+F546+F573+F600","v":223.6745794809554},304.96857948095538,499.4485794809554,930.09967317088388,1205.0496668476376,1497.1825592341886,100,33.578566813633302,28.445877131035463,46.632971899507744,85.652588315124262,100,100,null,null,null,null,null,null,null,{"$f":"IFERROR(E465/Levelisation!F1433, 0)","v":19.026610592536901},{"$f":"IFERROR(F465/Levelisation!G1433, 0)","v":30.035528330999785},{"$f":"IFERROR(G465/Levelisation!H1433, 0)","v":36.947974252599394},{"$f":"IFERROR(H465/Levelisation!I1433, 0)","v":61.244461003182764},{"$f":"IFERROR(I465/Levelisation!J1433, 0)","v":108.31485654720903},{"$f":"IFERROR(J465/Levelisation!J1433, 0)","v":140.33418735852308},{"$f":"IFERROR(K465/Levelisation!L1433, 0)","v":142.50738237523211},"2.01 > Nicaragua",{"$f":"AH464+1","v":451},{"$f":"ROUNDUP(AH465/COUNTA($D$15:$D$41),0)","v":17}," "]
[{"$f":"INDEX(Country!$F$31:$G$76, MATCH(AI466, Country!$O$31:$O$76, 0), 1)","v":2.0099999999999998},{"$f":"INDEX(Country!$F$31:$G$76, MATCH(AI466, Country!$O$31:$O$76, 0), 2)","v":"Clean energy investments"},{"$f":"INDEX(Country!$K$31:$K$76, MATCH(AI466, Country!$O$31:$O$76, 0), 1)","v":"USDm"},"Panama",{"$f":"E520+E547+E574+E601","v":7.5967108794779437},{"$f":"F520+F547+F574+F601","v":74.731710879477944},276.89921087947789,727.63521087947777,1042.019217313396,1172.560046240206,1331.9989473839057,2.3298575656977047,4.220833678443773,9.267974207013836,22.929211999657195,30.458797838915888,30.885609442284984,25.782354035930837,null,null,null,null,null,null,null,{"$f":"IFERROR(E466/Levelisation!F1434, 0)","v":0.44329292638606194},{"$f":"IFERROR(F466/Levelisation!G1434, 0)","v":3.7754729149983803},{"$f":"IFERROR(G466/Levelisation!H1434, 0)","v":12.038049338295709},{"$f":"IFERROR(H466/Levelisation!I1434, 0)","v":30.113612170652559},{"$f":"IFERROR(I466/Levelisation!J1434, 0)","v":38.517695535186334},{"$f":"IFERROR(J466/Levelisation!J1434, 0)","v":43.343069021557902},{"$f":"IFERROR(K466/Levelisation!L1434, 0)","v":36.741757851320045},"2.01 > Panama",452,17," "]
[{"$f":"INDEX(Country!$F$31:$G$76, MATCH(AI467, Country!$O$31:$O$76, 0), 1)","v":2.0099999999999998},{"$f":"INDEX(Country!$F$31:$G$76, MATCH(AI467, Country!$O$31:$O$76, 0), 2)","v":"Clean energy investments"},{"$f":"INDEX(Country!$K$31:$K$76, MATCH(AI467, Country!$O$31:$O$76, 0), 1)","v":"USDm"},"Paraguay",{"$f":"E521+E548+E575+E602","v":8.0281051822200062},{"$f":"F521+F548+F575+F602","v":140.04863733958456},140.04863733958456,140.04863733958456,140.04863733958456,160.87855883874278,161.24855883874278,3.9389553697165174,11.257477449281932,5.7903469243128916,6.6957380208760293,5.3415734220142648,5.5293303211972633,4.3521297541338191,null,null,null,null,null,null,null,{"$f":"IFERROR(E467/Levelisation!F1435, 0)","v":0.74944969960978403},{"$f":"IFERROR(F467/Levelisation!G1435, 0)","v":10.069646055477751},{"$f":"IFERROR(G467/Levelisation!H1435, 0)","v":7.5210051737062766},{"$f":"IFERROR(H467/Levelisation!I1435, 0)","v":8.7937107459239332},{"$f":"IFERROR(I467/Levelisation!J1435, 0)","v":6.7548660270865071},{"$f":"IFERROR(J467/Levelisation!J1435, 0)","v":7.7595407726205936},{"$f":"IFERROR(K467/Levelisation!L1435, 0)","v":6.2021061901897303},"2.01 > Paraguay",453,17," "]
[{"$f":"INDEX(Country!$F$31:$G$76, MATCH(AI468, Country!$O$31:$O$76, 0), 1)","v":2.0099999999999998},{"$f":"INDEX(Country!$F$31:$G$76, MATCH(AI468, Country!$O$31:$O$76, 0), 2)","v":"Clean energy investments"},{"$f":"INDEX(Country!$K$31:$K$76, MATCH(AI468, Country!$O$31:$O$76, 0), 1)","v":"USDm"},"Peru",{"$f":"E522+E549+E576+E603","v":58.565546212531032},{"$f":"F522+F549+F576+F603","v":251.20906172410298},286.22906172410296,527.85727300060239,1034.5507838516385,1323.6592747715176,2552.7231961322532,3.3340043027340078,2.6185497611213373,1.7369483631779759,3.1659191410393981,5.3163162761206904,6.1294182389054948,9.0013311312780449,null,null,null,null,null,null,null,{"$f":"IFERROR(E468/Levelisation!F1436, 0)","v":0.63434801581962474},{"$f":"IFERROR(F468/Levelisation!G1436, 0)","v":2.3422537945949498},{"$f":"IFERROR(G468/Levelisation!H1436, 0)","v":2.2560992971025464},{"$f":"IFERROR(H468/Levelisation!I1436, 0)","v":4.1578952289477398},{"$f":"IFERROR(I468/Levelisation!J1436, 0)","v":6.7229262551768771},{"$f":"IFERROR(J468/Levelisation!J1436, 0)","v":8.6016692753731228},{"$f":"IFERROR(K468/Levelisation!L1436, 0)","v":12.827561374111211},"2.01 > Peru",454,17," "]
[{"$f":"INDEX(Country!$F$31:$G$76, MATCH(AI469, Country!$O$31:$O$76, 0), 1)","v":2.0099999999999998},{"$f":"INDEX(Country!$F$31:$G$76, MATCH(AI469, Country!$O$31:$O$76, 0), 2)","v":"Clean energy investments"},{"$f":"INDEX(Country!$K$31:$K$76, MATCH(AI469, Country!$O$31:$O$76, 0), 1)","v":"USDm"},"Suriname",{"$f":"E523+E550+E577+E604","v":0},{"$f":"F523+F550+F577+F604","v":0},0,0,0,0,0,0,0,0,0,0,0,0,null,null,null,null,null,null,null,{"$f":"IFERROR(E469/Levelisation!F1437, 0)","v":0},{"$f":"IFERROR(F469/Levelisation!G1437, 0)","v":0},{"$f":"IFERROR(G469/Levelisation!H1437, 0)","v":0},{"$f":"IFERROR(H469/Levelisation!I1437, 0)","v":0},{"$f":"IFERROR(I469/Levelisation!J1437, 0)","v":0},{"$f":"IFERROR(J469/Levelisation!J1437, 0)","v":0},{"$f":"IFERROR(K469/Levelisation!L1437, 0)","v":0},"2.01 > Suriname",455,17," "]
[{"$f":"INDEX(Country!$F$31:$G$76, MATCH(AI470, Country!$O$31:$O$76, 0), 1)","v":2.0099999999999998},{"$f":"INDEX(Country!$F$31:$G$76, MATCH(AI470, Country!$O$31:$O$76, 0), 2)","v":"Clean energy investments"},{"$f":"INDEX(Country!$K$31:$K$76, MATCH(AI470, Country!$O$31:$O$76, 0), 1)","v":"USDm"},"Trinidad & Tobago",{"$f":"E524+E551+E578+E605","v":0.05},{"$f":"F524+F551+F578+F605","v":0.05},222.56089999999998,222.61089999999996,222.61089999999996,222.61089999999996,222.61089999999996,1.4306159423570277E-2,2.5828518239572988E-3,6.1480953976448429,8.8396959992929833,8.5482904193050615,7.7030607315174384,6.17992969089957,null,null,null,null,null,null,null,{"$f":"IFERROR(E470/Levelisation!F1438, 0)","v":2.7219772442702381E-3},{"$f":"IFERROR(F470/Levelisation!G1438, 0)","v":2.310322521023935E-3},{"$f":"IFERROR(G470/Levelisation!H1438, 0)","v":7.9856799425905978},{"$f":"IFERROR(H470/Levelisation!I1438, 0)","v":11.609434159061275},{"$f":"IFERROR(I470/Levelisation!J1438, 0)","v":10.810027679308501},{"$f":"IFERROR(J470/Levelisation!J1438, 0)","v":10.810027679308501},{"$f":"IFERROR(K470/Levelisation!L1438, 0)","v":8.8068560351307497},"2.01 > Trinidad & Tobago",456,17," "]
[{"$f":"INDEX(Country!$F$31:$G$76, MATCH(AI471, Country!$O$31:$O$76, 0), 1)","v":2.0099999999999998},{"$f":"INDEX(Country!$F$31:$G$76, MATCH(AI471, Country!$O$31:$O$76, 0), 2)","v":"Clean energy investments"},{"$f":"INDEX(Country!$K$31:$K$76, MATCH(AI471, Country!$O$31:$O$76, 0), 1)","v":"USDm"},"Uruguay",{"$f":"E525+E552+E579+E606","v":24.104515615077624},{"$f":"F525+F552+F579+F606","v":29.461079447765872},120.51307944776586,196.64107944776586,247.59692271796339,275.26891264688544,393.69306262681778,6.4706285927345357,1.4068751881809334,3.0554507923335663,4.9095694365781073,4.9678586575521875,4.9769721338791753,5.5918857051803119,null,null,null,null,null,null,null,{"$f":"IFERROR(E471/Levelisation!F1439, 0)","v":1.2311413052289506},{"$f":"IFERROR(F471/Levelisation!G1439, 0)","v":1.2584289200703034},{"$f":"IFERROR(G471/Levelisation!H1439, 0)","v":3.9686846949801047},{"$f":"IFERROR(H471/Levelisation!I1439, 0)","v":6.447882724457024},{"$f":"IFERROR(I471/Levelisation!J1439, 0)","v":6.2822724733066933},{"$f":"IFERROR(J471/Levelisation!J1439, 0)","v":6.9843933991394866},{"$f":"IFERROR(K471/Levelisation!L1439, 0)","v":7.9688499438672524},"2.01 > Uruguay",457,17," "]
[{"$f":"INDEX(Country!$F$31:$G$76, MATCH(AI472, Country!$O$31:$O$76, 0), 1)","v":2.0099999999999998},{"$f":"INDEX(Country!$F$31:$G$76, MATCH(AI472, Country!$O$31:$O$76, 0), 2)","v":"Clean energy investments"},{"$f":"INDEX(Country!$K$31:$K$76, MATCH(AI472, Country!$O$31:$O$76, 0), 1)","v":"USDm"},"Venezuela",{"$f":"E526+E553+E580+E607","v":0},{"$f":"F526+F553+F580+F607","v":0},165.32736,206.92735999999999,206.92735999999999,277.66645028964274,354.57756693078619,0,0,0.40330762582610952,0.47829467898104056,0.41551523115684691,0.50243107530138353,0.65062201298128175,null,null,null,null,null,null,null,{"$f":"IFERROR(E472/Levelisation!F1440, 0)","v":0},{"$f":"IFERROR(F472/Levelisation!G1440, 0)","v":0},{"$f":"IFERROR(G472/Levelisation!H1440, 0)","v":0.52385095057034214},{"$f":"IFERROR(H472/Levelisation!I1440, 0)","v":0.62815854580336894},{"$f":"IFERROR(I472/Levelisation!J1440, 0)","v":0.52545373749069968},{"$f":"IFERROR(J472/Levelisation!J1440, 0)","v":0.70508256656088575},{"$f":"IFERROR(K472/Levelisation!L1440, 0)","v":0.92718439985666745},"2.01 > Venezuela",458,17," "]
[{"$f":"INDEX(Country!$F$31:$G$76, MATCH(AI473, Country!$O$31:$O$76, 0), 1)","v":2.0099999999999998},{"$f":"INDEX(Country!$F$31:$G$76, MATCH(AI473, Country!$O$31:$O$76, 0), 2)","v":"Clean energy investments"},{"$f":"INDEX(Country!$K$31:$K$76, MATCH(AI473, Country!$O$31:$O$76, 0), 1)","v":"USDm"},"Benchmark",{"$f":"IFERROR(MAX(E447:E472), 0)","v":5017.6019599128622},{"$f":"IFERROR(MAX(F447:F472), 0)","v":17843.608124048733},33202.197298244333,44966.060479765241,58529.688374947451,73002.884314946132,82210.779189262335,{"$f":"MAX(Z447:Z472)","v":19.026610592536901},89.448511896597694,{"$f":"MAX(AB447:AB472)","v":129.88867976332443},{"$f":"MAX(AC447:AC472)","v":131.3329571513525},{"$f":"MAX(AD447:AD472)","v":126.45835774245148},{"$f":"MAX(AE447:AE472)","v":140.33418735852308},{"$f":"MAX(AF447:AF472)","v":142.50738237523211},null,null,null,null,null,null,null,null,null,null,null,null,null,null,"2.01 > Benchmark",459,17," "]
[{"$f":"INDEX(Country!$F$31:$G$76, MATCH(AI474, Country!$O$31:$O$76, 0), 1)","v":2.0199999999999996},{"$f":"INDEX(Country!$F$31:$G$76, MATCH(AI474, Country!$O$31:$O$76, 0), 2)","v":"Growth rate of clean energy investments"},{"$f":"INDEX(Country!$K$31:$K$76, MATCH(AI474, Country!$O$31:$O$76, 0), 1)","v":"%"},"Argentina",null,{"$f":"IF(E447<>0, F447/E447-1, 0)","v":3.1088225139081027},{"$f":"IF(F447<>0, G447/F447-1, 0)","v":1.0425666211473565},0.13961011439659465,0.40997310180128843,0.10171831260168762,0.150482513823047,{"$f":"IFERROR(dbl_BenchmarkMax*E474/ SUMIFS(E$15:E$1256, $D$15:$D$1256, \"Benchmark\", $B$15:$B$1256,$B474), 0)","v":0},{"$f":"IFERROR(dbl_BenchmarkMax*F474/ SUMIFS(F$15:F$1256, $D$15:$D$1256, \"Benchmark\", $B$15:$B$1256,$B474), 0)","v":18.904600463781442},{"$f":"IFERROR(dbl_BenchmarkMax*G474/ SUMIFS(G$15:G$1256, $D$15:$D$1256, \"Benchmark\", $B$15:$B$1256,$B474), 0)","v":2.3427315721327738E-2},{"$f":"IFERROR(dbl_BenchmarkMax*H474/ SUMIFS(H$15:H$1256, $D$15:$D$1256, \"Benchmark\", $B$15:$B$1256,$B474), 0)","v":2.5176939004995886},{"$f":"IFERROR(dbl_BenchmarkMax*I474/ SUMIFS(I$15:I$1256, $D$15:$D$1256, \"Benchmark\", $B$15:$B$1256,$B474), 0)","v":9.9277947535465056},{"$f":"IFERROR(dbl_BenchmarkMax*J474/ SUMIFS(J$15:J$1256, $D$15:$D$1256, \"Benchmark\", $B$15:$B$1256,$B474), 0)","v":17.719585047539354},{"$f":"IFERROR(dbl_BenchmarkMax*K474/ SUMIFS(K$15:K$1256, $D$15:$D$1256, \"Benchmark\", $B$15:$B$1256,$B474), 0)","v":16.206445543717727},null,null,null,null,null,null,null,null,null,null,null,null,null,null,"2.02 > Argentina",460,18," "]
[{"$f":"INDEX(Country!$F$31:$G$76, MATCH(AI475, Country!$O$31:$O$76, 0), 1)","v":2.0199999999999996},{"$f":"INDEX(Country!$F$31:$G$76, MATCH(AI475, Country!$O$31:$O$76, 0), 2)","v":"Growth rate of clean energy investments"},{"$f":"INDEX(Country!$K$31:$K$76, MATCH(AI475, Country!$O$31:$O$76, 0), 1)","v":"%"},"Bahamas",null,{"$f":"IF(E448<>0, F448/E448-1, 0)","v":0},0,0,0,0.38461538461538458,0.27777777777777768,0,0,0,0,0,67.000964172220208,29.915704585478629,null,null,null,null,null,null,null,null,null,null,null,null,null,null,"2.02 > Bahamas",461,18," "]
[{"$f":"INDEX(Country!$F$31:$G$76, MATCH(AI476, Country!$O$31:$O$76, 0), 1)","v":2.0199999999999996},{"$f":"INDEX(Country!$F$31:$G$76, MATCH(AI476, Country!$O$31:$O$76, 0), 2)","v":"Growth rate of clean energy investments"},{"$f":"INDEX(Country!$K$31:$K$76, MATCH(AI476, Country!$O$31:$O$76, 0), 1)","v":"%"},"Barbados",null,{"$f":"IF(E449<>0, F449/E449-1, 0)","v":0},0,0,0,0,0,0,0,0,0,0,0,0,null,null,null,null,null,null,null,null,null,null,null,null,null,null,"2.02 > Barbados",462,18," "]
[{"$f":"INDEX(Country!$F$31:$G$76, MATCH(AI477, Country!$O$31:$O$76, 0), 1)","v":2.0199999999999996},{"$f":"INDEX(Country!$F$31:$G$76, MATCH(AI477, Country!$O$31:$O$76, 0), 2)","v":"Growth rate of clean energy investments"},{"$f":"INDEX(Country!$K$31:$K$76, MATCH(AI477, Country!$O$31:$O$76, 0), 1)","v":"%"},"Belize",null,{"$f":"IF(E450<>0, F450/E450-1, 0)","v":0},0.54498592666620205,0,0,0,0,0,0,1.2246274826675955E-2,0,0,0,0,null,null,null,null,null,null,null,null,null,null,null,null,null,null,"2.02 > Belize",463,18," "]
[{"$f":"INDEX(Country!$F$31:$G$76, MATCH(AI478, Country!$O$31:$O$76, 0), 1)","v":2.0199999999999996},{"$f":"INDEX(Country!$F$31:$G$76, MATCH(AI478, Country!$O$31:$O$76, 0), 2)","v":"Growth rate of clean energy investments"},{"$f":"INDEX(Country!$K$31:$K$76, MATCH(AI478, Country!$O$31:$O$76, 0), 1)","v":"%"},"Bolivia",null,{"$f":"IF(E451<>0, F451/E451-1, 0)","v":0},0,0,0,0,0,0,0,0,0,0,0,0,null,null,null,null,null,null,null,null,null,null,null,null,null,null,"2.02 > Bolivia",464,18," "]
[{"$f":"INDEX(Country!$F$31:$G$76, MATCH(AI479, Country!$O$31:$O$76, 0), 1)","v":2.0199999999999996},{"$f":"INDEX(Country!$F$31:$G$76, MATCH(AI479, Country!$O$31:$O$76, 0), 2)","v":"Growth rate of clean energy investments"},{"$f":"INDEX(Country!$K$31:$K$76, MATCH(AI479, Country!$O$31:$O$76, 0), 1)","v":"%"},"Brazil",null,{"$f":"IF(E452<>0, F452/E452-1, 0)","v":2.5562023983980211},0.86073338236430175,0.35430977883331116,0.30164145469861325,0.24727956600899414,{"$f":"IF(J452<>0, K452/J452-1, 0)","v":0.12613056265820766},0,15.544144070652123,1.9341375689107859E-2,6.3895339740352251,7.3044656789715683,43.076720290996022,13.583824746059317,null,null,null,null,null,null,null,null,null,null,null,null,null,null,"2.02 > Brazil",465,18," "]
[{"$f":"INDEX(Country!$F$31:$G$76, MATCH(AI480, Country!$O$31:$O$76, 0), 1)","v":2.0199999999999996},{"$f":"INDEX(Country!$F$31:$G$76, MATCH(AI480, Country!$O$31:$O$76, 0), 2)","v":"Growth rate of clean energy investments"},{"$f":"INDEX(Country!$K$31:$K$76, MATCH(AI480, Country!$O$31:$O$76, 0), 1)","v":"%"},"Chile",null,{"$f":"IF(E453<>0, F453/E453-1, 0)","v":1.6445550958778812},2.3315195525363204,0.48874764982624508,0.53430226944399917,0.13789904075630455,0.50158830863982384,0,10.00046058890776,5.2391131233038936E-2,8.8139529300540467,12.938515341831277,24.022358591651408,54.019323593275878,null,null,null,null,null,null,null,null,null,null,null,null,null,null,"2.02 > Chile",466,18," "]
[{"$f":"INDEX(Country!$F$31:$G$76, MATCH(AI481, Country!$O$31:$O$76, 0), 1)","v":2.0199999999999996},{"$f":"INDEX(Country!$F$31:$G$76, MATCH(AI481, Country!$O$31:$O$76, 0), 2)","v":"Growth rate of clean energy investments"},{"$f":"INDEX(Country!$K$31:$K$76, MATCH(AI481, Country!$O$31:$O$76, 0), 1)","v":"%"},"Colombia",null,{"$f":"IF(E454<>0, F454/E454-1, 0)","v":1.600956445651271},0.53845116150181438,0.13851792015452657,0.21406429068864541,6.3191332792881472E-2,0,0,9.735339289892817,1.2099433364878181E-2,2.4979975425866936,5.1837214019237123,11.008088583571807,0,null,null,null,null,null,null,null,null,null,null,null,null,null,null,"2.02 > Colombia",467,18," "]
[{"$f":"INDEX(Country!$F$31:$G$76, MATCH(AI482, Country!$O$31:$O$76, 0), 1)","v":2.0199999999999996},{"$f":"INDEX(Country!$F$31:$G$76, MATCH(AI482, Country!$O$31:$O$76, 0), 2)","v":"Growth rate of clean energy investments"},{"$f":"INDEX(Country!$K$31:$K$76, MATCH(AI482, Country!$O$31:$O$76, 0), 1)","v":"%"},"Costa Rica",null,{"$f":"IF(E455<>0, F455/E455-1, 0)","v":0},0.78664482499652588,0.63398060302610726,0.21454004246870162,0.57404455199594429,9.2047829165482487E-3,0,0,1.7676545845541188E-2,11.43304769982206,5.1952420748783057,100,0.99132323941770439,null,null,null,null,null,null,null,null,null,null,null,null,null,null,"2.02 > Costa Rica",468,18," "]
[{"$f":"INDEX(Country!$F$31:$G$76, MATCH(AI483, Country!$O$31:$O$76, 0), 1)","v":2.0199999999999996},{"$f":"INDEX(Country!$F$31:$G$76, MATCH(AI483, Country!$O$31:$O$76, 0), 2)","v":"Growth rate of clean energy investments"},{"$f":"INDEX(Country!$K$31:$K$76, MATCH(AI483, Country!$O$31:$O$76, 0), 1)","v":"%"},"Dominican Republic",null,{"$f":"IF(E456<>0, F456/E456-1, 0)","v":0},0,5.5451583835863314,0.42521320281870834,0.13332928891543827,0.62513993291316616,0,0,0,100,10.296844806487771,23.226296365300275,67.325405607418375,null,null,null,null,null,null,null,null,null,null,null,null,null,null,"2.02 > Dominican Republic",469,18," "]
[{"$f":"INDEX(Country!$F$31:$G$76, MATCH(AI484, Country!$O$31:$O$76, 0), 1)","v":2.0199999999999996},{"$f":"INDEX(Country!$F$31:$G$76, MATCH(AI484, Country!$O$31:$O$76, 0), 2)","v":"Growth rate of clean energy investments"},{"$f":"INDEX(Country!$K$31:$K$76, MATCH(AI484, Country!$O$31:$O$76, 0), 1)","v":"%"},"Ecuador",null,{"$f":"IF(E457<>0, F457/E457-1, 0)","v":0.16295449349231239},0,0.3678187783302802,0,0.44563103579612018,0.43796813844790194,0,0.99091845207252705,0,6.6331518937136904,0,77.630043564853594,47.167651611573994,null,null,null,null,null,null,null,null,null,null,null,null,null,null,"2.02 > Ecuador",470,18," "]
[{"$f":"INDEX(Country!$F$31:$G$76, MATCH(AI485, Country!$O$31:$O$76, 0), 1)","v":2.0199999999999996},{"$f":"INDEX(Country!$F$31:$G$76, MATCH(AI485, Country!$O$31:$O$76, 0), 2)","v":"Growth rate of clean energy investments"},{"$f":"INDEX(Country!$K$31:$K$76, MATCH(AI485, Country!$O$31:$O$76, 0), 1)","v":"%"},"El Salvador",null,{"$f":"IF(E458<>0, F458/E458-1, 0)","v":0},6.2169572733857814E-2,4.1478478257039875E-3,0,5.0486507519273971E-3,5.0232899155182587E-3,0,0,1.397000612865658E-3,7.4801250726789281E-2,0,0.8794876171846443,0.54099092577548946,null,null,null,null,null,null,null,null,null,null,null,null,null,null,"2.02 > El Salvador",471,18," "]
[{"$f":"INDEX(Country!$F$31:$G$76, MATCH(AI486, Country!$O$31:$O$76, 0), 1)","v":2.0199999999999996},{"$f":"INDEX(Country!$F$31:$G$76, MATCH(AI486, Country!$O$31:$O$76, 0), 2)","v":"Growth rate of clean energy investments"},{"$f":"INDEX(Country!$K$31:$K$76, MATCH(AI486, Country!$O$31:$O$76, 0), 1)","v":"%"},"Guatemala",null,{"$f":"IF(E459<>0, F459/E459-1, 0)","v":0.27686748499910108},7.1189905482915705E-4,0.44302915444946511,0.18899834423898421,0.32202215013270186,0,0,1.6836178848757295,1.5996947898488506E-5,7.9894770140530413,4.5767314053550106,56.097065813626429,0,null,null,null,null,null,null,null,null,null,null,null,null,null,null,"2.02 > Guatemala",472,18," "]
[{"$f":"INDEX(Country!$F$31:$G$76, MATCH(AI487, Country!$O$31:$O$76, 0), 1)","v":2.0199999999999996},{"$f":"INDEX(Country!$F$31:$G$76, MATCH(AI487, Country!$O$31:$O$76, 0), 2)","v":"Growth rate of clean energy investments"},{"$f":"INDEX(Country!$K$31:$K$76, MATCH(AI487, Country!$O$31:$O$76, 0), 1)","v":"%"},"Guyana",null,{"$f":"IF(E460<>0, F460/E460-1, 0)","v":0},0,0,0.21541262135922334,0,0,0,0,0,0,5.2163722029118649,0,0,null,null,null,null,null,null,null,null,null,null,null,null,null,null,"2.02 > Guyana",473,18," "]
[{"$f":"INDEX(Country!$F$31:$G$76, MATCH(AI488, Country!$O$31:$O$76, 0), 1)","v":2.0199999999999996},{"$f":"INDEX(Country!$F$31:$G$76, MATCH(AI488, Country!$O$31:$O$76, 0), 2)","v":"Growth rate of clean energy investments"},{"$f":"INDEX(Country!$K$31:$K$76, MATCH(AI488, Country!$O$31:$O$76, 0), 1)","v":"%"},"Haiti",null,{"$f":"IF(E461<>0, F461/E461-1, 0)","v":0},0,0,0,0,0,0,0,0,0,0,0,0,null,null,null,null,null,null,null,null,null,null,null,null,null,null,"2.02 > Haiti",474,18," "]
[{"$f":"INDEX(Country!$F$31:$G$76, MATCH(AI489, Country!$O$31:$O$76, 0), 1)","v":2.0199999999999996},{"$f":"INDEX(Country!$F$31:$G$76, MATCH(AI489, Country!$O$31:$O$76, 0), 2)","v":"Growth rate of clean energy investments"},{"$f":"INDEX(Country!$K$31:$K$76, MATCH(AI489, Country!$O$31:$O$76, 0), 1)","v":"%"},"Honduras",null,{"$f":"IF(E462<>0, F462/E462-1, 0)","v":0.98084380882654632},0.27833479903656366,0,2.8065448440102547,0.34148380381354282,6.1040836940764231E-2,0,5.9644641147203172,6.2544081893642902E-3,0,67.962510358698935,59.487334672232102,6.5738867240529881,null,null,null,null,null,null,null,null,null,null,null,null,null,null,"2.02 > Honduras",475,18," "]
[{"$f":"INDEX(Country!$F$31:$G$76, MATCH(AI490, Country!$O$31:$O$76, 0), 1)","v":2.0199999999999996},{"$f":"INDEX(Country!$F$31:$G$76, MATCH(AI490, Country!$O$31:$O$76, 0), 2)","v":"Growth rate of clean energy investments"},{"$f":"INDEX(Country!$K$31:$K$76, MATCH(AI490, Country!$O$31:$O$76, 0), 1)","v":"%"},"Jamaica",null,{"$f":"IF(E463<>0, F463/E463-1, 0)","v":4.9825068348164914E-2},{"$f":"IF(F463<>0, G463/F463-1, 0)","v":0},{"$f":"IF(G463<>0, H463/G463-1, 0)","v":0},{"$f":"IF(H463<>0, I463/H463-1, 0)","v":4.1295485249111721},{"$f":"IF(I463<>0, J463/I463-1, 0)","v":0},{"$f":"IF(J463<>0, K463/J463-1, 0)","v":0},0,0.30298384870436634,0,0,100,0,0,null,null,null,null,null,null,null,null,null,null,null,null,null,null,"2.02 > Jamaica",476,18," "]
[{"$f":"INDEX(Country!$F$31:$G$76, MATCH(AI491, Country!$O$31:$O$76, 0), 1)","v":2.0199999999999996},{"$f":"INDEX(Country!$F$31:$G$76, MATCH(AI491, Country!$O$31:$O$76, 0), 2)","v":"Growth rate of clean energy investments"},{"$f":"INDEX(Country!$K$31:$K$76, MATCH(AI491, Country!$O$31:$O$76, 0), 1)","v":"%"},{"$f":"D464","v":"Mexico"},null,{"$f":"IF(E464<>0, F464/E464-1, 0)","v":4.0505193209900883},0.6232336587774685,0.32292056004646108,1.3071451698177641,0.11234287051615821,0.55449324619967877,0,24.631013540198659,1.4004564692728955E-2,5.8234686497378672,31.653464341985934,19.570409670389473,59.717002132629595,null,null,null,null,null,null,null,null,null,null,null,null,null,null,"2.02 > Mexico",477,18," "]
[{"$f":"INDEX(Country!$F$31:$G$76, MATCH(AI492, Country!$O$31:$O$76, 0), 1)","v":2.0199999999999996},{"$f":"INDEX(Country!$F$31:$G$76, MATCH(AI492, Country!$O$31:$O$76, 0), 2)","v":"Growth rate of clean energy investments"},{"$f":"INDEX(Country!$K$31:$K$76, MATCH(AI492, Country!$O$31:$O$76, 0), 1)","v":"%"},"Nicaragua",null,{"$f":"IF(E465<>0, F465/E465-1, 0)","v":0.73237275279162217},0.36344764876118485,0.63770503942077372,0.86225311550085149,0.29561347198348931,0.2424239435298623,0,4.4535235511661826,8.1669628040959997E-3,11.500213254654376,20.880081933881595,51.49660787749761,26.108219084710022,null,null,null,null,null,null,null,null,null,null,null,null,null,null,"2.02 > Nicaragua",478,18," "]
[{"$f":"INDEX(Country!$F$31:$G$76, MATCH(AI493, Country!$O$31:$O$76, 0), 1)","v":2.0199999999999996},{"$f":"INDEX(Country!$F$31:$G$76, MATCH(AI493, Country!$O$31:$O$76, 0), 2)","v":"Growth rate of clean energy investments"},{"$f":"INDEX(Country!$K$31:$K$76, MATCH(AI493, Country!$O$31:$O$76, 0), 1)","v":"%"},"Panama",null,{"$f":"IF(E466<>0, F466/E466-1, 0)","v":8.8373772630153873},2.7052438331840349,1.6277980661930651,0.43206266235237401,0.12527679601090203,0.13597504166625662,0,53.739666885965811,6.0789018272453962E-2,29.355303376209186,10.462709415956502,21.823531914956163,14.644041038949176,null,null,null,null,null,null,null,null,null,null,null,null,null,null,"2.02 > Panama",479,18," "]
[{"$f":"INDEX(Country!$F$31:$G$76, MATCH(AI494, Country!$O$31:$O$76, 0), 1)","v":2.0199999999999996},{"$f":"INDEX(Country!$F$31:$G$76, MATCH(AI494, Country!$O$31:$O$76, 0), 2)","v":"Growth rate of clean energy investments"},{"$f":"INDEX(Country!$K$31:$K$76, MATCH(AI494, Country!$O$31:$O$76, 0), 1)","v":"%"},"Paraguay",null,{"$f":"IF(E467<>0, F467/E467-1, 0)","v":16.444793529829788},0,0,0,0.14873348213057302,2.2998714227100425E-3,0,100,0,0,0,25.909745439344199,0.24768818663896117,null,null,null,null,null,null,null,null,null,null,null,null,null,null,"2.02 > Paraguay",480,18," "]
[{"$f":"INDEX(Country!$F$31:$G$76, MATCH(AI495, Country!$O$31:$O$76, 0), 1)","v":2.0199999999999996},{"$f":"INDEX(Country!$F$31:$G$76, MATCH(AI495, Country!$O$31:$O$76, 0), 2)","v":"Growth rate of clean energy investments"},{"$f":"INDEX(Country!$K$31:$K$76, MATCH(AI495, Country!$O$31:$O$76, 0), 1)","v":"%"},"Peru",null,{"$f":"IF(E468<>0, F468/E468-1, 0)","v":3.2893659834142008},0.1394057991365838,0.84417777084217116,0.95990627915523263,0.27945316501866313,0.92853496725801232,0,20.002476634610854,3.1325611270410533E-3,15.223690874925005,23.244823819472625,48.68144189279537,100,null,null,null,null,null,null,null,null,null,null,null,null,null,null,"2.02 > Peru",481,18," "]
[{"$f":"INDEX(Country!$F$31:$G$76, MATCH(AI496, Country!$O$31:$O$76, 0), 1)","v":2.0199999999999996},{"$f":"INDEX(Country!$F$31:$G$76, MATCH(AI496, Country!$O$31:$O$76, 0), 2)","v":"Growth rate of clean energy investments"},{"$f":"INDEX(Country!$K$31:$K$76, MATCH(AI496, Country!$O$31:$O$76, 0), 1)","v":"%"},"Suriname",null,{"$f":"IF(E469<>0, F469/E469-1, 0)","v":0},0,0,0,0,0,0,0,0,0,0,0,0,null,null,null,null,null,null,null,null,null,null,null,null,null,null,"2.02 > Suriname",482,18," "]
[{"$f":"INDEX(Country!$F$31:$G$76, MATCH(AI497, Country!$O$31:$O$76, 0), 1)","v":2.0199999999999996},{"$f":"INDEX(Country!$F$31:$G$76, MATCH(AI497, Country!$O$31:$O$76, 0), 2)","v":"Growth rate of clean energy investments"},{"$f":"INDEX(Country!$K$31:$K$76, MATCH(AI497, Country!$O$31:$O$76, 0), 1)","v":"%"},"Trinidad & Tobago",null,{"$f":"IF(E470<>0, F470/E470-1, 0)","v":0},4450.2179999999989,2.2465761056844613E-4,0,0,0,0,0,100,4.0514191845887155E-3,0,0,0,null,null,null,null,null,null,null,null,null,null,null,null,null,null,"2.02 > Trinidad & Tobago",483,18," "]
[{"$f":"INDEX(Country!$F$31:$G$76, MATCH(AI498, Country!$O$31:$O$76, 0), 1)","v":2.0199999999999996},{"$f":"INDEX(Country!$F$31:$G$76, MATCH(AI498, Country!$O$31:$O$76, 0), 2)","v":"Growth rate of clean energy investments"},{"$f":"INDEX(Country!$K$31:$K$76, MATCH(AI498, Country!$O$31:$O$76, 0), 1)","v":"%"},"Uruguay",null,{"$f":"IF(E471<>0, F471/E471-1, 0)","v":0.22222242165022643},3.0905860106529381,0.63169906825753519,0.25913122229240515,0.11176225304077425,0.4302125831835093,0,1.3513238779625258,6.9447968855749068E-2,11.391903072189326,6.2750496992399221,19.469264650657962,46.332405170904671,null,null,null,null,null,null,null,null,null,null,null,null,null,null,"2.02 > Uruguay",484,18," "]
[{"$f":"INDEX(Country!$F$31:$G$76, MATCH(AI499, Country!$O$31:$O$76, 0), 1)","v":2.0199999999999996},{"$f":"INDEX(Country!$F$31:$G$76, MATCH(AI499, Country!$O$31:$O$76, 0), 2)","v":"Growth rate of clean energy investments"},{"$f":"INDEX(Country!$K$31:$K$76, MATCH(AI499, Country!$O$31:$O$76, 0), 1)","v":"%"},"Venezuela",null,{"$f":"IF(E472<>0, F472/E472-1, 0)","v":0},0,0.25162199408494756,0,0.34185469862295026,0.2769910320851332,0,0,0,4.5376881358294234,0,59.551945477807699,29.83097479926845,null,null,null,null,null,null,null,null,null,null,null,null,null,null,"2.02 > Venezuela",485,18," "]
[{"$f":"INDEX(Country!$F$31:$G$76, MATCH(AI500, Country!$O$31:$O$76, 0), 1)","v":2.0199999999999996},{"$f":"INDEX(Country!$F$31:$G$76, MATCH(AI500, Country!$O$31:$O$76, 0), 2)","v":"Growth rate of clean energy investments"},{"$f":"INDEX(Country!$K$31:$K$76, MATCH(AI500, Country!$O$31:$O$76, 0), 1)","v":"%"},"Benchmark",{"$f":"IFERROR(MAX(E474:E499), 0)","v":0},{"$f":"IFERROR(MAX(F474:F499), 0)","v":16.444793529829788},4450.2179999999989,5.5451583835863314,4.1295485249111721,{"$f":"IFERROR(MAX(J474:J499), 0)","v":0.57404455199594429},0.92853496725801232,0,100,100,100,100,100,100,"Asset finance investments (USDm)",null,null,null,null,null,null,null,null,null,null,null,null,null,"2.02 > Benchmark",486,18," "]
[{"$f":"INDEX(Country!$F$31:$G$76, MATCH(AI501, Country!$O$31:$O$76, 0), 1)","v":2.0299999999999994},{"$f":"INDEX(Country!$F$31:$G$76, MATCH(AI501, Country!$O$31:$O$76, 0), 2)","v":"Asset finance investments"},{"$f":"INDEX(Country!$K$31:$K$76, MATCH(AI501, Country!$O$31:$O$76, 0), 1)","v":"USDm"},"Argentina",{"$f":"S501","v":121.15051615307317},{"$f":"E501+T501","v":451.21801615307317},{"$f":"F501+U501","v":915.07851615307322},{"$f":"G501+V501","v":1057.0286361530732},{"$f":"H501+W501","v":1479.0295078984363},{"$f":"I501+X501","v":1645.2119553942587},{"$f":"J501+Y501","v":1915.4420693557852},null,null,null,null,null,null,null,{"$f":"SUMIFS(Investment!$H$6:$H$1303, Investment!$A$6:$A$1303, S$10, Investment!$E$6:$E$1303, $D501, Investment!$G$6:$G$1303, $B501)","v":121.15051615307317},{"$f":"SUMIFS(Investment!$H$6:$H$1303, Investment!$A$6:$A$1303, T$10, Investment!$E$6:$E$1303, $D501, Investment!$G$6:$G$1303, $B501)","v":330.0675},{"$f":"SUMIFS(Investment!$H$6:$H$1303, Investment!$A$6:$A$1303, U$10, Investment!$E$6:$E$1303, $D501, Investment!$G$6:$G$1303, $B501)","v":463.8605},{"$f":"SUMIFS(Investment!$H$6:$H$1303, Investment!$A$6:$A$1303, V$10, Investment!$E$6:$E$1303, $D501, Investment!$G$6:$G$1303, $B501)","v":141.95012},{"$f":"SUMIFS(Investment!$H$6:$H$1303, Investment!$A$6:$A$1303, W$10, Investment!$E$6:$E$1303, $D501, Investment!$G$6:$G$1303, $B501)","v":422.00087174536304},{"$f":"SUMIFS(Investment!$H$6:$H$1303, Investment!$A$6:$A$1303, X$10, Investment!$E$6:$E$1303, $D501, Investment!$G$6:$G$1303, $B501)","v":166.18244749582234},{"$f":"SUMIFS(Investment!$H$6:$H$1303, Investment!$A$6:$A$1303, Y$10, Investment!$E$6:$E$1303, $D501, Investment!$G$6:$G$1303, $B501)","v":270.23011396152646},null,null,null,null,null,null,null,"2.03 > Argentina",487,19," "]
[{"$f":"INDEX(Country!$F$31:$G$76, MATCH(AI502, Country!$O$31:$O$76, 0), 1)","v":2.0299999999999994},{"$f":"INDEX(Country!$F$31:$G$76, MATCH(AI502, Country!$O$31:$O$76, 0), 2)","v":"Asset finance investments"},{"$f":"INDEX(Country!$K$31:$K$76, MATCH(AI502, Country!$O$31:$O$76, 0), 1)","v":"USDm"},"Bahamas",{"$f":"S502","v":0},0,0,0,0,0,0,null,null,null,null,null,null,null,{"$f":"SUMIFS(Investment!$H$6:$H$1303, Investment!$A$6:$A$1303, S$10, Investment!$E$6:$E$1303, $D502, Investment!$G$6:$G$1303, $B502)","v":0},{"$f":"SUMIFS(Investment!$H$6:$H$1303, Investment!$A$6:$A$1303, T$10, Investment!$E$6:$E$1303, $D502, Investment!$G$6:$G$1303, $B502)","v":0},{"$f":"SUMIFS(Investment!$H$6:$H$1303, Investment!$A$6:$A$1303, U$10, Investment!$E$6:$E$1303, $D502, Investment!$G$6:$G$1303, $B502)","v":0},{"$f":"SUMIFS(Investment!$H$6:$H$1303, Investment!$A$6:$A$1303, V$10, Investment!$E$6:$E$1303, $D502, Investment!$G$6:$G$1303, $B502)","v":0},{"$f":"SUMIFS(Investment!$H$6:$H$1303, Investment!$A$6:$A$1303, W$10, Investment!$E$6:$E$1303, $D502, Investment!$G$6:$G$1303, $B502)","v":0},{"$f":"SUMIFS(Investment!$H$6:$H$1303, Investment!$A$6:$A$1303, X$10, Investment!$E$6:$E$1303, $D502, Investment!$G$6:$G$1303, $B502)","v":0},{"$f":"SUMIFS(Investment!$H$6:$H$1303, Investment!$A$6:$A$1303, Y$10, Investment!$E$6:$E$1303, $D502, Investment!$G$6:$G$1303, $B502)","v":0},null,null,null,null,null,null,null,"2.03 > Bahamas",488,19," "]
[{"$f":"INDEX(Country!$F$31:$G$76, MATCH(AI503, Country!$O$31:$O$76, 0), 1)","v":2.0299999999999994},{"$f":"INDEX(Country!$F$31:$G$76, MATCH(AI503, Country!$O$31:$O$76, 0), 2)","v":"Asset finance investments"},{"$f":"INDEX(Country!$K$31:$K$76, MATCH(AI503, Country!$O$31:$O$76, 0), 1)","v":"USDm"},"Barbados",0,0,0,0,0,0,0,null,null,null,null,null,null,null,{"$f":"SUMIFS(Investment!$H$6:$H$1303, Investment!$A$6:$A$1303, S$10, Investment!$E$6:$E$1303, $D503, Investment!$G$6:$G$1303, $B503)","v":0},{"$f":"SUMIFS(Investment!$H$6:$H$1303, Investment!$A$6:$A$1303, T$10, Investment!$E$6:$E$1303, $D503, Investment!$G$6:$G$1303, $B503)","v":0},{"$f":"SUMIFS(Investment!$H$6:$H$1303, Investment!$A$6:$A$1303, U$10, Investment!$E$6:$E$1303, $D503, Investment!$G$6:$G$1303, $B503)","v":0},{"$f":"SUMIFS(Investment!$H$6:$H$1303, Investment!$A$6:$A$1303, V$10, Investment!$E$6:$E$1303, $D503, Investment!$G$6:$G$1303, $B503)","v":0},{"$f":"SUMIFS(Investment!$H$6:$H$1303, Investment!$A$6:$A$1303, W$10, Investment!$E$6:$E$1303, $D503, Investment!$G$6:$G$1303, $B503)","v":0},{"$f":"SUMIFS(Investment!$H$6:$H$1303, Investment!$A$6:$A$1303, X$10, Investment!$E$6:$E$1303, $D503, Investment!$G$6:$G$1303, $B503)","v":0},{"$f":"SUMIFS(Investment!$H$6:$H$1303, Investment!$A$6:$A$1303, Y$10, Investment!$E$6:$E$1303, $D503, Investment!$G$6:$G$1303, $B503)","v":0},null,null,null,null,null,null,null,"2.03 > Barbados",489,19," "]
[{"$f":"INDEX(Country!$F$31:$G$76, MATCH(AI504, Country!$O$31:$O$76, 0), 1)","v":2.0299999999999994},{"$f":"INDEX(Country!$F$31:$G$76, MATCH(AI504, Country!$O$31:$O$76, 0), 2)","v":"Asset finance investments"},{"$f":"INDEX(Country!$K$31:$K$76, MATCH(AI504, Country!$O$31:$O$76, 0), 1)","v":"USDm"},"Belize",0,114.67299225143825,114.67299225143825,114.67299225143825,114.67299225143825,114.67299225143825,114.67299225143825,null,null,null,null,null,null,null,{"$f":"SUMIFS(Investment!$H$6:$H$1303, Investment!$A$6:$A$1303, S$10, Investment!$E$6:$E$1303, $D504, Investment!$G$6:$G$1303, $B504)","v":0},{"$f":"SUMIFS(Investment!$H$6:$H$1303, Investment!$A$6:$A$1303, T$10, Investment!$E$6:$E$1303, $D504, Investment!$G$6:$G$1303, $B504)","v":114.67299225143825},{"$f":"SUMIFS(Investment!$H$6:$H$1303, Investment!$A$6:$A$1303, U$10, Investment!$E$6:$E$1303, $D504, Investment!$G$6:$G$1303, $B504)","v":0},{"$f":"SUMIFS(Investment!$H$6:$H$1303, Investment!$A$6:$A$1303, V$10, Investment!$E$6:$E$1303, $D504, Investment!$G$6:$G$1303, $B504)","v":0},{"$f":"SUMIFS(Investment!$H$6:$H$1303, Investment!$A$6:$A$1303, W$10, Investment!$E$6:$E$1303, $D504, Investment!$G$6:$G$1303, $B504)","v":0},{"$f":"SUMIFS(Investment!$H$6:$H$1303, Investment!$A$6:$A$1303, X$10, Investment!$E$6:$E$1303, $D504, Investment!$G$6:$G$1303, $B504)","v":0},{"$f":"SUMIFS(Investment!$H$6:$H$1303, Investment!$A$6:$A$1303, Y$10, Investment!$E$6:$E$1303, $D504, Investment!$G$6:$G$1303, $B504)","v":0},null,null,null,null,null,null,null,"2.03 > Belize",490,19," "]
[{"$f":"INDEX(Country!$F$31:$G$76, MATCH(AI505, Country!$O$31:$O$76, 0), 1)","v":2.0299999999999994},{"$f":"INDEX(Country!$F$31:$G$76, MATCH(AI505, Country!$O$31:$O$76, 0), 2)","v":"Asset finance investments"},{"$f":"INDEX(Country!$K$31:$K$76, MATCH(AI505, Country!$O$31:$O$76, 0), 1)","v":"USDm"},"Bolivia",0,0,0,0,0,0,0,null,null,null,null,null,null,null,{"$f":"SUMIFS(Investment!$H$6:$H$1303, Investment!$A$6:$A$1303, S$10, Investment!$E$6:$E$1303, $D505, Investment!$G$6:$G$1303, $B505)","v":0},{"$f":"SUMIFS(Investment!$H$6:$H$1303, Investment!$A$6:$A$1303, T$10, Investment!$E$6:$E$1303, $D505, Investment!$G$6:$G$1303, $B505)","v":0},{"$f":"SUMIFS(Investment!$H$6:$H$1303, Investment!$A$6:$A$1303, U$10, Investment!$E$6:$E$1303, $D505, Investment!$G$6:$G$1303, $B505)","v":0},{"$f":"SUMIFS(Investment!$H$6:$H$1303, Investment!$A$6:$A$1303, V$10, Investment!$E$6:$E$1303, $D505, Investment!$G$6:$G$1303, $B505)","v":0},{"$f":"SUMIFS(Investment!$H$6:$H$1303, Investment!$A$6:$A$1303, W$10, Investment!$E$6:$E$1303, $D505, Investment!$G$6:$G$1303, $B505)","v":0},{"$f":"SUMIFS(Investment!$H$6:$H$1303, Investment!$A$6:$A$1303, X$10, Investment!$E$6:$E$1303, $D505, Investment!$G$6:$G$1303, $B505)","v":0},{"$f":"SUMIFS(Investment!$H$6:$H$1303, Investment!$A$6:$A$1303, Y$10, Investment!$E$6:$E$1303, $D505, Investment!$G$6:$G$1303, $B505)","v":0},null,null,null,null,null,null,null,"2.03 > Bolivia",491,19," "]
[{"$f":"INDEX(Country!$F$31:$G$76, MATCH(AI506, Country!$O$31:$O$76, 0), 1)","v":2.0299999999999994},{"$f":"INDEX(Country!$F$31:$G$76, MATCH(AI506, Country!$O$31:$O$76, 0), 2)","v":"Asset finance investments"},{"$f":"INDEX(Country!$K$31:$K$76, MATCH(AI506, Country!$O$31:$O$76, 0), 1)","v":"USDm"},"Brazil",4668.7384029128625,14484.593920235522,28457.040015592695,38161.422361793404,49176.242178762863,60179.449937766243,{"$f":"J506+Y506","v":67604.56476744989},null,null,null,null,null,null,null,{"$f":"SUMIFS(Investment!$H$6:$H$1303, Investment!$A$6:$A$1303, S$10, Investment!$E$6:$E$1303, $D506, Investment!$G$6:$G$1303, $B506)","v":4668.7384029128625},{"$f":"SUMIFS(Investment!$H$6:$H$1303, Investment!$A$6:$A$1303, T$10, Investment!$E$6:$E$1303, $D506, Investment!$G$6:$G$1303, $B506)","v":9815.8555173226596},{"$f":"SUMIFS(Investment!$H$6:$H$1303, Investment!$A$6:$A$1303, U$10, Investment!$E$6:$E$1303, $D506, Investment!$G$6:$G$1303, $B506)","v":13972.446095357172},{"$f":"SUMIFS(Investment!$H$6:$H$1303, Investment!$A$6:$A$1303, V$10, Investment!$E$6:$E$1303, $D506, Investment!$G$6:$G$1303, $B506)","v":9704.3823462007094},{"$f":"SUMIFS(Investment!$H$6:$H$1303, Investment!$A$6:$A$1303, W$10, Investment!$E$6:$E$1303, $D506, Investment!$G$6:$G$1303, $B506)","v":11014.819816969461},{"$f":"SUMIFS(Investment!$H$6:$H$1303, Investment!$A$6:$A$1303, X$10, Investment!$E$6:$E$1303, $D506, Investment!$G$6:$G$1303, $B506)","v":11003.20775900338},{"$f":"SUMIFS(Investment!$H$6:$H$1303, Investment!$A$6:$A$1303, Y$10, Investment!$E$6:$E$1303, $D506, Investment!$G$6:$G$1303, $B506)","v":7425.1148296836482},null,null,null,null,null,null,null,"2.03 > Brazil",492,19," "]
[{"$f":"INDEX(Country!$F$31:$G$76, MATCH(AI507, Country!$O$31:$O$76, 0), 1)","v":2.0299999999999994},{"$f":"INDEX(Country!$F$31:$G$76, MATCH(AI507, Country!$O$31:$O$76, 0), 2)","v":"Asset finance investments"},{"$f":"INDEX(Country!$K$31:$K$76, MATCH(AI507, Country!$O$31:$O$76, 0), 1)","v":"USDm"},"Chile",181.01642414744015,478.70790691670476,1574.2247518467389,2295.3464329549524,3355.5274668627762,3719.3225004963483,5775.5705894879256,null,null,null,null,null,null,null,{"$f":"SUMIFS(Investment!$H$6:$H$1303, Investment!$A$6:$A$1303, S$10, Investment!$E$6:$E$1303, $D507, Investment!$G$6:$G$1303, $B507)","v":181.01642414744015},{"$f":"SUMIFS(Investment!$H$6:$H$1303, Investment!$A$6:$A$1303, T$10, Investment!$E$6:$E$1303, $D507, Investment!$G$6:$G$1303, $B507)","v":297.69148276926461},{"$f":"SUMIFS(Investment!$H$6:$H$1303, Investment!$A$6:$A$1303, U$10, Investment!$E$6:$E$1303, $D507, Investment!$G$6:$G$1303, $B507)","v":1095.516844930034},{"$f":"SUMIFS(Investment!$H$6:$H$1303, Investment!$A$6:$A$1303, V$10, Investment!$E$6:$E$1303, $D507, Investment!$G$6:$G$1303, $B507)","v":721.12168110821347},{"$f":"SUMIFS(Investment!$H$6:$H$1303, Investment!$A$6:$A$1303, W$10, Investment!$E$6:$E$1303, $D507, Investment!$G$6:$G$1303, $B507)","v":1060.1810339078238},{"$f":"SUMIFS(Investment!$H$6:$H$1303, Investment!$A$6:$A$1303, X$10, Investment!$E$6:$E$1303, $D507, Investment!$G$6:$G$1303, $B507)","v":363.79503363357202},{"$f":"SUMIFS(Investment!$H$6:$H$1303, Investment!$A$6:$A$1303, Y$10, Investment!$E$6:$E$1303, $D507, Investment!$G$6:$G$1303, $B507)","v":2056.2480889915773},null,null,null,null,null,null,null,"2.03 > Chile",493,19," "]
[{"$f":"INDEX(Country!$F$31:$G$76, MATCH(AI508, Country!$O$31:$O$76, 0), 1)","v":2.0299999999999994},{"$f":"INDEX(Country!$F$31:$G$76, MATCH(AI508, Country!$O$31:$O$76, 0), 2)","v":"Asset finance investments"},{"$f":"INDEX(Country!$K$31:$K$76, MATCH(AI508, Country!$O$31:$O$76, 0), 1)","v":"USDm"},"Colombia",203.01954227092605,{"$f":"E508+T508","v":528.0449870627358},779.4679870627358,891.99598706273582,1089.983926149393,1160.9406751783886,1160.9406751783886,null,null,null,null,null,null,null,{"$f":"SUMIFS(Investment!$H$6:$H$1303, Investment!$A$6:$A$1303, S$10, Investment!$E$6:$E$1303, $D508, Investment!$G$6:$G$1303, $B508)","v":203.01954227092605},{"$f":"SUMIFS(Investment!$H$6:$H$1303, Investment!$A$6:$A$1303, T$10, Investment!$E$6:$E$1303, $D508, Investment!$G$6:$G$1303, $B508)","v":325.02544479180972},{"$f":"SUMIFS(Investment!$H$6:$H$1303, Investment!$A$6:$A$1303, U$10, Investment!$E$6:$E$1303, $D508, Investment!$G$6:$G$1303, $B508)","v":251.423},{"$f":"SUMIFS(Investment!$H$6:$H$1303, Investment!$A$6:$A$1303, V$10, Investment!$E$6:$E$1303, $D508, Investment!$G$6:$G$1303, $B508)","v":112.52799999999999},{"$f":"SUMIFS(Investment!$H$6:$H$1303, Investment!$A$6:$A$1303, W$10, Investment!$E$6:$E$1303, $D508, Investment!$G$6:$G$1303, $B508)","v":197.98793908665712},{"$f":"SUMIFS(Investment!$H$6:$H$1303, Investment!$A$6:$A$1303, X$10, Investment!$E$6:$E$1303, $D508, Investment!$G$6:$G$1303, $B508)","v":70.956749028995532},{"$f":"SUMIFS(Investment!$H$6:$H$1303, Investment!$A$6:$A$1303, Y$10, Investment!$E$6:$E$1303, $D508, Investment!$G$6:$G$1303, $B508)","v":0},null,null,null,null,null,null,null,"2.03 > Colombia",494,19," "]
[{"$f":"INDEX(Country!$F$31:$G$76, MATCH(AI509, Country!$O$31:$O$76, 0), 1)","v":2.0299999999999994},{"$f":"INDEX(Country!$F$31:$G$76, MATCH(AI509, Country!$O$31:$O$76, 0), 2)","v":"Asset finance investments"},{"$f":"INDEX(Country!$K$31:$K$76, MATCH(AI509, Country!$O$31:$O$76, 0), 1)","v":"USDm"},"Costa Rica",192.4890613589094,192.4890613589094,343.77958534533423,561.7115916490277,636.94700850195738,1028.7327393369019,1038.6213114764776,null,null,null,null,null,null,null,{"$f":"SUMIFS(Investment!$H$6:$H$1303, Investment!$A$6:$A$1303, S$10, Investment!$E$6:$E$1303, $D509, Investment!$G$6:$G$1303, $B509)","v":192.4890613589094},{"$f":"SUMIFS(Investment!$H$6:$H$1303, Investment!$A$6:$A$1303, T$10, Investment!$E$6:$E$1303, $D509, Investment!$G$6:$G$1303, $B509)","v":0},{"$f":"SUMIFS(Investment!$H$6:$H$1303, Investment!$A$6:$A$1303, U$10, Investment!$E$6:$E$1303, $D509, Investment!$G$6:$G$1303, $B509)","v":151.29052398642483},{"$f":"SUMIFS(Investment!$H$6:$H$1303, Investment!$A$6:$A$1303, V$10, Investment!$E$6:$E$1303, $D509, Investment!$G$6:$G$1303, $B509)","v":217.93200630369344},{"$f":"SUMIFS(Investment!$H$6:$H$1303, Investment!$A$6:$A$1303, W$10, Investment!$E$6:$E$1303, $D509, Investment!$G$6:$G$1303, $B509)","v":75.235416852929717},{"$f":"SUMIFS(Investment!$H$6:$H$1303, Investment!$A$6:$A$1303, X$10, Investment!$E$6:$E$1303, $D509, Investment!$G$6:$G$1303, $B509)","v":391.78573083494462},{"$f":"SUMIFS(Investment!$H$6:$H$1303, Investment!$A$6:$A$1303, Y$10, Investment!$E$6:$E$1303, $D509, Investment!$G$6:$G$1303, $B509)","v":9.8885721395755883},null,null,null,null,null,null,null,"2.03 > Costa Rica",495,19," "]
[{"$f":"INDEX(Country!$F$31:$G$76, MATCH(AI510, Country!$O$31:$O$76, 0), 1)","v":2.0299999999999994},{"$f":"INDEX(Country!$F$31:$G$76, MATCH(AI510, Country!$O$31:$O$76, 0), 2)","v":"Asset finance investments"},{"$f":"INDEX(Country!$K$31:$K$76, MATCH(AI510, Country!$O$31:$O$76, 0), 1)","v":"USDm"},"Dominican Republic",0,37.510199999999998,37.510199999999998,245.5102,349.71437846666163,396.33688043602001,644.21042206804805,null,null,null,null,null,null,null,{"$f":"SUMIFS(Investment!$H$6:$H$1303, Investment!$A$6:$A$1303, S$10, Investment!$E$6:$E$1303, $D510, Investment!$G$6:$G$1303, $B510)","v":0},{"$f":"SUMIFS(Investment!$H$6:$H$1303, Investment!$A$6:$A$1303, T$10, Investment!$E$6:$E$1303, $D510, Investment!$G$6:$G$1303, $B510)","v":37.510199999999998},{"$f":"SUMIFS(Investment!$H$6:$H$1303, Investment!$A$6:$A$1303, U$10, Investment!$E$6:$E$1303, $D510, Investment!$G$6:$G$1303, $B510)","v":0},{"$f":"SUMIFS(Investment!$H$6:$H$1303, Investment!$A$6:$A$1303, V$10, Investment!$E$6:$E$1303, $D510, Investment!$G$6:$G$1303, $B510)","v":208},{"$f":"SUMIFS(Investment!$H$6:$H$1303, Investment!$A$6:$A$1303, W$10, Investment!$E$6:$E$1303, $D510, Investment!$G$6:$G$1303, $B510)","v":104.20417846666163},{"$f":"SUMIFS(Investment!$H$6:$H$1303, Investment!$A$6:$A$1303, X$10, Investment!$E$6:$E$1303, $D510, Investment!$G$6:$G$1303, $B510)","v":46.62250196935841},{"$f":"SUMIFS(Investment!$H$6:$H$1303, Investment!$A$6:$A$1303, Y$10, Investment!$E$6:$E$1303, $D510, Investment!$G$6:$G$1303, $B510)","v":247.87354163202809},null,null,null,null,null,null,null,"2.03 > Dominican Republic",496,19," "]
[{"$f":"INDEX(Country!$F$31:$G$76, MATCH(AI511, Country!$O$31:$O$76, 0), 1)","v":2.0299999999999994},{"$f":"INDEX(Country!$F$31:$G$76, MATCH(AI511, Country!$O$31:$O$76, 0), 2)","v":"Asset finance investments"},{"$f":"INDEX(Country!$K$31:$K$76, MATCH(AI511, Country!$O$31:$O$76, 0), 1)","v":"USDm"},"Ecuador",130.80338899034757,152.11838899034757,152.11838899034757,208.07038899034757,208.07038899034757,300.79301195461778,432.53076745851922,null,null,null,null,null,null,null,{"$f":"SUMIFS(Investment!$H$6:$H$1303, Investment!$A$6:$A$1303, S$10, Investment!$E$6:$E$1303, $D511, Investment!$G$6:$G$1303, $B511)","v":130.80338899034757},{"$f":"SUMIFS(Investment!$H$6:$H$1303, Investment!$A$6:$A$1303, T$10, Investment!$E$6:$E$1303, $D511, Investment!$G$6:$G$1303, $B511)","v":21.315000000000005},{"$f":"SUMIFS(Investment!$H$6:$H$1303, Investment!$A$6:$A$1303, U$10, Investment!$E$6:$E$1303, $D511, Investment!$G$6:$G$1303, $B511)","v":0},{"$f":"SUMIFS(Investment!$H$6:$H$1303, Investment!$A$6:$A$1303, V$10, Investment!$E$6:$E$1303, $D511, Investment!$G$6:$G$1303, $B511)","v":55.951999999999998},{"$f":"SUMIFS(Investment!$H$6:$H$1303, Investment!$A$6:$A$1303, W$10, Investment!$E$6:$E$1303, $D511, Investment!$G$6:$G$1303, $B511)","v":0},{"$f":"SUMIFS(Investment!$H$6:$H$1303, Investment!$A$6:$A$1303, X$10, Investment!$E$6:$E$1303, $D511, Investment!$G$6:$G$1303, $B511)","v":92.722622964270229},{"$f":"SUMIFS(Investment!$H$6:$H$1303, Investment!$A$6:$A$1303, Y$10, Investment!$E$6:$E$1303, $D511, Investment!$G$6:$G$1303, $B511)","v":131.73775550390147},null,null,null,null,null,null,null,"2.03 > Ecuador",497,19," "]
[{"$f":"INDEX(Country!$F$31:$G$76, MATCH(AI512, Country!$O$31:$O$76, 0), 1)","v":2.0299999999999994},{"$f":"INDEX(Country!$F$31:$G$76, MATCH(AI512, Country!$O$31:$O$76, 0), 2)","v":"Asset finance investments"},{"$f":"INDEX(Country!$K$31:$K$76, MATCH(AI512, Country!$O$31:$O$76, 0), 1)","v":"USDm"},"El Salvador",{"$f":"S512","v":20.287999488379203},20.287999488379203,20.287999488379203,20.287999488379203,20.287999488379203,20.287999488379203,20.287999488379203,null,null,null,null,null,null,null,{"$f":"SUMIFS(Investment!$H$6:$H$1303, Investment!$A$6:$A$1303, S$10, Investment!$E$6:$E$1303, $D512, Investment!$G$6:$G$1303, $B512)","v":20.287999488379203},{"$f":"SUMIFS(Investment!$H$6:$H$1303, Investment!$A$6:$A$1303, T$10, Investment!$E$6:$E$1303, $D512, Investment!$G$6:$G$1303, $B512)","v":0},{"$f":"SUMIFS(Investment!$H$6:$H$1303, Investment!$A$6:$A$1303, U$10, Investment!$E$6:$E$1303, $D512, Investment!$G$6:$G$1303, $B512)","v":0},{"$f":"SUMIFS(Investment!$H$6:$H$1303, Investment!$A$6:$A$1303, V$10, Investment!$E$6:$E$1303, $D512, Investment!$G$6:$G$1303, $B512)","v":0},{"$f":"SUMIFS(Investment!$H$6:$H$1303, Investment!$A$6:$A$1303, W$10, Investment!$E$6:$E$1303, $D512, Investment!$G$6:$G$1303, $B512)","v":0},{"$f":"SUMIFS(Investment!$H$6:$H$1303, Investment!$A$6:$A$1303, X$10, Investment!$E$6:$E$1303, $D512, Investment!$G$6:$G$1303, $B512)","v":0},{"$f":"SUMIFS(Investment!$H$6:$H$1303, Investment!$A$6:$A$1303, Y$10, Investment!$E$6:$E$1303, $D512, Investment!$G$6:$G$1303, $B512)","v":0},null,null,null,null,null,null,null,"2.03 > El Salvador",498,19," "]
[{"$f":"INDEX(Country!$F$31:$G$76, MATCH(AI513, Country!$O$31:$O$76, 0), 1)","v":2.0299999999999994},{"$f":"INDEX(Country!$F$31:$G$76, MATCH(AI513, Country!$O$31:$O$76, 0), 2)","v":"Asset finance investments"},{"$f":"INDEX(Country!$K$31:$K$76, MATCH(AI513, Country!$O$31:$O$76, 0), 1)","v":"USDm"},"Guatemala",154.01527349687987,180.94777349687988,180.94777349687988,268.13462405802312,301.1849022332575,409.9177553603181,409.9177553603181,null,null,null,null,null,null,null,{"$f":"SUMIFS(Investment!$H$6:$H$1303, Investment!$A$6:$A$1303, S$10, Investment!$E$6:$E$1303, $D513, Investment!$G$6:$G$1303, $B513)","v":154.01527349687987},{"$f":"SUMIFS(Investment!$H$6:$H$1303, Investment!$A$6:$A$1303, T$10, Investment!$E$6:$E$1303, $D513, Investment!$G$6:$G$1303, $B513)","v":26.932500000000001},{"$f":"SUMIFS(Investment!$H$6:$H$1303, Investment!$A$6:$A$1303, U$10, Investment!$E$6:$E$1303, $D513, Investment!$G$6:$G$1303, $B513)","v":0},{"$f":"SUMIFS(Investment!$H$6:$H$1303, Investment!$A$6:$A$1303, V$10, Investment!$E$6:$E$1303, $D513, Investment!$G$6:$G$1303, $B513)","v":87.186850561143245},{"$f":"SUMIFS(Investment!$H$6:$H$1303, Investment!$A$6:$A$1303, W$10, Investment!$E$6:$E$1303, $D513, Investment!$G$6:$G$1303, $B513)","v":33.050278175234368},{"$f":"SUMIFS(Investment!$H$6:$H$1303, Investment!$A$6:$A$1303, X$10, Investment!$E$6:$E$1303, $D513, Investment!$G$6:$G$1303, $B513)","v":108.73285312706061},{"$f":"SUMIFS(Investment!$H$6:$H$1303, Investment!$A$6:$A$1303, Y$10, Investment!$E$6:$E$1303, $D513, Investment!$G$6:$G$1303, $B513)","v":0},null,null,null,null,null,null,null,"2.03 > Guatemala",499,19," "]
[{"$f":"INDEX(Country!$F$31:$G$76, MATCH(AI514, Country!$O$31:$O$76, 0), 1)","v":2.0299999999999994},{"$f":"INDEX(Country!$F$31:$G$76, MATCH(AI514, Country!$O$31:$O$76, 0), 2)","v":"Asset finance investments"},{"$f":"INDEX(Country!$K$31:$K$76, MATCH(AI514, Country!$O$31:$O$76, 0), 1)","v":"USDm"},"Guyana",0,0,32.96,32.96,32.96,32.96,32.96,null,null,null,null,null,null,null,{"$f":"SUMIFS(Investment!$H$6:$H$1303, Investment!$A$6:$A$1303, S$10, Investment!$E$6:$E$1303, $D514, Investment!$G$6:$G$1303, $B514)","v":0},{"$f":"SUMIFS(Investment!$H$6:$H$1303, Investment!$A$6:$A$1303, T$10, Investment!$E$6:$E$1303, $D514, Investment!$G$6:$G$1303, $B514)","v":0},{"$f":"SUMIFS(Investment!$H$6:$H$1303, Investment!$A$6:$A$1303, U$10, Investment!$E$6:$E$1303, $D514, Investment!$G$6:$G$1303, $B514)","v":32.96},{"$f":"SUMIFS(Investment!$H$6:$H$1303, Investment!$A$6:$A$1303, V$10, Investment!$E$6:$E$1303, $D514, Investment!$G$6:$G$1303, $B514)","v":0},{"$f":"SUMIFS(Investment!$H$6:$H$1303, Investment!$A$6:$A$1303, W$10, Investment!$E$6:$E$1303, $D514, Investment!$G$6:$G$1303, $B514)","v":0},{"$f":"SUMIFS(Investment!$H$6:$H$1303, Investment!$A$6:$A$1303, X$10, Investment!$E$6:$E$1303, $D514, Investment!$G$6:$G$1303, $B514)","v":0},{"$f":"SUMIFS(Investment!$H$6:$H$1303, Investment!$A$6:$A$1303, Y$10, Investment!$E$6:$E$1303, $D514, Investment!$G$6:$G$1303, $B514)","v":0},null,null,null,null,null,null,null,"2.03 > Guyana",500,19," "]
[{"$f":"INDEX(Country!$F$31:$G$76, MATCH(AI515, Country!$O$31:$O$76, 0), 1)","v":2.0299999999999994},{"$f":"INDEX(Country!$F$31:$G$76, MATCH(AI515, Country!$O$31:$O$76, 0), 2)","v":"Asset finance investments"},{"$f":"INDEX(Country!$K$31:$K$76, MATCH(AI515, Country!$O$31:$O$76, 0), 1)","v":"USDm"},"Haiti",0,0,0,0,0,0,0,null,null,null,null,null,null,null,{"$f":"SUMIFS(Investment!$H$6:$H$1303, Investment!$A$6:$A$1303, S$10, Investment!$E$6:$E$1303, $D515, Investment!$G$6:$G$1303, $B515)","v":0},{"$f":"SUMIFS(Investment!$H$6:$H$1303, Investment!$A$6:$A$1303, T$10, Investment!$E$6:$E$1303, $D515, Investment!$G$6:$G$1303, $B515)","v":0},{"$f":"SUMIFS(Investment!$H$6:$H$1303, Investment!$A$6:$A$1303, U$10, Investment!$E$6:$E$1303, $D515, Investment!$G$6:$G$1303, $B515)","v":0},{"$f":"SUMIFS(Investment!$H$6:$H$1303, Investment!$A$6:$A$1303, V$10, Investment!$E$6:$E$1303, $D515, Investment!$G$6:$G$1303, $B515)","v":0},{"$f":"SUMIFS(Investment!$H$6:$H$1303, Investment!$A$6:$A$1303, W$10, Investment!$E$6:$E$1303, $D515, Investment!$G$6:$G$1303, $B515)","v":0},{"$f":"SUMIFS(Investment!$H$6:$H$1303, Investment!$A$6:$A$1303, X$10, Investment!$E$6:$E$1303, $D515, Investment!$G$6:$G$1303, $B515)","v":0},{"$f":"SUMIFS(Investment!$H$6:$H$1303, Investment!$A$6:$A$1303, Y$10, Investment!$E$6:$E$1303, $D515, Investment!$G$6:$G$1303, $B515)","v":0},null,null,null,null,null,null,null,"2.03 > Haiti",501,19," "]
[{"$f":"INDEX(Country!$F$31:$G$76, MATCH(AI516, Country!$O$31:$O$76, 0), 1)","v":2.0299999999999994},{"$f":"INDEX(Country!$F$31:$G$76, MATCH(AI516, Country!$O$31:$O$76, 0), 2)","v":"Asset finance investments"},{"$f":"INDEX(Country!$K$31:$K$76, MATCH(AI516, Country!$O$31:$O$76, 0), 1)","v":"USDm"},"Honduras",42.608992248874586,84.440992248874579,107.92499224887459,107.92499224887459,411.01778092388099,551.16760005503625,584.59964390811024,null,null,null,null,null,null,null,{"$f":"SUMIFS(Investment!$H$6:$H$1303, Investment!$A$6:$A$1303, S$10, Investment!$E$6:$E$1303, $D516, Investment!$G$6:$G$1303, $B516)","v":42.608992248874586},{"$f":"SUMIFS(Investment!$H$6:$H$1303, Investment!$A$6:$A$1303, T$10, Investment!$E$6:$E$1303, $D516, Investment!$G$6:$G$1303, $B516)","v":41.832000000000001},{"$f":"SUMIFS(Investment!$H$6:$H$1303, Investment!$A$6:$A$1303, U$10, Investment!$E$6:$E$1303, $D516, Investment!$G$6:$G$1303, $B516)","v":23.484000000000002},{"$f":"SUMIFS(Investment!$H$6:$H$1303, Investment!$A$6:$A$1303, V$10, Investment!$E$6:$E$1303, $D516, Investment!$G$6:$G$1303, $B516)","v":0},{"$f":"SUMIFS(Investment!$H$6:$H$1303, Investment!$A$6:$A$1303, W$10, Investment!$E$6:$E$1303, $D516, Investment!$G$6:$G$1303, $B516)","v":303.09278867500643},{"$f":"SUMIFS(Investment!$H$6:$H$1303, Investment!$A$6:$A$1303, X$10, Investment!$E$6:$E$1303, $D516, Investment!$G$6:$G$1303, $B516)","v":140.14981913115528},{"$f":"SUMIFS(Investment!$H$6:$H$1303, Investment!$A$6:$A$1303, Y$10, Investment!$E$6:$E$1303, $D516, Investment!$G$6:$G$1303, $B516)","v":33.432043853073978},null,null,null,null,null,null,null,"2.03 > Honduras",502,19," "]
[{"$f":"INDEX(Country!$F$31:$G$76, MATCH(AI517, Country!$O$31:$O$76, 0), 1)","v":2.0299999999999994},{"$f":"INDEX(Country!$F$31:$G$76, MATCH(AI517, Country!$O$31:$O$76, 0), 2)","v":"Asset finance investments"},{"$f":"INDEX(Country!$K$31:$K$76, MATCH(AI517, Country!$O$31:$O$76, 0), 1)","v":"USDm"},"Jamaica",20.070218328899301,20.070218328899301,20.070218328899301,20.070218328899301,107.08070734856176,107.08070734856176,107.08070734856176,null,null,null,null,null,null,null,{"$f":"SUMIFS(Investment!$H$6:$H$1303, Investment!$A$6:$A$1303, S$10, Investment!$E$6:$E$1303, $D517, Investment!$G$6:$G$1303, $B517)","v":20.070218328899301},{"$f":"SUMIFS(Investment!$H$6:$H$1303, Investment!$A$6:$A$1303, T$10, Investment!$E$6:$E$1303, $D517, Investment!$G$6:$G$1303, $B517)","v":0},{"$f":"SUMIFS(Investment!$H$6:$H$1303, Investment!$A$6:$A$1303, U$10, Investment!$E$6:$E$1303, $D517, Investment!$G$6:$G$1303, $B517)","v":0},{"$f":"SUMIFS(Investment!$H$6:$H$1303, Investment!$A$6:$A$1303, V$10, Investment!$E$6:$E$1303, $D517, Investment!$G$6:$G$1303, $B517)","v":0},{"$f":"SUMIFS(Investment!$H$6:$H$1303, Investment!$A$6:$A$1303, W$10, Investment!$E$6:$E$1303, $D517, Investment!$G$6:$G$1303, $B517)","v":87.010489019662458},{"$f":"SUMIFS(Investment!$H$6:$H$1303, Investment!$A$6:$A$1303, X$10, Investment!$E$6:$E$1303, $D517, Investment!$G$6:$G$1303, $B517)","v":0},{"$f":"SUMIFS(Investment!$H$6:$H$1303, Investment!$A$6:$A$1303, Y$10, Investment!$E$6:$E$1303, $D517, Investment!$G$6:$G$1303, $B517)","v":0},null,null,null,null,null,null,null,"2.03 > Jamaica",503,19," "]
[{"$f":"INDEX(Country!$F$31:$G$76, MATCH(AI518, Country!$O$31:$O$76, 0), 1)","v":2.0299999999999994},{"$f":"INDEX(Country!$F$31:$G$76, MATCH(AI518, Country!$O$31:$O$76, 0), 2)","v":"Asset finance investments"},{"$f":"INDEX(Country!$K$31:$K$76, MATCH(AI518, Country!$O$31:$O$76, 0), 1)","v":"USDm"},"Mexico",189.31866687809182,714.35991263772735,1310.2695026377273,1811.4639039835449,4495.3748557350709,5006.425575481122,7928.2501560234859,null,null,null,null,null,null,null,{"$f":"SUMIFS(Investment!$H$6:$H$1303, Investment!$A$6:$A$1303, S$10, Investment!$E$6:$E$1303, $D518, Investment!$G$6:$G$1303, $B518)","v":189.31866687809182},{"$f":"SUMIFS(Investment!$H$6:$H$1303, Investment!$A$6:$A$1303, T$10, Investment!$E$6:$E$1303, $D518, Investment!$G$6:$G$1303, $B518)","v":525.04124575963556},{"$f":"SUMIFS(Investment!$H$6:$H$1303, Investment!$A$6:$A$1303, U$10, Investment!$E$6:$E$1303, $D518, Investment!$G$6:$G$1303, $B518)","v":595.90958999999998},{"$f":"SUMIFS(Investment!$H$6:$H$1303, Investment!$A$6:$A$1303, V$10, Investment!$E$6:$E$1303, $D518, Investment!$G$6:$G$1303, $B518)","v":501.19440134581765},{"$f":"SUMIFS(Investment!$H$6:$H$1303, Investment!$A$6:$A$1303, W$10, Investment!$E$6:$E$1303, $D518, Investment!$G$6:$G$1303, $B518)","v":2683.9109517515262},{"$f":"SUMIFS(Investment!$H$6:$H$1303, Investment!$A$6:$A$1303, X$10, Investment!$E$6:$E$1303, $D518, Investment!$G$6:$G$1303, $B518)","v":511.05071974605141},{"$f":"SUMIFS(Investment!$H$6:$H$1303, Investment!$A$6:$A$1303, Y$10, Investment!$E$6:$E$1303, $D518, Investment!$G$6:$G$1303, $B518)","v":2921.8245805423639},null,null,null,null,null,null,null,"2.03 > Mexico",504,19," "]
[{"$f":"INDEX(Country!$F$31:$G$76, MATCH(AI519, Country!$O$31:$O$76, 0), 1)","v":2.0299999999999994},{"$f":"INDEX(Country!$F$31:$G$76, MATCH(AI519, Country!$O$31:$O$76, 0), 2)","v":"Asset finance investments"},{"$f":"INDEX(Country!$K$31:$K$76, MATCH(AI519, Country!$O$31:$O$76, 0), 1)","v":"USDm"},"Nicaragua",129.1145794809554,223.6145794809554,304.77857948095539,499.2585794809554,929.67967317088392,1204.6296668476375,1496.7625592341885,null,null,null,null,null,null,null,{"$f":"SUMIFS(Investment!$H$6:$H$1303, Investment!$A$6:$A$1303, S$10, Investment!$E$6:$E$1303, $D519, Investment!$G$6:$G$1303, $B519)","v":129.1145794809554},{"$f":"SUMIFS(Investment!$H$6:$H$1303, Investment!$A$6:$A$1303, T$10, Investment!$E$6:$E$1303, $D519, Investment!$G$6:$G$1303, $B519)","v":94.5},{"$f":"SUMIFS(Investment!$H$6:$H$1303, Investment!$A$6:$A$1303, U$10, Investment!$E$6:$E$1303, $D519, Investment!$G$6:$G$1303, $B519)","v":81.164000000000001},{"$f":"SUMIFS(Investment!$H$6:$H$1303, Investment!$A$6:$A$1303, V$10, Investment!$E$6:$E$1303, $D519, Investment!$G$6:$G$1303, $B519)","v":194.48000000000002},{"$f":"SUMIFS(Investment!$H$6:$H$1303, Investment!$A$6:$A$1303, W$10, Investment!$E$6:$E$1303, $D519, Investment!$G$6:$G$1303, $B519)","v":430.42109368992851},{"$f":"SUMIFS(Investment!$H$6:$H$1303, Investment!$A$6:$A$1303, X$10, Investment!$E$6:$E$1303, $D519, Investment!$G$6:$G$1303, $B519)","v":274.94999367675371},{"$f":"SUMIFS(Investment!$H$6:$H$1303, Investment!$A$6:$A$1303, Y$10, Investment!$E$6:$E$1303, $D519, Investment!$G$6:$G$1303, $B519)","v":292.13289238655096},null,null,null,null,null,null,null,"2.03 > Nicaragua",505,19," "]
[{"$f":"INDEX(Country!$F$31:$G$76, MATCH(AI520, Country!$O$31:$O$76, 0), 1)","v":2.0299999999999994},{"$f":"INDEX(Country!$F$31:$G$76, MATCH(AI520, Country!$O$31:$O$76, 0), 2)","v":"Asset finance investments"},{"$f":"INDEX(Country!$K$31:$K$76, MATCH(AI520, Country!$O$31:$O$76, 0), 1)","v":"USDm"},"Panama",7.5167108794779436,74.61171087947794,276.74921087947791,727.48521087947779,1041.8692173133959,1172.4100462402059,1309.7513259565335,null,null,null,null,null,null,null,{"$f":"SUMIFS(Investment!$H$6:$H$1303, Investment!$A$6:$A$1303, S$10, Investment!$E$6:$E$1303, $D520, Investment!$G$6:$G$1303, $B520)","v":7.5167108794779436},{"$f":"SUMIFS(Investment!$H$6:$H$1303, Investment!$A$6:$A$1303, T$10, Investment!$E$6:$E$1303, $D520, Investment!$G$6:$G$1303, $B520)","v":67.094999999999999},{"$f":"SUMIFS(Investment!$H$6:$H$1303, Investment!$A$6:$A$1303, U$10, Investment!$E$6:$E$1303, $D520, Investment!$G$6:$G$1303, $B520)","v":202.13749999999999},{"$f":"SUMIFS(Investment!$H$6:$H$1303, Investment!$A$6:$A$1303, V$10, Investment!$E$6:$E$1303, $D520, Investment!$G$6:$G$1303, $B520)","v":450.73599999999993},{"$f":"SUMIFS(Investment!$H$6:$H$1303, Investment!$A$6:$A$1303, W$10, Investment!$E$6:$E$1303, $D520, Investment!$G$6:$G$1303, $B520)","v":314.38400643391822},{"$f":"SUMIFS(Investment!$H$6:$H$1303, Investment!$A$6:$A$1303, X$10, Investment!$E$6:$E$1303, $D520, Investment!$G$6:$G$1303, $B520)","v":130.54082892681001},{"$f":"SUMIFS(Investment!$H$6:$H$1303, Investment!$A$6:$A$1303, Y$10, Investment!$E$6:$E$1303, $D520, Investment!$G$6:$G$1303, $B520)","v":137.34127971632759},null,null,null,null,null,null,null,"2.03 > Panama",506,19," "]
[{"$f":"INDEX(Country!$F$31:$G$76, MATCH(AI521, Country!$O$31:$O$76, 0), 1)","v":2.0299999999999994},{"$f":"INDEX(Country!$F$31:$G$76, MATCH(AI521, Country!$O$31:$O$76, 0), 2)","v":"Asset finance investments"},{"$f":"INDEX(Country!$K$31:$K$76, MATCH(AI521, Country!$O$31:$O$76, 0), 1)","v":"USDm"},"Paraguay",8.0281051822200062,140.04863733958456,140.04863733958456,140.04863733958456,140.04863733958456,160.50855883874277,160.50855883874277,null,null,null,null,null,null,null,{"$f":"SUMIFS(Investment!$H$6:$H$1303, Investment!$A$6:$A$1303, S$10, Investment!$E$6:$E$1303, $D521, Investment!$G$6:$G$1303, $B521)","v":8.0281051822200062},{"$f":"SUMIFS(Investment!$H$6:$H$1303, Investment!$A$6:$A$1303, T$10, Investment!$E$6:$E$1303, $D521, Investment!$G$6:$G$1303, $B521)","v":132.02053215736456},{"$f":"SUMIFS(Investment!$H$6:$H$1303, Investment!$A$6:$A$1303, U$10, Investment!$E$6:$E$1303, $D521, Investment!$G$6:$G$1303, $B521)","v":0},{"$f":"SUMIFS(Investment!$H$6:$H$1303, Investment!$A$6:$A$1303, V$10, Investment!$E$6:$E$1303, $D521, Investment!$G$6:$G$1303, $B521)","v":0},{"$f":"SUMIFS(Investment!$H$6:$H$1303, Investment!$A$6:$A$1303, W$10, Investment!$E$6:$E$1303, $D521, Investment!$G$6:$G$1303, $B521)","v":0},{"$f":"SUMIFS(Investment!$H$6:$H$1303, Investment!$A$6:$A$1303, X$10, Investment!$E$6:$E$1303, $D521, Investment!$G$6:$G$1303, $B521)","v":20.459921499158217},{"$f":"SUMIFS(Investment!$H$6:$H$1303, Investment!$A$6:$A$1303, Y$10, Investment!$E$6:$E$1303, $D521, Investment!$G$6:$G$1303, $B521)","v":0},null,null,null,null,null,null,null,"2.03 > Paraguay",507,19," "]
[{"$f":"INDEX(Country!$F$31:$G$76, MATCH(AI522, Country!$O$31:$O$76, 0), 1)","v":2.0299999999999994},{"$f":"INDEX(Country!$F$31:$G$76, MATCH(AI522, Country!$O$31:$O$76, 0), 2)","v":"Asset finance investments"},{"$f":"INDEX(Country!$K$31:$K$76, MATCH(AI522, Country!$O$31:$O$76, 0), 1)","v":"USDm"},"Peru",8.7516267444852236,143.85770318660184,178.87770318660182,399.57610318660181,901.76625842919964,1134.5174547686661,2363.5813761294016,null,null,null,null,null,null,null,{"$f":"SUMIFS(Investment!$H$6:$H$1303, Investment!$A$6:$A$1303, S$10, Investment!$E$6:$E$1303, $D522, Investment!$G$6:$G$1303, $B522)","v":8.7516267444852236},{"$f":"SUMIFS(Investment!$H$6:$H$1303, Investment!$A$6:$A$1303, T$10, Investment!$E$6:$E$1303, $D522, Investment!$G$6:$G$1303, $B522)","v":135.1060764421166},{"$f":"SUMIFS(Investment!$H$6:$H$1303, Investment!$A$6:$A$1303, U$10, Investment!$E$6:$E$1303, $D522, Investment!$G$6:$G$1303, $B522)","v":35.019999999999996},{"$f":"SUMIFS(Investment!$H$6:$H$1303, Investment!$A$6:$A$1303, V$10, Investment!$E$6:$E$1303, $D522, Investment!$G$6:$G$1303, $B522)","v":220.69840000000002},{"$f":"SUMIFS(Investment!$H$6:$H$1303, Investment!$A$6:$A$1303, W$10, Investment!$E$6:$E$1303, $D522, Investment!$G$6:$G$1303, $B522)","v":502.19015524259783},{"$f":"SUMIFS(Investment!$H$6:$H$1303, Investment!$A$6:$A$1303, X$10, Investment!$E$6:$E$1303, $D522, Investment!$G$6:$G$1303, $B522)","v":232.7511963394665},{"$f":"SUMIFS(Investment!$H$6:$H$1303, Investment!$A$6:$A$1303, Y$10, Investment!$E$6:$E$1303, $D522, Investment!$G$6:$G$1303, $B522)","v":1229.0639213607355},null,null,null,null,null,null,null,"2.03 > Peru",508,19," "]
[{"$f":"INDEX(Country!$F$31:$G$76, MATCH(AI523, Country!$O$31:$O$76, 0), 1)","v":2.0299999999999994},{"$f":"INDEX(Country!$F$31:$G$76, MATCH(AI523, Country!$O$31:$O$76, 0), 2)","v":"Asset finance investments"},{"$f":"INDEX(Country!$K$31:$K$76, MATCH(AI523, Country!$O$31:$O$76, 0), 1)","v":"USDm"},"Suriname",0,0,0,0,0,0,0,null,null,null,null,null,null,null,{"$f":"SUMIFS(Investment!$H$6:$H$1303, Investment!$A$6:$A$1303, S$10, Investment!$E$6:$E$1303, $D523, Investment!$G$6:$G$1303, $B523)","v":0},{"$f":"SUMIFS(Investment!$H$6:$H$1303, Investment!$A$6:$A$1303, T$10, Investment!$E$6:$E$1303, $D523, Investment!$G$6:$G$1303, $B523)","v":0},{"$f":"SUMIFS(Investment!$H$6:$H$1303, Investment!$A$6:$A$1303, U$10, Investment!$E$6:$E$1303, $D523, Investment!$G$6:$G$1303, $B523)","v":0},{"$f":"SUMIFS(Investment!$H$6:$H$1303, Investment!$A$6:$A$1303, V$10, Investment!$E$6:$E$1303, $D523, Investment!$G$6:$G$1303, $B523)","v":0},{"$f":"SUMIFS(Investment!$H$6:$H$1303, Investment!$A$6:$A$1303, W$10, Investment!$E$6:$E$1303, $D523, Investment!$G$6:$G$1303, $B523)","v":0},{"$f":"SUMIFS(Investment!$H$6:$H$1303, Investment!$A$6:$A$1303, X$10, Investment!$E$6:$E$1303, $D523, Investment!$G$6:$G$1303, $B523)","v":0},{"$f":"SUMIFS(Investment!$H$6:$H$1303, Investment!$A$6:$A$1303, Y$10, Investment!$E$6:$E$1303, $D523, Investment!$G$6:$G$1303, $B523)","v":0},null,null,null,null,null,null,null,"2.03 > Suriname",509,19," "]
[{"$f":"INDEX(Country!$F$31:$G$76, MATCH(AI524, Country!$O$31:$O$76, 0), 1)","v":2.0299999999999994},{"$f":"INDEX(Country!$F$31:$G$76, MATCH(AI524, Country!$O$31:$O$76, 0), 2)","v":"Asset finance investments"},{"$f":"INDEX(Country!$K$31:$K$76, MATCH(AI524, Country!$O$31:$O$76, 0), 1)","v":"USDm"},"Trinidad & Tobago",0,0,222.51089999999996,222.51089999999996,222.51089999999996,222.51089999999996,222.51089999999996,null,null,null,null,null,null,null,{"$f":"SUMIFS(Investment!$H$6:$H$1303, Investment!$A$6:$A$1303, S$10, Investment!$E$6:$E$1303, $D524, Investment!$G$6:$G$1303, $B524)","v":0},{"$f":"SUMIFS(Investment!$H$6:$H$1303, Investment!$A$6:$A$1303, T$10, Investment!$E$6:$E$1303, $D524, Investment!$G$6:$G$1303, $B524)","v":0},{"$f":"SUMIFS(Investment!$H$6:$H$1303, Investment!$A$6:$A$1303, U$10, Investment!$E$6:$E$1303, $D524, Investment!$G$6:$G$1303, $B524)","v":222.51089999999996},{"$f":"SUMIFS(Investment!$H$6:$H$1303, Investment!$A$6:$A$1303, V$10, Investment!$E$6:$E$1303, $D524, Investment!$G$6:$G$1303, $B524)","v":0},{"$f":"SUMIFS(Investment!$H$6:$H$1303, Investment!$A$6:$A$1303, W$10, Investment!$E$6:$E$1303, $D524, Investment!$G$6:$G$1303, $B524)","v":0},{"$f":"SUMIFS(Investment!$H$6:$H$1303, Investment!$A$6:$A$1303, X$10, Investment!$E$6:$E$1303, $D524, Investment!$G$6:$G$1303, $B524)","v":0},{"$f":"SUMIFS(Investment!$H$6:$H$1303, Investment!$A$6:$A$1303, Y$10, Investment!$E$6:$E$1303, $D524, Investment!$G$6:$G$1303, $B524)","v":0},null,null,null,null,null,null,null,"2.03 > Trinidad & Tobago",510,19," "]
[{"$f":"INDEX(Country!$F$31:$G$76, MATCH(AI525, Country!$O$31:$O$76, 0), 1)","v":2.0299999999999994},{"$f":"INDEX(Country!$F$31:$G$76, MATCH(AI525, Country!$O$31:$O$76, 0), 2)","v":"Asset finance investments"},{"$f":"INDEX(Country!$K$31:$K$76, MATCH(AI525, Country!$O$31:$O$76, 0), 1)","v":"USDm"},"Uruguay",24.104515615077624,29.461079447765872,120.51307944776586,196.64107944776586,247.59692271796339,275.24891264688546,393.65306262681776,null,null,null,null,null,null,null,{"$f":"SUMIFS(Investment!$H$6:$H$1303, Investment!$A$6:$A$1303, S$10, Investment!$E$6:$E$1303, $D525, Investment!$G$6:$G$1303, $B525)","v":24.104515615077624},{"$f":"SUMIFS(Investment!$H$6:$H$1303, Investment!$A$6:$A$1303, T$10, Investment!$E$6:$E$1303, $D525, Investment!$G$6:$G$1303, $B525)","v":5.3565638326882485},{"$f":"SUMIFS(Investment!$H$6:$H$1303, Investment!$A$6:$A$1303, U$10, Investment!$E$6:$E$1303, $D525, Investment!$G$6:$G$1303, $B525)","v":91.051999999999992},{"$f":"SUMIFS(Investment!$H$6:$H$1303, Investment!$A$6:$A$1303, V$10, Investment!$E$6:$E$1303, $D525, Investment!$G$6:$G$1303, $B525)","v":76.128},{"$f":"SUMIFS(Investment!$H$6:$H$1303, Investment!$A$6:$A$1303, W$10, Investment!$E$6:$E$1303, $D525, Investment!$G$6:$G$1303, $B525)","v":50.955843270197541},{"$f":"SUMIFS(Investment!$H$6:$H$1303, Investment!$A$6:$A$1303, X$10, Investment!$E$6:$E$1303, $D525, Investment!$G$6:$G$1303, $B525)","v":27.651989928922067},{"$f":"SUMIFS(Investment!$H$6:$H$1303, Investment!$A$6:$A$1303, Y$10, Investment!$E$6:$E$1303, $D525, Investment!$G$6:$G$1303, $B525)","v":118.40414997993231},null,null,null,null,null,null,null,"2.03 > Uruguay",511,19," "]
[{"$f":"INDEX(Country!$F$31:$G$76, MATCH(AI526, Country!$O$31:$O$76, 0), 1)","v":2.0299999999999994},{"$f":"INDEX(Country!$F$31:$G$76, MATCH(AI526, Country!$O$31:$O$76, 0), 2)","v":"Asset finance investments"},{"$f":"INDEX(Country!$K$31:$K$76, MATCH(AI526, Country!$O$31:$O$76, 0), 1)","v":"USDm"},"Venezuela",0,0,165.32736,206.92735999999999,206.92735999999999,277.66645028964274,354.57756693078619,null,null,null,null,null,null,null,{"$f":"SUMIFS(Investment!$H$6:$H$1303, Investment!$A$6:$A$1303, S$10, Investment!$E$6:$E$1303, $D526, Investment!$G$6:$G$1303, $B526)","v":0},{"$f":"SUMIFS(Investment!$H$6:$H$1303, Investment!$A$6:$A$1303, T$10, Investment!$E$6:$E$1303, $D526, Investment!$G$6:$G$1303, $B526)","v":0},{"$f":"SUMIFS(Investment!$H$6:$H$1303, Investment!$A$6:$A$1303, U$10, Investment!$E$6:$E$1303, $D526, Investment!$G$6:$G$1303, $B526)","v":165.32736},{"$f":"SUMIFS(Investment!$H$6:$H$1303, Investment!$A$6:$A$1303, V$10, Investment!$E$6:$E$1303, $D526, Investment!$G$6:$G$1303, $B526)","v":41.6},{"$f":"SUMIFS(Investment!$H$6:$H$1303, Investment!$A$6:$A$1303, W$10, Investment!$E$6:$E$1303, $D526, Investment!$G$6:$G$1303, $B526)","v":0},{"$f":"SUMIFS(Investment!$H$6:$H$1303, Investment!$A$6:$A$1303, X$10, Investment!$E$6:$E$1303, $D526, Investment!$G$6:$G$1303, $B526)","v":70.739090289642775},{"$f":"SUMIFS(Investment!$H$6:$H$1303, Investment!$A$6:$A$1303, Y$10, Investment!$E$6:$E$1303, $D526, Investment!$G$6:$G$1303, $B526)","v":76.911116641143465},null,null,null,null,null,null,null,"2.03 > Venezuela",512,19," "]
[{"$f":"INDEX(Country!$F$31:$G$76, MATCH(AI527, Country!$O$31:$O$76, 0), 1)","v":2.0299999999999994},{"$f":"INDEX(Country!$F$31:$G$76, MATCH(AI527, Country!$O$31:$O$76, 0), 2)","v":"Asset finance investments"},{"$f":"INDEX(Country!$K$31:$K$76, MATCH(AI527, Country!$O$31:$O$76, 0), 1)","v":"USDm"},"Benchmark",{"$f":"IFERROR(MAX(E501:E526), 0)","v":4668.7384029128625},{"$f":"IFERROR(MAX(F501:F526), 0)","v":14484.593920235522},28457.040015592695,38161.422361793404,49176.242178762863,60179.449937766243,67604.56476744989,0,0,0,0,0,0,0,"Corporate finance investments (USDm)",null,null,null,null,null,null,null,null,null,null,null,null,null,{"$f":"A527&\" > \" &D527","v":"2.03 > Benchmark"},513,19," "]
[{"$f":"INDEX(Country!$F$31:$G$76, MATCH(AI528, Country!$O$31:$O$76, 0), 1)","v":2.0399999999999991},{"$f":"INDEX(Country!$F$31:$G$76, MATCH(AI528, Country!$O$31:$O$76, 0), 2)","v":"Corporate finance investments"},{"$f":"INDEX(Country!$K$31:$K$76, MATCH(AI528, Country!$O$31:$O$76, 0), 1)","v":"USDm"},"Argentina",{"$f":"S528","v":0},{"$f":"E528+T528","v":46.567952188261103},{"$f":"F528+U528","v":46.567952188261103},{"$f":"G528+V528","v":46.567952188261103},{"$f":"H528+W528","v":99.60747379875616},{"$f":"I528+X528","v":99.60747379875616},{"$f":"J528+Y528","v":99.60747379875616},null,null,null,null,null,null,null,{"$f":"SUMIFS(Investment!$H$6:$H$1303, Investment!$A$6:$A$1303, S$10, Investment!$E$6:$E$1303, $D528, Investment!$G$6:$G$1303, $B528)","v":0},{"$f":"SUMIFS(Investment!$H$6:$H$1303, Investment!$A$6:$A$1303, T$10, Investment!$E$6:$E$1303, $D528, Investment!$G$6:$G$1303, $B528)","v":46.567952188261103},{"$f":"SUMIFS(Investment!$H$6:$H$1303, Investment!$A$6:$A$1303, U$10, Investment!$E$6:$E$1303, $D528, Investment!$G$6:$G$1303, $B528)","v":0},{"$f":"SUMIFS(Investment!$H$6:$H$1303, Investment!$A$6:$A$1303, V$10, Investment!$E$6:$E$1303, $D528, Investment!$G$6:$G$1303, $B528)","v":0},{"$f":"SUMIFS(Investment!$H$6:$H$1303, Investment!$A$6:$A$1303, W$10, Investment!$E$6:$E$1303, $D528, Investment!$G$6:$G$1303, $B528)","v":53.039521610495051},{"$f":"SUMIFS(Investment!$H$6:$H$1303, Investment!$A$6:$A$1303, X$10, Investment!$E$6:$E$1303, $D528, Investment!$G$6:$G$1303, $B528)","v":0},{"$f":"SUMIFS(Investment!$H$6:$H$1303, Investment!$A$6:$A$1303, Y$10, Investment!$E$6:$E$1303, $D528, Investment!$G$6:$G$1303, $B528)","v":0},null,null,null,null,null,null,null,"2.04 > Argentina",514,20," "]
[{"$f":"INDEX(Country!$F$31:$G$76, MATCH(AI529, Country!$O$31:$O$76, 0), 1)","v":2.0399999999999991},{"$f":"INDEX(Country!$F$31:$G$76, MATCH(AI529, Country!$O$31:$O$76, 0), 2)","v":"Corporate finance investments"},{"$f":"INDEX(Country!$K$31:$K$76, MATCH(AI529, Country!$O$31:$O$76, 0), 1)","v":"USDm"},"Bahamas",{"$f":"S529","v":0},0,0,0,0,0,0,null,null,null,null,null,null,null,{"$f":"SUMIFS(Investment!$H$6:$H$1303, Investment!$A$6:$A$1303, S$10, Investment!$E$6:$E$1303, $D529, Investment!$G$6:$G$1303, $B529)","v":0},{"$f":"SUMIFS(Investment!$H$6:$H$1303, Investment!$A$6:$A$1303, T$10, Investment!$E$6:$E$1303, $D529, Investment!$G$6:$G$1303, $B529)","v":0},{"$f":"SUMIFS(Investment!$H$6:$H$1303, Investment!$A$6:$A$1303, U$10, Investment!$E$6:$E$1303, $D529, Investment!$G$6:$G$1303, $B529)","v":0},{"$f":"SUMIFS(Investment!$H$6:$H$1303, Investment!$A$6:$A$1303, V$10, Investment!$E$6:$E$1303, $D529, Investment!$G$6:$G$1303, $B529)","v":0},{"$f":"SUMIFS(Investment!$H$6:$H$1303, Investment!$A$6:$A$1303, W$10, Investment!$E$6:$E$1303, $D529, Investment!$G$6:$G$1303, $B529)","v":0},{"$f":"SUMIFS(Investment!$H$6:$H$1303, Investment!$A$6:$A$1303, X$10, Investment!$E$6:$E$1303, $D529, Investment!$G$6:$G$1303, $B529)","v":0},{"$f":"SUMIFS(Investment!$H$6:$H$1303, Investment!$A$6:$A$1303, Y$10, Investment!$E$6:$E$1303, $D529, Investment!$G$6:$G$1303, $B529)","v":0},null,null,null,null,null,null,null,"2.04 > Bahamas",{"$f":"AH528+1","v":515},{"$f":"ROUNDUP(AH529/COUNTA($D$15:$D$41),0)","v":20}," "]
[{"$f":"INDEX(Country!$F$31:$G$76, MATCH(AI530, Country!$O$31:$O$76, 0), 1)","v":2.0399999999999991},{"$f":"INDEX(Country!$F$31:$G$76, MATCH(AI530, Country!$O$31:$O$76, 0), 2)","v":"Corporate finance investments"},{"$f":"INDEX(Country!$K$31:$K$76, MATCH(AI530, Country!$O$31:$O$76, 0), 1)","v":"USDm"},"Barbados",0,0,0,0,0,0,0,null,null,null,null,null,null,null,{"$f":"SUMIFS(Investment!$H$6:$H$1303, Investment!$A$6:$A$1303, S$10, Investment!$E$6:$E$1303, $D530, Investment!$G$6:$G$1303, $B530)","v":0},{"$f":"SUMIFS(Investment!$H$6:$H$1303, Investment!$A$6:$A$1303, T$10, Investment!$E$6:$E$1303, $D530, Investment!$G$6:$G$1303, $B530)","v":0},{"$f":"SUMIFS(Investment!$H$6:$H$1303, Investment!$A$6:$A$1303, U$10, Investment!$E$6:$E$1303, $D530, Investment!$G$6:$G$1303, $B530)","v":0},{"$f":"SUMIFS(Investment!$H$6:$H$1303, Investment!$A$6:$A$1303, V$10, Investment!$E$6:$E$1303, $D530, Investment!$G$6:$G$1303, $B530)","v":0},{"$f":"SUMIFS(Investment!$H$6:$H$1303, Investment!$A$6:$A$1303, W$10, Investment!$E$6:$E$1303, $D530, Investment!$G$6:$G$1303, $B530)","v":0},{"$f":"SUMIFS(Investment!$H$6:$H$1303, Investment!$A$6:$A$1303, X$10, Investment!$E$6:$E$1303, $D530, Investment!$G$6:$G$1303, $B530)","v":0},{"$f":"SUMIFS(Investment!$H$6:$H$1303, Investment!$A$6:$A$1303, Y$10, Investment!$E$6:$E$1303, $D530, Investment!$G$6:$G$1303, $B530)","v":0},null,null,null,null,null,null,null,"2.04 > Barbados",516,20," "]
[{"$f":"INDEX(Country!$F$31:$G$76, MATCH(AI531, Country!$O$31:$O$76, 0), 1)","v":2.0399999999999991},{"$f":"INDEX(Country!$F$31:$G$76, MATCH(AI531, Country!$O$31:$O$76, 0), 2)","v":"Corporate finance investments"},{"$f":"INDEX(Country!$K$31:$K$76, MATCH(AI531, Country!$O$31:$O$76, 0), 1)","v":"USDm"},"Belize",0,0,62.49516694573628,62.49516694573628,62.49516694573628,62.49516694573628,62.49516694573628,null,null,null,null,null,null,null,{"$f":"SUMIFS(Investment!$H$6:$H$1303, Investment!$A$6:$A$1303, S$10, Investment!$E$6:$E$1303, $D531, Investment!$G$6:$G$1303, $B531)","v":0},{"$f":"SUMIFS(Investment!$H$6:$H$1303, Investment!$A$6:$A$1303, T$10, Investment!$E$6:$E$1303, $D531, Investment!$G$6:$G$1303, $B531)","v":0},{"$f":"SUMIFS(Investment!$H$6:$H$1303, Investment!$A$6:$A$1303, U$10, Investment!$E$6:$E$1303, $D531, Investment!$G$6:$G$1303, $B531)","v":62.49516694573628},{"$f":"SUMIFS(Investment!$H$6:$H$1303, Investment!$A$6:$A$1303, V$10, Investment!$E$6:$E$1303, $D531, Investment!$G$6:$G$1303, $B531)","v":0},{"$f":"SUMIFS(Investment!$H$6:$H$1303, Investment!$A$6:$A$1303, W$10, Investment!$E$6:$E$1303, $D531, Investment!$G$6:$G$1303, $B531)","v":0},{"$f":"SUMIFS(Investment!$H$6:$H$1303, Investment!$A$6:$A$1303, X$10, Investment!$E$6:$E$1303, $D531, Investment!$G$6:$G$1303, $B531)","v":0},{"$f":"SUMIFS(Investment!$H$6:$H$1303, Investment!$A$6:$A$1303, Y$10, Investment!$E$6:$E$1303, $D531, Investment!$G$6:$G$1303, $B531)","v":0},null,null,null,null,null,null,null,"2.04 > Belize",517,20," "]
[{"$f":"INDEX(Country!$F$31:$G$76, MATCH(AI532, Country!$O$31:$O$76, 0), 1)","v":2.0399999999999991},{"$f":"INDEX(Country!$F$31:$G$76, MATCH(AI532, Country!$O$31:$O$76, 0), 2)","v":"Corporate finance investments"},{"$f":"INDEX(Country!$K$31:$K$76, MATCH(AI532, Country!$O$31:$O$76, 0), 1)","v":"USDm"},"Bolivia",0,0,0,0,0,0,0,null,null,null,null,null,null,null,{"$f":"SUMIFS(Investment!$H$6:$H$1303, Investment!$A$6:$A$1303, S$10, Investment!$E$6:$E$1303, $D532, Investment!$G$6:$G$1303, $B532)","v":0},{"$f":"SUMIFS(Investment!$H$6:$H$1303, Investment!$A$6:$A$1303, T$10, Investment!$E$6:$E$1303, $D532, Investment!$G$6:$G$1303, $B532)","v":0},{"$f":"SUMIFS(Investment!$H$6:$H$1303, Investment!$A$6:$A$1303, U$10, Investment!$E$6:$E$1303, $D532, Investment!$G$6:$G$1303, $B532)","v":0},{"$f":"SUMIFS(Investment!$H$6:$H$1303, Investment!$A$6:$A$1303, V$10, Investment!$E$6:$E$1303, $D532, Investment!$G$6:$G$1303, $B532)","v":0},{"$f":"SUMIFS(Investment!$H$6:$H$1303, Investment!$A$6:$A$1303, W$10, Investment!$E$6:$E$1303, $D532, Investment!$G$6:$G$1303, $B532)","v":0},{"$f":"SUMIFS(Investment!$H$6:$H$1303, Investment!$A$6:$A$1303, X$10, Investment!$E$6:$E$1303, $D532, Investment!$G$6:$G$1303, $B532)","v":0},{"$f":"SUMIFS(Investment!$H$6:$H$1303, Investment!$A$6:$A$1303, Y$10, Investment!$E$6:$E$1303, $D532, Investment!$G$6:$G$1303, $B532)","v":0},null,null,null,null,null,null,null,"2.04 > Bolivia",518,20," "]
[{"$f":"INDEX(Country!$F$31:$G$76, MATCH(AI533, Country!$O$31:$O$76, 0), 1)","v":2.0399999999999991},{"$f":"INDEX(Country!$F$31:$G$76, MATCH(AI533, Country!$O$31:$O$76, 0), 2)","v":"Corporate finance investments"},{"$f":"INDEX(Country!$K$31:$K$76, MATCH(AI533, Country!$O$31:$O$76, 0), 1)","v":"USDm"},"Brazil",291.7215569999999,2471.3222038132108,3215.3483990178379,4744.5492229159581,6699.9267673698605,9777.8641040629318,11053.401500657894,null,null,null,null,null,null,null,{"$f":"SUMIFS(Investment!$H$6:$H$1303, Investment!$A$6:$A$1303, S$10, Investment!$E$6:$E$1303, $D533, Investment!$G$6:$G$1303, $B533)","v":291.7215569999999},{"$f":"SUMIFS(Investment!$H$6:$H$1303, Investment!$A$6:$A$1303, T$10, Investment!$E$6:$E$1303, $D533, Investment!$G$6:$G$1303, $B533)","v":2179.6006468132109},{"$f":"SUMIFS(Investment!$H$6:$H$1303, Investment!$A$6:$A$1303, U$10, Investment!$E$6:$E$1303, $D533, Investment!$G$6:$G$1303, $B533)","v":744.02619520462713},{"$f":"SUMIFS(Investment!$H$6:$H$1303, Investment!$A$6:$A$1303, V$10, Investment!$E$6:$E$1303, $D533, Investment!$G$6:$G$1303, $B533)","v":1529.20082389812},{"$f":"SUMIFS(Investment!$H$6:$H$1303, Investment!$A$6:$A$1303, W$10, Investment!$E$6:$E$1303, $D533, Investment!$G$6:$G$1303, $B533)","v":1955.3775444539026},{"$f":"SUMIFS(Investment!$H$6:$H$1303, Investment!$A$6:$A$1303, X$10, Investment!$E$6:$E$1303, $D533, Investment!$G$6:$G$1303, $B533)","v":3077.9373366930718},{"$f":"SUMIFS(Investment!$H$6:$H$1303, Investment!$A$6:$A$1303, Y$10, Investment!$E$6:$E$1303, $D533, Investment!$G$6:$G$1303, $B533)","v":1275.5373965949627},null,null,null,null,null,null,null,"2.04 > Brazil",519,20," "]
[{"$f":"INDEX(Country!$F$31:$G$76, MATCH(AI534, Country!$O$31:$O$76, 0), 1)","v":2.0399999999999991},{"$f":"INDEX(Country!$F$31:$G$76, MATCH(AI534, Country!$O$31:$O$76, 0), 2)","v":"Corporate finance investments"},{"$f":"INDEX(Country!$K$31:$K$76, MATCH(AI534, Country!$O$31:$O$76, 0), 1)","v":"USDm"},"Chile",0,0,0,55.953168241604203,55.953168241604203,192.74792899940599,192.74792899940599,null,null,null,null,null,null,null,{"$f":"SUMIFS(Investment!$H$6:$H$1303, Investment!$A$6:$A$1303, S$10, Investment!$E$6:$E$1303, $D534, Investment!$G$6:$G$1303, $B534)","v":0},{"$f":"SUMIFS(Investment!$H$6:$H$1303, Investment!$A$6:$A$1303, T$10, Investment!$E$6:$E$1303, $D534, Investment!$G$6:$G$1303, $B534)","v":0},{"$f":"SUMIFS(Investment!$H$6:$H$1303, Investment!$A$6:$A$1303, U$10, Investment!$E$6:$E$1303, $D534, Investment!$G$6:$G$1303, $B534)","v":0},{"$f":"SUMIFS(Investment!$H$6:$H$1303, Investment!$A$6:$A$1303, V$10, Investment!$E$6:$E$1303, $D534, Investment!$G$6:$G$1303, $B534)","v":55.953168241604203},{"$f":"SUMIFS(Investment!$H$6:$H$1303, Investment!$A$6:$A$1303, W$10, Investment!$E$6:$E$1303, $D534, Investment!$G$6:$G$1303, $B534)","v":0},{"$f":"SUMIFS(Investment!$H$6:$H$1303, Investment!$A$6:$A$1303, X$10, Investment!$E$6:$E$1303, $D534, Investment!$G$6:$G$1303, $B534)","v":136.79476075780178},{"$f":"SUMIFS(Investment!$H$6:$H$1303, Investment!$A$6:$A$1303, Y$10, Investment!$E$6:$E$1303, $D534, Investment!$G$6:$G$1303, $B534)","v":0},null,null,null,null,null,null,null,"2.04 > Chile",520,20," "]
[{"$f":"INDEX(Country!$F$31:$G$76, MATCH(AI535, Country!$O$31:$O$76, 0), 1)","v":2.0399999999999991},{"$f":"INDEX(Country!$F$31:$G$76, MATCH(AI535, Country!$O$31:$O$76, 0), 2)","v":"Corporate finance investments"},{"$f":"INDEX(Country!$K$31:$K$76, MATCH(AI535, Country!$O$31:$O$76, 0), 1)","v":"USDm"},"Colombia",0,0,0,0,0,0,0,null,null,null,null,null,null,null,{"$f":"SUMIFS(Investment!$H$6:$H$1303, Investment!$A$6:$A$1303, S$10, Investment!$E$6:$E$1303, $D535, Investment!$G$6:$G$1303, $B535)","v":0},{"$f":"SUMIFS(Investment!$H$6:$H$1303, Investment!$A$6:$A$1303, T$10, Investment!$E$6:$E$1303, $D535, Investment!$G$6:$G$1303, $B535)","v":0},{"$f":"SUMIFS(Investment!$H$6:$H$1303, Investment!$A$6:$A$1303, U$10, Investment!$E$6:$E$1303, $D535, Investment!$G$6:$G$1303, $B535)","v":0},{"$f":"SUMIFS(Investment!$H$6:$H$1303, Investment!$A$6:$A$1303, V$10, Investment!$E$6:$E$1303, $D535, Investment!$G$6:$G$1303, $B535)","v":0},{"$f":"SUMIFS(Investment!$H$6:$H$1303, Investment!$A$6:$A$1303, W$10, Investment!$E$6:$E$1303, $D535, Investment!$G$6:$G$1303, $B535)","v":0},{"$f":"SUMIFS(Investment!$H$6:$H$1303, Investment!$A$6:$A$1303, X$10, Investment!$E$6:$E$1303, $D535, Investment!$G$6:$G$1303, $B535)","v":0},{"$f":"SUMIFS(Investment!$H$6:$H$1303, Investment!$A$6:$A$1303, Y$10, Investment!$E$6:$E$1303, $D535, Investment!$G$6:$G$1303, $B535)","v":0},null,null,null,null,null,null,null,"2.04 > Colombia",521,20," "]
[{"$f":"INDEX(Country!$F$31:$G$76, MATCH(AI536, Country!$O$31:$O$76, 0), 1)","v":2.0399999999999991},{"$f":"INDEX(Country!$F$31:$G$76, MATCH(AI536, Country!$O$31:$O$76, 0), 2)","v":"Corporate finance investments"},{"$f":"INDEX(Country!$K$31:$K$76, MATCH(AI536, Country!$O$31:$O$76, 0), 1)","v":"USDm"},"Costa Rica",0,0,0,0,45.033556084382589,45.033556084382589,45.033556084382589,null,null,null,null,null,null,null,{"$f":"SUMIFS(Investment!$H$6:$H$1303, Investment!$A$6:$A$1303, S$10, Investment!$E$6:$E$1303, $D536, Investment!$G$6:$G$1303, $B536)","v":0},{"$f":"SUMIFS(Investment!$H$6:$H$1303, Investment!$A$6:$A$1303, T$10, Investment!$E$6:$E$1303, $D536, Investment!$G$6:$G$1303, $B536)","v":0},{"$f":"SUMIFS(Investment!$H$6:$H$1303, Investment!$A$6:$A$1303, U$10, Investment!$E$6:$E$1303, $D536, Investment!$G$6:$G$1303, $B536)","v":0},{"$f":"SUMIFS(Investment!$H$6:$H$1303, Investment!$A$6:$A$1303, V$10, Investment!$E$6:$E$1303, $D536, Investment!$G$6:$G$1303, $B536)","v":0},{"$f":"SUMIFS(Investment!$H$6:$H$1303, Investment!$A$6:$A$1303, W$10, Investment!$E$6:$E$1303, $D536, Investment!$G$6:$G$1303, $B536)","v":45.033556084382589},{"$f":"SUMIFS(Investment!$H$6:$H$1303, Investment!$A$6:$A$1303, X$10, Investment!$E$6:$E$1303, $D536, Investment!$G$6:$G$1303, $B536)","v":0},{"$f":"SUMIFS(Investment!$H$6:$H$1303, Investment!$A$6:$A$1303, Y$10, Investment!$E$6:$E$1303, $D536, Investment!$G$6:$G$1303, $B536)","v":0},null,null,null,null,null,null,null,"2.04 > Costa Rica",522,20," "]
[{"$f":"INDEX(Country!$F$31:$G$76, MATCH(AI537, Country!$O$31:$O$76, 0), 1)","v":2.0399999999999991},{"$f":"INDEX(Country!$F$31:$G$76, MATCH(AI537, Country!$O$31:$O$76, 0), 2)","v":"Corporate finance investments"},{"$f":"INDEX(Country!$K$31:$K$76, MATCH(AI537, Country!$O$31:$O$76, 0), 1)","v":"USDm"},"Dominican Republic",0,0,0,0,0,0,0,null,null,null,null,null,null,null,{"$f":"SUMIFS(Investment!$H$6:$H$1303, Investment!$A$6:$A$1303, S$10, Investment!$E$6:$E$1303, $D537, Investment!$G$6:$G$1303, $B537)","v":0},{"$f":"SUMIFS(Investment!$H$6:$H$1303, Investment!$A$6:$A$1303, T$10, Investment!$E$6:$E$1303, $D537, Investment!$G$6:$G$1303, $B537)","v":0},{"$f":"SUMIFS(Investment!$H$6:$H$1303, Investment!$A$6:$A$1303, U$10, Investment!$E$6:$E$1303, $D537, Investment!$G$6:$G$1303, $B537)","v":0},{"$f":"SUMIFS(Investment!$H$6:$H$1303, Investment!$A$6:$A$1303, V$10, Investment!$E$6:$E$1303, $D537, Investment!$G$6:$G$1303, $B537)","v":0},{"$f":"SUMIFS(Investment!$H$6:$H$1303, Investment!$A$6:$A$1303, W$10, Investment!$E$6:$E$1303, $D537, Investment!$G$6:$G$1303, $B537)","v":0},{"$f":"SUMIFS(Investment!$H$6:$H$1303, Investment!$A$6:$A$1303, X$10, Investment!$E$6:$E$1303, $D537, Investment!$G$6:$G$1303, $B537)","v":0},{"$f":"SUMIFS(Investment!$H$6:$H$1303, Investment!$A$6:$A$1303, Y$10, Investment!$E$6:$E$1303, $D537, Investment!$G$6:$G$1303, $B537)","v":0},null,null,null,null,null,null,null,"2.04 > Dominican Republic",523,20," "]
[{"$f":"INDEX(Country!$F$31:$G$76, MATCH(AI538, Country!$O$31:$O$76, 0), 1)","v":2.0399999999999991},{"$f":"INDEX(Country!$F$31:$G$76, MATCH(AI538, Country!$O$31:$O$76, 0), 2)","v":"Corporate finance investments"},{"$f":"INDEX(Country!$K$31:$K$76, MATCH(AI538, Country!$O$31:$O$76, 0), 1)","v":"USDm"},"Ecuador",0,0,0,0,0,0,0,null,null,null,null,null,null,null,{"$f":"SUMIFS(Investment!$H$6:$H$1303, Investment!$A$6:$A$1303, S$10, Investment!$E$6:$E$1303, $D538, Investment!$G$6:$G$1303, $B538)","v":0},{"$f":"SUMIFS(Investment!$H$6:$H$1303, Investment!$A$6:$A$1303, T$10, Investment!$E$6:$E$1303, $D538, Investment!$G$6:$G$1303, $B538)","v":0},{"$f":"SUMIFS(Investment!$H$6:$H$1303, Investment!$A$6:$A$1303, U$10, Investment!$E$6:$E$1303, $D538, Investment!$G$6:$G$1303, $B538)","v":0},{"$f":"SUMIFS(Investment!$H$6:$H$1303, Investment!$A$6:$A$1303, V$10, Investment!$E$6:$E$1303, $D538, Investment!$G$6:$G$1303, $B538)","v":0},{"$f":"SUMIFS(Investment!$H$6:$H$1303, Investment!$A$6:$A$1303, W$10, Investment!$E$6:$E$1303, $D538, Investment!$G$6:$G$1303, $B538)","v":0},{"$f":"SUMIFS(Investment!$H$6:$H$1303, Investment!$A$6:$A$1303, X$10, Investment!$E$6:$E$1303, $D538, Investment!$G$6:$G$1303, $B538)","v":0},{"$f":"SUMIFS(Investment!$H$6:$H$1303, Investment!$A$6:$A$1303, Y$10, Investment!$E$6:$E$1303, $D538, Investment!$G$6:$G$1303, $B538)","v":0},null,null,null,null,null,null,null,"2.04 > Ecuador",524,20," "]
[{"$f":"INDEX(Country!$F$31:$G$76, MATCH(AI539, Country!$O$31:$O$76, 0), 1)","v":2.0399999999999991},{"$f":"INDEX(Country!$F$31:$G$76, MATCH(AI539, Country!$O$31:$O$76, 0), 2)","v":"Corporate finance investments"},{"$f":"INDEX(Country!$K$31:$K$76, MATCH(AI539, Country!$O$31:$O$76, 0), 1)","v":"USDm"},"El Salvador",0,0,0,0,0,0,0,null,null,null,null,null,null,null,{"$f":"SUMIFS(Investment!$H$6:$H$1303, Investment!$A$6:$A$1303, S$10, Investment!$E$6:$E$1303, $D539, Investment!$G$6:$G$1303, $B539)","v":0},{"$f":"SUMIFS(Investment!$H$6:$H$1303, Investment!$A$6:$A$1303, T$10, Investment!$E$6:$E$1303, $D539, Investment!$G$6:$G$1303, $B539)","v":0},{"$f":"SUMIFS(Investment!$H$6:$H$1303, Investment!$A$6:$A$1303, U$10, Investment!$E$6:$E$1303, $D539, Investment!$G$6:$G$1303, $B539)","v":0},{"$f":"SUMIFS(Investment!$H$6:$H$1303, Investment!$A$6:$A$1303, V$10, Investment!$E$6:$E$1303, $D539, Investment!$G$6:$G$1303, $B539)","v":0},{"$f":"SUMIFS(Investment!$H$6:$H$1303, Investment!$A$6:$A$1303, W$10, Investment!$E$6:$E$1303, $D539, Investment!$G$6:$G$1303, $B539)","v":0},{"$f":"SUMIFS(Investment!$H$6:$H$1303, Investment!$A$6:$A$1303, X$10, Investment!$E$6:$E$1303, $D539, Investment!$G$6:$G$1303, $B539)","v":0},{"$f":"SUMIFS(Investment!$H$6:$H$1303, Investment!$A$6:$A$1303, Y$10, Investment!$E$6:$E$1303, $D539, Investment!$G$6:$G$1303, $B539)","v":0},null,null,null,null,null,null,null,"2.04 > El Salvador",525,20," "]
[{"$f":"INDEX(Country!$F$31:$G$76, MATCH(AI540, Country!$O$31:$O$76, 0), 1)","v":2.0399999999999991},{"$f":"INDEX(Country!$F$31:$G$76, MATCH(AI540, Country!$O$31:$O$76, 0), 2)","v":"Corporate finance investments"},{"$f":"INDEX(Country!$K$31:$K$76, MATCH(AI540, Country!$O$31:$O$76, 0), 1)","v":"USDm"},"Guatemala",0,3.4193214245298531,3.4193214245298531,3.4193214245298531,3.4193214245298531,3.4193214245298531,3.4193214245298531,null,null,null,null,null,null,null,{"$f":"SUMIFS(Investment!$H$6:$H$1303, Investment!$A$6:$A$1303, S$10, Investment!$E$6:$E$1303, $D540, Investment!$G$6:$G$1303, $B540)","v":0},{"$f":"SUMIFS(Investment!$H$6:$H$1303, Investment!$A$6:$A$1303, T$10, Investment!$E$6:$E$1303, $D540, Investment!$G$6:$G$1303, $B540)","v":3.4193214245298531},{"$f":"SUMIFS(Investment!$H$6:$H$1303, Investment!$A$6:$A$1303, U$10, Investment!$E$6:$E$1303, $D540, Investment!$G$6:$G$1303, $B540)","v":0},{"$f":"SUMIFS(Investment!$H$6:$H$1303, Investment!$A$6:$A$1303, V$10, Investment!$E$6:$E$1303, $D540, Investment!$G$6:$G$1303, $B540)","v":0},{"$f":"SUMIFS(Investment!$H$6:$H$1303, Investment!$A$6:$A$1303, W$10, Investment!$E$6:$E$1303, $D540, Investment!$G$6:$G$1303, $B540)","v":0},{"$f":"SUMIFS(Investment!$H$6:$H$1303, Investment!$A$6:$A$1303, X$10, Investment!$E$6:$E$1303, $D540, Investment!$G$6:$G$1303, $B540)","v":0},{"$f":"SUMIFS(Investment!$H$6:$H$1303, Investment!$A$6:$A$1303, Y$10, Investment!$E$6:$E$1303, $D540, Investment!$G$6:$G$1303, $B540)","v":0},null,null,null,null,null,null,null,"2.04 > Guatemala",526,20," "]
[{"$f":"INDEX(Country!$F$31:$G$76, MATCH(AI541, Country!$O$31:$O$76, 0), 1)","v":2.0399999999999991},{"$f":"INDEX(Country!$F$31:$G$76, MATCH(AI541, Country!$O$31:$O$76, 0), 2)","v":"Corporate finance investments"},{"$f":"INDEX(Country!$K$31:$K$76, MATCH(AI541, Country!$O$31:$O$76, 0), 1)","v":"USDm"},"Guyana",0,0,0,0,0,0,0,null,null,null,null,null,null,null,{"$f":"SUMIFS(Investment!$H$6:$H$1303, Investment!$A$6:$A$1303, S$10, Investment!$E$6:$E$1303, $D541, Investment!$G$6:$G$1303, $B541)","v":0},{"$f":"SUMIFS(Investment!$H$6:$H$1303, Investment!$A$6:$A$1303, T$10, Investment!$E$6:$E$1303, $D541, Investment!$G$6:$G$1303, $B541)","v":0},{"$f":"SUMIFS(Investment!$H$6:$H$1303, Investment!$A$6:$A$1303, U$10, Investment!$E$6:$E$1303, $D541, Investment!$G$6:$G$1303, $B541)","v":0},{"$f":"SUMIFS(Investment!$H$6:$H$1303, Investment!$A$6:$A$1303, V$10, Investment!$E$6:$E$1303, $D541, Investment!$G$6:$G$1303, $B541)","v":0},{"$f":"SUMIFS(Investment!$H$6:$H$1303, Investment!$A$6:$A$1303, W$10, Investment!$E$6:$E$1303, $D541, Investment!$G$6:$G$1303, $B541)","v":0},{"$f":"SUMIFS(Investment!$H$6:$H$1303, Investment!$A$6:$A$1303, X$10, Investment!$E$6:$E$1303, $D541, Investment!$G$6:$G$1303, $B541)","v":0},{"$f":"SUMIFS(Investment!$H$6:$H$1303, Investment!$A$6:$A$1303, Y$10, Investment!$E$6:$E$1303, $D541, Investment!$G$6:$G$1303, $B541)","v":0},null,null,null,null,null,null,null,"2.04 > Guyana",527,20," "]
[{"$f":"INDEX(Country!$F$31:$G$76, MATCH(AI542, Country!$O$31:$O$76, 0), 1)","v":2.0399999999999991},{"$f":"INDEX(Country!$F$31:$G$76, MATCH(AI542, Country!$O$31:$O$76, 0), 2)","v":"Corporate finance investments"},{"$f":"INDEX(Country!$K$31:$K$76, MATCH(AI542, Country!$O$31:$O$76, 0), 1)","v":"USDm"},"Haiti",0,0,0,0,0,0,0,null,null,null,null,null,null,null,{"$f":"SUMIFS(Investment!$H$6:$H$1303, Investment!$A$6:$A$1303, S$10, Investment!$E$6:$E$1303, $D542, Investment!$G$6:$G$1303, $B542)","v":0},{"$f":"SUMIFS(Investment!$H$6:$H$1303, Investment!$A$6:$A$1303, T$10, Investment!$E$6:$E$1303, $D542, Investment!$G$6:$G$1303, $B542)","v":0},{"$f":"SUMIFS(Investment!$H$6:$H$1303, Investment!$A$6:$A$1303, U$10, Investment!$E$6:$E$1303, $D542, Investment!$G$6:$G$1303, $B542)","v":0},{"$f":"SUMIFS(Investment!$H$6:$H$1303, Investment!$A$6:$A$1303, V$10, Investment!$E$6:$E$1303, $D542, Investment!$G$6:$G$1303, $B542)","v":0},{"$f":"SUMIFS(Investment!$H$6:$H$1303, Investment!$A$6:$A$1303, W$10, Investment!$E$6:$E$1303, $D542, Investment!$G$6:$G$1303, $B542)","v":0},{"$f":"SUMIFS(Investment!$H$6:$H$1303, Investment!$A$6:$A$1303, X$10, Investment!$E$6:$E$1303, $D542, Investment!$G$6:$G$1303, $B542)","v":0},{"$f":"SUMIFS(Investment!$H$6:$H$1303, Investment!$A$6:$A$1303, Y$10, Investment!$E$6:$E$1303, $D542, Investment!$G$6:$G$1303, $B542)","v":0},null,null,null,null,null,null,null,"2.04 > Haiti",528,20," "]
[{"$f":"INDEX(Country!$F$31:$G$76, MATCH(AI543, Country!$O$31:$O$76, 0), 1)","v":2.0399999999999991},{"$f":"INDEX(Country!$F$31:$G$76, MATCH(AI543, Country!$O$31:$O$76, 0), 2)","v":"Corporate finance investments"},{"$f":"INDEX(Country!$K$31:$K$76, MATCH(AI543, Country!$O$31:$O$76, 0), 1)","v":"USDm"},"Honduras",0,0,0,0,0,0,0,null,null,null,null,null,null,null,{"$f":"SUMIFS(Investment!$H$6:$H$1303, Investment!$A$6:$A$1303, S$10, Investment!$E$6:$E$1303, $D543, Investment!$G$6:$G$1303, $B543)","v":0},{"$f":"SUMIFS(Investment!$H$6:$H$1303, Investment!$A$6:$A$1303, T$10, Investment!$E$6:$E$1303, $D543, Investment!$G$6:$G$1303, $B543)","v":0},{"$f":"SUMIFS(Investment!$H$6:$H$1303, Investment!$A$6:$A$1303, U$10, Investment!$E$6:$E$1303, $D543, Investment!$G$6:$G$1303, $B543)","v":0},{"$f":"SUMIFS(Investment!$H$6:$H$1303, Investment!$A$6:$A$1303, V$10, Investment!$E$6:$E$1303, $D543, Investment!$G$6:$G$1303, $B543)","v":0},{"$f":"SUMIFS(Investment!$H$6:$H$1303, Investment!$A$6:$A$1303, W$10, Investment!$E$6:$E$1303, $D543, Investment!$G$6:$G$1303, $B543)","v":0},{"$f":"SUMIFS(Investment!$H$6:$H$1303, Investment!$A$6:$A$1303, X$10, Investment!$E$6:$E$1303, $D543, Investment!$G$6:$G$1303, $B543)","v":0},{"$f":"SUMIFS(Investment!$H$6:$H$1303, Investment!$A$6:$A$1303, Y$10, Investment!$E$6:$E$1303, $D543, Investment!$G$6:$G$1303, $B543)","v":0},null,null,null,null,null,null,null,"2.04 > Honduras",529,20," "]
[{"$f":"INDEX(Country!$F$31:$G$76, MATCH(AI544, Country!$O$31:$O$76, 0), 1)","v":2.0399999999999991},{"$f":"INDEX(Country!$F$31:$G$76, MATCH(AI544, Country!$O$31:$O$76, 0), 2)","v":"Corporate finance investments"},{"$f":"INDEX(Country!$K$31:$K$76, MATCH(AI544, Country!$O$31:$O$76, 0), 1)","v":"USDm"},"Jamaica",0,0,0,0,0,0,0,null,null,null,null,null,null,null,{"$f":"SUMIFS(Investment!$H$6:$H$1303, Investment!$A$6:$A$1303, S$10, Investment!$E$6:$E$1303, $D544, Investment!$G$6:$G$1303, $B544)","v":0},{"$f":"SUMIFS(Investment!$H$6:$H$1303, Investment!$A$6:$A$1303, T$10, Investment!$E$6:$E$1303, $D544, Investment!$G$6:$G$1303, $B544)","v":0},{"$f":"SUMIFS(Investment!$H$6:$H$1303, Investment!$A$6:$A$1303, U$10, Investment!$E$6:$E$1303, $D544, Investment!$G$6:$G$1303, $B544)","v":0},{"$f":"SUMIFS(Investment!$H$6:$H$1303, Investment!$A$6:$A$1303, V$10, Investment!$E$6:$E$1303, $D544, Investment!$G$6:$G$1303, $B544)","v":0},{"$f":"SUMIFS(Investment!$H$6:$H$1303, Investment!$A$6:$A$1303, W$10, Investment!$E$6:$E$1303, $D544, Investment!$G$6:$G$1303, $B544)","v":0},{"$f":"SUMIFS(Investment!$H$6:$H$1303, Investment!$A$6:$A$1303, X$10, Investment!$E$6:$E$1303, $D544, Investment!$G$6:$G$1303, $B544)","v":0},{"$f":"SUMIFS(Investment!$H$6:$H$1303, Investment!$A$6:$A$1303, Y$10, Investment!$E$6:$E$1303, $D544, Investment!$G$6:$G$1303, $B544)","v":0},null,null,null,null,null,null,null,"2.04 > Jamaica",530,20," "]
[{"$f":"INDEX(Country!$F$31:$G$76, MATCH(AI545, Country!$O$31:$O$76, 0), 1)","v":2.0399999999999991},{"$f":"INDEX(Country!$F$31:$G$76, MATCH(AI545, Country!$O$31:$O$76, 0), 2)","v":"Corporate finance investments"},{"$f":"INDEX(Country!$K$31:$K$76, MATCH(AI545, Country!$O$31:$O$76, 0), 1)","v":"USDm"},"Mexico",0,241.79767225416157,241.79767225416157,241.79767225416157,241.79767225416157,241.79767225416157,241.79767225416157,null,null,null,null,null,null,null,{"$f":"SUMIFS(Investment!$H$6:$H$1303, Investment!$A$6:$A$1303, S$10, Investment!$E$6:$E$1303, $D545, Investment!$G$6:$G$1303, $B545)","v":0},{"$f":"SUMIFS(Investment!$H$6:$H$1303, Investment!$A$6:$A$1303, T$10, Investment!$E$6:$E$1303, $D545, Investment!$G$6:$G$1303, $B545)","v":241.79767225416157},{"$f":"SUMIFS(Investment!$H$6:$H$1303, Investment!$A$6:$A$1303, U$10, Investment!$E$6:$E$1303, $D545, Investment!$G$6:$G$1303, $B545)","v":0},{"$f":"SUMIFS(Investment!$H$6:$H$1303, Investment!$A$6:$A$1303, V$10, Investment!$E$6:$E$1303, $D545, Investment!$G$6:$G$1303, $B545)","v":0},{"$f":"SUMIFS(Investment!$H$6:$H$1303, Investment!$A$6:$A$1303, W$10, Investment!$E$6:$E$1303, $D545, Investment!$G$6:$G$1303, $B545)","v":0},{"$f":"SUMIFS(Investment!$H$6:$H$1303, Investment!$A$6:$A$1303, X$10, Investment!$E$6:$E$1303, $D545, Investment!$G$6:$G$1303, $B545)","v":0},{"$f":"SUMIFS(Investment!$H$6:$H$1303, Investment!$A$6:$A$1303, Y$10, Investment!$E$6:$E$1303, $D545, Investment!$G$6:$G$1303, $B545)","v":0},null,null,null,null,null,null,null,"2.04 > Mexico",531,20," "]
[{"$f":"INDEX(Country!$F$31:$G$76, MATCH(AI546, Country!$O$31:$O$76, 0), 1)","v":2.0399999999999991},{"$f":"INDEX(Country!$F$31:$G$76, MATCH(AI546, Country!$O$31:$O$76, 0), 2)","v":"Corporate finance investments"},{"$f":"INDEX(Country!$K$31:$K$76, MATCH(AI546, Country!$O$31:$O$76, 0), 1)","v":"USDm"},"Nicaragua",0,0,0,0,0,0,0,null,null,null,null,null,null,null,{"$f":"SUMIFS(Investment!$H$6:$H$1303, Investment!$A$6:$A$1303, S$10, Investment!$E$6:$E$1303, $D546, Investment!$G$6:$G$1303, $B546)","v":0},{"$f":"SUMIFS(Investment!$H$6:$H$1303, Investment!$A$6:$A$1303, T$10, Investment!$E$6:$E$1303, $D546, Investment!$G$6:$G$1303, $B546)","v":0},{"$f":"SUMIFS(Investment!$H$6:$H$1303, Investment!$A$6:$A$1303, U$10, Investment!$E$6:$E$1303, $D546, Investment!$G$6:$G$1303, $B546)","v":0},{"$f":"SUMIFS(Investment!$H$6:$H$1303, Investment!$A$6:$A$1303, V$10, Investment!$E$6:$E$1303, $D546, Investment!$G$6:$G$1303, $B546)","v":0},{"$f":"SUMIFS(Investment!$H$6:$H$1303, Investment!$A$6:$A$1303, W$10, Investment!$E$6:$E$1303, $D546, Investment!$G$6:$G$1303, $B546)","v":0},{"$f":"SUMIFS(Investment!$H$6:$H$1303, Investment!$A$6:$A$1303, X$10, Investment!$E$6:$E$1303, $D546, Investment!$G$6:$G$1303, $B546)","v":0},{"$f":"SUMIFS(Investment!$H$6:$H$1303, Investment!$A$6:$A$1303, Y$10, Investment!$E$6:$E$1303, $D546, Investment!$G$6:$G$1303, $B546)","v":0},null,null,null,null,null,null,null,"2.04 > Nicaragua",532,20," "]
[{"$f":"INDEX(Country!$F$31:$G$76, MATCH(AI547, Country!$O$31:$O$76, 0), 1)","v":2.0399999999999991},{"$f":"INDEX(Country!$F$31:$G$76, MATCH(AI547, Country!$O$31:$O$76, 0), 2)","v":"Corporate finance investments"},{"$f":"INDEX(Country!$K$31:$K$76, MATCH(AI547, Country!$O$31:$O$76, 0), 1)","v":"USDm"},"Panama",0,0,0,0,0,0,0,null,null,null,null,null,null,null,{"$f":"SUMIFS(Investment!$H$6:$H$1303, Investment!$A$6:$A$1303, S$10, Investment!$E$6:$E$1303, $D547, Investment!$G$6:$G$1303, $B547)","v":0},{"$f":"SUMIFS(Investment!$H$6:$H$1303, Investment!$A$6:$A$1303, T$10, Investment!$E$6:$E$1303, $D547, Investment!$G$6:$G$1303, $B547)","v":0},{"$f":"SUMIFS(Investment!$H$6:$H$1303, Investment!$A$6:$A$1303, U$10, Investment!$E$6:$E$1303, $D547, Investment!$G$6:$G$1303, $B547)","v":0},{"$f":"SUMIFS(Investment!$H$6:$H$1303, Investment!$A$6:$A$1303, V$10, Investment!$E$6:$E$1303, $D547, Investment!$G$6:$G$1303, $B547)","v":0},{"$f":"SUMIFS(Investment!$H$6:$H$1303, Investment!$A$6:$A$1303, W$10, Investment!$E$6:$E$1303, $D547, Investment!$G$6:$G$1303, $B547)","v":0},{"$f":"SUMIFS(Investment!$H$6:$H$1303, Investment!$A$6:$A$1303, X$10, Investment!$E$6:$E$1303, $D547, Investment!$G$6:$G$1303, $B547)","v":0},{"$f":"SUMIFS(Investment!$H$6:$H$1303, Investment!$A$6:$A$1303, Y$10, Investment!$E$6:$E$1303, $D547, Investment!$G$6:$G$1303, $B547)","v":0},null,null,null,null,null,null,null,"2.04 > Panama",533,20," "]
[{"$f":"INDEX(Country!$F$31:$G$76, MATCH(AI548, Country!$O$31:$O$76, 0), 1)","v":2.0399999999999991},{"$f":"INDEX(Country!$F$31:$G$76, MATCH(AI548, Country!$O$31:$O$76, 0), 2)","v":"Corporate finance investments"},{"$f":"INDEX(Country!$K$31:$K$76, MATCH(AI548, Country!$O$31:$O$76, 0), 1)","v":"USDm"},"Paraguay",0,0,0,0,0,0,0,null,null,null,null,null,null,null,{"$f":"SUMIFS(Investment!$H$6:$H$1303, Investment!$A$6:$A$1303, S$10, Investment!$E$6:$E$1303, $D548, Investment!$G$6:$G$1303, $B548)","v":0},{"$f":"SUMIFS(Investment!$H$6:$H$1303, Investment!$A$6:$A$1303, T$10, Investment!$E$6:$E$1303, $D548, Investment!$G$6:$G$1303, $B548)","v":0},{"$f":"SUMIFS(Investment!$H$6:$H$1303, Investment!$A$6:$A$1303, U$10, Investment!$E$6:$E$1303, $D548, Investment!$G$6:$G$1303, $B548)","v":0},{"$f":"SUMIFS(Investment!$H$6:$H$1303, Investment!$A$6:$A$1303, V$10, Investment!$E$6:$E$1303, $D548, Investment!$G$6:$G$1303, $B548)","v":0},{"$f":"SUMIFS(Investment!$H$6:$H$1303, Investment!$A$6:$A$1303, W$10, Investment!$E$6:$E$1303, $D548, Investment!$G$6:$G$1303, $B548)","v":0},{"$f":"SUMIFS(Investment!$H$6:$H$1303, Investment!$A$6:$A$1303, X$10, Investment!$E$6:$E$1303, $D548, Investment!$G$6:$G$1303, $B548)","v":0},{"$f":"SUMIFS(Investment!$H$6:$H$1303, Investment!$A$6:$A$1303, Y$10, Investment!$E$6:$E$1303, $D548, Investment!$G$6:$G$1303, $B548)","v":0},null,null,null,null,null,null,null,"2.04 > Paraguay",534,20," "]
[{"$f":"INDEX(Country!$F$31:$G$76, MATCH(AI549, Country!$O$31:$O$76, 0), 1)","v":2.0399999999999991},{"$f":"INDEX(Country!$F$31:$G$76, MATCH(AI549, Country!$O$31:$O$76, 0), 2)","v":"Corporate finance investments"},{"$f":"INDEX(Country!$K$31:$K$76, MATCH(AI549, Country!$O$31:$O$76, 0), 1)","v":"USDm"},"Peru",49.81391946804581,107.35135853750114,107.35135853750114,107.35135853750114,111.8547141459394,147.22208819687006,147.22208819687006,null,null,null,null,null,null,null,{"$f":"SUMIFS(Investment!$H$6:$H$1303, Investment!$A$6:$A$1303, S$10, Investment!$E$6:$E$1303, $D549, Investment!$G$6:$G$1303, $B549)","v":49.81391946804581},{"$f":"SUMIFS(Investment!$H$6:$H$1303, Investment!$A$6:$A$1303, T$10, Investment!$E$6:$E$1303, $D549, Investment!$G$6:$G$1303, $B549)","v":57.537439069455331},{"$f":"SUMIFS(Investment!$H$6:$H$1303, Investment!$A$6:$A$1303, U$10, Investment!$E$6:$E$1303, $D549, Investment!$G$6:$G$1303, $B549)","v":0},{"$f":"SUMIFS(Investment!$H$6:$H$1303, Investment!$A$6:$A$1303, V$10, Investment!$E$6:$E$1303, $D549, Investment!$G$6:$G$1303, $B549)","v":0},{"$f":"SUMIFS(Investment!$H$6:$H$1303, Investment!$A$6:$A$1303, W$10, Investment!$E$6:$E$1303, $D549, Investment!$G$6:$G$1303, $B549)","v":4.5033556084382589},{"$f":"SUMIFS(Investment!$H$6:$H$1303, Investment!$A$6:$A$1303, X$10, Investment!$E$6:$E$1303, $D549, Investment!$G$6:$G$1303, $B549)","v":35.367374050930671},{"$f":"SUMIFS(Investment!$H$6:$H$1303, Investment!$A$6:$A$1303, Y$10, Investment!$E$6:$E$1303, $D549, Investment!$G$6:$G$1303, $B549)","v":0},null,null,null,null,null,null,null,"2.04 > Peru",535,20," "]
[{"$f":"INDEX(Country!$F$31:$G$76, MATCH(AI550, Country!$O$31:$O$76, 0), 1)","v":2.0399999999999991},{"$f":"INDEX(Country!$F$31:$G$76, MATCH(AI550, Country!$O$31:$O$76, 0), 2)","v":"Corporate finance investments"},{"$f":"INDEX(Country!$K$31:$K$76, MATCH(AI550, Country!$O$31:$O$76, 0), 1)","v":"USDm"},"Suriname",0,0,0,0,0,0,0,null,null,null,null,null,null,null,{"$f":"SUMIFS(Investment!$H$6:$H$1303, Investment!$A$6:$A$1303, S$10, Investment!$E$6:$E$1303, $D550, Investment!$G$6:$G$1303, $B550)","v":0},{"$f":"SUMIFS(Investment!$H$6:$H$1303, Investment!$A$6:$A$1303, T$10, Investment!$E$6:$E$1303, $D550, Investment!$G$6:$G$1303, $B550)","v":0},{"$f":"SUMIFS(Investment!$H$6:$H$1303, Investment!$A$6:$A$1303, U$10, Investment!$E$6:$E$1303, $D550, Investment!$G$6:$G$1303, $B550)","v":0},{"$f":"SUMIFS(Investment!$H$6:$H$1303, Investment!$A$6:$A$1303, V$10, Investment!$E$6:$E$1303, $D550, Investment!$G$6:$G$1303, $B550)","v":0},{"$f":"SUMIFS(Investment!$H$6:$H$1303, Investment!$A$6:$A$1303, W$10, Investment!$E$6:$E$1303, $D550, Investment!$G$6:$G$1303, $B550)","v":0},{"$f":"SUMIFS(Investment!$H$6:$H$1303, Investment!$A$6:$A$1303, X$10, Investment!$E$6:$E$1303, $D550, Investment!$G$6:$G$1303, $B550)","v":0},{"$f":"SUMIFS(Investment!$H$6:$H$1303, Investment!$A$6:$A$1303, Y$10, Investment!$E$6:$E$1303, $D550, Investment!$G$6:$G$1303, $B550)","v":0},null,null,null,null,null,null,null,"2.04 > Suriname",536,20," "]
[{"$f":"INDEX(Country!$F$31:$G$76, MATCH(AI551, Country!$O$31:$O$76, 0), 1)","v":2.0399999999999991},{"$f":"INDEX(Country!$F$31:$G$76, MATCH(AI551, Country!$O$31:$O$76, 0), 2)","v":"Corporate finance investments"},{"$f":"INDEX(Country!$K$31:$K$76, MATCH(AI551, Country!$O$31:$O$76, 0), 1)","v":"USDm"},"Trinidad & Tobago",0,0,0,0,0,0,0,null,null,null,null,null,null,null,{"$f":"SUMIFS(Investment!$H$6:$H$1303, Investment!$A$6:$A$1303, S$10, Investment!$E$6:$E$1303, $D551, Investment!$G$6:$G$1303, $B551)","v":0},{"$f":"SUMIFS(Investment!$H$6:$H$1303, Investment!$A$6:$A$1303, T$10, Investment!$E$6:$E$1303, $D551, Investment!$G$6:$G$1303, $B551)","v":0},{"$f":"SUMIFS(Investment!$H$6:$H$1303, Investment!$A$6:$A$1303, U$10, Investment!$E$6:$E$1303, $D551, Investment!$G$6:$G$1303, $B551)","v":0},{"$f":"SUMIFS(Investment!$H$6:$H$1303, Investment!$A$6:$A$1303, V$10, Investment!$E$6:$E$1303, $D551, Investment!$G$6:$G$1303, $B551)","v":0},{"$f":"SUMIFS(Investment!$H$6:$H$1303, Investment!$A$6:$A$1303, W$10, Investment!$E$6:$E$1303, $D551, Investment!$G$6:$G$1303, $B551)","v":0},{"$f":"SUMIFS(Investment!$H$6:$H$1303, Investment!$A$6:$A$1303, X$10, Investment!$E$6:$E$1303, $D551, Investment!$G$6:$G$1303, $B551)","v":0},{"$f":"SUMIFS(Investment!$H$6:$H$1303, Investment!$A$6:$A$1303, Y$10, Investment!$E$6:$E$1303, $D551, Investment!$G$6:$G$1303, $B551)","v":0},null,null,null,null,null,null,null,"2.04 > Trinidad & Tobago",537,20," "]
[{"$f":"INDEX(Country!$F$31:$G$76, MATCH(AI552, Country!$O$31:$O$76, 0), 1)","v":2.0399999999999991},{"$f":"INDEX(Country!$F$31:$G$76, MATCH(AI552, Country!$O$31:$O$76, 0), 2)","v":"Corporate finance investments"},{"$f":"INDEX(Country!$K$31:$K$76, MATCH(AI552, Country!$O$31:$O$76, 0), 1)","v":"USDm"},"Uruguay",0,0,0,0,0,0,0,null,null,null,null,null,null,null,{"$f":"SUMIFS(Investment!$H$6:$H$1303, Investment!$A$6:$A$1303, S$10, Investment!$E$6:$E$1303, $D552, Investment!$G$6:$G$1303, $B552)","v":0},{"$f":"SUMIFS(Investment!$H$6:$H$1303, Investment!$A$6:$A$1303, T$10, Investment!$E$6:$E$1303, $D552, Investment!$G$6:$G$1303, $B552)","v":0},{"$f":"SUMIFS(Investment!$H$6:$H$1303, Investment!$A$6:$A$1303, U$10, Investment!$E$6:$E$1303, $D552, Investment!$G$6:$G$1303, $B552)","v":0},{"$f":"SUMIFS(Investment!$H$6:$H$1303, Investment!$A$6:$A$1303, V$10, Investment!$E$6:$E$1303, $D552, Investment!$G$6:$G$1303, $B552)","v":0},{"$f":"SUMIFS(Investment!$H$6:$H$1303, Investment!$A$6:$A$1303, W$10, Investment!$E$6:$E$1303, $D552, Investment!$G$6:$G$1303, $B552)","v":0},{"$f":"SUMIFS(Investment!$H$6:$H$1303, Investment!$A$6:$A$1303, X$10, Investment!$E$6:$E$1303, $D552, Investment!$G$6:$G$1303, $B552)","v":0},{"$f":"SUMIFS(Investment!$H$6:$H$1303, Investment!$A$6:$A$1303, Y$10, Investment!$E$6:$E$1303, $D552, Investment!$G$6:$G$1303, $B552)","v":0},null,null,null,null,null,null,null,"2.04 > Uruguay",538,20," "]
[{"$f":"INDEX(Country!$F$31:$G$76, MATCH(AI553, Country!$O$31:$O$76, 0), 1)","v":2.0399999999999991},{"$f":"INDEX(Country!$F$31:$G$76, MATCH(AI553, Country!$O$31:$O$76, 0), 2)","v":"Corporate finance investments"},{"$f":"INDEX(Country!$K$31:$K$76, MATCH(AI553, Country!$O$31:$O$76, 0), 1)","v":"USDm"},"Venezuela",0,0,0,0,0,0,0,null,null,null,null,null,null,null,{"$f":"SUMIFS(Investment!$H$6:$H$1303, Investment!$A$6:$A$1303, S$10, Investment!$E$6:$E$1303, $D553, Investment!$G$6:$G$1303, $B553)","v":0},{"$f":"SUMIFS(Investment!$H$6:$H$1303, Investment!$A$6:$A$1303, T$10, Investment!$E$6:$E$1303, $D553, Investment!$G$6:$G$1303, $B553)","v":0},{"$f":"SUMIFS(Investment!$H$6:$H$1303, Investment!$A$6:$A$1303, U$10, Investment!$E$6:$E$1303, $D553, Investment!$G$6:$G$1303, $B553)","v":0},{"$f":"SUMIFS(Investment!$H$6:$H$1303, Investment!$A$6:$A$1303, V$10, Investment!$E$6:$E$1303, $D553, Investment!$G$6:$G$1303, $B553)","v":0},{"$f":"SUMIFS(Investment!$H$6:$H$1303, Investment!$A$6:$A$1303, W$10, Investment!$E$6:$E$1303, $D553, Investment!$G$6:$G$1303, $B553)","v":0},{"$f":"SUMIFS(Investment!$H$6:$H$1303, Investment!$A$6:$A$1303, X$10, Investment!$E$6:$E$1303, $D553, Investment!$G$6:$G$1303, $B553)","v":0},{"$f":"SUMIFS(Investment!$H$6:$H$1303, Investment!$A$6:$A$1303, Y$10, Investment!$E$6:$E$1303, $D553, Investment!$G$6:$G$1303, $B553)","v":0},null,null,null,null,null,null,null,"2.04 > Venezuela",539,20," "]
[{"$f":"INDEX(Country!$F$31:$G$76, MATCH(AI554, Country!$O$31:$O$76, 0), 1)","v":2.0399999999999991},{"$f":"INDEX(Country!$F$31:$G$76, MATCH(AI554, Country!$O$31:$O$76, 0), 2)","v":"Corporate finance investments"},{"$f":"INDEX(Country!$K$31:$K$76, MATCH(AI554, Country!$O$31:$O$76, 0), 1)","v":"USDm"},"Benchmark",{"$f":"IFERROR(MAX(E528:E553), 0)","v":291.7215569999999},{"$f":"IFERROR(MAX(F528:F553), 0)","v":2471.3222038132108},3215.3483990178379,4744.5492229159581,6699.9267673698605,9777.8641040629318,11053.401500657894,0,0,0,0,0,0,0,"VC/PE investments (USDm)",null,null,null,null,null,null,null,null,null,null,null,null,null,"2.04 > Benchmark",540,20," "]
[{"$f":"INDEX(Country!$F$31:$G$76, MATCH(AI555, Country!$O$31:$O$76, 0), 1)","v":2.0499999999999989},{"$f":"INDEX(Country!$F$31:$G$76, MATCH(AI555, Country!$O$31:$O$76, 0), 2)","v":"VC/PE investments"},{"$f":"INDEX(Country!$K$31:$K$76, MATCH(AI555, Country!$O$31:$O$76, 0), 1)","v":"USDm"},"Argentina",{"$f":"S555","v":0},{"$f":"E555+T555","v":0},{"$f":"F555+U555","v":55.114535068189831},{"$f":"G555+V555","v":55.114535068189831},{"$f":"H555+W555","v":55.114535068189831},{"$f":"I555+X555","v":55.114535068189831},{"$f":"J555+Y555","v":55.743008764171748},null,null,null,null,null,null,null,{"$f":"SUMIFS(Investment!$H$6:$H$1303, Investment!$A$6:$A$1303, S$10, Investment!$E$6:$E$1303, $D555, Investment!$G$6:$G$1303, $B555)","v":0},{"$f":"SUMIFS(Investment!$H$6:$H$1303, Investment!$A$6:$A$1303, T$10, Investment!$E$6:$E$1303, $D555, Investment!$G$6:$G$1303, $B555)","v":0},{"$f":"SUMIFS(Investment!$H$6:$H$1303, Investment!$A$6:$A$1303, U$10, Investment!$E$6:$E$1303, $D555, Investment!$G$6:$G$1303, $B555)","v":55.114535068189831},{"$f":"SUMIFS(Investment!$H$6:$H$1303, Investment!$A$6:$A$1303, V$10, Investment!$E$6:$E$1303, $D555, Investment!$G$6:$G$1303, $B555)","v":0},{"$f":"SUMIFS(Investment!$H$6:$H$1303, Investment!$A$6:$A$1303, W$10, Investment!$E$6:$E$1303, $D555, Investment!$G$6:$G$1303, $B555)","v":0},{"$f":"SUMIFS(Investment!$H$6:$H$1303, Investment!$A$6:$A$1303, X$10, Investment!$E$6:$E$1303, $D555, Investment!$G$6:$G$1303, $B555)","v":0},{"$f":"SUMIFS(Investment!$H$6:$H$1303, Investment!$A$6:$A$1303, Y$10, Investment!$E$6:$E$1303, $D555, Investment!$G$6:$G$1303, $B555)","v":0.62847369598191516},null,null,null,null,null,null,null,"2.05 > Argentina",541,21," "]
[{"$f":"INDEX(Country!$F$31:$G$76, MATCH(AI556, Country!$O$31:$O$76, 0), 1)","v":2.0499999999999989},{"$f":"INDEX(Country!$F$31:$G$76, MATCH(AI556, Country!$O$31:$O$76, 0), 2)","v":"VC/PE investments"},{"$f":"INDEX(Country!$K$31:$K$76, MATCH(AI556, Country!$O$31:$O$76, 0), 1)","v":"USDm"},{"$f":"D529","v":"Bahamas"},{"$f":"S556","v":0},0,0,0,0,0,0,null,null,null,null,null,null,null,{"$f":"SUMIFS(Investment!$H$6:$H$1303, Investment!$A$6:$A$1303, S$10, Investment!$E$6:$E$1303, $D556, Investment!$G$6:$G$1303, $B556)","v":0},{"$f":"SUMIFS(Investment!$H$6:$H$1303, Investment!$A$6:$A$1303, T$10, Investment!$E$6:$E$1303, $D556, Investment!$G$6:$G$1303, $B556)","v":0},{"$f":"SUMIFS(Investment!$H$6:$H$1303, Investment!$A$6:$A$1303, U$10, Investment!$E$6:$E$1303, $D556, Investment!$G$6:$G$1303, $B556)","v":0},{"$f":"SUMIFS(Investment!$H$6:$H$1303, Investment!$A$6:$A$1303, V$10, Investment!$E$6:$E$1303, $D556, Investment!$G$6:$G$1303, $B556)","v":0},{"$f":"SUMIFS(Investment!$H$6:$H$1303, Investment!$A$6:$A$1303, W$10, Investment!$E$6:$E$1303, $D556, Investment!$G$6:$G$1303, $B556)","v":0},{"$f":"SUMIFS(Investment!$H$6:$H$1303, Investment!$A$6:$A$1303, X$10, Investment!$E$6:$E$1303, $D556, Investment!$G$6:$G$1303, $B556)","v":0},{"$f":"SUMIFS(Investment!$H$6:$H$1303, Investment!$A$6:$A$1303, Y$10, Investment!$E$6:$E$1303, $D556, Investment!$G$6:$G$1303, $B556)","v":0},null,null,null,null,null,null,null,"2.05 > Bahamas",542,21," "]
[{"$f":"INDEX(Country!$F$31:$G$76, MATCH(AI557, Country!$O$31:$O$76, 0), 1)","v":2.0499999999999989},{"$f":"INDEX(Country!$F$31:$G$76, MATCH(AI557, Country!$O$31:$O$76, 0), 2)","v":"VC/PE investments"},{"$f":"INDEX(Country!$K$31:$K$76, MATCH(AI557, Country!$O$31:$O$76, 0), 1)","v":"USDm"},"Barbados",0,0,0,0,0,0,0,null,null,null,null,null,null,null,{"$f":"SUMIFS(Investment!$H$6:$H$1303, Investment!$A$6:$A$1303, S$10, Investment!$E$6:$E$1303, $D557, Investment!$G$6:$G$1303, $B557)","v":0},{"$f":"SUMIFS(Investment!$H$6:$H$1303, Investment!$A$6:$A$1303, T$10, Investment!$E$6:$E$1303, $D557, Investment!$G$6:$G$1303, $B557)","v":0},{"$f":"SUMIFS(Investment!$H$6:$H$1303, Investment!$A$6:$A$1303, U$10, Investment!$E$6:$E$1303, $D557, Investment!$G$6:$G$1303, $B557)","v":0},{"$f":"SUMIFS(Investment!$H$6:$H$1303, Investment!$A$6:$A$1303, V$10, Investment!$E$6:$E$1303, $D557, Investment!$G$6:$G$1303, $B557)","v":0},{"$f":"SUMIFS(Investment!$H$6:$H$1303, Investment!$A$6:$A$1303, W$10, Investment!$E$6:$E$1303, $D557, Investment!$G$6:$G$1303, $B557)","v":0},{"$f":"SUMIFS(Investment!$H$6:$H$1303, Investment!$A$6:$A$1303, X$10, Investment!$E$6:$E$1303, $D557, Investment!$G$6:$G$1303, $B557)","v":0},{"$f":"SUMIFS(Investment!$H$6:$H$1303, Investment!$A$6:$A$1303, Y$10, Investment!$E$6:$E$1303, $D557, Investment!$G$6:$G$1303, $B557)","v":0},null,null,null,null,null,null,null,"2.05 > Barbados",543,21," "]
[{"$f":"INDEX(Country!$F$31:$G$76, MATCH(AI558, Country!$O$31:$O$76, 0), 1)","v":2.0499999999999989},{"$f":"INDEX(Country!$F$31:$G$76, MATCH(AI558, Country!$O$31:$O$76, 0), 2)","v":"VC/PE investments"},{"$f":"INDEX(Country!$K$31:$K$76, MATCH(AI558, Country!$O$31:$O$76, 0), 1)","v":"USDm"},"Belize",0,0,0,0,0,0,0,null,null,null,null,null,null,null,{"$f":"SUMIFS(Investment!$H$6:$H$1303, Investment!$A$6:$A$1303, S$10, Investment!$E$6:$E$1303, $D558, Investment!$G$6:$G$1303, $B558)","v":0},{"$f":"SUMIFS(Investment!$H$6:$H$1303, Investment!$A$6:$A$1303, T$10, Investment!$E$6:$E$1303, $D558, Investment!$G$6:$G$1303, $B558)","v":0},{"$f":"SUMIFS(Investment!$H$6:$H$1303, Investment!$A$6:$A$1303, U$10, Investment!$E$6:$E$1303, $D558, Investment!$G$6:$G$1303, $B558)","v":0},{"$f":"SUMIFS(Investment!$H$6:$H$1303, Investment!$A$6:$A$1303, V$10, Investment!$E$6:$E$1303, $D558, Investment!$G$6:$G$1303, $B558)","v":0},{"$f":"SUMIFS(Investment!$H$6:$H$1303, Investment!$A$6:$A$1303, W$10, Investment!$E$6:$E$1303, $D558, Investment!$G$6:$G$1303, $B558)","v":0},{"$f":"SUMIFS(Investment!$H$6:$H$1303, Investment!$A$6:$A$1303, X$10, Investment!$E$6:$E$1303, $D558, Investment!$G$6:$G$1303, $B558)","v":0},{"$f":"SUMIFS(Investment!$H$6:$H$1303, Investment!$A$6:$A$1303, Y$10, Investment!$E$6:$E$1303, $D558, Investment!$G$6:$G$1303, $B558)","v":0},null,null,null,null,null,null,null,"2.05 > Belize",544,21," "]
[{"$f":"INDEX(Country!$F$31:$G$76, MATCH(AI559, Country!$O$31:$O$76, 0), 1)","v":2.0499999999999989},{"$f":"INDEX(Country!$F$31:$G$76, MATCH(AI559, Country!$O$31:$O$76, 0), 2)","v":"VC/PE investments"},{"$f":"INDEX(Country!$K$31:$K$76, MATCH(AI559, Country!$O$31:$O$76, 0), 1)","v":"USDm"},"Bolivia",0,0,0,0,0,0,0,null,null,null,null,null,null,null,{"$f":"SUMIFS(Investment!$H$6:$H$1303, Investment!$A$6:$A$1303, S$10, Investment!$E$6:$E$1303, $D559, Investment!$G$6:$G$1303, $B559)","v":0},{"$f":"SUMIFS(Investment!$H$6:$H$1303, Investment!$A$6:$A$1303, T$10, Investment!$E$6:$E$1303, $D559, Investment!$G$6:$G$1303, $B559)","v":0},{"$f":"SUMIFS(Investment!$H$6:$H$1303, Investment!$A$6:$A$1303, U$10, Investment!$E$6:$E$1303, $D559, Investment!$G$6:$G$1303, $B559)","v":0},{"$f":"SUMIFS(Investment!$H$6:$H$1303, Investment!$A$6:$A$1303, V$10, Investment!$E$6:$E$1303, $D559, Investment!$G$6:$G$1303, $B559)","v":0},{"$f":"SUMIFS(Investment!$H$6:$H$1303, Investment!$A$6:$A$1303, W$10, Investment!$E$6:$E$1303, $D559, Investment!$G$6:$G$1303, $B559)","v":0},{"$f":"SUMIFS(Investment!$H$6:$H$1303, Investment!$A$6:$A$1303, X$10, Investment!$E$6:$E$1303, $D559, Investment!$G$6:$G$1303, $B559)","v":0},{"$f":"SUMIFS(Investment!$H$6:$H$1303, Investment!$A$6:$A$1303, Y$10, Investment!$E$6:$E$1303, $D559, Investment!$G$6:$G$1303, $B559)","v":0},null,null,null,null,null,null,null,"2.05 > Bolivia",545,21," "]
[{"$f":"INDEX(Country!$F$31:$G$76, MATCH(AI560, Country!$O$31:$O$76, 0), 1)","v":2.0499999999999989},{"$f":"INDEX(Country!$F$31:$G$76, MATCH(AI560, Country!$O$31:$O$76, 0), 2)","v":"VC/PE investments"},{"$f":"INDEX(Country!$K$31:$K$76, MATCH(AI560, Country!$O$31:$O$76, 0), 1)","v":"USDm"},"Brazil",57.142000000000003,887.69200000000001,1529.8088836338002,2060.0888950558774,2653.5194288147218,3045.5502731169599,3552.7729211545479,null,null,null,null,null,null,null,{"$f":"SUMIFS(Investment!$H$6:$H$1303, Investment!$A$6:$A$1303, S$10, Investment!$E$6:$E$1303, $D560, Investment!$G$6:$G$1303, $B560)","v":57.142000000000003},{"$f":"SUMIFS(Investment!$H$6:$H$1303, Investment!$A$6:$A$1303, T$10, Investment!$E$6:$E$1303, $D560, Investment!$G$6:$G$1303, $B560)","v":830.55},{"$f":"SUMIFS(Investment!$H$6:$H$1303, Investment!$A$6:$A$1303, U$10, Investment!$E$6:$E$1303, $D560, Investment!$G$6:$G$1303, $B560)","v":642.11688363380017},{"$f":"SUMIFS(Investment!$H$6:$H$1303, Investment!$A$6:$A$1303, V$10, Investment!$E$6:$E$1303, $D560, Investment!$G$6:$G$1303, $B560)","v":530.280011422077},{"$f":"SUMIFS(Investment!$H$6:$H$1303, Investment!$A$6:$A$1303, W$10, Investment!$E$6:$E$1303, $D560, Investment!$G$6:$G$1303, $B560)","v":593.43053375884438},{"$f":"SUMIFS(Investment!$H$6:$H$1303, Investment!$A$6:$A$1303, X$10, Investment!$E$6:$E$1303, $D560, Investment!$G$6:$G$1303, $B560)","v":392.03084430223828},{"$f":"SUMIFS(Investment!$H$6:$H$1303, Investment!$A$6:$A$1303, Y$10, Investment!$E$6:$E$1303, $D560, Investment!$G$6:$G$1303, $B560)","v":507.22264803758787},null,null,null,null,null,null,null,"2.05 > Brazil",546,21," "]
[{"$f":"INDEX(Country!$F$31:$G$76, MATCH(AI561, Country!$O$31:$O$76, 0), 1)","v":2.0499999999999989},{"$f":"INDEX(Country!$F$31:$G$76, MATCH(AI561, Country!$O$31:$O$76, 0), 2)","v":"VC/PE investments"},{"$f":"INDEX(Country!$K$31:$K$76, MATCH(AI561, Country!$O$31:$O$76, 0), 1)","v":"USDm"},"Chile",0,0,20.6,22.992000000000001,231.40035693332325,231.40035693332325,252.59156702843373,null,null,null,null,null,null,null,{"$f":"SUMIFS(Investment!$H$6:$H$1303, Investment!$A$6:$A$1303, S$10, Investment!$E$6:$E$1303, $D561, Investment!$G$6:$G$1303, $B561)","v":0},{"$f":"SUMIFS(Investment!$H$6:$H$1303, Investment!$A$6:$A$1303, T$10, Investment!$E$6:$E$1303, $D561, Investment!$G$6:$G$1303, $B561)","v":0},{"$f":"SUMIFS(Investment!$H$6:$H$1303, Investment!$A$6:$A$1303, U$10, Investment!$E$6:$E$1303, $D561, Investment!$G$6:$G$1303, $B561)","v":20.6},{"$f":"SUMIFS(Investment!$H$6:$H$1303, Investment!$A$6:$A$1303, V$10, Investment!$E$6:$E$1303, $D561, Investment!$G$6:$G$1303, $B561)","v":2.3919999999999999},{"$f":"SUMIFS(Investment!$H$6:$H$1303, Investment!$A$6:$A$1303, W$10, Investment!$E$6:$E$1303, $D561, Investment!$G$6:$G$1303, $B561)","v":208.40835693332326},{"$f":"SUMIFS(Investment!$H$6:$H$1303, Investment!$A$6:$A$1303, X$10, Investment!$E$6:$E$1303, $D561, Investment!$G$6:$G$1303, $B561)","v":0},{"$f":"SUMIFS(Investment!$H$6:$H$1303, Investment!$A$6:$A$1303, Y$10, Investment!$E$6:$E$1303, $D561, Investment!$G$6:$G$1303, $B561)","v":21.191210095110485},null,null,null,null,null,null,null,"2.05 > Chile",547,21," "]
[{"$f":"INDEX(Country!$F$31:$G$76, MATCH(AI562, Country!$O$31:$O$76, 0), 1)","v":2.0499999999999989},{"$f":"INDEX(Country!$F$31:$G$76, MATCH(AI562, Country!$O$31:$O$76, 0), 2)","v":"VC/PE investments"},{"$f":"INDEX(Country!$K$31:$K$76, MATCH(AI562, Country!$O$31:$O$76, 0), 1)","v":"USDm"},"Colombia",0,0,32.903436609140613,32.903436609140613,32.903436609140613,32.903436609140613,32.903436609140613,null,null,null,null,null,null,null,{"$f":"SUMIFS(Investment!$H$6:$H$1303, Investment!$A$6:$A$1303, S$10, Investment!$E$6:$E$1303, $D562, Investment!$G$6:$G$1303, $B562)","v":0},{"$f":"SUMIFS(Investment!$H$6:$H$1303, Investment!$A$6:$A$1303, T$10, Investment!$E$6:$E$1303, $D562, Investment!$G$6:$G$1303, $B562)","v":0},{"$f":"SUMIFS(Investment!$H$6:$H$1303, Investment!$A$6:$A$1303, U$10, Investment!$E$6:$E$1303, $D562, Investment!$G$6:$G$1303, $B562)","v":32.903436609140613},{"$f":"SUMIFS(Investment!$H$6:$H$1303, Investment!$A$6:$A$1303, V$10, Investment!$E$6:$E$1303, $D562, Investment!$G$6:$G$1303, $B562)","v":0},{"$f":"SUMIFS(Investment!$H$6:$H$1303, Investment!$A$6:$A$1303, W$10, Investment!$E$6:$E$1303, $D562, Investment!$G$6:$G$1303, $B562)","v":0},{"$f":"SUMIFS(Investment!$H$6:$H$1303, Investment!$A$6:$A$1303, X$10, Investment!$E$6:$E$1303, $D562, Investment!$G$6:$G$1303, $B562)","v":0},{"$f":"SUMIFS(Investment!$H$6:$H$1303, Investment!$A$6:$A$1303, Y$10, Investment!$E$6:$E$1303, $D562, Investment!$G$6:$G$1303, $B562)","v":0},null,null,null,null,null,null,null,"2.05 > Colombia",548,21," "]
[{"$f":"INDEX(Country!$F$31:$G$76, MATCH(AI563, Country!$O$31:$O$76, 0), 1)","v":2.0499999999999989},{"$f":"INDEX(Country!$F$31:$G$76, MATCH(AI563, Country!$O$31:$O$76, 0), 2)","v":"VC/PE investments"},{"$f":"INDEX(Country!$K$31:$K$76, MATCH(AI563, Country!$O$31:$O$76, 0), 1)","v":"USDm"},"Costa Rica",0,0,0,0,0,0,0,null,null,null,null,null,null,null,{"$f":"SUMIFS(Investment!$H$6:$H$1303, Investment!$A$6:$A$1303, S$10, Investment!$E$6:$E$1303, $D563, Investment!$G$6:$G$1303, $B563)","v":0},{"$f":"SUMIFS(Investment!$H$6:$H$1303, Investment!$A$6:$A$1303, T$10, Investment!$E$6:$E$1303, $D563, Investment!$G$6:$G$1303, $B563)","v":0},{"$f":"SUMIFS(Investment!$H$6:$H$1303, Investment!$A$6:$A$1303, U$10, Investment!$E$6:$E$1303, $D563, Investment!$G$6:$G$1303, $B563)","v":0},{"$f":"SUMIFS(Investment!$H$6:$H$1303, Investment!$A$6:$A$1303, V$10, Investment!$E$6:$E$1303, $D563, Investment!$G$6:$G$1303, $B563)","v":0},{"$f":"SUMIFS(Investment!$H$6:$H$1303, Investment!$A$6:$A$1303, W$10, Investment!$E$6:$E$1303, $D563, Investment!$G$6:$G$1303, $B563)","v":0},{"$f":"SUMIFS(Investment!$H$6:$H$1303, Investment!$A$6:$A$1303, X$10, Investment!$E$6:$E$1303, $D563, Investment!$G$6:$G$1303, $B563)","v":0},{"$f":"SUMIFS(Investment!$H$6:$H$1303, Investment!$A$6:$A$1303, Y$10, Investment!$E$6:$E$1303, $D563, Investment!$G$6:$G$1303, $B563)","v":0},null,null,null,null,null,null,null,"2.05 > Costa Rica",549,21," "]
[{"$f":"INDEX(Country!$F$31:$G$76, MATCH(AI564, Country!$O$31:$O$76, 0), 1)","v":2.0499999999999989},{"$f":"INDEX(Country!$F$31:$G$76, MATCH(AI564, Country!$O$31:$O$76, 0), 2)","v":"VC/PE investments"},{"$f":"INDEX(Country!$K$31:$K$76, MATCH(AI564, Country!$O$31:$O$76, 0), 1)","v":"USDm"},"Dominican Republic",0,0,0,0,0,0,0,null,null,null,null,null,null,null,{"$f":"SUMIFS(Investment!$H$6:$H$1303, Investment!$A$6:$A$1303, S$10, Investment!$E$6:$E$1303, $D564, Investment!$G$6:$G$1303, $B564)","v":0},{"$f":"SUMIFS(Investment!$H$6:$H$1303, Investment!$A$6:$A$1303, T$10, Investment!$E$6:$E$1303, $D564, Investment!$G$6:$G$1303, $B564)","v":0},{"$f":"SUMIFS(Investment!$H$6:$H$1303, Investment!$A$6:$A$1303, U$10, Investment!$E$6:$E$1303, $D564, Investment!$G$6:$G$1303, $B564)","v":0},{"$f":"SUMIFS(Investment!$H$6:$H$1303, Investment!$A$6:$A$1303, V$10, Investment!$E$6:$E$1303, $D564, Investment!$G$6:$G$1303, $B564)","v":0},{"$f":"SUMIFS(Investment!$H$6:$H$1303, Investment!$A$6:$A$1303, W$10, Investment!$E$6:$E$1303, $D564, Investment!$G$6:$G$1303, $B564)","v":0},{"$f":"SUMIFS(Investment!$H$6:$H$1303, Investment!$A$6:$A$1303, X$10, Investment!$E$6:$E$1303, $D564, Investment!$G$6:$G$1303, $B564)","v":0},{"$f":"SUMIFS(Investment!$H$6:$H$1303, Investment!$A$6:$A$1303, Y$10, Investment!$E$6:$E$1303, $D564, Investment!$G$6:$G$1303, $B564)","v":0},null,null,null,null,null,null,null,"2.05 > Dominican Republic",550,21," "]
[{"$f":"INDEX(Country!$F$31:$G$76, MATCH(AI565, Country!$O$31:$O$76, 0), 1)","v":2.0499999999999989},{"$f":"INDEX(Country!$F$31:$G$76, MATCH(AI565, Country!$O$31:$O$76, 0), 2)","v":"VC/PE investments"},{"$f":"INDEX(Country!$K$31:$K$76, MATCH(AI565, Country!$O$31:$O$76, 0), 1)","v":"USDm"},"Ecuador",0,0,0,0,0,0,0,null,null,null,null,null,null,null,{"$f":"SUMIFS(Investment!$H$6:$H$1303, Investment!$A$6:$A$1303, S$10, Investment!$E$6:$E$1303, $D565, Investment!$G$6:$G$1303, $B565)","v":0},{"$f":"SUMIFS(Investment!$H$6:$H$1303, Investment!$A$6:$A$1303, T$10, Investment!$E$6:$E$1303, $D565, Investment!$G$6:$G$1303, $B565)","v":0},{"$f":"SUMIFS(Investment!$H$6:$H$1303, Investment!$A$6:$A$1303, U$10, Investment!$E$6:$E$1303, $D565, Investment!$G$6:$G$1303, $B565)","v":0},{"$f":"SUMIFS(Investment!$H$6:$H$1303, Investment!$A$6:$A$1303, V$10, Investment!$E$6:$E$1303, $D565, Investment!$G$6:$G$1303, $B565)","v":0},{"$f":"SUMIFS(Investment!$H$6:$H$1303, Investment!$A$6:$A$1303, W$10, Investment!$E$6:$E$1303, $D565, Investment!$G$6:$G$1303, $B565)","v":0},{"$f":"SUMIFS(Investment!$H$6:$H$1303, Investment!$A$6:$A$1303, X$10, Investment!$E$6:$E$1303, $D565, Investment!$G$6:$G$1303, $B565)","v":0},{"$f":"SUMIFS(Investment!$H$6:$H$1303, Investment!$A$6:$A$1303, Y$10, Investment!$E$6:$E$1303, $D565, Investment!$G$6:$G$1303, $B565)","v":0},null,null,null,null,null,null,null,"2.05 > Ecuador",551,21," "]
[{"$f":"INDEX(Country!$F$31:$G$76, MATCH(AI566, Country!$O$31:$O$76, 0), 1)","v":2.0499999999999989},{"$f":"INDEX(Country!$F$31:$G$76, MATCH(AI566, Country!$O$31:$O$76, 0), 2)","v":"VC/PE investments"},{"$f":"INDEX(Country!$K$31:$K$76, MATCH(AI566, Country!$O$31:$O$76, 0), 1)","v":"USDm"},"El Salvador",0,0,0,0,0,0,0,null,null,null,null,null,null,null,{"$f":"SUMIFS(Investment!$H$6:$H$1303, Investment!$A$6:$A$1303, S$10, Investment!$E$6:$E$1303, $D566, Investment!$G$6:$G$1303, $B566)","v":0},{"$f":"SUMIFS(Investment!$H$6:$H$1303, Investment!$A$6:$A$1303, T$10, Investment!$E$6:$E$1303, $D566, Investment!$G$6:$G$1303, $B566)","v":0},{"$f":"SUMIFS(Investment!$H$6:$H$1303, Investment!$A$6:$A$1303, U$10, Investment!$E$6:$E$1303, $D566, Investment!$G$6:$G$1303, $B566)","v":0},{"$f":"SUMIFS(Investment!$H$6:$H$1303, Investment!$A$6:$A$1303, V$10, Investment!$E$6:$E$1303, $D566, Investment!$G$6:$G$1303, $B566)","v":0},{"$f":"SUMIFS(Investment!$H$6:$H$1303, Investment!$A$6:$A$1303, W$10, Investment!$E$6:$E$1303, $D566, Investment!$G$6:$G$1303, $B566)","v":0},{"$f":"SUMIFS(Investment!$H$6:$H$1303, Investment!$A$6:$A$1303, X$10, Investment!$E$6:$E$1303, $D566, Investment!$G$6:$G$1303, $B566)","v":0},{"$f":"SUMIFS(Investment!$H$6:$H$1303, Investment!$A$6:$A$1303, Y$10, Investment!$E$6:$E$1303, $D566, Investment!$G$6:$G$1303, $B566)","v":0},null,null,null,null,null,null,null,"2.05 > El Salvador",552,21," "]
[{"$f":"INDEX(Country!$F$31:$G$76, MATCH(AI567, Country!$O$31:$O$76, 0), 1)","v":2.0499999999999989},{"$f":"INDEX(Country!$F$31:$G$76, MATCH(AI567, Country!$O$31:$O$76, 0), 2)","v":"VC/PE investments"},{"$f":"INDEX(Country!$K$31:$K$76, MATCH(AI567, Country!$O$31:$O$76, 0), 1)","v":"USDm"},"Guatemala",0,0,0,0,20.42221731142212,20.42221731142212,20.42221731142212,null,null,null,null,null,null,null,{"$f":"SUMIFS(Investment!$H$6:$H$1303, Investment!$A$6:$A$1303, S$10, Investment!$E$6:$E$1303, $D567, Investment!$G$6:$G$1303, $B567)","v":0},{"$f":"SUMIFS(Investment!$H$6:$H$1303, Investment!$A$6:$A$1303, T$10, Investment!$E$6:$E$1303, $D567, Investment!$G$6:$G$1303, $B567)","v":0},{"$f":"SUMIFS(Investment!$H$6:$H$1303, Investment!$A$6:$A$1303, U$10, Investment!$E$6:$E$1303, $D567, Investment!$G$6:$G$1303, $B567)","v":0},{"$f":"SUMIFS(Investment!$H$6:$H$1303, Investment!$A$6:$A$1303, V$10, Investment!$E$6:$E$1303, $D567, Investment!$G$6:$G$1303, $B567)","v":0},{"$f":"SUMIFS(Investment!$H$6:$H$1303, Investment!$A$6:$A$1303, W$10, Investment!$E$6:$E$1303, $D567, Investment!$G$6:$G$1303, $B567)","v":20.42221731142212},{"$f":"SUMIFS(Investment!$H$6:$H$1303, Investment!$A$6:$A$1303, X$10, Investment!$E$6:$E$1303, $D567, Investment!$G$6:$G$1303, $B567)","v":0},{"$f":"SUMIFS(Investment!$H$6:$H$1303, Investment!$A$6:$A$1303, Y$10, Investment!$E$6:$E$1303, $D567, Investment!$G$6:$G$1303, $B567)","v":0},null,null,null,null,null,null,null,"2.05 > Guatemala",553,21," "]
[{"$f":"INDEX(Country!$F$31:$G$76, MATCH(AI568, Country!$O$31:$O$76, 0), 1)","v":2.0499999999999989},{"$f":"INDEX(Country!$F$31:$G$76, MATCH(AI568, Country!$O$31:$O$76, 0), 2)","v":"VC/PE investments"},{"$f":"INDEX(Country!$K$31:$K$76, MATCH(AI568, Country!$O$31:$O$76, 0), 1)","v":"USDm"},"Guyana",0,0,0,0,0,0,0,null,null,null,null,null,null,null,{"$f":"SUMIFS(Investment!$H$6:$H$1303, Investment!$A$6:$A$1303, S$10, Investment!$E$6:$E$1303, $D568, Investment!$G$6:$G$1303, $B568)","v":0},{"$f":"SUMIFS(Investment!$H$6:$H$1303, Investment!$A$6:$A$1303, T$10, Investment!$E$6:$E$1303, $D568, Investment!$G$6:$G$1303, $B568)","v":0},{"$f":"SUMIFS(Investment!$H$6:$H$1303, Investment!$A$6:$A$1303, U$10, Investment!$E$6:$E$1303, $D568, Investment!$G$6:$G$1303, $B568)","v":0},{"$f":"SUMIFS(Investment!$H$6:$H$1303, Investment!$A$6:$A$1303, V$10, Investment!$E$6:$E$1303, $D568, Investment!$G$6:$G$1303, $B568)","v":0},{"$f":"SUMIFS(Investment!$H$6:$H$1303, Investment!$A$6:$A$1303, W$10, Investment!$E$6:$E$1303, $D568, Investment!$G$6:$G$1303, $B568)","v":0},{"$f":"SUMIFS(Investment!$H$6:$H$1303, Investment!$A$6:$A$1303, X$10, Investment!$E$6:$E$1303, $D568, Investment!$G$6:$G$1303, $B568)","v":0},{"$f":"SUMIFS(Investment!$H$6:$H$1303, Investment!$A$6:$A$1303, Y$10, Investment!$E$6:$E$1303, $D568, Investment!$G$6:$G$1303, $B568)","v":0},null,null,null,null,null,null,null,"2.05 > Guyana",554,21," "]
[{"$f":"INDEX(Country!$F$31:$G$76, MATCH(AI569, Country!$O$31:$O$76, 0), 1)","v":2.0499999999999989},{"$f":"INDEX(Country!$F$31:$G$76, MATCH(AI569, Country!$O$31:$O$76, 0), 2)","v":"VC/PE investments"},{"$f":"INDEX(Country!$K$31:$K$76, MATCH(AI569, Country!$O$31:$O$76, 0), 1)","v":"USDm"},"Haiti",0,0,0,0,0,0,0,null,null,null,null,null,null,null,{"$f":"SUMIFS(Investment!$H$6:$H$1303, Investment!$A$6:$A$1303, S$10, Investment!$E$6:$E$1303, $D569, Investment!$G$6:$G$1303, $B569)","v":0},{"$f":"SUMIFS(Investment!$H$6:$H$1303, Investment!$A$6:$A$1303, T$10, Investment!$E$6:$E$1303, $D569, Investment!$G$6:$G$1303, $B569)","v":0},{"$f":"SUMIFS(Investment!$H$6:$H$1303, Investment!$A$6:$A$1303, U$10, Investment!$E$6:$E$1303, $D569, Investment!$G$6:$G$1303, $B569)","v":0},{"$f":"SUMIFS(Investment!$H$6:$H$1303, Investment!$A$6:$A$1303, V$10, Investment!$E$6:$E$1303, $D569, Investment!$G$6:$G$1303, $B569)","v":0},{"$f":"SUMIFS(Investment!$H$6:$H$1303, Investment!$A$6:$A$1303, W$10, Investment!$E$6:$E$1303, $D569, Investment!$G$6:$G$1303, $B569)","v":0},{"$f":"SUMIFS(Investment!$H$6:$H$1303, Investment!$A$6:$A$1303, X$10, Investment!$E$6:$E$1303, $D569, Investment!$G$6:$G$1303, $B569)","v":0},{"$f":"SUMIFS(Investment!$H$6:$H$1303, Investment!$A$6:$A$1303, Y$10, Investment!$E$6:$E$1303, $D569, Investment!$G$6:$G$1303, $B569)","v":0},null,null,null,null,null,null,null,"2.05 > Haiti",555,21," "]
[{"$f":"INDEX(Country!$F$31:$G$76, MATCH(AI570, Country!$O$31:$O$76, 0), 1)","v":2.0499999999999989},{"$f":"INDEX(Country!$F$31:$G$76, MATCH(AI570, Country!$O$31:$O$76, 0), 2)","v":"VC/PE investments"},{"$f":"INDEX(Country!$K$31:$K$76, MATCH(AI570, Country!$O$31:$O$76, 0), 1)","v":"USDm"},"Honduras",0,0,0,0,0,0,0,null,null,null,null,null,null,null,{"$f":"SUMIFS(Investment!$H$6:$H$1303, Investment!$A$6:$A$1303, S$10, Investment!$E$6:$E$1303, $D570, Investment!$G$6:$G$1303, $B570)","v":0},{"$f":"SUMIFS(Investment!$H$6:$H$1303, Investment!$A$6:$A$1303, T$10, Investment!$E$6:$E$1303, $D570, Investment!$G$6:$G$1303, $B570)","v":0},{"$f":"SUMIFS(Investment!$H$6:$H$1303, Investment!$A$6:$A$1303, U$10, Investment!$E$6:$E$1303, $D570, Investment!$G$6:$G$1303, $B570)","v":0},{"$f":"SUMIFS(Investment!$H$6:$H$1303, Investment!$A$6:$A$1303, V$10, Investment!$E$6:$E$1303, $D570, Investment!$G$6:$G$1303, $B570)","v":0},{"$f":"SUMIFS(Investment!$H$6:$H$1303, Investment!$A$6:$A$1303, W$10, Investment!$E$6:$E$1303, $D570, Investment!$G$6:$G$1303, $B570)","v":0},{"$f":"SUMIFS(Investment!$H$6:$H$1303, Investment!$A$6:$A$1303, X$10, Investment!$E$6:$E$1303, $D570, Investment!$G$6:$G$1303, $B570)","v":0},{"$f":"SUMIFS(Investment!$H$6:$H$1303, Investment!$A$6:$A$1303, Y$10, Investment!$E$6:$E$1303, $D570, Investment!$G$6:$G$1303, $B570)","v":0},null,null,null,null,null,null,null,"2.05 > Honduras",556,21," "]
[{"$f":"INDEX(Country!$F$31:$G$76, MATCH(AI571, Country!$O$31:$O$76, 0), 1)","v":2.0499999999999989},{"$f":"INDEX(Country!$F$31:$G$76, MATCH(AI571, Country!$O$31:$O$76, 0), 2)","v":"VC/PE investments"},{"$f":"INDEX(Country!$K$31:$K$76, MATCH(AI571, Country!$O$31:$O$76, 0), 1)","v":"USDm"},"Jamaica",0,0,0,0,0,0,0,null,null,null,null,null,null,null,{"$f":"SUMIFS(Investment!$H$6:$H$1303, Investment!$A$6:$A$1303, S$10, Investment!$E$6:$E$1303, $D571, Investment!$G$6:$G$1303, $B571)","v":0},{"$f":"SUMIFS(Investment!$H$6:$H$1303, Investment!$A$6:$A$1303, T$10, Investment!$E$6:$E$1303, $D571, Investment!$G$6:$G$1303, $B571)","v":0},{"$f":"SUMIFS(Investment!$H$6:$H$1303, Investment!$A$6:$A$1303, U$10, Investment!$E$6:$E$1303, $D571, Investment!$G$6:$G$1303, $B571)","v":0},{"$f":"SUMIFS(Investment!$H$6:$H$1303, Investment!$A$6:$A$1303, V$10, Investment!$E$6:$E$1303, $D571, Investment!$G$6:$G$1303, $B571)","v":0},{"$f":"SUMIFS(Investment!$H$6:$H$1303, Investment!$A$6:$A$1303, W$10, Investment!$E$6:$E$1303, $D571, Investment!$G$6:$G$1303, $B571)","v":0},{"$f":"SUMIFS(Investment!$H$6:$H$1303, Investment!$A$6:$A$1303, X$10, Investment!$E$6:$E$1303, $D571, Investment!$G$6:$G$1303, $B571)","v":0},{"$f":"SUMIFS(Investment!$H$6:$H$1303, Investment!$A$6:$A$1303, Y$10, Investment!$E$6:$E$1303, $D571, Investment!$G$6:$G$1303, $B571)","v":0},null,null,null,null,null,null,null,"2.05 > Jamaica",557,21," "]
[{"$f":"INDEX(Country!$F$31:$G$76, MATCH(AI572, Country!$O$31:$O$76, 0), 1)","v":2.0499999999999989},{"$f":"INDEX(Country!$F$31:$G$76, MATCH(AI572, Country!$O$31:$O$76, 0), 2)","v":"VC/PE investments"},{"$f":"INDEX(Country!$K$31:$K$76, MATCH(AI572, Country!$O$31:$O$76, 0), 1)","v":"USDm"},"Mexico",0,0,0,0,0,21.136840178545263,21.136840178545263,null,null,null,null,null,null,null,{"$f":"SUMIFS(Investment!$H$6:$H$1303, Investment!$A$6:$A$1303, S$10, Investment!$E$6:$E$1303, $D572, Investment!$G$6:$G$1303, $B572)","v":0},{"$f":"SUMIFS(Investment!$H$6:$H$1303, Investment!$A$6:$A$1303, T$10, Investment!$E$6:$E$1303, $D572, Investment!$G$6:$G$1303, $B572)","v":0},{"$f":"SUMIFS(Investment!$H$6:$H$1303, Investment!$A$6:$A$1303, U$10, Investment!$E$6:$E$1303, $D572, Investment!$G$6:$G$1303, $B572)","v":0},{"$f":"SUMIFS(Investment!$H$6:$H$1303, Investment!$A$6:$A$1303, V$10, Investment!$E$6:$E$1303, $D572, Investment!$G$6:$G$1303, $B572)","v":0},{"$f":"SUMIFS(Investment!$H$6:$H$1303, Investment!$A$6:$A$1303, W$10, Investment!$E$6:$E$1303, $D572, Investment!$G$6:$G$1303, $B572)","v":0},{"$f":"SUMIFS(Investment!$H$6:$H$1303, Investment!$A$6:$A$1303, X$10, Investment!$E$6:$E$1303, $D572, Investment!$G$6:$G$1303, $B572)","v":21.136840178545263},{"$f":"SUMIFS(Investment!$H$6:$H$1303, Investment!$A$6:$A$1303, Y$10, Investment!$E$6:$E$1303, $D572, Investment!$G$6:$G$1303, $B572)","v":0},null,null,null,null,null,null,null,"2.05 > Mexico",558,21," "]
[{"$f":"INDEX(Country!$F$31:$G$76, MATCH(AI573, Country!$O$31:$O$76, 0), 1)","v":2.0499999999999989},{"$f":"INDEX(Country!$F$31:$G$76, MATCH(AI573, Country!$O$31:$O$76, 0), 2)","v":"VC/PE investments"},{"$f":"INDEX(Country!$K$31:$K$76, MATCH(AI573, Country!$O$31:$O$76, 0), 1)","v":"USDm"},"Nicaragua",0,0,0,0,0,0,0,null,null,null,null,null,null,null,{"$f":"SUMIFS(Investment!$H$6:$H$1303, Investment!$A$6:$A$1303, S$10, Investment!$E$6:$E$1303, $D573, Investment!$G$6:$G$1303, $B573)","v":0},{"$f":"SUMIFS(Investment!$H$6:$H$1303, Investment!$A$6:$A$1303, T$10, Investment!$E$6:$E$1303, $D573, Investment!$G$6:$G$1303, $B573)","v":0},{"$f":"SUMIFS(Investment!$H$6:$H$1303, Investment!$A$6:$A$1303, U$10, Investment!$E$6:$E$1303, $D573, Investment!$G$6:$G$1303, $B573)","v":0},{"$f":"SUMIFS(Investment!$H$6:$H$1303, Investment!$A$6:$A$1303, V$10, Investment!$E$6:$E$1303, $D573, Investment!$G$6:$G$1303, $B573)","v":0},{"$f":"SUMIFS(Investment!$H$6:$H$1303, Investment!$A$6:$A$1303, W$10, Investment!$E$6:$E$1303, $D573, Investment!$G$6:$G$1303, $B573)","v":0},{"$f":"SUMIFS(Investment!$H$6:$H$1303, Investment!$A$6:$A$1303, X$10, Investment!$E$6:$E$1303, $D573, Investment!$G$6:$G$1303, $B573)","v":0},{"$f":"SUMIFS(Investment!$H$6:$H$1303, Investment!$A$6:$A$1303, Y$10, Investment!$E$6:$E$1303, $D573, Investment!$G$6:$G$1303, $B573)","v":0},null,null,null,null,null,null,null,"2.05 > Nicaragua",559,21," "]
[{"$f":"INDEX(Country!$F$31:$G$76, MATCH(AI574, Country!$O$31:$O$76, 0), 1)","v":2.0499999999999989},{"$f":"INDEX(Country!$F$31:$G$76, MATCH(AI574, Country!$O$31:$O$76, 0), 2)","v":"VC/PE investments"},{"$f":"INDEX(Country!$K$31:$K$76, MATCH(AI574, Country!$O$31:$O$76, 0), 1)","v":"USDm"},"Panama",0,0,0,0,0,0,22.097621427372069,null,null,null,null,null,null,null,{"$f":"SUMIFS(Investment!$H$6:$H$1303, Investment!$A$6:$A$1303, S$10, Investment!$E$6:$E$1303, $D574, Investment!$G$6:$G$1303, $B574)","v":0},{"$f":"SUMIFS(Investment!$H$6:$H$1303, Investment!$A$6:$A$1303, T$10, Investment!$E$6:$E$1303, $D574, Investment!$G$6:$G$1303, $B574)","v":0},{"$f":"SUMIFS(Investment!$H$6:$H$1303, Investment!$A$6:$A$1303, U$10, Investment!$E$6:$E$1303, $D574, Investment!$G$6:$G$1303, $B574)","v":0},{"$f":"SUMIFS(Investment!$H$6:$H$1303, Investment!$A$6:$A$1303, V$10, Investment!$E$6:$E$1303, $D574, Investment!$G$6:$G$1303, $B574)","v":0},{"$f":"SUMIFS(Investment!$H$6:$H$1303, Investment!$A$6:$A$1303, W$10, Investment!$E$6:$E$1303, $D574, Investment!$G$6:$G$1303, $B574)","v":0},{"$f":"SUMIFS(Investment!$H$6:$H$1303, Investment!$A$6:$A$1303, X$10, Investment!$E$6:$E$1303, $D574, Investment!$G$6:$G$1303, $B574)","v":0},{"$f":"SUMIFS(Investment!$H$6:$H$1303, Investment!$A$6:$A$1303, Y$10, Investment!$E$6:$E$1303, $D574, Investment!$G$6:$G$1303, $B574)","v":22.097621427372069},null,null,null,null,null,null,null,"2.05 > Panama",560,21," "]
[{"$f":"INDEX(Country!$F$31:$G$76, MATCH(AI575, Country!$O$31:$O$76, 0), 1)","v":2.0499999999999989},{"$f":"INDEX(Country!$F$31:$G$76, MATCH(AI575, Country!$O$31:$O$76, 0), 2)","v":"VC/PE investments"},{"$f":"INDEX(Country!$K$31:$K$76, MATCH(AI575, Country!$O$31:$O$76, 0), 1)","v":"USDm"},"Paraguay",0,0,0,0,0,0,0,null,null,null,null,null,null,null,{"$f":"SUMIFS(Investment!$H$6:$H$1303, Investment!$A$6:$A$1303, S$10, Investment!$E$6:$E$1303, $D575, Investment!$G$6:$G$1303, $B575)","v":0},{"$f":"SUMIFS(Investment!$H$6:$H$1303, Investment!$A$6:$A$1303, T$10, Investment!$E$6:$E$1303, $D575, Investment!$G$6:$G$1303, $B575)","v":0},{"$f":"SUMIFS(Investment!$H$6:$H$1303, Investment!$A$6:$A$1303, U$10, Investment!$E$6:$E$1303, $D575, Investment!$G$6:$G$1303, $B575)","v":0},{"$f":"SUMIFS(Investment!$H$6:$H$1303, Investment!$A$6:$A$1303, V$10, Investment!$E$6:$E$1303, $D575, Investment!$G$6:$G$1303, $B575)","v":0},{"$f":"SUMIFS(Investment!$H$6:$H$1303, Investment!$A$6:$A$1303, W$10, Investment!$E$6:$E$1303, $D575, Investment!$G$6:$G$1303, $B575)","v":0},{"$f":"SUMIFS(Investment!$H$6:$H$1303, Investment!$A$6:$A$1303, X$10, Investment!$E$6:$E$1303, $D575, Investment!$G$6:$G$1303, $B575)","v":0},{"$f":"SUMIFS(Investment!$H$6:$H$1303, Investment!$A$6:$A$1303, Y$10, Investment!$E$6:$E$1303, $D575, Investment!$G$6:$G$1303, $B575)","v":0},null,null,null,null,null,null,null,"2.05 > Paraguay",561,21," "]
[{"$f":"INDEX(Country!$F$31:$G$76, MATCH(AI576, Country!$O$31:$O$76, 0), 1)","v":2.0499999999999989},{"$f":"INDEX(Country!$F$31:$G$76, MATCH(AI576, Country!$O$31:$O$76, 0), 2)","v":"VC/PE investments"},{"$f":"INDEX(Country!$K$31:$K$76, MATCH(AI576, Country!$O$31:$O$76, 0), 1)","v":"USDm"},"Peru",0,0,0,20.929811276499393,20.929811276499393,41.919731805981542,41.919731805981542,null,null,null,null,null,null,null,{"$f":"SUMIFS(Investment!$H$6:$H$1303, Investment!$A$6:$A$1303, S$10, Investment!$E$6:$E$1303, $D576, Investment!$G$6:$G$1303, $B576)","v":0},{"$f":"SUMIFS(Investment!$H$6:$H$1303, Investment!$A$6:$A$1303, T$10, Investment!$E$6:$E$1303, $D576, Investment!$G$6:$G$1303, $B576)","v":0},{"$f":"SUMIFS(Investment!$H$6:$H$1303, Investment!$A$6:$A$1303, U$10, Investment!$E$6:$E$1303, $D576, Investment!$G$6:$G$1303, $B576)","v":0},{"$f":"SUMIFS(Investment!$H$6:$H$1303, Investment!$A$6:$A$1303, V$10, Investment!$E$6:$E$1303, $D576, Investment!$G$6:$G$1303, $B576)","v":20.929811276499393},{"$f":"SUMIFS(Investment!$H$6:$H$1303, Investment!$A$6:$A$1303, W$10, Investment!$E$6:$E$1303, $D576, Investment!$G$6:$G$1303, $B576)","v":0},{"$f":"SUMIFS(Investment!$H$6:$H$1303, Investment!$A$6:$A$1303, X$10, Investment!$E$6:$E$1303, $D576, Investment!$G$6:$G$1303, $B576)","v":20.989920529482152},{"$f":"SUMIFS(Investment!$H$6:$H$1303, Investment!$A$6:$A$1303, Y$10, Investment!$E$6:$E$1303, $D576, Investment!$G$6:$G$1303, $B576)","v":0},null,null,null,null,null,null,null,"2.05 > Peru",562,21," "]
[{"$f":"INDEX(Country!$F$31:$G$76, MATCH(AI577, Country!$O$31:$O$76, 0), 1)","v":2.0499999999999989},{"$f":"INDEX(Country!$F$31:$G$76, MATCH(AI577, Country!$O$31:$O$76, 0), 2)","v":"VC/PE investments"},{"$f":"INDEX(Country!$K$31:$K$76, MATCH(AI577, Country!$O$31:$O$76, 0), 1)","v":"USDm"},"Suriname",0,0,0,0,0,0,0,null,null,null,null,null,null,null,{"$f":"SUMIFS(Investment!$H$6:$H$1303, Investment!$A$6:$A$1303, S$10, Investment!$E$6:$E$1303, $D577, Investment!$G$6:$G$1303, $B577)","v":0},{"$f":"SUMIFS(Investment!$H$6:$H$1303, Investment!$A$6:$A$1303, T$10, Investment!$E$6:$E$1303, $D577, Investment!$G$6:$G$1303, $B577)","v":0},{"$f":"SUMIFS(Investment!$H$6:$H$1303, Investment!$A$6:$A$1303, U$10, Investment!$E$6:$E$1303, $D577, Investment!$G$6:$G$1303, $B577)","v":0},{"$f":"SUMIFS(Investment!$H$6:$H$1303, Investment!$A$6:$A$1303, V$10, Investment!$E$6:$E$1303, $D577, Investment!$G$6:$G$1303, $B577)","v":0},{"$f":"SUMIFS(Investment!$H$6:$H$1303, Investment!$A$6:$A$1303, W$10, Investment!$E$6:$E$1303, $D577, Investment!$G$6:$G$1303, $B577)","v":0},{"$f":"SUMIFS(Investment!$H$6:$H$1303, Investment!$A$6:$A$1303, X$10, Investment!$E$6:$E$1303, $D577, Investment!$G$6:$G$1303, $B577)","v":0},{"$f":"SUMIFS(Investment!$H$6:$H$1303, Investment!$A$6:$A$1303, Y$10, Investment!$E$6:$E$1303, $D577, Investment!$G$6:$G$1303, $B577)","v":0},null,null,null,null,null,null,null,"2.05 > Suriname",563,21," "]
[{"$f":"INDEX(Country!$F$31:$G$76, MATCH(AI578, Country!$O$31:$O$76, 0), 1)","v":2.0499999999999989},{"$f":"INDEX(Country!$F$31:$G$76, MATCH(AI578, Country!$O$31:$O$76, 0), 2)","v":"VC/PE investments"},{"$f":"INDEX(Country!$K$31:$K$76, MATCH(AI578, Country!$O$31:$O$76, 0), 1)","v":"USDm"},"Trinidad & Tobago",0,0,0,0,0,0,0,null,null,null,null,null,null,null,{"$f":"SUMIFS(Investment!$H$6:$H$1303, Investment!$A$6:$A$1303, S$10, Investment!$E$6:$E$1303, $D578, Investment!$G$6:$G$1303, $B578)","v":0},{"$f":"SUMIFS(Investment!$H$6:$H$1303, Investment!$A$6:$A$1303, T$10, Investment!$E$6:$E$1303, $D578, Investment!$G$6:$G$1303, $B578)","v":0},{"$f":"SUMIFS(Investment!$H$6:$H$1303, Investment!$A$6:$A$1303, U$10, Investment!$E$6:$E$1303, $D578, Investment!$G$6:$G$1303, $B578)","v":0},{"$f":"SUMIFS(Investment!$H$6:$H$1303, Investment!$A$6:$A$1303, V$10, Investment!$E$6:$E$1303, $D578, Investment!$G$6:$G$1303, $B578)","v":0},{"$f":"SUMIFS(Investment!$H$6:$H$1303, Investment!$A$6:$A$1303, W$10, Investment!$E$6:$E$1303, $D578, Investment!$G$6:$G$1303, $B578)","v":0},{"$f":"SUMIFS(Investment!$H$6:$H$1303, Investment!$A$6:$A$1303, X$10, Investment!$E$6:$E$1303, $D578, Investment!$G$6:$G$1303, $B578)","v":0},{"$f":"SUMIFS(Investment!$H$6:$H$1303, Investment!$A$6:$A$1303, Y$10, Investment!$E$6:$E$1303, $D578, Investment!$G$6:$G$1303, $B578)","v":0},null,null,null,null,null,null,null,"2.05 > Trinidad & Tobago",564,21," "]
[{"$f":"INDEX(Country!$F$31:$G$76, MATCH(AI579, Country!$O$31:$O$76, 0), 1)","v":2.0499999999999989},{"$f":"INDEX(Country!$F$31:$G$76, MATCH(AI579, Country!$O$31:$O$76, 0), 2)","v":"VC/PE investments"},{"$f":"INDEX(Country!$K$31:$K$76, MATCH(AI579, Country!$O$31:$O$76, 0), 1)","v":"USDm"},"Uruguay",0,0,0,0,0,0,0,null,null,null,null,null,null,null,{"$f":"SUMIFS(Investment!$H$6:$H$1303, Investment!$A$6:$A$1303, S$10, Investment!$E$6:$E$1303, $D579, Investment!$G$6:$G$1303, $B579)","v":0},{"$f":"SUMIFS(Investment!$H$6:$H$1303, Investment!$A$6:$A$1303, T$10, Investment!$E$6:$E$1303, $D579, Investment!$G$6:$G$1303, $B579)","v":0},{"$f":"SUMIFS(Investment!$H$6:$H$1303, Investment!$A$6:$A$1303, U$10, Investment!$E$6:$E$1303, $D579, Investment!$G$6:$G$1303, $B579)","v":0},{"$f":"SUMIFS(Investment!$H$6:$H$1303, Investment!$A$6:$A$1303, V$10, Investment!$E$6:$E$1303, $D579, Investment!$G$6:$G$1303, $B579)","v":0},{"$f":"SUMIFS(Investment!$H$6:$H$1303, Investment!$A$6:$A$1303, W$10, Investment!$E$6:$E$1303, $D579, Investment!$G$6:$G$1303, $B579)","v":0},{"$f":"SUMIFS(Investment!$H$6:$H$1303, Investment!$A$6:$A$1303, X$10, Investment!$E$6:$E$1303, $D579, Investment!$G$6:$G$1303, $B579)","v":0},{"$f":"SUMIFS(Investment!$H$6:$H$1303, Investment!$A$6:$A$1303, Y$10, Investment!$E$6:$E$1303, $D579, Investment!$G$6:$G$1303, $B579)","v":0},null,null,null,null,null,null,null,"2.05 > Uruguay",565,21," "]
[{"$f":"INDEX(Country!$F$31:$G$76, MATCH(AI580, Country!$O$31:$O$76, 0), 1)","v":2.0499999999999989},{"$f":"INDEX(Country!$F$31:$G$76, MATCH(AI580, Country!$O$31:$O$76, 0), 2)","v":"VC/PE investments"},{"$f":"INDEX(Country!$K$31:$K$76, MATCH(AI580, Country!$O$31:$O$76, 0), 1)","v":"USDm"},"Venezuela",0,0,0,0,0,0,0,null,null,null,null,null,null,null,{"$f":"SUMIFS(Investment!$H$6:$H$1303, Investment!$A$6:$A$1303, S$10, Investment!$E$6:$E$1303, $D580, Investment!$G$6:$G$1303, $B580)","v":0},{"$f":"SUMIFS(Investment!$H$6:$H$1303, Investment!$A$6:$A$1303, T$10, Investment!$E$6:$E$1303, $D580, Investment!$G$6:$G$1303, $B580)","v":0},{"$f":"SUMIFS(Investment!$H$6:$H$1303, Investment!$A$6:$A$1303, U$10, Investment!$E$6:$E$1303, $D580, Investment!$G$6:$G$1303, $B580)","v":0},{"$f":"SUMIFS(Investment!$H$6:$H$1303, Investment!$A$6:$A$1303, V$10, Investment!$E$6:$E$1303, $D580, Investment!$G$6:$G$1303, $B580)","v":0},{"$f":"SUMIFS(Investment!$H$6:$H$1303, Investment!$A$6:$A$1303, W$10, Investment!$E$6:$E$1303, $D580, Investment!$G$6:$G$1303, $B580)","v":0},{"$f":"SUMIFS(Investment!$H$6:$H$1303, Investment!$A$6:$A$1303, X$10, Investment!$E$6:$E$1303, $D580, Investment!$G$6:$G$1303, $B580)","v":0},{"$f":"SUMIFS(Investment!$H$6:$H$1303, Investment!$A$6:$A$1303, Y$10, Investment!$E$6:$E$1303, $D580, Investment!$G$6:$G$1303, $B580)","v":0},null,null,null,null,null,null,null,"2.05 > Venezuela",566,21," "]
[{"$f":"INDEX(Country!$F$31:$G$76, MATCH(AI581, Country!$O$31:$O$76, 0), 1)","v":2.0499999999999989},{"$f":"INDEX(Country!$F$31:$G$76, MATCH(AI581, Country!$O$31:$O$76, 0), 2)","v":"VC/PE investments"},{"$f":"INDEX(Country!$K$31:$K$76, MATCH(AI581, Country!$O$31:$O$76, 0), 1)","v":"USDm"},"Benchmark",{"$f":"IFERROR(MAX(E555:E580), 0)","v":57.142000000000003},{"$f":"IFERROR(MAX(F555:F580), 0)","v":887.69200000000001},1529.8088836338002,2060.0888950558774,2653.5194288147218,3045.5502731169599,3552.7729211545479,0,0,0,0,0,0,0,"Small Distributed Scale (USDm)",null,null,null,null,null,null,null,null,null,null,null,null,null,"2.05 > Benchmark",567,21," "]
[{"$f":"INDEX(Country!$F$31:$G$76, MATCH(AI582, Country!$O$31:$O$76, 0), 1)","v":2.0599999999999987},{"$f":"INDEX(Country!$F$31:$G$76, MATCH(AI582, Country!$O$31:$O$76, 0), 2)","v":"Small Distributed scale"},{"$f":"INDEX(Country!$K$31:$K$76, MATCH(AI582, Country!$O$31:$O$76, 0), 1)","v":"USDm"},{"$f":"D555","v":"Argentina"},{"$f":"S582","v":0},{"$f":"E582+T582","v":0},{"$f":"F582+U582","v":0},{"$f":"G582+V582","v":0},{"$f":"H582+W582","v":0},{"$f":"I582+X582","v":0},{"$f":"J582+Y582","v":0},null,null,null,null,null,null,null,0,0,0,0,0,0,0,null,null,null,null,null,null,null,"2.06 > Argentina",568,22," "]
[{"$f":"INDEX(Country!$F$31:$G$76, MATCH(AI583, Country!$O$31:$O$76, 0), 1)","v":2.0599999999999987},{"$f":"INDEX(Country!$F$31:$G$76, MATCH(AI583, Country!$O$31:$O$76, 0), 2)","v":"Small Distributed scale"},{"$f":"INDEX(Country!$K$31:$K$76, MATCH(AI583, Country!$O$31:$O$76, 0), 1)","v":"USDm"},"Bahamas",{"$f":"S583","v":2.6},2.6,2.6,2.6,2.6,3.6,4.5999999999999996,null,null,null,null,null,null,null,2.6,0,0,0,0,1,1,null,null,null,null,null,null,null,"2.06 > Bahamas",569,22," "]
[{"$f":"INDEX(Country!$F$31:$G$76, MATCH(AI584, Country!$O$31:$O$76, 0), 1)","v":2.0599999999999987},{"$f":"INDEX(Country!$F$31:$G$76, MATCH(AI584, Country!$O$31:$O$76, 0), 2)","v":"Small Distributed scale"},{"$f":"INDEX(Country!$K$31:$K$76, MATCH(AI584, Country!$O$31:$O$76, 0), 1)","v":"USDm"},"Barbados",0,0,0,0,0,0,0,null,null,null,null,null,null,null,0,0,0,0,0,0,0,null,null,null,null,null,null,null,"2.06 > Barbados",570,22," "]
[{"$f":"INDEX(Country!$F$31:$G$76, MATCH(AI585, Country!$O$31:$O$76, 0), 1)","v":2.0599999999999987},{"$f":"INDEX(Country!$F$31:$G$76, MATCH(AI585, Country!$O$31:$O$76, 0), 2)","v":"Small Distributed scale"},{"$f":"INDEX(Country!$K$31:$K$76, MATCH(AI585, Country!$O$31:$O$76, 0), 1)","v":"USDm"},"Belize",0,0,0,0,0,0,0,null,null,null,null,null,null,null,0,0,0,0,0,0,0,null,null,null,null,null,null,null,"2.06 > Belize",571,22," "]
[{"$f":"INDEX(Country!$F$31:$G$76, MATCH(AI586, Country!$O$31:$O$76, 0), 1)","v":2.0599999999999987},{"$f":"INDEX(Country!$F$31:$G$76, MATCH(AI586, Country!$O$31:$O$76, 0), 2)","v":"Small Distributed scale"},{"$f":"INDEX(Country!$K$31:$K$76, MATCH(AI586, Country!$O$31:$O$76, 0), 1)","v":"USDm"},"Bolivia",0,0,0,0,0,0,0,null,null,null,null,null,null,null,0,0,0,0,0,0,0,null,null,null,null,null,null,null,"2.06 > Bolivia",572,22," "]
[{"$f":"INDEX(Country!$F$31:$G$76, MATCH(AI587, Country!$O$31:$O$76, 0), 1)","v":2.0599999999999987},{"$f":"INDEX(Country!$F$31:$G$76, MATCH(AI587, Country!$O$31:$O$76, 0), 2)","v":"Small Distributed scale"},{"$f":"INDEX(Country!$K$31:$K$76, MATCH(AI587, Country!$O$31:$O$76, 0), 1)","v":"USDm"},"Brazil",0,0,0,0,0,0.02,0.04,null,null,null,null,null,null,null,0,0,0,0,0,0.02,0.02,null,null,null,null,null,null,null,"2.06 > Brazil",573,22," "]
[{"$f":"INDEX(Country!$F$31:$G$76, MATCH(AI588, Country!$O$31:$O$76, 0), 1)","v":2.0599999999999987},{"$f":"INDEX(Country!$F$31:$G$76, MATCH(AI588, Country!$O$31:$O$76, 0), 2)","v":"Small Distributed scale"},{"$f":"INDEX(Country!$K$31:$K$76, MATCH(AI588, Country!$O$31:$O$76, 0), 1)","v":"USDm"},"Chile",0,0,0,0,0,1.76,3.52,null,null,null,null,null,null,null,0,0,0,0,0,1.76,1.76,null,null,null,null,null,null,null,"2.06 > Chile",574,22," "]
[{"$f":"INDEX(Country!$F$31:$G$76, MATCH(AI589, Country!$O$31:$O$76, 0), 1)","v":2.0599999999999987},{"$f":"INDEX(Country!$F$31:$G$76, MATCH(AI589, Country!$O$31:$O$76, 0), 2)","v":"Small Distributed scale"},{"$f":"INDEX(Country!$K$31:$K$76, MATCH(AI589, Country!$O$31:$O$76, 0), 1)","v":"USDm"},"Colombia",0,0,0,0,0,0,0,null,null,null,null,null,null,null,0,0,0,0,0,0,0,null,null,null,null,null,null,null,"2.06 > Colombia",575,22," "]
[{"$f":"INDEX(Country!$F$31:$G$76, MATCH(AI590, Country!$O$31:$O$76, 0), 1)","v":2.0599999999999987},{"$f":"INDEX(Country!$F$31:$G$76, MATCH(AI590, Country!$O$31:$O$76, 0), 2)","v":"Small Distributed scale"},{"$f":"INDEX(Country!$K$31:$K$76, MATCH(AI590, Country!$O$31:$O$76, 0), 1)","v":"USDm"},"Costa Rica",0,0,0.13,0.23,0.52,0.52,0.52,null,null,null,null,null,null,null,0,0,0.13,0.1,0.28999999999999998,0,0,null,null,null,null,null,null,null,"2.06 > Costa Rica",576,22," "]
[{"$f":"INDEX(Country!$F$31:$G$76, MATCH(AI591, Country!$O$31:$O$76, 0), 1)","v":2.0599999999999987},{"$f":"INDEX(Country!$F$31:$G$76, MATCH(AI591, Country!$O$31:$O$76, 0), 2)","v":"Small Distributed scale"},{"$f":"INDEX(Country!$K$31:$K$76, MATCH(AI591, Country!$O$31:$O$76, 0), 1)","v":"USDm"},"Dominican Republic",0,0,0,0,0.19,0.22,0.25,null,null,null,null,null,null,null,0,0,0,0,0.19,0.03,0.03,null,null,null,null,null,null,null,{"$f":"A591&\" > \" &D591","v":"2.06 > Dominican Republic"},577,22," "]
[{"$f":"INDEX(Country!$F$31:$G$76, MATCH(AI592, Country!$O$31:$O$76, 0), 1)","v":2.0599999999999987},{"$f":"INDEX(Country!$F$31:$G$76, MATCH(AI592, Country!$O$31:$O$76, 0), 2)","v":"Small Distributed scale"},{"$f":"INDEX(Country!$K$31:$K$76, MATCH(AI592, Country!$O$31:$O$76, 0), 1)","v":"USDm"},{"$f":"D565","v":"Ecuador"},0,0,0,0,0,0,0,null,null,null,null,null,null,null,0,0,0,0,0,0,0,null,null,null,null,null,null,null,"2.06 > Ecuador",578,22," "]
[{"$f":"INDEX(Country!$F$31:$G$76, MATCH(AI593, Country!$O$31:$O$76, 0), 1)","v":2.0599999999999987},{"$f":"INDEX(Country!$F$31:$G$76, MATCH(AI593, Country!$O$31:$O$76, 0), 2)","v":"Small Distributed scale"},{"$f":"INDEX(Country!$K$31:$K$76, MATCH(AI593, Country!$O$31:$O$76, 0), 1)","v":"USDm"},"El Salvador",0.14000000000000001,0.14000000000000001,1.4100000000000001,1.5000000000000002,1.5000000000000002,1.6100000000000003,1.7200000000000004,null,null,null,null,null,null,null,0.14000000000000001,0,1.27,0.09,0,0.11,0.11,null,null,null,null,null,null,null,"2.06 > El Salvador",{"$f":"AH592+1","v":579},{"$f":"ROUNDUP(AH593/COUNTA($D$15:$D$41),0)","v":22}," "]
[{"$f":"INDEX(Country!$F$31:$G$76, MATCH(AI594, Country!$O$31:$O$76, 0), 1)","v":2.0599999999999987},{"$f":"INDEX(Country!$F$31:$G$76, MATCH(AI594, Country!$O$31:$O$76, 0), 2)","v":"Small Distributed scale"},{"$f":"INDEX(Country!$K$31:$K$76, MATCH(AI594, Country!$O$31:$O$76, 0), 1)","v":"USDm"},"Guatemala",0,12.29,12.43,12.43,12.629999999999999,12.629999999999999,12.629999999999999,null,null,null,null,null,null,null,0,12.29,0.14000000000000001,0,0.2,0,0,null,null,null,null,null,null,null,"2.06 > Guatemala",580,22," "]
[{"$f":"INDEX(Country!$F$31:$G$76, MATCH(AI595, Country!$O$31:$O$76, 0), 1)","v":2.0599999999999987},{"$f":"INDEX(Country!$F$31:$G$76, MATCH(AI595, Country!$O$31:$O$76, 0), 2)","v":"Small Distributed scale"},{"$f":"INDEX(Country!$K$31:$K$76, MATCH(AI595, Country!$O$31:$O$76, 0), 1)","v":"USDm"},"Guyana",0,0,0,0,7.1,7.1,7.1,null,null,null,null,null,null,null,0,0,0,0,7.1,0,0,null,null,null,null,null,null,null,"2.06 > Guyana",581,22," "]
[{"$f":"INDEX(Country!$F$31:$G$76, MATCH(AI596, Country!$O$31:$O$76, 0), 1)","v":2.0599999999999987},{"$f":"INDEX(Country!$F$31:$G$76, MATCH(AI596, Country!$O$31:$O$76, 0), 2)","v":"Small Distributed scale"},{"$f":"INDEX(Country!$K$31:$K$76, MATCH(AI596, Country!$O$31:$O$76, 0), 1)","v":"USDm"},"Haiti",0,0,0,0.83,0.83,0.83,0.83,null,null,null,null,null,null,null,0,0,0,0.83,0,0,0,null,null,null,null,null,null,null,"2.06 > Haiti",582,22," "]
[{"$f":"INDEX(Country!$F$31:$G$76, MATCH(AI597, Country!$O$31:$O$76, 0), 1)","v":2.0599999999999987},{"$f":"INDEX(Country!$F$31:$G$76, MATCH(AI597, Country!$O$31:$O$76, 0), 2)","v":"Small Distributed scale"},{"$f":"INDEX(Country!$K$31:$K$76, MATCH(AI597, Country!$O$31:$O$76, 0), 1)","v":"USDm"},"Honduras",0.04,0.04,7.0000000000000007E-2,7.0000000000000007E-2,7.0000000000000007E-2,0.30000000000000004,0.53,null,null,null,null,null,null,null,0.04,0,0.03,0,0,0.23,0.23,null,null,null,null,null,null,null,"2.06 > Honduras",583,22," "]
[{"$f":"INDEX(Country!$F$31:$G$76, MATCH(AI598, Country!$O$31:$O$76, 0), 1)","v":2.0599999999999987},{"$f":"INDEX(Country!$F$31:$G$76, MATCH(AI598, Country!$O$31:$O$76, 0), 2)","v":"Small Distributed scale"},{"$f":"INDEX(Country!$K$31:$K$76, MATCH(AI598, Country!$O$31:$O$76, 0), 1)","v":"USDm"},"Jamaica",0,1,1,1,1,1,1,null,null,null,null,null,null,null,0,1,0,0,0,0,0,null,null,null,null,null,null,null,"2.06 > Jamaica",584,22," "]
[{"$f":"INDEX(Country!$F$31:$G$76, MATCH(AI599, Country!$O$31:$O$76, 0), 1)","v":2.0599999999999987},{"$f":"INDEX(Country!$F$31:$G$76, MATCH(AI599, Country!$O$31:$O$76, 0), 2)","v":"Small Distributed scale"},{"$f":"INDEX(Country!$K$31:$K$76, MATCH(AI599, Country!$O$31:$O$76, 0), 1)","v":"USDm"},"Mexico",0,0,0,0,0,0,0,null,null,null,null,null,null,null,0,0,0,0,0,0,0,null,null,null,null,null,null,null,"2.06 > Mexico",585,22," "]
[{"$f":"INDEX(Country!$F$31:$G$76, MATCH(AI600, Country!$O$31:$O$76, 0), 1)","v":2.0599999999999987},{"$f":"INDEX(Country!$F$31:$G$76, MATCH(AI600, Country!$O$31:$O$76, 0), 2)","v":"Small Distributed scale"},{"$f":"INDEX(Country!$K$31:$K$76, MATCH(AI600, Country!$O$31:$O$76, 0), 1)","v":"USDm"},"Nicaragua",0,0.06,0.19,0.19,0.42000000000000004,0.42000000000000004,0.42000000000000004,null,null,null,null,null,null,null,0,0.06,0.13,0,0.23,0,0,null,null,null,null,null,null,null,"2.06 > Nicaragua",586,22," "]
[{"$f":"INDEX(Country!$F$31:$G$76, MATCH(AI601, Country!$O$31:$O$76, 0), 1)","v":2.0599999999999987},{"$f":"INDEX(Country!$F$31:$G$76, MATCH(AI601, Country!$O$31:$O$76, 0), 2)","v":"Small Distributed scale"},{"$f":"INDEX(Country!$K$31:$K$76, MATCH(AI601, Country!$O$31:$O$76, 0), 1)","v":"USDm"},"Panama",0.08,0.12,0.15,0.15,0.15,0.15,0.15,null,null,null,null,null,null,null,0.08,0.04,0.03,0,0,0,0,null,null,null,null,null,null,null,"2.06 > Panama",587,22," "]
[{"$f":"INDEX(Country!$F$31:$G$76, MATCH(AI602, Country!$O$31:$O$76, 0), 1)","v":2.0599999999999987},{"$f":"INDEX(Country!$F$31:$G$76, MATCH(AI602, Country!$O$31:$O$76, 0), 2)","v":"Small Distributed scale"},{"$f":"INDEX(Country!$K$31:$K$76, MATCH(AI602, Country!$O$31:$O$76, 0), 1)","v":"USDm"},"Paraguay",0,0,0,0,0,0.37,0.74,null,null,null,null,null,null,null,0,0,0,0,0,0.37,0.37,null,null,null,null,null,null,null,"2.06 > Paraguay",588,22," "]
[{"$f":"INDEX(Country!$F$31:$G$76, MATCH(AI603, Country!$O$31:$O$76, 0), 1)","v":2.0599999999999987},{"$f":"INDEX(Country!$F$31:$G$76, MATCH(AI603, Country!$O$31:$O$76, 0), 2)","v":"Small Distributed scale"},{"$f":"INDEX(Country!$K$31:$K$76, MATCH(AI603, Country!$O$31:$O$76, 0), 1)","v":"USDm"},"Peru",0,0,0,0,0,0,0,null,null,null,null,null,null,null,0,0,0,0,0,0,0,null,null,null,null,null,null,null,"2.06 > Peru",589,22," "]
[{"$f":"INDEX(Country!$F$31:$G$76, MATCH(AI604, Country!$O$31:$O$76, 0), 1)","v":2.0599999999999987},{"$f":"INDEX(Country!$F$31:$G$76, MATCH(AI604, Country!$O$31:$O$76, 0), 2)","v":"Small Distributed scale"},{"$f":"INDEX(Country!$K$31:$K$76, MATCH(AI604, Country!$O$31:$O$76, 0), 1)","v":"USDm"},"Suriname",0,0,0,0,0,0,0,null,null,null,null,null,null,null,0,0,0,0,0,0,0,null,null,null,null,null,null,null,"2.06 > Suriname",590,22," "]
[{"$f":"INDEX(Country!$F$31:$G$76, MATCH(AI605, Country!$O$31:$O$76, 0), 1)","v":2.0599999999999987},{"$f":"INDEX(Country!$F$31:$G$76, MATCH(AI605, Country!$O$31:$O$76, 0), 2)","v":"Small Distributed scale"},{"$f":"INDEX(Country!$K$31:$K$76, MATCH(AI605, Country!$O$31:$O$76, 0), 1)","v":"USDm"},"Trinidad & Tobago",0.05,0.05,0.05,0.1,0.1,0.1,0.1,null,null,null,null,null,null,null,0.05,0,0,0.05,0,0,0,null,null,null,null,null,null,null,"2.06 > Trinidad & Tobago",591,22," "]
[{"$f":"INDEX(Country!$F$31:$G$76, MATCH(AI606, Country!$O$31:$O$76, 0), 1)","v":2.0599999999999987},{"$f":"INDEX(Country!$F$31:$G$76, MATCH(AI606, Country!$O$31:$O$76, 0), 2)","v":"Small Distributed scale"},{"$f":"INDEX(Country!$K$31:$K$76, MATCH(AI606, Country!$O$31:$O$76, 0), 1)","v":"USDm"},"Uruguay",0,0,0,0,0,0.02,0.04,null,null,null,null,null,null,null,0,0,0,0,0,0.02,0.02,null,null,null,null,null,null,null,"2.06 > Uruguay",592,22," "]
[{"$f":"INDEX(Country!$F$31:$G$76, MATCH(AI607, Country!$O$31:$O$76, 0), 1)","v":2.0599999999999987},{"$f":"INDEX(Country!$F$31:$G$76, MATCH(AI607, Country!$O$31:$O$76, 0), 2)","v":"Small Distributed scale"},{"$f":"INDEX(Country!$K$31:$K$76, MATCH(AI607, Country!$O$31:$O$76, 0), 1)","v":"USDm"},"Venezuela",0,0,0,0,0,0,0,null,null,null,null,null,null,null,0,0,0,0,0,0,0,null,null,null,null,null,null,null,"2.06 > Venezuela",593,22," "]
[{"$f":"INDEX(Country!$F$31:$G$76, MATCH(AI608, Country!$O$31:$O$76, 0), 1)","v":2.0599999999999987},{"$f":"INDEX(Country!$F$31:$G$76, MATCH(AI608, Country!$O$31:$O$76, 0), 2)","v":"Small Distributed scale"},{"$f":"INDEX(Country!$K$31:$K$76, MATCH(AI608, Country!$O$31:$O$76, 0), 1)","v":"USDm"},"Benchmark",{"$f":"IFERROR(MAX(E582:E607), 0)","v":2.6},{"$f":"IFERROR(MAX(F582:F607), 0)","v":12.29},12.43,12.43,12.629999999999999,12.629999999999999,12.629999999999999,0,0,0,0,0,0,0,"Loans, grants, grant programmes (USDm)",null,null,null,null,null,null,"Levelised by Gross Domestic Product (USDbn)",null,null,null,null,null,null,"2.06 > Benchmark",594,22," "]
[{"$f":"INDEX(Country!$F$31:$G$76, MATCH(AI609, Country!$O$31:$O$76, 0), 1)","v":2.0699999999999985},{"$f":"INDEX(Country!$F$31:$G$76, MATCH(AI609, Country!$O$31:$O$76, 0), 2)","v":"Loans, grants, grant programs"},{"$f":"INDEX(Country!$K$31:$K$76, MATCH(AI609, Country!$O$31:$O$76, 0), 1)","v":"USDm"},"Argentina",{"$f":"S609","v":0},{"$f":"E609+T609","v":0.1},{"$f":"F609+U609","v":65.899999999999991},{"$f":"G609+V609","v":67.38},{"$f":"H609+W609","v":270.27999999999997},{"$f":"I609+X609","v":270.27999999999997},{"$f":"J609+Y609","v":270.27999999999997},{"$f":"IFERROR(dbl_BenchmarkMax*Z609/L$635, 0)","v":0},{"$f":"IFERROR(dbl_BenchmarkMax*AA609/M$635, 0)","v":9.2030729337464798E-2},{"$f":"IFERROR(dbl_BenchmarkMax*AB609/N$635, 0)","v":43.404489244411565},{"$f":"IFERROR(dbl_BenchmarkMax*AC609/O$635, 0)","v":2.1092616010752687},{"$f":"IFERROR(dbl_BenchmarkMax*AD609/P$635, 0)","v":2.4996999200371954},{"$f":"IFERROR(dbl_BenchmarkMax*AE609/Q$635, 0)","v":1.1974667168621196},{"$f":"IFERROR(dbl_BenchmarkMax*AF609/R$635, 0)","v":0.85128913142958007},0,0.1,65.8,1.48,202.9,0,0,{"$f":"IFERROR(E609/Levelisation!F1415, 0)","v":0},{"$f":"IFERROR(F609/Levelisation!G1415, 0)","v":3.8451038370291185E-4},{"$f":"IFERROR(G609/Levelisation!H1415, 0)","v":0.20314113530925848},{"$f":"IFERROR(H609/Levelisation!I1415, 0)","v":0.22036675464330216},{"$f":"IFERROR(I609/Levelisation!J1415, 0)","v":0.73532572470175339},{"$f":"IFERROR(J609/Levelisation!J1415, 0)","v":0.73532572470175339},{"$f":"IFERROR(K609/Levelisation!L1415, 0)","v":0.56906563582999614},"2.07 > Argentina",595,23," "]
[{"$f":"INDEX(Country!$F$31:$G$76, MATCH(AI610, Country!$O$31:$O$76, 0), 1)","v":2.0699999999999985},{"$f":"INDEX(Country!$F$31:$G$76, MATCH(AI610, Country!$O$31:$O$76, 0), 2)","v":"Loans, grants, grant programs"},{"$f":"INDEX(Country!$K$31:$K$76, MATCH(AI610, Country!$O$31:$O$76, 0), 1)","v":"USDm"},"Bahamas",{"$f":"S610","v":0},0,0,4.45,5.45,5.45,5.45,0,0,0,5.5194509895535804,2.3841177987509234,1.1420977734960807,1.0136619897015526,0,0,0,4.45,1,0,0,{"$f":"IFERROR(E610/Levelisation!F1416, 0)","v":0},{"$f":"IFERROR(F610/Levelisation!G1416, 0)","v":0},{"$f":"IFERROR(G610/Levelisation!H1416, 0)","v":0},{"$f":"IFERROR(H610/Levelisation!I1416, 0)","v":0.57664895684851636},{"$f":"IFERROR(I610/Levelisation!J1416, 0)","v":0.70132544074121739},{"$f":"IFERROR(J610/Levelisation!J1416, 0)","v":0.70132544074121739},{"$f":"IFERROR(K610/Levelisation!L1416, 0)","v":0.67760785776451582},"2.07 > Bahamas",596,23," "]
[{"$f":"INDEX(Country!$F$31:$G$76, MATCH(AI611, Country!$O$31:$O$76, 0), 1)","v":2.0699999999999985},{"$f":"INDEX(Country!$F$31:$G$76, MATCH(AI611, Country!$O$31:$O$76, 0), 2)","v":"Loans, grants, grant programs"},{"$f":"INDEX(Country!$K$31:$K$76, MATCH(AI611, Country!$O$31:$O$76, 0), 1)","v":"USDm"},"Barbados",0,0,0,1,48,119,143.30000000000001,0,0,0,2.1773421847432792,38.438962703082289,45.65127992750142,47.743535637122321,0,0,0,1,47,71,24.3,{"$f":"IFERROR(E611/Levelisation!F1417, 0)","v":0},{"$f":"IFERROR(F611/Levelisation!G1417, 0)","v":0},{"$f":"IFERROR(G611/Levelisation!H1417, 0)","v":0},{"$f":"IFERROR(H611/Levelisation!I1417, 0)","v":0.22747952684258418},{"$f":"IFERROR(I611/Levelisation!J1417, 0)","v":11.307420494699647},{"$f":"IFERROR(J611/Levelisation!J1417, 0)","v":28.032979976442874},{"$f":"IFERROR(K611/Levelisation!L1417, 0)","v":31.915367483296215},"2.07 > Barbados",597,23," "]
[{"$f":"INDEX(Country!$F$31:$G$76, MATCH(AI612, Country!$O$31:$O$76, 0), 1)","v":2.0699999999999985},{"$f":"INDEX(Country!$F$31:$G$76, MATCH(AI612, Country!$O$31:$O$76, 0), 2)","v":"Loans, grants, grant programs"},{"$f":"INDEX(Country!$K$31:$K$76, MATCH(AI612, Country!$O$31:$O$76, 0), 1)","v":"USDm"},"Belize",0,0,0,0,4.9000000000000004,4.9000000000000004,4.9000000000000004,0,0,0,0,11.889567625884238,5.6956282615178431,4.7169339352167219,0,0,0,0,4.9000000000000004,0,0,{"$f":"IFERROR(E612/Levelisation!F1418, 0)","v":0},{"$f":"IFERROR(F612/Levelisation!G1418, 0)","v":0},{"$f":"IFERROR(G612/Levelisation!H1418, 0)","v":0},{"$f":"IFERROR(H612/Levelisation!I1418, 0)","v":0},{"$f":"IFERROR(I612/Levelisation!J1418, 0)","v":3.4975017844396863},{"$f":"IFERROR(J612/Levelisation!J1418, 0)","v":3.4975017844396863},{"$f":"IFERROR(K612/Levelisation!L1418, 0)","v":3.1531531531531534},"2.07 > Belize",598,23," "]
[{"$f":"INDEX(Country!$F$31:$G$76, MATCH(AI613, Country!$O$31:$O$76, 0), 1)","v":2.0699999999999985},{"$f":"INDEX(Country!$F$31:$G$76, MATCH(AI613, Country!$O$31:$O$76, 0), 2)","v":"Loans, grants, grant programs"},{"$f":"INDEX(Country!$K$31:$K$76, MATCH(AI613, Country!$O$31:$O$76, 0), 1)","v":"USDm"},"Bolivia",0,2.59,2.73,86.73,86.88000000000001,86.88000000000001,87.38000000000001,0,46.905581618240511,34.737374940447829,47.534616482679866,14.926910339684506,7.1506496336133258,4.7655912965709204,0,2.59,0.14000000000000001,84,0.15,0,0.5,{"$f":"IFERROR(E613/Levelisation!F1419, 0)","v":0},{"$f":"IFERROR(F613/Levelisation!G1419, 0)","v":0.19597457627118645},{"$f":"IFERROR(G613/Levelisation!H1419, 0)","v":0.16257741781800855},{"$f":"IFERROR(H613/Levelisation!I1419, 0)","v":4.9662162162162167},{"$f":"IFERROR(I613/Levelisation!J1419, 0)","v":4.3909835237036292},{"$f":"IFERROR(J613/Levelisation!J1419, 0)","v":4.3909835237036292},{"$f":"IFERROR(K613/Levelisation!L1419, 0)","v":3.1856793904261917},"2.07 > Bolivia",599,23," "]
[{"$f":"INDEX(Country!$F$31:$G$76, MATCH(AI614, Country!$O$31:$O$76, 0), 1)","v":2.0699999999999985},{"$f":"INDEX(Country!$F$31:$G$76, MATCH(AI614, Country!$O$31:$O$76, 0), 2)","v":"Loans, grants, grant programs"},{"$f":"INDEX(Country!$K$31:$K$76, MATCH(AI614, Country!$O$31:$O$76, 0), 1)","v":"USDm"},"Brazil",400.4,401.15,428.25,2443.6499999999992,2500.349999999999,2502.0499999999988,2505.849999999999,100,70.276633530401213,55.443040198934561,14.417476773548243,3.966447845680166,1.9013956746870559,1.5645476162732828,400.4,0.75,27.1,2015.3999999999992,56.7,1.7,3.8,{"$f":"IFERROR(E614/Levelisation!F1420, 0)","v":0.36762376773963718},{"$f":"IFERROR(F614/Levelisation!G1420, 0)","v":0.29362035396934605},{"$f":"IFERROR(G614/Levelisation!H1420, 0)","v":0.25948380748331307},{"$f":"IFERROR(H614/Levelisation!I1420, 0)","v":1.5062771564761623},{"$f":"IFERROR(I614/Levelisation!J1420, 0)","v":1.1667925070674392},{"$f":"IFERROR(J614/Levelisation!J1420, 0)","v":1.1675858149091471},{"$f":"IFERROR(K614/Levelisation!L1420, 0)","v":1.0458612135053553},"2.07 > Brazil",600,23," "]
[{"$f":"INDEX(Country!$F$31:$G$76, MATCH(AI615, Country!$O$31:$O$76, 0), 1)","v":2.0699999999999985},{"$f":"INDEX(Country!$F$31:$G$76, MATCH(AI615, Country!$O$31:$O$76, 0), 2)","v":"Loans, grants, grant programs"},{"$f":"INDEX(Country!$K$31:$K$76, MATCH(AI615, Country!$O$31:$O$76, 0), 1)","v":"USDm"},"Chile",0,12,12,20.100000000000001,62.599999999999994,65.599999999999994,199.6,0,16.595842330830539,14.282212963169268,1.1178327949557678,0.97926163686207079,0.49159088555057312,1.1134064601799514,0,12,0,8.1000000000000014,42.499999999999993,3,134,{"$f":"IFERROR(E615/Levelisation!F1421, 0)","v":0},{"$f":"IFERROR(F615/Levelisation!G1421, 0)","v":6.933851060879212E-2},{"$f":"IFERROR(G615/Levelisation!H1421, 0)","v":6.6843430404848372E-2},{"$f":"IFERROR(H615/Levelisation!I1421, 0)","v":0.1167864550953175},{"$f":"IFERROR(I615/Levelisation!J1421, 0)","v":0.28806508614342508},{"$f":"IFERROR(J615/Levelisation!J1421, 0)","v":0.30187012222058601},{"$f":"IFERROR(K615/Levelisation!L1421, 0)","v":0.74428455833274287},"2.07 > Chile",601,23," "]
[{"$f":"INDEX(Country!$F$31:$G$76, MATCH(AI616, Country!$O$31:$O$76, 0), 1)","v":2.0699999999999985},{"$f":"INDEX(Country!$F$31:$G$76, MATCH(AI616, Country!$O$31:$O$76, 0), 2)","v":"Loans, grants, grant programs"},{"$f":"INDEX(Country!$K$31:$K$76, MATCH(AI616, Country!$O$31:$O$76, 0), 1)","v":"USDm"},"Colombia",0,0,3.4000000000000004,10.9,10.9,13.600000000000001,13.600000000000001,0,0,3.0879967127868349,0.45048251514930182,0.13007002611016982,7.7743701233361773E-2,5.5583874952993696E-2,0,0,3.4000000000000004,7.5,0,2.7,0,{"$f":"IFERROR(E616/Levelisation!F1422, 0)","v":0},{"$f":"IFERROR(F616/Levelisation!G1422, 0)","v":0},{"$f":"IFERROR(G616/Levelisation!H1422, 0)","v":1.4452402711950864E-2},{"$f":"IFERROR(H616/Levelisation!I1422, 0)","v":4.7064512925469676E-2},{"$f":"IFERROR(I616/Levelisation!J1422, 0)","v":3.8262127163653084E-2},{"$f":"IFERROR(J616/Levelisation!J1422, 0)","v":4.7739901782172661E-2},{"$f":"IFERROR(K616/Levelisation!L1422, 0)","v":3.715643953882302E-2},"2.07 > Colombia",602,23," "]
[{"$f":"INDEX(Country!$F$31:$G$76, MATCH(AI617, Country!$O$31:$O$76, 0), 1)","v":2.0699999999999985},{"$f":"INDEX(Country!$F$31:$G$76, MATCH(AI617, Country!$O$31:$O$76, 0), 2)","v":"Loans, grants, grant programs"},{"$f":"INDEX(Country!$K$31:$K$76, MATCH(AI617, Country!$O$31:$O$76, 0), 1)","v":"USDm"},"Costa Rica",0,0,0,0,4,4.32,4.32,0,0,0,0,0.37544268198728142,0.19424192525618486,0.14318405260621528,0,0,0,0,4,0.32,0,{"$f":"IFERROR(E617/Levelisation!F1423, 0)","v":0},{"$f":"IFERROR(F617/Levelisation!G1423, 0)","v":0},{"$f":"IFERROR(G617/Levelisation!H1423, 0)","v":0},{"$f":"IFERROR(H617/Levelisation!I1423, 0)","v":0},{"$f":"IFERROR(I617/Levelisation!J1423, 0)","v":0.11044232149759788},{"$f":"IFERROR(J617/Levelisation!J1423, 0)","v":0.1192777072174057},{"$f":"IFERROR(K617/Levelisation!L1423, 0)","v":9.5714982053440867E-2},"2.07 > Costa Rica",603,23," "]
[{"$f":"INDEX(Country!$F$31:$G$76, MATCH(AI618, Country!$O$31:$O$76, 0), 1)","v":2.0699999999999985},{"$f":"INDEX(Country!$F$31:$G$76, MATCH(AI618, Country!$O$31:$O$76, 0), 2)","v":"Loans, grants, grant programs"},{"$f":"INDEX(Country!$K$31:$K$76, MATCH(AI618, Country!$O$31:$O$76, 0), 1)","v":"USDm"},"Dominican Republic",0,0,11.399999999999999,11.399999999999999,11.399999999999999,211.4,211.4,0,0,53.515247385534764,2.3358350212591206,0.74999384018837612,6.6624414126045668,5.3603993279657924,0,0,11.399999999999999,0,0,200,0,{"$f":"IFERROR(E618/Levelisation!F1424, 0)","v":0},{"$f":"IFERROR(F618/Levelisation!G1424, 0)","v":0},{"$f":"IFERROR(G618/Levelisation!H1424, 0)","v":0.25046137621935144},{"$f":"IFERROR(H618/Levelisation!I1424, 0)","v":0.24403818983602343},{"$f":"IFERROR(I618/Levelisation!J1424, 0)","v":0.22062238736646539},{"$f":"IFERROR(J618/Levelisation!J1424, 0)","v":4.0911905867781391},{"$f":"IFERROR(K618/Levelisation!L1424, 0)","v":3.583293782629331},"2.07 > Dominican Republic",604,23," "]
[{"$f":"INDEX(Country!$F$31:$G$76, MATCH(AI619, Country!$O$31:$O$76, 0), 1)","v":2.0699999999999985},{"$f":"INDEX(Country!$F$31:$G$76, MATCH(AI619, Country!$O$31:$O$76, 0), 2)","v":"Loans, grants, grant programs"},{"$f":"INDEX(Country!$K$31:$K$76, MATCH(AI619, Country!$O$31:$O$76, 0), 1)","v":"USDm"},"Ecuador",9.1999999999999993,9.1999999999999993,12.1,98.1,99.089999999999989,99.089999999999989,99.089999999999989,53.474615728082675,43.169232090577751,42.558877109808833,16.228652267569363,5.2836070012876828,2.5310812223122872,1.8316863764030495,9.1999999999999993,0,2.9000000000000004,86,0.99,0,0,{"$f":"IFERROR(E619/Levelisation!F1425, 0)","v":0.19658539712387016},{"$f":"IFERROR(F619/Levelisation!G1425, 0)","v":0.18036386449184438},{"$f":"IFERROR(G619/Levelisation!H1425, 0)","v":0.1991835122143939},{"$f":"IFERROR(H619/Levelisation!I1425, 0)","v":1.6955011320624276},{"$f":"IFERROR(I619/Levelisation!J1425, 0)","v":1.5542554192678106},{"$f":"IFERROR(J619/Levelisation!J1425, 0)","v":1.5542554192678106},{"$f":"IFERROR(K619/Levelisation!L1425, 0)","v":1.2244368381380748},"2.07 > Ecuador",605,23," "]
[{"$f":"INDEX(Country!$F$31:$G$76, MATCH(AI620, Country!$O$31:$O$76, 0), 1)","v":2.0699999999999985},{"$f":"INDEX(Country!$F$31:$G$76, MATCH(AI620, Country!$O$31:$O$76, 0), 2)","v":"Loans, grants, grant programs"},{"$f":"INDEX(Country!$K$31:$K$76, MATCH(AI620, Country!$O$31:$O$76, 0), 1)","v":"USDm"},"El Salvador",0,8.4,9.15,94.95,110.25,110.25,111.5,0,100,91.225327796183095,43.987370571621966,17.498781188109803,8.382689414216836,7.0035909651626458,0,8.4,0.75,85.8,15.3,0,1.25,{"$f":"IFERROR(E620/Levelisation!F1426, 0)","v":0},{"$f":"IFERROR(F620/Levelisation!G1426, 0)","v":0.41780651579209155},{"$f":"IFERROR(G620/Levelisation!H1426, 0)","v":0.42695161215062294},{"$f":"IFERROR(H620/Levelisation!I1426, 0)","v":4.5956149266734423},{"$f":"IFERROR(I620/Levelisation!J1426, 0)","v":5.1475394527967131},{"$f":"IFERROR(J620/Levelisation!J1426, 0)","v":5.1475394527967131},{"$f":"IFERROR(K620/Levelisation!L1426, 0)","v":4.6817265703728586},"2.07 > El Salvador",606,23," "]
[{"$f":"INDEX(Country!$F$31:$G$76, MATCH(AI621, Country!$O$31:$O$76, 0), 1)","v":2.0699999999999985},{"$f":"INDEX(Country!$F$31:$G$76, MATCH(AI621, Country!$O$31:$O$76, 0), 2)","v":"Loans, grants, grant programs"},{"$f":"INDEX(Country!$K$31:$K$76, MATCH(AI621, Country!$O$31:$O$76, 0), 1)","v":"USDm"},"Guatemala",0,2.5,3.4,88,91.3,91.3,91.3,0,17.540617806645418,18.562144943829793,22.322056222069431,7.5075445262116434,3.5964455667002868,2.7381615064535922,0,2.5,0.9,84.6,3.3,0,0,{"$f":"IFERROR(E621/Levelisation!F1427, 0)","v":0},{"$f":"IFERROR(F621/Levelisation!G1427, 0)","v":7.3285844106352416E-2},{"$f":"IFERROR(G621/Levelisation!H1427, 0)","v":8.6874313309655823E-2},{"$f":"IFERROR(H621/Levelisation!I1427, 0)","v":2.332114273599406},{"$f":"IFERROR(I621/Levelisation!J1427, 0)","v":2.2084613337848622},{"$f":"IFERROR(J621/Levelisation!J1427, 0)","v":2.2084613337848622},{"$f":"IFERROR(K621/Levelisation!L1427, 0)","v":1.8303929430633519},"2.07 > Guatemala",607,23," "]
[{"$f":"INDEX(Country!$F$31:$G$76, MATCH(AI622, Country!$O$31:$O$76, 0), 1)","v":2.0699999999999985},{"$f":"INDEX(Country!$F$31:$G$76, MATCH(AI622, Country!$O$31:$O$76, 0), 2)","v":"Loans, grants, grant programs"},{"$f":"INDEX(Country!$K$31:$K$76, MATCH(AI622, Country!$O$31:$O$76, 0), 1)","v":"USDm"},"Guyana",0,0,0.9,0.9,0.9,0.9,0.9,0,0,100,4.2561445749596389,1.3543608621728445,0.64879869862480666,0.48290807555662069,0,0,0.9,0,0,0,0,{"$f":"IFERROR(E622/Levelisation!F1428, 0)","v":0},{"$f":"IFERROR(F622/Levelisation!G1428, 0)","v":0},{"$f":"IFERROR(G622/Levelisation!H1428, 0)","v":0.46801872074882994},{"$f":"IFERROR(H622/Levelisation!I1428, 0)","v":0.44466403162055335},{"$f":"IFERROR(I622/Levelisation!J1428, 0)","v":0.39840637450199207},{"$f":"IFERROR(J622/Levelisation!J1428, 0)","v":0.39840637450199207},{"$f":"IFERROR(K622/Levelisation!L1428, 0)","v":0.32281205164992827},"2.07 > Guyana",608,23," "]
[{"$f":"INDEX(Country!$F$31:$G$76, MATCH(AI623, Country!$O$31:$O$76, 0), 1)","v":2.0699999999999985},{"$f":"INDEX(Country!$F$31:$G$76, MATCH(AI623, Country!$O$31:$O$76, 0), 2)","v":"Loans, grants, grant programs"},{"$f":"INDEX(Country!$K$31:$K$76, MATCH(AI623, Country!$O$31:$O$76, 0), 1)","v":"USDm"},"Haiti",0,0,2.97,2.97,4.9700000000000006,24.97,26.47,0,0,96.88396946564886,4.3387730227518961,2.5790330403522495,6.2071842156464916,5.0110835522420052,0,0,2.97,0,2,20,1.5,{"$f":"IFERROR(E623/Levelisation!F1429, 0)","v":0},{"$f":"IFERROR(F623/Levelisation!G1429, 0)","v":0},{"$f":"IFERROR(G623/Levelisation!H1429, 0)","v":0.45343511450381685},{"$f":"IFERROR(H623/Levelisation!I1429, 0)","v":0.45329670329670335},{"$f":"IFERROR(I623/Levelisation!J1429, 0)","v":0.75866279957258442},{"$f":"IFERROR(J623/Levelisation!J1429, 0)","v":3.8116318119371084},{"$f":"IFERROR(K623/Levelisation!L1429, 0)","v":3.3497848645912427},"2.07 > Haiti",609,23," "]
[{"$f":"INDEX(Country!$F$31:$G$76, MATCH(AI624, Country!$O$31:$O$76, 0), 1)","v":2.0699999999999985},{"$f":"INDEX(Country!$F$31:$G$76, MATCH(AI624, Country!$O$31:$O$76, 0), 2)","v":"Loans, grants, grant programs"},{"$f":"INDEX(Country!$K$31:$K$76, MATCH(AI624, Country!$O$31:$O$76, 0), 1)","v":"USDm"},"Honduras",0,0,0.75,85,87.9,93.9,94.800000000000011,0,0,11.580430698077757,55.966546106567634,18.931277411323652,9.6879572022416411,7.7123826740263075,0,0,0.75,84.25,2.9,6,0.9,{"$f":"IFERROR(E624/Levelisation!F1430, 0)","v":0},{"$f":"IFERROR(F624/Levelisation!G1430, 0)","v":0},{"$f":"IFERROR(G624/Levelisation!H1430, 0)","v":5.4198583610348322E-2},{"$f":"IFERROR(H624/Levelisation!I1430, 0)","v":5.8471486551558094},{"$f":"IFERROR(I624/Levelisation!J1430, 0)","v":5.5689305625950327},{"$f":"IFERROR(J624/Levelisation!J1430, 0)","v":5.949062341611759},{"$f":"IFERROR(K624/Levelisation!L1430, 0)","v":5.1555362192734391},"2.07 > Honduras",610,23," "]
[{"$f":"INDEX(Country!$F$31:$G$76, MATCH(AI625, Country!$O$31:$O$76, 0), 1)","v":2.0699999999999985},{"$f":"INDEX(Country!$F$31:$G$76, MATCH(AI625, Country!$O$31:$O$76, 0), 2)","v":"Loans, grants, grant programs"},{"$f":"INDEX(Country!$K$31:$K$76, MATCH(AI625, Country!$O$31:$O$76, 0), 1)","v":"USDm"},"Jamaica",0,0,0,3.5430000000000001,25.843,48.042999999999999,48.042999999999999,0,0,0,2.7624768241249384,6.5114050459860193,5.7987912877156296,4.7130655747931902,0,0,0,3.5430000000000001,22.3,22.2,0,{"$f":"IFERROR(E625/Levelisation!F1431, 0)","v":0},{"$f":"IFERROR(F625/Levelisation!G1431, 0)","v":0},{"$f":"IFERROR(G625/Levelisation!H1431, 0)","v":0},{"$f":"IFERROR(H625/Levelisation!I1431, 0)","v":0.28861192570869992},{"$f":"IFERROR(I625/Levelisation!J1431, 0)","v":1.9154313667358434},{"$f":"IFERROR(J625/Levelisation!J1431, 0)","v":3.5608508745923508},{"$f":"IFERROR(K625/Levelisation!L1431, 0)","v":3.1505672503114956},"2.07 > Jamaica",611,23," "]
[{"$f":"INDEX(Country!$F$31:$G$76, MATCH(AI626, Country!$O$31:$O$76, 0), 1)","v":2.0699999999999985},{"$f":"INDEX(Country!$F$31:$G$76, MATCH(AI626, Country!$O$31:$O$76, 0), 2)","v":"Loans, grants, grant programs"},{"$f":"INDEX(Country!$K$31:$K$76, MATCH(AI626, Country!$O$31:$O$76, 0), 1)","v":"USDm"},"Mexico",74.7,76.7,88.05,841.25,1414.75,1419.85,1419.85,21.351386272394389,17.736436904274228,17.200871501923668,9.1207467546283745,4.6505676129822779,2.2358584270775146,1.8044212414526892,74.7,2,11.35,753.2,573.50000000000011,5.0999999999999996,0,{"$f":"IFERROR(E626/Levelisation!F1432, 0)","v":7.849277067921992E-2},{"$f":"IFERROR(F626/Levelisation!G1432, 0)","v":7.4103989055410852E-2},{"$f":"IFERROR(G626/Levelisation!H1432, 0)","v":8.0503298760953204E-2},{"$f":"IFERROR(H626/Levelisation!I1432, 0)","v":0.95289714714204488},{"$f":"IFERROR(I626/Levelisation!J1432, 0)","v":1.3680370083141067},{"$f":"IFERROR(J626/Levelisation!J1432, 0)","v":1.3729686137160517},{"$f":"IFERROR(K626/Levelisation!L1432, 0)","v":1.2062107727700584},"2.07 > Mexico",612,23," "]
[{"$f":"INDEX(Country!$F$31:$G$76, MATCH(AI627, Country!$O$31:$O$76, 0), 1)","v":2.0699999999999985},{"$f":"INDEX(Country!$F$31:$G$76, MATCH(AI627, Country!$O$31:$O$76, 0), 2)","v":"Loans, grants, grant programs"},{"$f":"INDEX(Country!$K$31:$K$76, MATCH(AI627, Country!$O$31:$O$76, 0), 1)","v":"USDm"},"Nicaragua",0.7,0.7,0.7,85.2,252.60000000000002,527.29999999999995,702.3,28.059543609941485,22.497873864195871,18.120507228818351,100,100,100,100,0.7,0,0,84.5,167.4,274.7,175,{"$f":"IFERROR(E627/Levelisation!F1433, 0)","v":0.1031535514294135},{"$f":"IFERROR(F627/Levelisation!G1433, 0)","v":9.3997582919296357E-2},{"$f":"IFERROR(G627/Levelisation!H1433, 0)","v":8.4807366125514899E-2},{"$f":"IFERROR(H627/Levelisation!I1433, 0)","v":10.447578172900062},{"$f":"IFERROR(I627/Levelisation!J1433, 0)","v":29.416559916152327},{"$f":"IFERROR(J627/Levelisation!J1433, 0)","v":61.406777687201583},{"$f":"IFERROR(K627/Levelisation!L1433, 0)","v":66.847515705311238},"2.07 > Nicaragua",613,23," "]
[{"$f":"INDEX(Country!$F$31:$G$76, MATCH(AI628, Country!$O$31:$O$76, 0), 1)","v":2.0699999999999985},{"$f":"INDEX(Country!$F$31:$G$76, MATCH(AI628, Country!$O$31:$O$76, 0), 2)","v":"Loans, grants, grant programs"},{"$f":"INDEX(Country!$K$31:$K$76, MATCH(AI628, Country!$O$31:$O$76, 0), 1)","v":"USDm"},"Panama",6,6,7.35,7.35,9.35,9.35,9.35,95.238571313730318,72.550845133445918,68.274497869750462,2.9115272273461978,1.1749091743578679,0.56283341066337478,0.38581791336793203,6,0,1.35,0,2,0,0,{"$f":"IFERROR(E628/Levelisation!F1434, 0)","v":0.3501196242049367},{"$f":"IFERROR(F628/Levelisation!G1434, 0)","v":0.30312215822976657},{"$f":"IFERROR(G628/Levelisation!H1434, 0)","v":0.31953743152769326},{"$f":"IFERROR(H628/Levelisation!I1434, 0)","v":0.30418408310226375},{"$f":"IFERROR(I628/Levelisation!J1434, 0)","v":0.34561786123535282},{"$f":"IFERROR(J628/Levelisation!J1434, 0)","v":0.34561786123535282},{"$f":"IFERROR(K628/Levelisation!L1434, 0)","v":0.25790969023253246},"2.07 > Panama",614,23," "]
[{"$f":"INDEX(Country!$F$31:$G$76, MATCH(AI629, Country!$O$31:$O$76, 0), 1)","v":2.0699999999999985},{"$f":"INDEX(Country!$F$31:$G$76, MATCH(AI629, Country!$O$31:$O$76, 0), 2)","v":"Loans, grants, grant programs"},{"$f":"INDEX(Country!$K$31:$K$76, MATCH(AI629, Country!$O$31:$O$76, 0), 1)","v":"USDm"},"Paraguay",0,0,0,84,84,84,84,0,0,0,50.484370495230579,13.772895585806324,6.5978255736292013,4.8332289716594277,0,0,0,84,0,0,0,{"$f":"IFERROR(E629/Levelisation!F1435, 0)","v":0},{"$f":"IFERROR(F629/Levelisation!G1435, 0)","v":0},{"$f":"IFERROR(G629/Levelisation!H1435, 0)","v":0},{"$f":"IFERROR(H629/Levelisation!I1435, 0)","v":5.274394072585709},{"$f":"IFERROR(I629/Levelisation!J1435, 0)","v":4.0515120821878163},{"$f":"IFERROR(J629/Levelisation!J1435, 0)","v":4.0515120821878163},{"$f":"IFERROR(K629/Levelisation!L1435, 0)","v":3.2308934959036888},"2.07 > Paraguay",615,23," "]
[{"$f":"INDEX(Country!$F$31:$G$76, MATCH(AI630, Country!$O$31:$O$76, 0), 1)","v":2.0699999999999985},{"$f":"INDEX(Country!$F$31:$G$76, MATCH(AI630, Country!$O$31:$O$76, 0), 2)","v":"Loans, grants, grant programs"},{"$f":"INDEX(Country!$K$31:$K$76, MATCH(AI630, Country!$O$31:$O$76, 0), 1)","v":"USDm"},"Peru",9,9,10,396,472.6,507.6,814.2,26.516995525595675,20.084727814725667,16.841518942110891,29.856341423015252,10.440189156064601,5.3717010914006602,6.1204901392862485,9,0,1,386,76.599999999999994,35,306.60000000000002,{"$f":"IFERROR(E630/Levelisation!F1436, 0)","v":9.748277804254582E-2},{"$f":"IFERROR(F630/Levelisation!G1436, 0)","v":8.3915301489030397E-2},{"$f":"IFERROR(G630/Levelisation!H1436, 0)","v":7.882146150753927E-2},{"$f":"IFERROR(H630/Levelisation!I1436, 0)","v":3.1192646097374617},{"$f":"IFERROR(I630/Levelisation!J1436, 0)","v":3.0711444984533811},{"$f":"IFERROR(J630/Levelisation!J1436, 0)","v":3.2985885472173848},{"$f":"IFERROR(K630/Levelisation!L1436, 0)","v":4.0913956071014006},"2.07 > Peru",616,23," "]
[{"$f":"INDEX(Country!$F$31:$G$76, MATCH(AI631, Country!$O$31:$O$76, 0), 1)","v":2.0699999999999985},{"$f":"INDEX(Country!$F$31:$G$76, MATCH(AI631, Country!$O$31:$O$76, 0), 2)","v":"Loans, grants, grant programs"},{"$f":"INDEX(Country!$K$31:$K$76, MATCH(AI631, Country!$O$31:$O$76, 0), 1)","v":"USDm"},"Suriname",0,0,0,1.2000000000000002,1.2000000000000002,5.6000000000000005,18.8,0,0,0,2.9633424904431758,0.93412752847827063,2.0882790263041642,5.9357762383225312,0,0,0,1.2000000000000002,0,4.4000000000000004,13.200000000000001,{"$f":"IFERROR(E631/Levelisation!F1437, 0)","v":0},{"$f":"IFERROR(F631/Levelisation!G1437, 0)","v":0},{"$f":"IFERROR(G631/Levelisation!H1437, 0)","v":0},{"$f":"IFERROR(H631/Levelisation!I1437, 0)","v":0.30959752321981432},{"$f":"IFERROR(I631/Levelisation!J1437, 0)","v":0.27478818410808337},{"$f":"IFERROR(J631/Levelisation!J1437, 0)","v":1.2823448591710558},{"$f":"IFERROR(K631/Levelisation!L1437, 0)","v":3.9679189531447867},"2.07 > Suriname",617,23," "]
[{"$f":"INDEX(Country!$F$31:$G$76, MATCH(AI632, Country!$O$31:$O$76, 0), 1)","v":2.0699999999999985},{"$f":"INDEX(Country!$F$31:$G$76, MATCH(AI632, Country!$O$31:$O$76, 0), 2)","v":"Loans, grants, grant programs"},{"$f":"INDEX(Country!$K$31:$K$76, MATCH(AI632, Country!$O$31:$O$76, 0), 1)","v":"USDm"},"Trinidad & Tobago",0,0,0,0,4.9000000000000004,64.900000000000006,64.900000000000006,0,0,0,0,0.80888089369513017,5.1322614095703587,3.8409079259979699,0,0,0,0,4.9000000000000004,60,0,{"$f":"IFERROR(E632/Levelisation!F1438, 0)","v":0},{"$f":"IFERROR(F632/Levelisation!G1438, 0)","v":0},{"$f":"IFERROR(G632/Levelisation!H1438, 0)","v":0},{"$f":"IFERROR(H632/Levelisation!I1438, 0)","v":0},{"$f":"IFERROR(I632/Levelisation!J1438, 0)","v":0.23794493274413636},{"$f":"IFERROR(J632/Levelisation!J1438, 0)","v":3.1515563541009084},{"$f":"IFERROR(K632/Levelisation!L1438, 0)","v":2.5675515290580369},"2.07 > Trinidad & Tobago",618,23," "]
[{"$f":"INDEX(Country!$F$31:$G$76, MATCH(AI633, Country!$O$31:$O$76, 0), 1)","v":2.0699999999999985},{"$f":"INDEX(Country!$F$31:$G$76, MATCH(AI633, Country!$O$31:$O$76, 0), 2)","v":"Loans, grants, grant programs"},{"$f":"INDEX(Country!$K$31:$K$76, MATCH(AI633, Country!$O$31:$O$76, 0), 1)","v":"USDm"},"Uruguay",0,0.98,0.98,1.98,1.98,3.48,3.48,0,10.019150541768113,6.8956508375595504,0.62143032309342827,0.17078307654588967,0.14379191293890087,0.10537361003131702,0,0.98,0,1,0,1.5,0,{"$f":"IFERROR(E633/Levelisation!F1439, 0)","v":0},{"$f":"IFERROR(F633/Levelisation!G1439, 0)","v":4.1860663790525818E-2},{"$f":"IFERROR(G633/Levelisation!H1439, 0)","v":3.2272936837252186E-2},{"$f":"IFERROR(H633/Levelisation!I1439, 0)","v":6.4924418795291344E-2},{"$f":"IFERROR(I633/Levelisation!J1439, 0)","v":5.023850603876992E-2},{"$f":"IFERROR(J633/Levelisation!J1439, 0)","v":8.8297980310565308E-2},{"$f":"IFERROR(K633/Levelisation!L1439, 0)","v":7.0439640514938062E-2},"2.07 > Uruguay",619,23," "]
[{"$f":"INDEX(Country!$F$31:$G$76, MATCH(AI634, Country!$O$31:$O$76, 0), 1)","v":2.0699999999999985},{"$f":"INDEX(Country!$F$31:$G$76, MATCH(AI634, Country!$O$31:$O$76, 0), 2)","v":"Loans, grants, grant programs"},{"$f":"INDEX(Country!$K$31:$K$76, MATCH(AI634, Country!$O$31:$O$76, 0), 1)","v":"USDm"},"Venezuela",0,0,0,0,0,0,0,0,0,0,0,0,0,0,0,0,0,0,0,0,0,{"$f":"IFERROR(E634/Levelisation!F1440, 0)","v":0},{"$f":"IFERROR(F634/Levelisation!G1440, 0)","v":0},{"$f":"IFERROR(G634/Levelisation!H1440, 0)","v":0},{"$f":"IFERROR(H634/Levelisation!I1440, 0)","v":0},{"$f":"IFERROR(I634/Levelisation!J1440, 0)","v":0},{"$f":"IFERROR(J634/Levelisation!J1440, 0)","v":0},{"$f":"IFERROR(K634/Levelisation!L1440, 0)","v":0},"2.07 > Venezuela",620,23," "]
[{"$f":"INDEX(Country!$F$31:$G$76, MATCH(AI635, Country!$O$31:$O$76, 0), 1)","v":2.0699999999999985},{"$f":"INDEX(Country!$F$31:$G$76, MATCH(AI635, Country!$O$31:$O$76, 0), 2)","v":"Loans, grants, grant programs"},{"$f":"INDEX(Country!$K$31:$K$76, MATCH(AI635, Country!$O$31:$O$76, 0), 1)","v":"USDm"},"Benchmark",{"$f":"IFERROR(MAX(E609:E634), 0)","v":400.4},{"$f":"IFERROR(MAX(F609:F634), 0)","v":401.15},428.25,2443.6499999999992,2500.349999999999,2502.0499999999988,2505.849999999999,{"$f":"MAX(Z609:Z634)","v":0.36762376773963718},0.41780651579209155,{"$f":"MAX(AB609:AB634)","v":0.46801872074882994},{"$f":"MAX(AC609:AC634)","v":10.447578172900062},{"$f":"MAX(AD609:AD634)","v":29.416559916152327},{"$f":"MAX(AE609:AE634)","v":61.406777687201583},{"$f":"MAX(AF609:AF634)","v":66.847515705311238},null,null,null,null,null,null,null,"Levelised by Gross Domestic Product (USDbn)",null,null,null,null,null,null,"2.07 > Benchmark",621,23," "]
[{"$f":"INDEX(Country!$F$31:$G$76, MATCH(AI636, Country!$O$31:$O$76, 0), 1)","v":2.0799999999999983},{"$f":"INDEX(Country!$F$31:$G$76, MATCH(AI636, Country!$O$31:$O$76, 0), 2)","v":"Local investments"},{"$f":"INDEX(Country!$K$31:$K$76, MATCH(AI636, Country!$O$31:$O$76, 0), 1)","v":"USDm"},"Argentina",90.089936825438798,215.55753081624559,282.50913770939627,94.389776163491987,332.41595090169238,154.13941400931986,231.47823804006489,{"$f":"IFERROR(dbl_BenchmarkMax*Z636/L$662, 0)","v":6.0648947475552015},{"$f":"IFERROR(dbl_BenchmarkMax*AA636/M$662, 0)","v":5.4873367674452531},{"$f":"IFERROR(dbl_BenchmarkMax*AB636/N$662, 0)","v":5.0366992890045994},{"$f":"IFERROR(dbl_BenchmarkMax*AC636/O$662, 0)","v":5.3529780272608258},{"$f":"IFERROR(dbl_BenchmarkMax*AD636/P$662, 0)","v":11.536145915629914},{"$f":"IFERROR(dbl_BenchmarkMax*AE636/Q$662, 0)","v":8.0759319590655458},{"$f":"IFERROR(dbl_BenchmarkMax*AF636/R$662, 0)","v":13.68890677588889},null,null,null,null,null,null,null,{"$f":"IFERROR(E636/Levelisation!F1415, 0)","v":0.42393867884558528},{"$f":"IFERROR(F636/Levelisation!G1415, 0)","v":0.82884108884206842},{"$f":"IFERROR(G636/Levelisation!H1415, 0)","v":0.87085321653302594},{"$f":"IFERROR(H636/Levelisation!I1415, 0)","v":0.30870241384174013},{"$f":"IFERROR(I636/Levelisation!J1415, 0)","v":0.90437324256034279},{"$f":"IFERROR(J636/Levelisation!K1415, 0)","v":0.3466829820367418},{"$f":"IFERROR(K636/Levelisation!L1415, 0)","v":0.48736980431802845},"2.08 > Argentina",622,24," "]
[{"$f":"INDEX(Country!$F$31:$G$76, MATCH(AI637, Country!$O$31:$O$76, 0), 1)","v":2.0799999999999983},{"$f":"INDEX(Country!$F$31:$G$76, MATCH(AI637, Country!$O$31:$O$76, 0), 2)","v":"Local investments"},{"$f":"INDEX(Country!$K$31:$K$76, MATCH(AI637, Country!$O$31:$O$76, 0), 1)","v":"USDm"},"Bahamas",null,null,null,null,null,null,null,0,0,0,0,0,0,0,null,null,null,null,null,null,null,{"$f":"IFERROR(E637/Levelisation!F1416, 0)","v":0},{"$f":"IFERROR(F637/Levelisation!G1416, 0)","v":0},{"$f":"IFERROR(G637/Levelisation!H1416, 0)","v":0},{"$f":"IFERROR(H637/Levelisation!I1416, 0)","v":0},{"$f":"IFERROR(I637/Levelisation!J1416, 0)","v":0},{"$f":"IFERROR(J637/Levelisation!K1416, 0)","v":0},{"$f":"IFERROR(K637/Levelisation!L1416, 0)","v":0},"2.08 > Bahamas",623,24," "]
[{"$f":"INDEX(Country!$F$31:$G$76, MATCH(AI638, Country!$O$31:$O$76, 0), 1)","v":2.0799999999999983},{"$f":"INDEX(Country!$F$31:$G$76, MATCH(AI638, Country!$O$31:$O$76, 0), 2)","v":"Local investments"},{"$f":"INDEX(Country!$K$31:$K$76, MATCH(AI638, Country!$O$31:$O$76, 0), 1)","v":"USDm"},"Barbados",null,null,null,null,null,null,null,0,0,0,0,0,0,0,null,null,null,null,null,null,null,{"$f":"IFERROR(E638/Levelisation!F1417, 0)","v":0},{"$f":"IFERROR(F638/Levelisation!G1417, 0)","v":0},{"$f":"IFERROR(G638/Levelisation!H1417, 0)","v":0},{"$f":"IFERROR(H638/Levelisation!I1417, 0)","v":0},{"$f":"IFERROR(I638/Levelisation!J1417, 0)","v":0},{"$f":"IFERROR(J638/Levelisation!K1417, 0)","v":0},{"$f":"IFERROR(K638/Levelisation!L1417, 0)","v":0},"2.08 > Barbados",624,24," "]
[{"$f":"INDEX(Country!$F$31:$G$76, MATCH(AI639, Country!$O$31:$O$76, 0), 1)","v":2.0799999999999983},{"$f":"INDEX(Country!$F$31:$G$76, MATCH(AI639, Country!$O$31:$O$76, 0), 2)","v":"Local investments"},{"$f":"INDEX(Country!$K$31:$K$76, MATCH(AI639, Country!$O$31:$O$76, 0), 1)","v":"USDm"},"Belize",0,19.364116345099699,0,0,0,0,0,0,100,0,0,0,0,0,null,null,null,null,null,null,null,{"$f":"IFERROR(E639/Levelisation!F1418, 0)","v":0},{"$f":"IFERROR(F639/Levelisation!G1418, 0)","v":15.104614933775116},{"$f":"IFERROR(G639/Levelisation!H1418, 0)","v":0},{"$f":"IFERROR(H639/Levelisation!I1418, 0)","v":0},{"$f":"IFERROR(I639/Levelisation!J1418, 0)","v":0},{"$f":"IFERROR(J639/Levelisation!K1418, 0)","v":0},{"$f":"IFERROR(K639/Levelisation!L1418, 0)","v":0},"2.08 > Belize",625,24," "]
[{"$f":"INDEX(Country!$F$31:$G$76, MATCH(AI640, Country!$O$31:$O$76, 0), 1)","v":2.0799999999999983},{"$f":"INDEX(Country!$F$31:$G$76, MATCH(AI640, Country!$O$31:$O$76, 0), 2)","v":"Local investments"},{"$f":"INDEX(Country!$K$31:$K$76, MATCH(AI640, Country!$O$31:$O$76, 0), 1)","v":"USDm"},"Bolivia",null,null,null,null,null,null,null,0,0,0,0,0,0,0,null,null,null,null,null,null,null,{"$f":"IFERROR(E640/Levelisation!F1419, 0)","v":0},{"$f":"IFERROR(F640/Levelisation!G1419, 0)","v":0},{"$f":"IFERROR(G640/Levelisation!H1419, 0)","v":0},{"$f":"IFERROR(H640/Levelisation!I1419, 0)","v":0},{"$f":"IFERROR(I640/Levelisation!J1419, 0)","v":0},{"$f":"IFERROR(J640/Levelisation!K1419, 0)","v":0},{"$f":"IFERROR(K640/Levelisation!L1419, 0)","v":0},"2.08 > Bolivia",626,24," "]
[{"$f":"INDEX(Country!$F$31:$G$76, MATCH(AI641, Country!$O$31:$O$76, 0), 1)","v":2.0799999999999983},{"$f":"INDEX(Country!$F$31:$G$76, MATCH(AI641, Country!$O$31:$O$76, 0), 2)","v":"Local investments"},{"$f":"INDEX(Country!$K$31:$K$76, MATCH(AI641, Country!$O$31:$O$76, 0), 1)","v":"USDm"},"Brazil",2932.4237482956605,6434.3436772704381,9337.2393589104722,7438.6203884446995,7974.1922315561187,7995.3793617324727,5936.3247916966739,38.517355970739587,31.179845388640505,32.721442765646657,79.508528994821404,47.467085079246182,74.712475335968676,69.589992292478243,null,null,null,null,null,null,null,{"$f":"IFERROR(E641/Levelisation!F1420, 0)","v":2.6923792881059945},{"$f":"IFERROR(F641/Levelisation!G1420, 0)","v":4.7095955829005858},{"$f":"IFERROR(G641/Levelisation!H1420, 0)","v":5.6575888388397857},{"$f":"IFERROR(H641/Levelisation!I1420, 0)","v":4.5851999946031929},{"$f":"IFERROR(I641/Levelisation!J1420, 0)","v":3.7211701344592014},{"$f":"IFERROR(J641/Levelisation!K1420, 0)","v":3.207251358246606},{"$f":"IFERROR(K641/Levelisation!L1420, 0)","v":2.4776310834271049},"2.08 > Brazil",627,24," "]
[{"$f":"INDEX(Country!$F$31:$G$76, MATCH(AI642, Country!$O$31:$O$76, 0), 1)","v":2.0799999999999983},{"$f":"INDEX(Country!$F$31:$G$76, MATCH(AI642, Country!$O$31:$O$76, 0), 2)","v":"Local investments"},{"$f":"INDEX(Country!$K$31:$K$76, MATCH(AI642, Country!$O$31:$O$76, 0), 1)","v":"USDm"},"Chile",27.864578518015268,239.47416279425505,539.02820241968027,242.37935038641243,483.12355956796949,80.07264912295048,395.12700335139419,2.5766767147384115,9.1609870284916806,17.365609644408377,24.420101867254512,28.358780015836754,7.4315770497868447,41.383320084752519,null,null,null,null,null,null,null,{"$f":"IFERROR(E642/Levelisation!F1421, 0)","v":0.18011077977877851},{"$f":"IFERROR(F642/Levelisation!G1421, 0)","v":1.3837318147867554},{"$f":"IFERROR(G642/Levelisation!H1421, 0)","v":3.0025411778908686},{"$f":"IFERROR(H642/Levelisation!I1421, 0)","v":1.4082898069619394},{"$f":"IFERROR(I642/Levelisation!J1421, 0)","v":2.2231793898540784},{"$f":"IFERROR(J642/Levelisation!K1421, 0)","v":0.31902216436628161},{"$f":"IFERROR(K642/Levelisation!L1421, 0)","v":1.4733813986710051},"2.08 > Chile",628,24," "]
[{"$f":"INDEX(Country!$F$31:$G$76, MATCH(AI643, Country!$O$31:$O$76, 0), 1)","v":2.0799999999999983},{"$f":"INDEX(Country!$F$31:$G$76, MATCH(AI643, Country!$O$31:$O$76, 0), 2)","v":"Local investments"},{"$f":"INDEX(Country!$K$31:$K$76, MATCH(AI643, Country!$O$31:$O$76, 0), 1)","v":"USDm"},"Colombia",114.51802828019623,278.89813964139955,171.90524321568438,122.57468404142462,206.60071494610341,73.389503900152448,0,10.195359281727518,8.7689940329009932,4.2262124289113983,9.1774766524737714,9.2509741833059422,5.2181399200798504,0,null,null,null,null,null,null,null,{"$f":"IFERROR(E643/Levelisation!F1422, 0)","v":0.71265987690783072},{"$f":"IFERROR(F643/Levelisation!G1422, 0)","v":1.3245227822354122},{"$f":"IFERROR(G643/Levelisation!H1422, 0)","v":0.73071876566144989},{"$f":"IFERROR(H643/Levelisation!I1422, 0)","v":0.52925851389018252},{"$f":"IFERROR(I643/Levelisation!J1422, 0)","v":0.72522778232747254},{"$f":"IFERROR(J643/Levelisation!K1422, 0)","v":0.22400390658907551},{"$f":"IFERROR(K643/Levelisation!L1422, 0)","v":0},"2.08 > Colombia",629,24," "]
[{"$f":"INDEX(Country!$F$31:$G$76, MATCH(AI644, Country!$O$31:$O$76, 0), 1)","v":2.0799999999999983},{"$f":"INDEX(Country!$F$31:$G$76, MATCH(AI644, Country!$O$31:$O$76, 0), 2)","v":"Local investments"},{"$f":"INDEX(Country!$K$31:$K$76, MATCH(AI644, Country!$O$31:$O$76, 0), 1)","v":"USDm"},"Costa Rica",0,0,26.961067164273793,3.2884023904718873,75.903814483833941,68.613451604932024,8.2819425879942603,0,0,5.2259882742644646,1.9406367681070928,26.733275452095953,39.107923513287091,5.153930270449985,null,null,null,null,null,null,null,{"$f":"IFERROR(E644/Levelisation!F1423, 0)","v":0},{"$f":"IFERROR(F644/Levelisation!G1423, 0)","v":0},{"$f":"IFERROR(G644/Levelisation!H1423, 0)","v":0.90358157933754912},{"$f":"IFERROR(H644/Levelisation!I1423, 0)","v":0.11191513427736743},{"$f":"IFERROR(I644/Levelisation!J1423, 0)","v":2.0957483705294035},{"$f":"IFERROR(J644/Levelisation!K1423, 0)","v":1.6788219135045761},{"$f":"IFERROR(K644/Levelisation!L1423, 0)","v":0.18349675605960608},"2.08 > Costa Rica",630,24," "]
[{"$f":"INDEX(Country!$F$31:$G$76, MATCH(AI645, Country!$O$31:$O$76, 0), 1)","v":2.0799999999999983},{"$f":"INDEX(Country!$F$31:$G$76, MATCH(AI645, Country!$O$31:$O$76, 0), 2)","v":"Local investments"},{"$f":"INDEX(Country!$K$31:$K$76, MATCH(AI645, Country!$O$31:$O$76, 0), 1)","v":"USDm"},"Dominican Republic",0,0,0,208,29.704063087804233,0,107.77684818728189,0,0,0,77.209673135492906,7.3328638784762319,0,51.311304923678293,null,null,null,null,null,null,null,{"$f":"IFERROR(E645/Levelisation!F1424, 0)","v":0},{"$f":"IFERROR(F645/Levelisation!G1424, 0)","v":0},{"$f":"IFERROR(G645/Levelisation!H1424, 0)","v":0},{"$f":"IFERROR(H645/Levelisation!I1424, 0)","v":4.4526266215695509},{"$f":"IFERROR(I645/Levelisation!J1424, 0)","v":0.57485800990486602},{"$f":"IFERROR(J645/Levelisation!K1424, 0)","v":0},{"$f":"IFERROR(K645/Levelisation!L1424, 0)","v":1.8268500947061137},"2.08 > Dominican Republic",631,24," "]
[{"$f":"INDEX(Country!$F$31:$G$76, MATCH(AI646, Country!$O$31:$O$76, 0), 1)","v":2.0799999999999983},{"$f":"INDEX(Country!$F$31:$G$76, MATCH(AI646, Country!$O$31:$O$76, 0), 2)","v":"Local investments"},{"$f":"INDEX(Country!$K$31:$K$76, MATCH(AI646, Country!$O$31:$O$76, 0), 1)","v":"USDm"},"Ecuador",0,6.3841150529509267,0,58.844823727333761,0,95.103790036133063,119.67604447154373,0,0.82861492516149826,0,17.635703078639477,0,30.33131517654207,41.535929417870435,null,null,null,null,null,null,null,{"$f":"IFERROR(E646/Levelisation!F1425, 0)","v":0},{"$f":"IFERROR(F646/Levelisation!G1425, 0)","v":0.12515909372943315},{"$f":"IFERROR(G646/Levelisation!H1425, 0)","v":0},{"$f":"IFERROR(H646/Levelisation!I1425, 0)","v":1.0170383817095656},{"$f":"IFERROR(I646/Levelisation!J1425, 0)","v":0},{"$f":"IFERROR(J646/Levelisation!K1425, 0)","v":1.3020603501613213},{"$f":"IFERROR(K646/Levelisation!L1425, 0)","v":1.4788147895207251},"2.08 > Ecuador",632,24," "]
[{"$f":"INDEX(Country!$F$31:$G$76, MATCH(AI647, Country!$O$31:$O$76, 0), 1)","v":2.0799999999999983},{"$f":"INDEX(Country!$F$31:$G$76, MATCH(AI647, Country!$O$31:$O$76, 0), 2)","v":"Local investments"},{"$f":"INDEX(Country!$K$31:$K$76, MATCH(AI647, Country!$O$31:$O$76, 0), 1)","v":"USDm"},"El Salvador",6.7299487239288629,0,0,0,0,0,0,5.1899677142057872,0,0,0,0,0,0,null,null,null,null,null,null,null,{"$f":"IFERROR(E647/Levelisation!F1426, 0)","v":0.36278091337010748},{"$f":"IFERROR(F647/Levelisation!G1426, 0)","v":0},{"$f":"IFERROR(G647/Levelisation!H1426, 0)","v":0},{"$f":"IFERROR(H647/Levelisation!I1426, 0)","v":0},{"$f":"IFERROR(I647/Levelisation!J1426, 0)","v":0},{"$f":"IFERROR(J647/Levelisation!K1426, 0)","v":0},{"$f":"IFERROR(K647/Levelisation!L1426, 0)","v":0},"2.08 > El Salvador",633,24," "]
[{"$f":"INDEX(Country!$F$31:$G$76, MATCH(AI648, Country!$O$31:$O$76, 0), 1)","v":2.0799999999999983},{"$f":"INDEX(Country!$F$31:$G$76, MATCH(AI648, Country!$O$31:$O$76, 0), 2)","v":"Local investments"},{"$f":"INDEX(Country!$K$31:$K$76, MATCH(AI648, Country!$O$31:$O$76, 0), 1)","v":"USDm"},"Guatemala",14.659840114747954,32.068035152420201,0,46.511296737127502,15.500915188374071,0,0,6.9374033674231628,6.2236158558990144,0,21.373765390798862,4.7828790506140173,0,0,null,null,null,null,null,null,null,{"$f":"IFERROR(E648/Levelisation!F1427, 0)","v":0.48492739620746761},{"$f":"IFERROR(F648/Levelisation!G1427, 0)","v":0.94005320999091846},{"$f":"IFERROR(G648/Levelisation!H1427, 0)","v":0},{"$f":"IFERROR(H648/Levelisation!I1427, 0)","v":1.232609761412188},{"$f":"IFERROR(I648/Levelisation!J1427, 0)","v":0.37495259399564768},{"$f":"IFERROR(J648/Levelisation!K1427, 0)","v":0},{"$f":"IFERROR(K648/Levelisation!L1427, 0)","v":0},"2.08 > Guatemala",634,24," "]
[{"$f":"INDEX(Country!$F$31:$G$76, MATCH(AI649, Country!$O$31:$O$76, 0), 1)","v":2.0799999999999983},{"$f":"INDEX(Country!$F$31:$G$76, MATCH(AI649, Country!$O$31:$O$76, 0), 2)","v":"Local investments"},{"$f":"INDEX(Country!$K$31:$K$76, MATCH(AI649, Country!$O$31:$O$76, 0), 1)","v":"USDm"},"Guyana",0,0,33.248971981489277,0,0,0,0,0,0,100,0,0,0,0,null,null,null,null,null,null,null,{"$f":"IFERROR(E649/Levelisation!F1428, 0)","v":0},{"$f":"IFERROR(F649/Levelisation!G1428, 0)","v":0},{"$f":"IFERROR(G649/Levelisation!H1428, 0)","v":17.290157036655891},{"$f":"IFERROR(H649/Levelisation!I1428, 0)","v":0},{"$f":"IFERROR(I649/Levelisation!J1428, 0)","v":0},{"$f":"IFERROR(J649/Levelisation!K1428, 0)","v":0},{"$f":"IFERROR(K649/Levelisation!L1428, 0)","v":0},"2.08 > Guyana",635,24," "]
[{"$f":"INDEX(Country!$F$31:$G$76, MATCH(AI650, Country!$O$31:$O$76, 0), 1)","v":2.0799999999999983},{"$f":"INDEX(Country!$F$31:$G$76, MATCH(AI650, Country!$O$31:$O$76, 0), 2)","v":"Local investments"},{"$f":"INDEX(Country!$K$31:$K$76, MATCH(AI650, Country!$O$31:$O$76, 0), 1)","v":"USDm"},"Haiti",null,null,null,null,null,null,null,0,0,0,0,0,0,0,null,null,null,null,null,null,null,{"$f":"IFERROR(E650/Levelisation!F1429, 0)","v":0},{"$f":"IFERROR(F650/Levelisation!G1429, 0)","v":0},{"$f":"IFERROR(G650/Levelisation!H1429, 0)","v":0},{"$f":"IFERROR(H650/Levelisation!I1429, 0)","v":0},{"$f":"IFERROR(I650/Levelisation!J1429, 0)","v":0},{"$f":"IFERROR(J650/Levelisation!K1429, 0)","v":0},{"$f":"IFERROR(K650/Levelisation!L1429, 0)","v":0},"2.08 > Haiti",636,24," "]
[{"$f":"INDEX(Country!$F$31:$G$76, MATCH(AI651, Country!$O$31:$O$76, 0), 1)","v":2.0799999999999983},{"$f":"INDEX(Country!$F$31:$G$76, MATCH(AI651, Country!$O$31:$O$76, 0), 2)","v":"Local investments"},{"$f":"INDEX(Country!$K$31:$K$76, MATCH(AI651, Country!$O$31:$O$76, 0), 1)","v":"USDm"},"Honduras",0,0,22.025132443241933,0,123.73826895889263,30.223541909668697,0,0,0,9.2054763082701214,0,100,39.966690214266208,0,null,null,null,null,null,null,null,{"$f":"IFERROR(E651/Levelisation!F1430, 0)","v":0},{"$f":"IFERROR(F651/Levelisation!G1430, 0)","v":0},{"$f":"IFERROR(G651/Levelisation!H1430, 0)","v":1.5916413096720576},{"$f":"IFERROR(H651/Levelisation!I1430, 0)","v":0},{"$f":"IFERROR(I651/Levelisation!J1430, 0)","v":7.8394747186323253},{"$f":"IFERROR(J651/Levelisation!K1430, 0)","v":1.7156869839730187},{"$f":"IFERROR(K651/Levelisation!L1430, 0)","v":0},"2.08 > Honduras",637,24," "]
[{"$f":"INDEX(Country!$F$31:$G$76, MATCH(AI652, Country!$O$31:$O$76, 0), 1)","v":2.0799999999999983},{"$f":"INDEX(Country!$F$31:$G$76, MATCH(AI652, Country!$O$31:$O$76, 0), 2)","v":"Local investments"},{"$f":"INDEX(Country!$K$31:$K$76, MATCH(AI652, Country!$O$31:$O$76, 0), 1)","v":"USDm"},"Jamaica",19.615079451316507,0,0,0,53.335460758143363,0,0,23.496158630413927,0,0,0,50.425795107189941,0,0,null,null,null,null,null,null,null,{"$f":"IFERROR(E652/Levelisation!F1431, 0)","v":1.6423913130131884},{"$f":"IFERROR(F652/Levelisation!G1431, 0)","v":0},{"$f":"IFERROR(G652/Levelisation!H1431, 0)","v":0},{"$f":"IFERROR(H652/Levelisation!I1431, 0)","v":0},{"$f":"IFERROR(I652/Levelisation!J1431, 0)","v":3.9531174590974918},{"$f":"IFERROR(J652/Levelisation!K1431, 0)","v":0},{"$f":"IFERROR(K652/Levelisation!L1431, 0)","v":0},"2.08 > Jamaica",638,24," "]
[{"$f":"INDEX(Country!$F$31:$G$76, MATCH(AI653, Country!$O$31:$O$76, 0), 1)","v":2.0799999999999983},{"$f":"INDEX(Country!$F$31:$G$76, MATCH(AI653, Country!$O$31:$O$76, 0), 2)","v":"Local investments"},{"$f":"INDEX(Country!$K$31:$K$76, MATCH(AI653, Country!$O$31:$O$76, 0), 1)","v":"USDm"},"Mexico",169.52557407955561,208.56811339382284,309.38542667791546,213.64833112326659,1182.8296077361058,140.19260607188818,915.90019667377157,2.548381874875687,1.3340879993477746,1.6360072783283126,4.1963904458017058,14.5899353190581,2.8194437241850929,21.8544075079202,null,null,null,null,null,null,null,{"$f":"IFERROR(E653/Levelisation!F1432, 0)","v":0.17813295864109324},{"$f":"IFERROR(F653/Levelisation!G1432, 0)","v":0.20150885517918563},{"$f":"IFERROR(G653/Levelisation!H1432, 0)","v":0.28286822755408531},{"$f":"IFERROR(H653/Levelisation!I1432, 0)","v":0.24200283532721509},{"$f":"IFERROR(I653/Levelisation!J1432, 0)","v":1.1437742908023683},{"$f":"IFERROR(J653/Levelisation!K1432, 0)","v":0.12103286195818379},{"$f":"IFERROR(K653/Levelisation!L1432, 0)","v":0.77808830792697714},"2.08 > Mexico",639,24," "]
[{"$f":"INDEX(Country!$F$31:$G$76, MATCH(AI654, Country!$O$31:$O$76, 0), 1)","v":2.0799999999999983},{"$f":"INDEX(Country!$F$31:$G$76, MATCH(AI654, Country!$O$31:$O$76, 0), 2)","v":"Local investments"},{"$f":"INDEX(Country!$K$31:$K$76, MATCH(AI654, Country!$O$31:$O$76, 0), 1)","v":"USDm"},"Nicaragua",47.434423751637532,7.7346009295366986,13.992514920671304,0,0,41.365346214390151,6.1954811633240929,100,6.8761746507787729,9.8046563501692443,0,0,100,16.563335237007429,null,null,null,null,null,null,null,{"$f":"IFERROR(E654/Levelisation!F1433, 0)","v":6.9900418142701941},{"$f":"IFERROR(F654/Levelisation!G1433, 0)","v":1.0386197031739894},{"$f":"IFERROR(G654/Levelisation!H1433, 0)","v":1.6952404798487164},{"$f":"IFERROR(H654/Levelisation!I1433, 0)","v":0},{"$f":"IFERROR(I654/Levelisation!J1433, 0)","v":0},{"$f":"IFERROR(J654/Levelisation!K1433, 0)","v":4.2927922596917965},{"$f":"IFERROR(K654/Levelisation!L1433, 0)","v":0.58970884859357442},"2.08 > Nicaragua",640,24," "]
[{"$f":"INDEX(Country!$F$31:$G$76, MATCH(AI655, Country!$O$31:$O$76, 0), 1)","v":2.0799999999999983},{"$f":"INDEX(Country!$F$31:$G$76, MATCH(AI655, Country!$O$31:$O$76, 0), 2)","v":"Local investments"},{"$f":"INDEX(Country!$K$31:$K$76, MATCH(AI655, Country!$O$31:$O$76, 0), 1)","v":"USDm"},"Panama",7.6767671466861254,41.803479624135491,143.39278934402302,139.34629261825876,56.732844829817942,101.23578161301364,129.07252423591856,6.4086093233839803,13.981997136569841,36.054773869822569,99.999999999999986,26.750516085870469,75.305705859213887,100,null,null,null,null,null,null,null,{"$f":"IFERROR(E655/Levelisation!F1434, 0)","v":0.44796447141775836},{"$f":"IFERROR(F655/Levelisation!G1434, 0)","v":2.1119268275303371},{"$f":"IFERROR(G655/Levelisation!H1434, 0)","v":6.2339270213034963},{"$f":"IFERROR(H655/Levelisation!I1434, 0)","v":5.7669284699026928},{"$f":"IFERROR(I655/Levelisation!J1434, 0)","v":2.0970999456554891},{"$f":"IFERROR(J655/Levelisation!K1434, 0)","v":3.2327175122306055},{"$f":"IFERROR(K655/Levelisation!L1434, 0)","v":3.5603267105044702},{"$f":"A655&\" > \" &D655","v":"2.08 > Panama"},641,24," "]
[{"$f":"INDEX(Country!$F$31:$G$76, MATCH(AI656, Country!$O$31:$O$76, 0), 1)","v":2.0799999999999983},{"$f":"INDEX(Country!$F$31:$G$76, MATCH(AI656, Country!$O$31:$O$76, 0), 2)","v":"Local investments"},{"$f":"INDEX(Country!$K$31:$K$76, MATCH(AI656, Country!$O$31:$O$76, 0), 1)","v":"USDm"},{"$f":"D629","v":"Paraguay"},0,9.6204105457260614,0,0,0,20.45992149915822,0,0,4.5795126767101619,0,0,0,19.792816951865401,0,null,null,null,null,null,null,null,{"$f":"IFERROR(E656/Levelisation!F1435, 0)","v":0},{"$f":"IFERROR(F656/Levelisation!G1435, 0)","v":0.69171775566048765},{"$f":"IFERROR(G656/Levelisation!H1435, 0)","v":0},{"$f":"IFERROR(H656/Levelisation!I1435, 0)","v":0},{"$f":"IFERROR(I656/Levelisation!J1435, 0)","v":0},{"$f":"IFERROR(J656/Levelisation!K1435, 0)","v":0.84966451408464372},{"$f":"IFERROR(K656/Levelisation!L1435, 0)","v":0},"2.08 > Paraguay",642,24," "]
[{"$f":"INDEX(Country!$F$31:$G$76, MATCH(AI657, Country!$O$31:$O$76, 0), 1)","v":2.0799999999999983},{"$f":"INDEX(Country!$F$31:$G$76, MATCH(AI657, Country!$O$31:$O$76, 0), 2)","v":"Local investments"},{"$f":"INDEX(Country!$K$31:$K$76, MATCH(AI657, Country!$O$31:$O$76, 0), 1)","v":"USDm"},"Peru",0,0,38.612238124671691,209.54350711823184,391.2880717897612,0.88662373230712022,83.170039672898554,0,0,1.7602344701736679,28.62112336956611,32.43516998454124,0.1157171572496867,11.738630505851836,null,null,null,null,null,null,null,{"$f":"IFERROR(E657/Levelisation!F1436, 0)","v":0},{"$f":"IFERROR(F657/Levelisation!G1436, 0)","v":0},{"$f":"IFERROR(G657/Levelisation!H1436, 0)","v":0.30434730410637501},{"$f":"IFERROR(H657/Levelisation!I1436, 0)","v":1.6505597120054811},{"$f":"IFERROR(I657/Levelisation!J1436, 0)","v":2.5427469508835308},{"$f":"IFERROR(J657/Levelisation!K1436, 0)","v":4.9674971695499353E-3},{"$f":"IFERROR(K657/Levelisation!L1436, 0)","v":0.41793359734726893},"2.08 > Peru",{"$f":"AH656+1","v":643},{"$f":"ROUNDUP(AH657/COUNTA($D$15:$D$41),0)","v":24}," "]
[{"$f":"INDEX(Country!$F$31:$G$76, MATCH(AI658, Country!$O$31:$O$76, 0), 1)","v":2.0799999999999983},{"$f":"INDEX(Country!$F$31:$G$76, MATCH(AI658, Country!$O$31:$O$76, 0), 2)","v":"Local investments"},{"$f":"INDEX(Country!$K$31:$K$76, MATCH(AI658, Country!$O$31:$O$76, 0), 1)","v":"USDm"},"Suriname",null,null,null,null,null,null,null,0,0,0,0,0,0,0,null,null,null,null,null,null,null,{"$f":"IFERROR(E658/Levelisation!F1437, 0)","v":0},{"$f":"IFERROR(F658/Levelisation!G1437, 0)","v":0},{"$f":"IFERROR(G658/Levelisation!H1437, 0)","v":0},{"$f":"IFERROR(H658/Levelisation!I1437, 0)","v":0},{"$f":"IFERROR(I658/Levelisation!J1437, 0)","v":0},{"$f":"IFERROR(J658/Levelisation!K1437, 0)","v":0},{"$f":"IFERROR(K658/Levelisation!L1437, 0)","v":0},"2.08 > Suriname",644,24," "]
[{"$f":"INDEX(Country!$F$31:$G$76, MATCH(AI659, Country!$O$31:$O$76, 0), 1)","v":2.0799999999999983},{"$f":"INDEX(Country!$F$31:$G$76, MATCH(AI659, Country!$O$31:$O$76, 0), 2)","v":"Local investments"},{"$f":"INDEX(Country!$K$31:$K$76, MATCH(AI659, Country!$O$31:$O$76, 0), 1)","v":"USDm"},"Trinidad & Tobago",0,0,0,0,0,0,0,0,0,0,0,0,0,0,null,null,null,null,null,null,null,{"$f":"IFERROR(E659/Levelisation!F1438, 0)","v":0},{"$f":"IFERROR(F659/Levelisation!G1438, 0)","v":0},{"$f":"IFERROR(G659/Levelisation!H1438, 0)","v":0},{"$f":"IFERROR(H659/Levelisation!I1438, 0)","v":0},{"$f":"IFERROR(I659/Levelisation!J1438, 0)","v":0},{"$f":"IFERROR(J659/Levelisation!K1438, 0)","v":0},{"$f":"IFERROR(K659/Levelisation!L1438, 0)","v":0},"2.08 > Trinidad & Tobago",645,24," "]
[{"$f":"INDEX(Country!$F$31:$G$76, MATCH(AI660, Country!$O$31:$O$76, 0), 1)","v":2.0799999999999983},{"$f":"INDEX(Country!$F$31:$G$76, MATCH(AI660, Country!$O$31:$O$76, 0), 2)","v":"Local investments"},{"$f":"INDEX(Country!$K$31:$K$76, MATCH(AI660, Country!$O$31:$O$76, 0), 1)","v":"USDm"},"Uruguay",26.97568428778002,0,95.520304041435935,56.01537950516537,43.791220411949297,27.207342419093379,0,19.710706450799222,0,18.193203222379374,31.849718501094831,14.173320589434194,13.568641965845131,0,null,null,null,null,null,null,null,{"$f":"IFERROR(E660/Levelisation!F1439, 0)","v":1.3777866227989182},{"$f":"IFERROR(F660/Levelisation!G1439, 0)","v":0},{"$f":"IFERROR(G660/Levelisation!H1439, 0)","v":3.1456334071473337},{"$f":"IFERROR(H660/Levelisation!I1439, 0)","v":1.8367504838235029},{"$f":"IFERROR(I660/Levelisation!J1439, 0)","v":1.1111138843994037},{"$f":"IFERROR(J660/Levelisation!K1439, 0)","v":0.58247361205509263},{"$f":"IFERROR(K660/Levelisation!L1439, 0)","v":0},"2.08 > Uruguay",646,24," "]
[{"$f":"INDEX(Country!$F$31:$G$76, MATCH(AI661, Country!$O$31:$O$76, 0), 1)","v":2.0799999999999983},{"$f":"INDEX(Country!$F$31:$G$76, MATCH(AI661, Country!$O$31:$O$76, 0), 2)","v":"Local investments"},{"$f":"INDEX(Country!$K$31:$K$76, MATCH(AI661, Country!$O$31:$O$76, 0), 1)","v":"USDm"},"Venezuela",0,0,175.48781135224985,43.750798310285326,0,70.739090289642775,75.443793731097315,0,0,3.2159628651977994,2.3029938209607348,0,5.2067962543968616,5.5410048053838858,null,null,null,null,null,null,null,{"$f":"IFERROR(E661/Levelisation!F1440, 0)","v":0},{"$f":"IFERROR(F661/Levelisation!G1440, 0)","v":0},{"$f":"IFERROR(G661/Levelisation!H1440, 0)","v":0.55604502963323776},{"$f":"IFERROR(H661/Levelisation!I1440, 0)","v":0.13281200632108447},{"$f":"IFERROR(I661/Levelisation!J1440, 0)","v":0},{"$f":"IFERROR(J661/Levelisation!K1440, 0)","v":0.22351694658667087},{"$f":"IFERROR(K661/Levelisation!L1440, 0)","v":0.19727787411641873},"2.08 > Venezuela",647,24," "]
[{"$f":"INDEX(Country!$F$31:$G$76, MATCH(AI662, Country!$O$31:$O$76, 0), 1)","v":2.0799999999999983},{"$f":"INDEX(Country!$F$31:$G$76, MATCH(AI662, Country!$O$31:$O$76, 0), 2)","v":"Local investments"},{"$f":"INDEX(Country!$K$31:$K$76, MATCH(AI662, Country!$O$31:$O$76, 0), 1)","v":"USDm"},"Benchmark",{"$f":"IFERROR(MAX(E636:E661), 0)","v":2932.4237482956605},{"$f":"IFERROR(MAX(F636:F661), 0)","v":6434.3436772704381},{"$f":"IFERROR(MAX(G636:G661), 0)","v":9337.2393589104722},{"$f":"IFERROR(MAX(H636:H661), 0)","v":7438.6203884446995},{"$f":"IFERROR(MAX(I636:I661), 0)","v":7974.1922315561187},{"$f":"IFERROR(MAX(J636:J661), 0)","v":7995.3793617324727},5936.3247916966739,{"$f":"MAX(Z636:Z661)","v":6.9900418142701941},15.104614933775116,{"$f":"MAX(AB636:AB661)","v":17.290157036655891},{"$f":"MAX(AC636:AC661)","v":5.7669284699026928},{"$f":"MAX(AD636:AD661)","v":7.8394747186323253},{"$f":"MAX(AE636:AE661)","v":4.2927922596917965},{"$f":"MAX(AF636:AF661)","v":3.5603267105044702},"Green MFI's (from list of GMFI contacts)",null,null,null,null,null,null,"Levelised by Microfinance Penetration",null,null,null,null,null,null,"2.08 > Benchmark",648,24," "]
[{"$f":"INDEX(Country!$F$31:$G$76, MATCH(AI663, Country!$O$31:$O$76, 0), 1)","v":2.0899999999999981},{"$f":"INDEX(Country!$F$31:$G$76, MATCH(AI663, Country!$O$31:$O$76, 0), 2)","v":"Number of Green MFI"},{"$f":"INDEX(Country!$K$31:$K$76, MATCH(AI663, Country!$O$31:$O$76, 0), 1)","v":"Companies"},"Argentina",3,3,3,3,3,3,1,{"$f":"IFERROR(dbl_BenchmarkMax*Z663/L$689, 0)","v":0.64000000000000012},{"$f":"IFERROR(dbl_BenchmarkMax*AA663/M$689, 0)","v":0.64000000000000012},{"$f":"IFERROR(dbl_BenchmarkMax*AB663/N$689, 0)","v":0.64000000000000012},{"$f":"IFERROR(dbl_BenchmarkMax*AC663/O$689, 0)","v":0.64000000000000012},{"$f":"IFERROR(dbl_BenchmarkMax*AD663/P$689, 0)","v":0.64000000000000012},{"$f":"IFERROR(dbl_BenchmarkMax*AE663/Q$689, 0)","v":0.64000000000000012},{"$f":"IFERROR(dbl_BenchmarkMax*AF663/R$689, 0)","v":0.2359882005899705},{"$f":"T663","v":3},3,{"$f":"V663","v":3},{"$f":"W663","v":3},{"$f":"X663","v":3},{"$f":"COUNTIF(Levelisation!$A$2536:$A$2635, $D$582)","v":3},1,{"$f":"IFERROR(E663*Levelisation!F1363, 0)","v":2.4000000000000004},{"$f":"IFERROR(F663*Levelisation!G1363, 0)","v":2.4000000000000004},{"$f":"IFERROR(G663*Levelisation!H1363, 0)","v":2.4000000000000004},{"$f":"IFERROR(H663*Levelisation!I1363, 0)","v":2.4000000000000004},{"$f":"IFERROR(I663*Levelisation!J1363, 0)","v":2.4000000000000004},{"$f":"IFERROR(J663*Levelisation!J1363, 0)","v":2.4000000000000004},{"$f":"IFERROR(K663*Levelisation!L1363, 0)","v":0.8},"2.09 > Argentina",649,25," "]
[{"$f":"INDEX(Country!$F$31:$G$76, MATCH(AI664, Country!$O$31:$O$76, 0), 1)","v":2.0899999999999981},{"$f":"INDEX(Country!$F$31:$G$76, MATCH(AI664, Country!$O$31:$O$76, 0), 2)","v":"Number of Green MFI"},{"$f":"INDEX(Country!$K$31:$K$76, MATCH(AI664, Country!$O$31:$O$76, 0), 1)","v":"Companies"},"Bahamas",0,0,0,0,0,0,0,0,0,0,0,0,0,0,0,0,0,0,0,{"$f":"COUNTIF(Levelisation!$A$2536:$A$2635, $D$583)","v":0},0,{"$f":"IFERROR(E664*Levelisation!F1364, 0)","v":0},{"$f":"IFERROR(F664*Levelisation!G1364, 0)","v":0},{"$f":"IFERROR(G664*Levelisation!H1364, 0)","v":0},{"$f":"IFERROR(H664*Levelisation!I1364, 0)","v":0},{"$f":"IFERROR(I664*Levelisation!J1364, 0)","v":0},{"$f":"IFERROR(J664*Levelisation!J1364, 0)","v":0},{"$f":"IFERROR(K664*Levelisation!L1364, 0)","v":0},"2.09 > Bahamas",650,25," "]
[{"$f":"INDEX(Country!$F$31:$G$76, MATCH(AI665, Country!$O$31:$O$76, 0), 1)","v":2.0899999999999981},{"$f":"INDEX(Country!$F$31:$G$76, MATCH(AI665, Country!$O$31:$O$76, 0), 2)","v":"Number of Green MFI"},{"$f":"INDEX(Country!$K$31:$K$76, MATCH(AI665, Country!$O$31:$O$76, 0), 1)","v":"Companies"},"Barbados",0,0,0,0,0,0,0,0,0,0,0,0,0,0,0,0,0,0,0,{"$f":"COUNTIF(Levelisation!$A$2536:$A$2635, $D$584)","v":0},0,{"$f":"IFERROR(E665*Levelisation!F1365, 0)","v":0},{"$f":"IFERROR(F665*Levelisation!G1365, 0)","v":0},{"$f":"IFERROR(G665*Levelisation!H1365, 0)","v":0},{"$f":"IFERROR(H665*Levelisation!I1365, 0)","v":0},{"$f":"IFERROR(I665*Levelisation!J1365, 0)","v":0},{"$f":"IFERROR(J665*Levelisation!J1365, 0)","v":0},{"$f":"IFERROR(K665*Levelisation!L1365, 0)","v":0},"2.09 > Barbados",651,25," "]
[{"$f":"INDEX(Country!$F$31:$G$76, MATCH(AI666, Country!$O$31:$O$76, 0), 1)","v":2.0899999999999981},{"$f":"INDEX(Country!$F$31:$G$76, MATCH(AI666, Country!$O$31:$O$76, 0), 2)","v":"Number of Green MFI"},{"$f":"INDEX(Country!$K$31:$K$76, MATCH(AI666, Country!$O$31:$O$76, 0), 1)","v":"Companies"},"Belize",0,0,0,0,0,0,0,0,0,0,0,0,0,0,0,0,0,0,0,{"$f":"COUNTIF(Levelisation!$A$2536:$A$2635, $D$585)","v":0},0,{"$f":"IFERROR(E666*Levelisation!F1366, 0)","v":0},{"$f":"IFERROR(F666*Levelisation!G1366, 0)","v":0},{"$f":"IFERROR(G666*Levelisation!H1366, 0)","v":0},{"$f":"IFERROR(H666*Levelisation!I1366, 0)","v":0},{"$f":"IFERROR(I666*Levelisation!J1366, 0)","v":0},{"$f":"IFERROR(J666*Levelisation!J1366, 0)","v":0},{"$f":"IFERROR(K666*Levelisation!L1366, 0)","v":0},"2.09 > Belize",652,25," "]
[{"$f":"INDEX(Country!$F$31:$G$76, MATCH(AI667, Country!$O$31:$O$76, 0), 1)","v":2.0899999999999981},{"$f":"INDEX(Country!$F$31:$G$76, MATCH(AI667, Country!$O$31:$O$76, 0), 2)","v":"Number of Green MFI"},{"$f":"INDEX(Country!$K$31:$K$76, MATCH(AI667, Country!$O$31:$O$76, 0), 1)","v":"Companies"},"Bolivia",6,6,6,6,6,6,6,69.599999999999994,69.599999999999994,69.599999999999994,69.599999999999994,69.599999999999994,69.599999999999994,76.991150442477874,6,6,6,6,6,{"$f":"COUNTIF(Levelisation!$A$2536:$A$2635, $D$586)","v":6},6,{"$f":"IFERROR(E667*Levelisation!F1367, 0)","v":261},{"$f":"IFERROR(F667*Levelisation!G1367, 0)","v":261},{"$f":"IFERROR(G667*Levelisation!H1367, 0)","v":261},{"$f":"IFERROR(H667*Levelisation!I1367, 0)","v":261},{"$f":"IFERROR(I667*Levelisation!J1367, 0)","v":261},{"$f":"IFERROR(J667*Levelisation!J1367, 0)","v":261},{"$f":"IFERROR(K667*Levelisation!L1367, 0)","v":261},"2.09 > Bolivia",653,25," "]
[{"$f":"INDEX(Country!$F$31:$G$76, MATCH(AI668, Country!$O$31:$O$76, 0), 1)","v":2.0899999999999981},{"$f":"INDEX(Country!$F$31:$G$76, MATCH(AI668, Country!$O$31:$O$76, 0), 2)","v":"Number of Green MFI"},{"$f":"INDEX(Country!$K$31:$K$76, MATCH(AI668, Country!$O$31:$O$76, 0), 1)","v":"Companies"},"Brazil",9,9,9,9,9,9,2,19.439999999999998,19.439999999999998,19.439999999999998,19.439999999999998,19.439999999999998,19.439999999999998,4.778761061946903,9,9,9,9,9,{"$f":"COUNTIF(Levelisation!$A$2536:$A$2635, $D$587)","v":9},2,{"$f":"IFERROR(E668*Levelisation!F1368, 0)","v":72.899999999999991},{"$f":"IFERROR(F668*Levelisation!G1368, 0)","v":72.899999999999991},{"$f":"IFERROR(G668*Levelisation!H1368, 0)","v":72.899999999999991},{"$f":"IFERROR(H668*Levelisation!I1368, 0)","v":72.899999999999991},{"$f":"IFERROR(I668*Levelisation!J1368, 0)","v":72.899999999999991},{"$f":"IFERROR(J668*Levelisation!J1368, 0)","v":72.899999999999991},{"$f":"IFERROR(K668*Levelisation!L1368, 0)","v":16.2},"2.09 > Brazil",654,25," "]
[{"$f":"INDEX(Country!$F$31:$G$76, MATCH(AI669, Country!$O$31:$O$76, 0), 1)","v":2.0899999999999981},{"$f":"INDEX(Country!$F$31:$G$76, MATCH(AI669, Country!$O$31:$O$76, 0), 2)","v":"Number of Green MFI"},{"$f":"INDEX(Country!$K$31:$K$76, MATCH(AI669, Country!$O$31:$O$76, 0), 1)","v":"Companies"},"Chile",0,0,0,0,0,0,1,0,0,0,0,0,0,5.3097345132743365,0,0,0,0,0,{"$f":"COUNTIF(Levelisation!$A$2536:$A$2635, $D$588)","v":0},1,{"$f":"IFERROR(E669*Levelisation!F1369, 0)","v":0},{"$f":"IFERROR(F669*Levelisation!G1369, 0)","v":0},{"$f":"IFERROR(G669*Levelisation!H1369, 0)","v":0},{"$f":"IFERROR(H669*Levelisation!I1369, 0)","v":0},{"$f":"IFERROR(I669*Levelisation!J1369, 0)","v":0},{"$f":"IFERROR(J669*Levelisation!J1369, 0)","v":0},{"$f":"IFERROR(K669*Levelisation!L1369, 0)","v":18},"2.09 > Chile",655,25," "]
[{"$f":"INDEX(Country!$F$31:$G$76, MATCH(AI670, Country!$O$31:$O$76, 0), 1)","v":2.0899999999999981},{"$f":"INDEX(Country!$F$31:$G$76, MATCH(AI670, Country!$O$31:$O$76, 0), 2)","v":"Number of Green MFI"},{"$f":"INDEX(Country!$K$31:$K$76, MATCH(AI670, Country!$O$31:$O$76, 0), 1)","v":"Companies"},"Colombia",3,3,3,3,3,3,0,15.52,15.52,15.52,15.52,15.52,15.52,0,3,3,3,3,3,{"$f":"COUNTIF(Levelisation!$A$2536:$A$2635, $D$589)","v":3},0,{"$f":"IFERROR(E670*Levelisation!F1370, 0)","v":58.199999999999996},{"$f":"IFERROR(F670*Levelisation!G1370, 0)","v":58.199999999999996},{"$f":"IFERROR(G670*Levelisation!H1370, 0)","v":58.199999999999996},{"$f":"IFERROR(H670*Levelisation!I1370, 0)","v":58.199999999999996},{"$f":"IFERROR(I670*Levelisation!J1370, 0)","v":58.199999999999996},{"$f":"IFERROR(J670*Levelisation!J1370, 0)","v":58.199999999999996},{"$f":"IFERROR(K670*Levelisation!L1370, 0)","v":0},"2.09 > Colombia",656,25," "]
[{"$f":"INDEX(Country!$F$31:$G$76, MATCH(AI671, Country!$O$31:$O$76, 0), 1)","v":2.0899999999999981},{"$f":"INDEX(Country!$F$31:$G$76, MATCH(AI671, Country!$O$31:$O$76, 0), 2)","v":"Number of Green MFI"},{"$f":"INDEX(Country!$K$31:$K$76, MATCH(AI671, Country!$O$31:$O$76, 0), 1)","v":"Companies"},"Costa Rica",3,3,3,3,3,3,4,8.879999999999999,8.879999999999999,8.879999999999999,8.879999999999999,8.879999999999999,8.879999999999999,13.097345132743364,3,3,3,3,3,{"$f":"COUNTIF(Levelisation!$A$2536:$A$2635, $D$590)","v":3},4,{"$f":"IFERROR(E671*Levelisation!F1371, 0)","v":33.299999999999997},{"$f":"IFERROR(F671*Levelisation!G1371, 0)","v":33.299999999999997},{"$f":"IFERROR(G671*Levelisation!H1371, 0)","v":33.299999999999997},{"$f":"IFERROR(H671*Levelisation!I1371, 0)","v":33.299999999999997},{"$f":"IFERROR(I671*Levelisation!J1371, 0)","v":33.299999999999997},{"$f":"IFERROR(J671*Levelisation!J1371, 0)","v":33.299999999999997},{"$f":"IFERROR(K671*Levelisation!L1371, 0)","v":44.4},"2.09 > Costa Rica",657,25," "]
[{"$f":"INDEX(Country!$F$31:$G$76, MATCH(AI672, Country!$O$31:$O$76, 0), 1)","v":2.0899999999999981},{"$f":"INDEX(Country!$F$31:$G$76, MATCH(AI672, Country!$O$31:$O$76, 0), 2)","v":"Number of Green MFI"},{"$f":"INDEX(Country!$K$31:$K$76, MATCH(AI672, Country!$O$31:$O$76, 0), 1)","v":"Companies"},"Dominican Republic",0,0,0,0,0,0,5,0,0,0,0,0,0,22.418879056047199,0,0,0,0,0,{"$f":"COUNTIF(Levelisation!$A$2536:$A$2635, $D$591)","v":0},5,{"$f":"IFERROR(E672*Levelisation!F1372, 0)","v":0},{"$f":"IFERROR(F672*Levelisation!G1372, 0)","v":0},{"$f":"IFERROR(G672*Levelisation!H1372, 0)","v":0},{"$f":"IFERROR(H672*Levelisation!I1372, 0)","v":0},{"$f":"IFERROR(I672*Levelisation!J1372, 0)","v":0},{"$f":"IFERROR(J672*Levelisation!J1372, 0)","v":0},{"$f":"IFERROR(K672*Levelisation!L1372, 0)","v":76},"2.09 > Dominican Republic",658,25," "]
[{"$f":"INDEX(Country!$F$31:$G$76, MATCH(AI673, Country!$O$31:$O$76, 0), 1)","v":2.0899999999999981},{"$f":"INDEX(Country!$F$31:$G$76, MATCH(AI673, Country!$O$31:$O$76, 0), 2)","v":"Number of Green MFI"},{"$f":"INDEX(Country!$K$31:$K$76, MATCH(AI673, Country!$O$31:$O$76, 0), 1)","v":"Companies"},"Ecuador",3,3,3,3,3,3,5,19.600000000000001,19.600000000000001,19.600000000000001,19.600000000000001,19.600000000000001,19.600000000000001,36.135693215339231,3,3,3,3,3,{"$f":"COUNTIF(Levelisation!$A$2536:$A$2635, $D$592)","v":3},5,{"$f":"IFERROR(E673*Levelisation!F1373, 0)","v":73.5},{"$f":"IFERROR(F673*Levelisation!G1373, 0)","v":73.5},{"$f":"IFERROR(G673*Levelisation!H1373, 0)","v":73.5},{"$f":"IFERROR(H673*Levelisation!I1373, 0)","v":73.5},{"$f":"IFERROR(I673*Levelisation!J1373, 0)","v":73.5},{"$f":"IFERROR(J673*Levelisation!J1373, 0)","v":73.5},{"$f":"IFERROR(K673*Levelisation!L1373, 0)","v":122.5},"2.09 > Ecuador",659,25," "]
[{"$f":"INDEX(Country!$F$31:$G$76, MATCH(AI674, Country!$O$31:$O$76, 0), 1)","v":2.0899999999999981},{"$f":"INDEX(Country!$F$31:$G$76, MATCH(AI674, Country!$O$31:$O$76, 0), 2)","v":"Number of Green MFI"},{"$f":"INDEX(Country!$K$31:$K$76, MATCH(AI674, Country!$O$31:$O$76, 0), 1)","v":"Companies"},"El Salvador",3,3,3,3,3,3,1,21.119999999999997,21.119999999999997,21.119999999999997,21.119999999999997,21.119999999999997,21.119999999999997,7.7876106194690262,3,3,3,3,3,{"$f":"COUNTIF(Levelisation!$A$2536:$A$2635, $D$593)","v":3},1,{"$f":"IFERROR(E674*Levelisation!F1374, 0)","v":79.199999999999989},{"$f":"IFERROR(F674*Levelisation!G1374, 0)","v":79.199999999999989},{"$f":"IFERROR(G674*Levelisation!H1374, 0)","v":79.199999999999989},{"$f":"IFERROR(H674*Levelisation!I1374, 0)","v":79.199999999999989},{"$f":"IFERROR(I674*Levelisation!J1374, 0)","v":79.199999999999989},{"$f":"IFERROR(J674*Levelisation!J1374, 0)","v":79.199999999999989},{"$f":"IFERROR(K674*Levelisation!L1374, 0)","v":26.4},"2.09 > El Salvador",660,25," "]
[{"$f":"INDEX(Country!$F$31:$G$76, MATCH(AI675, Country!$O$31:$O$76, 0), 1)","v":2.0899999999999981},{"$f":"INDEX(Country!$F$31:$G$76, MATCH(AI675, Country!$O$31:$O$76, 0), 2)","v":"Number of Green MFI"},{"$f":"INDEX(Country!$K$31:$K$76, MATCH(AI675, Country!$O$31:$O$76, 0), 1)","v":"Companies"},"Guatemala",3,3,3,3,3,3,3,19.919999999999998,19.919999999999998,19.919999999999998,19.919999999999998,19.919999999999998,19.919999999999998,22.035398230088493,3,3,3,3,3,{"$f":"COUNTIF(Levelisation!$A$2536:$A$2635, $D$594)","v":3},3,{"$f":"IFERROR(E675*Levelisation!F1375, 0)","v":74.699999999999989},{"$f":"IFERROR(F675*Levelisation!G1375, 0)","v":74.699999999999989},{"$f":"IFERROR(G675*Levelisation!H1375, 0)","v":74.699999999999989},{"$f":"IFERROR(H675*Levelisation!I1375, 0)","v":74.699999999999989},{"$f":"IFERROR(I675*Levelisation!J1375, 0)","v":74.699999999999989},{"$f":"IFERROR(J675*Levelisation!J1375, 0)","v":74.699999999999989},{"$f":"IFERROR(K675*Levelisation!L1375, 0)","v":74.699999999999989},"2.09 > Guatemala",661,25," "]
[{"$f":"INDEX(Country!$F$31:$G$76, MATCH(AI676, Country!$O$31:$O$76, 0), 1)","v":2.0899999999999981},{"$f":"INDEX(Country!$F$31:$G$76, MATCH(AI676, Country!$O$31:$O$76, 0), 2)","v":"Number of Green MFI"},{"$f":"INDEX(Country!$K$31:$K$76, MATCH(AI676, Country!$O$31:$O$76, 0), 1)","v":"Companies"},"Guyana",0,0,0,0,0,0,0,0,0,0,0,0,0,0,0,0,0,0,0,{"$f":"COUNTIF(Levelisation!$A$2536:$A$2635, $D$595)","v":0},0,{"$f":"IFERROR(E676*Levelisation!F1376, 0)","v":0},{"$f":"IFERROR(F676*Levelisation!G1376, 0)","v":0},{"$f":"IFERROR(G676*Levelisation!H1376, 0)","v":0},{"$f":"IFERROR(H676*Levelisation!I1376, 0)","v":0},{"$f":"IFERROR(I676*Levelisation!J1376, 0)","v":0},{"$f":"IFERROR(J676*Levelisation!J1376, 0)","v":0},{"$f":"IFERROR(K676*Levelisation!L1376, 0)","v":0},"2.09 > Guyana",662,25," "]
[{"$f":"INDEX(Country!$F$31:$G$76, MATCH(AI677, Country!$O$31:$O$76, 0), 1)","v":2.0899999999999981},{"$f":"INDEX(Country!$F$31:$G$76, MATCH(AI677, Country!$O$31:$O$76, 0), 2)","v":"Number of Green MFI"},{"$f":"INDEX(Country!$K$31:$K$76, MATCH(AI677, Country!$O$31:$O$76, 0), 1)","v":"Companies"},"Haiti",1,1,1,1,1,1,0,7.7333333333333334,7.7333333333333334,7.7333333333333334,7.7333333333333334,7.7333333333333334,7.7333333333333334,0,0,0,0,0,0,{"$f":"COUNTIF(Levelisation!$A$2536:$A$2635, C596)","v":0},0,{"$f":"IFERROR(E677*Levelisation!F1377, 0)","v":29},{"$f":"IFERROR(F677*Levelisation!G1377, 0)","v":29},{"$f":"IFERROR(G677*Levelisation!H1377, 0)","v":29},{"$f":"IFERROR(H677*Levelisation!I1377, 0)","v":29},{"$f":"IFERROR(I677*Levelisation!J1377, 0)","v":29},{"$f":"IFERROR(J677*Levelisation!J1377, 0)","v":29},{"$f":"IFERROR(K677*Levelisation!L1377, 0)","v":0},"2.09 > Haiti",663,25," "]
[{"$f":"INDEX(Country!$F$31:$G$76, MATCH(AI678, Country!$O$31:$O$76, 0), 1)","v":2.0899999999999981},{"$f":"INDEX(Country!$F$31:$G$76, MATCH(AI678, Country!$O$31:$O$76, 0), 2)","v":"Number of Green MFI"},{"$f":"INDEX(Country!$K$31:$K$76, MATCH(AI678, Country!$O$31:$O$76, 0), 1)","v":"Companies"},"Honduras",6,6,6,6,6,6,5,19.840000000000003,19.840000000000003,19.840000000000003,19.840000000000003,19.840000000000003,19.840000000000003,18.289085545722713,6,6,6,6,6,{"$f":"COUNTIF(Levelisation!$A$2536:$A$2635, $D$597)","v":6},5,{"$f":"IFERROR(E678*Levelisation!F1378, 0)","v":74.400000000000006},{"$f":"IFERROR(F678*Levelisation!G1378, 0)","v":74.400000000000006},{"$f":"IFERROR(G678*Levelisation!H1378, 0)","v":74.400000000000006},{"$f":"IFERROR(H678*Levelisation!I1378, 0)","v":74.400000000000006},{"$f":"IFERROR(I678*Levelisation!J1378, 0)","v":74.400000000000006},{"$f":"IFERROR(J678*Levelisation!J1378, 0)","v":74.400000000000006},{"$f":"IFERROR(K678*Levelisation!L1378, 0)","v":62},"2.09 > Honduras",664,25," "]
[{"$f":"INDEX(Country!$F$31:$G$76, MATCH(AI679, Country!$O$31:$O$76, 0), 1)","v":2.0899999999999981},{"$f":"INDEX(Country!$F$31:$G$76, MATCH(AI679, Country!$O$31:$O$76, 0), 2)","v":"Number of Green MFI"},{"$f":"INDEX(Country!$K$31:$K$76, MATCH(AI679, Country!$O$31:$O$76, 0), 1)","v":"Companies"},"Jamaica",0,0,0,0,0,0,1,0,0,0,0,0,0,0,{"$f":"T679","v":0},0,0,0,0,{"$f":"COUNTIF(Levelisation!$A$2536:$A$2635, $D$598)","v":0},1,{"$f":"IFERROR(E679*Levelisation!F1379, 0)","v":0},{"$f":"IFERROR(F679*Levelisation!G1379, 0)","v":0},{"$f":"IFERROR(G679*Levelisation!H1379, 0)","v":0},{"$f":"IFERROR(H679*Levelisation!I1379, 0)","v":0},{"$f":"IFERROR(I679*Levelisation!J1379, 0)","v":0},{"$f":"IFERROR(J679*Levelisation!J1379, 0)","v":0},{"$f":"IFERROR(K679*Levelisation!L1379, 0)","v":0},"2.09 > Jamaica",665,25," "]
[{"$f":"INDEX(Country!$F$31:$G$76, MATCH(AI680, Country!$O$31:$O$76, 0), 1)","v":2.0899999999999981},{"$f":"INDEX(Country!$F$31:$G$76, MATCH(AI680, Country!$O$31:$O$76, 0), 2)","v":"Number of Green MFI"},{"$f":"INDEX(Country!$K$31:$K$76, MATCH(AI680, Country!$O$31:$O$76, 0), 1)","v":"Companies"},"Mexico",5,5,5,5,5,5,5,40.133333333333333,40.133333333333333,40.133333333333333,40.133333333333333,40.133333333333333,40.133333333333333,44.395280235988203,5,5,5,5,5,{"$f":"COUNTIF(Levelisation!$A$2536:$A$2635, $D$599)","v":5},5,{"$f":"IFERROR(E680*Levelisation!F1380, 0)","v":150.5},{"$f":"IFERROR(F680*Levelisation!G1380, 0)","v":150.5},{"$f":"IFERROR(G680*Levelisation!H1380, 0)","v":150.5},{"$f":"IFERROR(H680*Levelisation!I1380, 0)","v":150.5},{"$f":"IFERROR(I680*Levelisation!J1380, 0)","v":150.5},{"$f":"IFERROR(J680*Levelisation!J1380, 0)","v":150.5},{"$f":"IFERROR(K680*Levelisation!L1380, 0)","v":150.5},"2.09 > Mexico",666,25," "]
[{"$f":"INDEX(Country!$F$31:$G$76, MATCH(AI681, Country!$O$31:$O$76, 0), 1)","v":2.0899999999999981},{"$f":"INDEX(Country!$F$31:$G$76, MATCH(AI681, Country!$O$31:$O$76, 0), 2)","v":"Number of Green MFI"},{"$f":"INDEX(Country!$K$31:$K$76, MATCH(AI681, Country!$O$31:$O$76, 0), 1)","v":"Companies"},"Nicaragua",10,10,10,10,10,10,8,100,100,100,100,100,100,88.495575221238937,10,10,10,10,10,{"$f":"COUNTIF(Levelisation!$A$2536:$A$2635, $D$600)","v":10},8,{"$f":"IFERROR(E681*Levelisation!F1381, 0)","v":375},{"$f":"IFERROR(F681*Levelisation!G1381, 0)","v":375},{"$f":"IFERROR(G681*Levelisation!H1381, 0)","v":375},{"$f":"IFERROR(H681*Levelisation!I1381, 0)","v":375},{"$f":"IFERROR(I681*Levelisation!J1381, 0)","v":375},{"$f":"IFERROR(J681*Levelisation!J1381, 0)","v":375},{"$f":"IFERROR(K681*Levelisation!L1381, 0)","v":300},"2.09 > Nicaragua",667,25," "]
[{"$f":"INDEX(Country!$F$31:$G$76, MATCH(AI682, Country!$O$31:$O$76, 0), 1)","v":2.0899999999999981},{"$f":"INDEX(Country!$F$31:$G$76, MATCH(AI682, Country!$O$31:$O$76, 0), 2)","v":"Number of Green MFI"},{"$f":"INDEX(Country!$K$31:$K$76, MATCH(AI682, Country!$O$31:$O$76, 0), 1)","v":"Companies"},"Panama",0,0,0,0,0,0,1,0,0,0,0,0,0,1.4454277286135695,0,0,0,0,0,{"$f":"COUNTIF(Levelisation!$A$2536:$A$2635, $D$601)","v":0},1,{"$f":"IFERROR(E682*Levelisation!F1382, 0)","v":0},{"$f":"IFERROR(F682*Levelisation!G1382, 0)","v":0},{"$f":"IFERROR(G682*Levelisation!H1382, 0)","v":0},{"$f":"IFERROR(H682*Levelisation!I1382, 0)","v":0},{"$f":"IFERROR(I682*Levelisation!J1382, 0)","v":0},{"$f":"IFERROR(J682*Levelisation!J1382, 0)","v":0},{"$f":"IFERROR(K682*Levelisation!L1382, 0)","v":4.9000000000000004},"2.09 > Panama",668,25," "]
[{"$f":"INDEX(Country!$F$31:$G$76, MATCH(AI683, Country!$O$31:$O$76, 0), 1)","v":2.0899999999999981},{"$f":"INDEX(Country!$F$31:$G$76, MATCH(AI683, Country!$O$31:$O$76, 0), 2)","v":"Number of Green MFI"},{"$f":"INDEX(Country!$K$31:$K$76, MATCH(AI683, Country!$O$31:$O$76, 0), 1)","v":"Companies"},"Paraguay",2,2,2,2,2,2,2,5.12,5.12,5.12,5.12,5.12,5.12,5.663716814159292,2,2,2,2,2,{"$f":"COUNTIF(Levelisation!$A$2536:$A$2635, $D$602)","v":2},2,{"$f":"IFERROR(E683*Levelisation!F1383, 0)","v":19.2},{"$f":"IFERROR(F683*Levelisation!G1383, 0)","v":19.2},{"$f":"IFERROR(G683*Levelisation!H1383, 0)","v":19.2},{"$f":"IFERROR(H683*Levelisation!I1383, 0)","v":19.2},{"$f":"IFERROR(I683*Levelisation!J1383, 0)","v":19.2},{"$f":"IFERROR(J683*Levelisation!J1383, 0)","v":19.2},{"$f":"IFERROR(K683*Levelisation!L1383, 0)","v":19.2},"2.09 > Paraguay",669,25," "]
[{"$f":"INDEX(Country!$F$31:$G$76, MATCH(AI684, Country!$O$31:$O$76, 0), 1)","v":2.0899999999999981},{"$f":"INDEX(Country!$F$31:$G$76, MATCH(AI684, Country!$O$31:$O$76, 0), 2)","v":"Number of Green MFI"},{"$f":"INDEX(Country!$K$31:$K$76, MATCH(AI684, Country!$O$31:$O$76, 0), 1)","v":"Companies"},"Peru",11,11,11,11,11,11,10,99.44,99.44,99.44,99.44,99.44,99.44,100,11,11,11,11,11,{"$f":"COUNTIF(Levelisation!$A$2536:$A$2635, $D$603)","v":11},10,{"$f":"IFERROR(E684*Levelisation!F1384, 0)","v":372.9},{"$f":"IFERROR(F684*Levelisation!G1384, 0)","v":372.9},{"$f":"IFERROR(G684*Levelisation!H1384, 0)","v":372.9},{"$f":"IFERROR(H684*Levelisation!I1384, 0)","v":372.9},{"$f":"IFERROR(I684*Levelisation!J1384, 0)","v":372.9},{"$f":"IFERROR(J684*Levelisation!J1384, 0)","v":372.9},{"$f":"IFERROR(K684*Levelisation!L1384, 0)","v":339},"2.09 > Peru",670,25," "]
[{"$f":"INDEX(Country!$F$31:$G$76, MATCH(AI685, Country!$O$31:$O$76, 0), 1)","v":2.0899999999999981},{"$f":"INDEX(Country!$F$31:$G$76, MATCH(AI685, Country!$O$31:$O$76, 0), 2)","v":"Number of Green MFI"},{"$f":"INDEX(Country!$K$31:$K$76, MATCH(AI685, Country!$O$31:$O$76, 0), 1)","v":"Companies"},"Suriname",0,0,0,0,0,0,0,0,0,0,0,0,0,0,0,0,0,0,0,{"$f":"COUNTIF(Levelisation!$A$2536:$A$2635, $D$604)","v":0},0,{"$f":"IFERROR(E685*Levelisation!F1385, 0)","v":0},{"$f":"IFERROR(F685*Levelisation!G1385, 0)","v":0},{"$f":"IFERROR(G685*Levelisation!H1385, 0)","v":0},{"$f":"IFERROR(H685*Levelisation!I1385, 0)","v":0},{"$f":"IFERROR(I685*Levelisation!J1385, 0)","v":0},{"$f":"IFERROR(J685*Levelisation!J1385, 0)","v":0},{"$f":"IFERROR(K685*Levelisation!L1385, 0)","v":0},"2.09 > Suriname",671,25," "]
[{"$f":"INDEX(Country!$F$31:$G$76, MATCH(AI686, Country!$O$31:$O$76, 0), 1)","v":2.0899999999999981},{"$f":"INDEX(Country!$F$31:$G$76, MATCH(AI686, Country!$O$31:$O$76, 0), 2)","v":"Number of Green MFI"},{"$f":"INDEX(Country!$K$31:$K$76, MATCH(AI686, Country!$O$31:$O$76, 0), 1)","v":"Companies"},"Trinidad & Tobago",0,0,0,0,0,0,0,0,0,0,0,0,0,0,0,0,0,0,0,{"$f":"COUNTIF(Levelisation!$A$2536:$A$2635, $D$605)","v":0},0,{"$f":"IFERROR(E686*Levelisation!F1386, 0)","v":0},{"$f":"IFERROR(F686*Levelisation!G1386, 0)","v":0},{"$f":"IFERROR(G686*Levelisation!H1386, 0)","v":0},{"$f":"IFERROR(H686*Levelisation!I1386, 0)","v":0},{"$f":"IFERROR(I686*Levelisation!J1386, 0)","v":0},{"$f":"IFERROR(J686*Levelisation!J1386, 0)","v":0},{"$f":"IFERROR(K686*Levelisation!L1386, 0)","v":0},"2.09 > Trinidad & Tobago",672,25," "]
[{"$f":"INDEX(Country!$F$31:$G$76, MATCH(AI687, Country!$O$31:$O$76, 0), 1)","v":2.0899999999999981},{"$f":"INDEX(Country!$F$31:$G$76, MATCH(AI687, Country!$O$31:$O$76, 0), 2)","v":"Number of Green MFI"},{"$f":"INDEX(Country!$K$31:$K$76, MATCH(AI687, Country!$O$31:$O$76, 0), 1)","v":"Companies"},"Uruguay",1,1,1,1,1,1,1,0.69333333333333336,0.69333333333333336,0.69333333333333336,0.69333333333333336,0.69333333333333336,0.69333333333333336,0.76696165191740417,0,0,0,0,0,{"$f":"COUNTIF(Levelisation!$A$2536:$A$2635, C606)","v":0},1,{"$f":"IFERROR(E687*Levelisation!F1387, 0)","v":2.6},{"$f":"IFERROR(F687*Levelisation!G1387, 0)","v":2.6},{"$f":"IFERROR(G687*Levelisation!H1387, 0)","v":2.6},{"$f":"IFERROR(H687*Levelisation!I1387, 0)","v":2.6},{"$f":"IFERROR(I687*Levelisation!J1387, 0)","v":2.6},{"$f":"IFERROR(J687*Levelisation!J1387, 0)","v":2.6},{"$f":"IFERROR(K687*Levelisation!L1387, 0)","v":2.6},"2.09 > Uruguay",673,25," "]
[{"$f":"INDEX(Country!$F$31:$G$76, MATCH(AI688, Country!$O$31:$O$76, 0), 1)","v":2.0899999999999981},{"$f":"INDEX(Country!$F$31:$G$76, MATCH(AI688, Country!$O$31:$O$76, 0), 2)","v":"Number of Green MFI"},{"$f":"INDEX(Country!$K$31:$K$76, MATCH(AI688, Country!$O$31:$O$76, 0), 1)","v":"Companies"},"Venezuela",2,2,2,2,2,2,2,0.26666666666666666,0.26666666666666666,0.26666666666666666,0.26666666666666666,0.26666666666666666,0.26666666666666666,0.29498525073746312,2,2,2,2,2,{"$f":"COUNTIF(Levelisation!$A$2536:$A$2635, $D$607)","v":2},2,{"$f":"IFERROR(E688*Levelisation!F1388, 0)","v":1},{"$f":"IFERROR(F688*Levelisation!G1388, 0)","v":1},{"$f":"IFERROR(G688*Levelisation!H1388, 0)","v":1},{"$f":"IFERROR(H688*Levelisation!I1388, 0)","v":1},{"$f":"IFERROR(I688*Levelisation!J1388, 0)","v":1},{"$f":"IFERROR(J688*Levelisation!J1388, 0)","v":1},{"$f":"IFERROR(K688*Levelisation!L1388, 0)","v":1},"2.09 > Venezuela",674,25," "]
[{"$f":"INDEX(Country!$F$31:$G$76, MATCH(AI689, Country!$O$31:$O$76, 0), 1)","v":2.0899999999999981},{"$f":"INDEX(Country!$F$31:$G$76, MATCH(AI689, Country!$O$31:$O$76, 0), 2)","v":"Number of Green MFI"},{"$f":"INDEX(Country!$K$31:$K$76, MATCH(AI689, Country!$O$31:$O$76, 0), 1)","v":"Companies"},"Benchmark",{"$f":"IFERROR(MAX(E663:E688), 0)","v":11},{"$f":"IFERROR(MAX(F663:F688), 0)","v":11},{"$f":"IFERROR(MAX(G663:G688), 0)","v":11},{"$f":"IFERROR(MAX(H663:H688), 0)","v":11},{"$f":"IFERROR(MAX(I663:I688), 0)","v":11},{"$f":"IFERROR(MAX(J663:J688), 0)","v":11},10,{"$f":"MAX(Z663:Z688)","v":375},375,{"$f":"MAX(AB663:AB688)","v":375},{"$f":"MAX(AC663:AC688)","v":375},{"$f":"MAX(AD663:AD688)","v":375},{"$f":"MAX(AE663:AE688)","v":375},{"$f":"MAX(AF663:AF688)","v":339},null,null,null,null,null,null,null,"Levelised by Total Micro Finance Institutions (USD)",null,null,null,null,null,null,"2.09 > Benchmark",675,25," "]
[{"$f":"INDEX(Country!$F$31:$G$76, MATCH(AI690, Country!$O$31:$O$76, 0), 1)","v":2.0999999999999979},{"$f":"INDEX(Country!$F$31:$G$76, MATCH(AI690, Country!$O$31:$O$76, 0), 2)","v":"Green micro-loans"},{"$f":"INDEX(Country!$K$31:$K$76, MATCH(AI690, Country!$O$31:$O$76, 0), 1)","v":"USD"},"Argentina",153695.57999999999,153695.57999999999,153695.57999999999,153695.57999999999,153695.57999999999,153695.57999999999,750000,{"$f":"IFERROR(dbl_BenchmarkMax*Z690/L$716, 0)","v":7.3759567583380035},{"$f":"IFERROR(dbl_BenchmarkMax*AA690/M$716, 0)","v":7.3759567583380035},{"$f":"IFERROR(dbl_BenchmarkMax*AB690/N$716, 0)","v":7.3759567583380035},{"$f":"IFERROR(dbl_BenchmarkMax*AC690/O$716, 0)","v":7.3759567583380035},{"$f":"IFERROR(dbl_BenchmarkMax*AD690/P$716, 0)","v":7.3759567583380035},{"$f":"IFERROR(dbl_BenchmarkMax*AE690/Q$716, 0)","v":7.3759567583380035},{"$f":"IFERROR(dbl_BenchmarkMax*AF690/R$716, 0)","v":32.057552747945103},null,null,null,null,null,null,null,{"$f":"IFERROR(E690/Levelisation!F1389, 0)","v":1.4348660692317487E-3},{"$f":"IFERROR(F690/Levelisation!G1389, 0)","v":1.4348660692317487E-3},{"$f":"IFERROR(G690/Levelisation!H1389, 0)","v":1.4348660692317487E-3},{"$f":"IFERROR(H690/Levelisation!I1389, 0)","v":1.4348660692317487E-3},{"$f":"IFERROR(I690/Levelisation!J1389, 0)","v":1.4348660692317487E-3},{"$f":"IFERROR(J690/Levelisation!J1389, 0)","v":1.4348660692317487E-3},{"$f":"IFERROR(K690/Levelisation!L1389, 0)","v":7.0018249836710442E-3},"2.1 > Argentina",676,26," "]
[{"$f":"INDEX(Country!$F$31:$G$76, MATCH(AI691, Country!$O$31:$O$76, 0), 1)","v":2.0999999999999979},{"$f":"INDEX(Country!$F$31:$G$76, MATCH(AI691, Country!$O$31:$O$76, 0), 2)","v":"Green micro-loans"},{"$f":"INDEX(Country!$K$31:$K$76, MATCH(AI691, Country!$O$31:$O$76, 0), 1)","v":"USD"},"Bahamas",0,0,0,0,0,0,0,0,0,0,0,0,0,0,null,null,null,null,null,null,null,{"$f":"IFERROR(E691/Levelisation!F1390, 0)","v":0},{"$f":"IFERROR(F691/Levelisation!G1390, 0)","v":0},{"$f":"IFERROR(G691/Levelisation!H1390, 0)","v":0},{"$f":"IFERROR(H691/Levelisation!I1390, 0)","v":0},{"$f":"IFERROR(I691/Levelisation!J1390, 0)","v":0},{"$f":"IFERROR(J691/Levelisation!J1390, 0)","v":0},{"$f":"IFERROR(K691/Levelisation!L1390, 0)","v":0},"2.1 > Bahamas",677,26," "]
[{"$f":"INDEX(Country!$F$31:$G$76, MATCH(AI692, Country!$O$31:$O$76, 0), 1)","v":2.0999999999999979},{"$f":"INDEX(Country!$F$31:$G$76, MATCH(AI692, Country!$O$31:$O$76, 0), 2)","v":"Green micro-loans"},{"$f":"INDEX(Country!$K$31:$K$76, MATCH(AI692, Country!$O$31:$O$76, 0), 1)","v":"USD"},"Barbados",0,0,0,0,0,0,0,0,0,0,0,0,0,0,null,null,null,null,null,null,null,{"$f":"IFERROR(E692/Levelisation!F1391, 0)","v":0},{"$f":"IFERROR(F692/Levelisation!G1391, 0)","v":0},{"$f":"IFERROR(G692/Levelisation!H1391, 0)","v":0},{"$f":"IFERROR(H692/Levelisation!I1391, 0)","v":0},{"$f":"IFERROR(I692/Levelisation!J1391, 0)","v":0},{"$f":"IFERROR(J692/Levelisation!J1391, 0)","v":0},{"$f":"IFERROR(K692/Levelisation!L1391, 0)","v":0},"2.1 > Barbados",678,26," "]
[{"$f":"INDEX(Country!$F$31:$G$76, MATCH(AI693, Country!$O$31:$O$76, 0), 1)","v":2.0999999999999979},{"$f":"INDEX(Country!$F$31:$G$76, MATCH(AI693, Country!$O$31:$O$76, 0), 2)","v":"Green micro-loans"},{"$f":"INDEX(Country!$K$31:$K$76, MATCH(AI693, Country!$O$31:$O$76, 0), 1)","v":"USD"},"Belize",0,0,0,0,0,0,0,0,0,0,0,0,0,0,null,null,null,null,null,null,null,{"$f":"IFERROR(E693/Levelisation!F1392, 0)","v":0},{"$f":"IFERROR(F693/Levelisation!G1392, 0)","v":0},{"$f":"IFERROR(G693/Levelisation!H1392, 0)","v":0},{"$f":"IFERROR(H693/Levelisation!I1392, 0)","v":0},{"$f":"IFERROR(I693/Levelisation!J1392, 0)","v":0},{"$f":"IFERROR(J693/Levelisation!J1392, 0)","v":0},{"$f":"IFERROR(K693/Levelisation!L1392, 0)","v":0},"2.1 > Belize",679,26," "]
[{"$f":"INDEX(Country!$F$31:$G$76, MATCH(AI694, Country!$O$31:$O$76, 0), 1)","v":2.0999999999999979},{"$f":"INDEX(Country!$F$31:$G$76, MATCH(AI694, Country!$O$31:$O$76, 0), 2)","v":"Green micro-loans"},{"$f":"INDEX(Country!$K$31:$K$76, MATCH(AI694, Country!$O$31:$O$76, 0), 1)","v":"USD"},"Bolivia",201014,201014,201014,201014,201014,201014,5719859,0.13364431954408021,0.13364431954408021,0.13364431954408021,0.13364431954408021,0.13364431954408021,0.13364431954408021,3.3870502499905504,null,null,null,null,null,null,null,{"$f":"IFERROR(E694/Levelisation!F1393, 0)","v":2.5998213620571049E-5},{"$f":"IFERROR(F694/Levelisation!G1393, 0)","v":2.5998213620571049E-5},{"$f":"IFERROR(G694/Levelisation!H1393, 0)","v":2.5998213620571049E-5},{"$f":"IFERROR(H694/Levelisation!I1393, 0)","v":2.5998213620571049E-5},{"$f":"IFERROR(I694/Levelisation!J1393, 0)","v":2.5998213620571049E-5},{"$f":"IFERROR(J694/Levelisation!J1393, 0)","v":2.5998213620571049E-5},{"$f":"IFERROR(K694/Levelisation!L1393, 0)","v":7.3977989673130182E-4},"2.1 > Bolivia",680,26," "]
[{"$f":"INDEX(Country!$F$31:$G$76, MATCH(AI695, Country!$O$31:$O$76, 0), 1)","v":2.0999999999999979},{"$f":"INDEX(Country!$F$31:$G$76, MATCH(AI695, Country!$O$31:$O$76, 0), 2)","v":"Green micro-loans"},{"$f":"INDEX(Country!$K$31:$K$76, MATCH(AI695, Country!$O$31:$O$76, 0), 1)","v":"USD"},"Brazil",71160000,71160000,71160000,71160000,71160000,71160000,0,100,100,100,100,100,100,0,null,null,null,null,null,null,null,{"$f":"IFERROR(E695/Levelisation!F1394, 0)","v":1.9453287434334984E-2},{"$f":"IFERROR(F695/Levelisation!G1394, 0)","v":1.9453287434334984E-2},{"$f":"IFERROR(G695/Levelisation!H1394, 0)","v":1.9453287434334984E-2},{"$f":"IFERROR(H695/Levelisation!I1394, 0)","v":1.9453287434334984E-2},{"$f":"IFERROR(I695/Levelisation!J1394, 0)","v":1.9453287434334984E-2},{"$f":"IFERROR(J695/Levelisation!J1394, 0)","v":1.9453287434334984E-2},{"$f":"IFERROR(K695/Levelisation!L1394, 0)","v":0},"2.1 > Brazil",681,26," "]
[{"$f":"INDEX(Country!$F$31:$G$76, MATCH(AI696, Country!$O$31:$O$76, 0), 1)","v":2.0999999999999979},{"$f":"INDEX(Country!$F$31:$G$76, MATCH(AI696, Country!$O$31:$O$76, 0), 2)","v":"Green micro-loans"},{"$f":"INDEX(Country!$K$31:$K$76, MATCH(AI696, Country!$O$31:$O$76, 0), 1)","v":"USD"},"Chile",0,0,0,0,0,0,120000000,0,0,0,0,0,0,100,null,null,null,null,null,null,null,{"$f":"IFERROR(E696/Levelisation!F1395, 0)","v":0},{"$f":"IFERROR(F696/Levelisation!G1395, 0)","v":0},{"$f":"IFERROR(G696/Levelisation!H1395, 0)","v":0},{"$f":"IFERROR(H696/Levelisation!I1395, 0)","v":0},{"$f":"IFERROR(I696/Levelisation!J1395, 0)","v":0},{"$f":"IFERROR(J696/Levelisation!J1395, 0)","v":0},{"$f":"IFERROR(K696/Levelisation!L1395, 0)","v":2.1841420768214638E-2},"2.1 > Chile",682,26," "]
[{"$f":"INDEX(Country!$F$31:$G$76, MATCH(AI697, Country!$O$31:$O$76, 0), 1)","v":2.0999999999999979},{"$f":"INDEX(Country!$F$31:$G$76, MATCH(AI697, Country!$O$31:$O$76, 0), 2)","v":"Green micro-loans"},{"$f":"INDEX(Country!$K$31:$K$76, MATCH(AI697, Country!$O$31:$O$76, 0), 1)","v":"USD"},"Colombia",0,0,0,0,0,0,0,0,0,0,0,0,0,0,null,null,null,null,null,null,null,{"$f":"IFERROR(E697/Levelisation!F1396, 0)","v":0},{"$f":"IFERROR(F697/Levelisation!G1396, 0)","v":0},{"$f":"IFERROR(G697/Levelisation!H1396, 0)","v":0},{"$f":"IFERROR(H697/Levelisation!I1396, 0)","v":0},{"$f":"IFERROR(I697/Levelisation!J1396, 0)","v":0},{"$f":"IFERROR(J697/Levelisation!J1396, 0)","v":0},{"$f":"IFERROR(K697/Levelisation!L1396, 0)","v":0},"2.1 > Colombia",683,26," "]
[{"$f":"INDEX(Country!$F$31:$G$76, MATCH(AI698, Country!$O$31:$O$76, 0), 1)","v":2.0999999999999979},{"$f":"INDEX(Country!$F$31:$G$76, MATCH(AI698, Country!$O$31:$O$76, 0), 2)","v":"Green micro-loans"},{"$f":"INDEX(Country!$K$31:$K$76, MATCH(AI698, Country!$O$31:$O$76, 0), 1)","v":"USD"},"Costa Rica",0,0,0,0,0,0,257500,0,0,0,0,0,0,4.3065457661259163,null,null,null,null,null,null,null,{"$f":"IFERROR(E698/Levelisation!F1397, 0)","v":0},{"$f":"IFERROR(F698/Levelisation!G1397, 0)","v":0},{"$f":"IFERROR(G698/Levelisation!H1397, 0)","v":0},{"$f":"IFERROR(H698/Levelisation!I1397, 0)","v":0},{"$f":"IFERROR(I698/Levelisation!J1397, 0)","v":0},{"$f":"IFERROR(J698/Levelisation!J1397, 0)","v":0},{"$f":"IFERROR(K698/Levelisation!L1397, 0)","v":9.406107813552942E-4},"2.1 > Costa Rica",684,26," "]
[{"$f":"INDEX(Country!$F$31:$G$76, MATCH(AI699, Country!$O$31:$O$76, 0), 1)","v":2.0999999999999979},{"$f":"INDEX(Country!$F$31:$G$76, MATCH(AI699, Country!$O$31:$O$76, 0), 2)","v":"Green micro-loans"},{"$f":"INDEX(Country!$K$31:$K$76, MATCH(AI699, Country!$O$31:$O$76, 0), 1)","v":"USD"},"Dominican Republic",0,0,0,0,0,0,1300800,0,0,0,0,0,0,3.7564401512265535,null,null,null,null,null,null,null,{"$f":"IFERROR(E699/Levelisation!F1398, 0)","v":0},{"$f":"IFERROR(F699/Levelisation!G1398, 0)","v":0},{"$f":"IFERROR(G699/Levelisation!H1398, 0)","v":0},{"$f":"IFERROR(H699/Levelisation!I1398, 0)","v":0},{"$f":"IFERROR(I699/Levelisation!J1398, 0)","v":0},{"$f":"IFERROR(J699/Levelisation!J1398, 0)","v":0},{"$f":"IFERROR(K699/Levelisation!L1398, 0)","v":8.2045989933554977E-4},"2.1 > Dominican Republic",685,26," "]
[{"$f":"INDEX(Country!$F$31:$G$76, MATCH(AI700, Country!$O$31:$O$76, 0), 1)","v":2.0999999999999979},{"$f":"INDEX(Country!$F$31:$G$76, MATCH(AI700, Country!$O$31:$O$76, 0), 2)","v":"Green micro-loans"},{"$f":"INDEX(Country!$K$31:$K$76, MATCH(AI700, Country!$O$31:$O$76, 0), 1)","v":"USD"},"Ecuador",0,0,0,0,0,0,8506000,0,0,0,0,0,0,6.4337801398821188,null,null,null,null,null,null,null,{"$f":"IFERROR(E700/Levelisation!F1399, 0)","v":0},{"$f":"IFERROR(F700/Levelisation!G1399, 0)","v":0},{"$f":"IFERROR(G700/Levelisation!H1399, 0)","v":0},{"$f":"IFERROR(H700/Levelisation!I1399, 0)","v":0},{"$f":"IFERROR(I700/Levelisation!J1399, 0)","v":0},{"$f":"IFERROR(J700/Levelisation!J1399, 0)","v":0},{"$f":"IFERROR(K700/Levelisation!L1399, 0)","v":1.4052289916534819E-3},"2.1 > Ecuador",686,26," "]
[{"$f":"INDEX(Country!$F$31:$G$76, MATCH(AI701, Country!$O$31:$O$76, 0), 1)","v":2.0999999999999979},{"$f":"INDEX(Country!$F$31:$G$76, MATCH(AI701, Country!$O$31:$O$76, 0), 2)","v":"Green micro-loans"},{"$f":"INDEX(Country!$K$31:$K$76, MATCH(AI701, Country!$O$31:$O$76, 0), 1)","v":"USD"},"El Salvador",250000,250000,250000,250000,250000,250000,25000,0.78805684083470962,0.78805684083470962,0.78805684083470962,0.78805684083470962,0.78805684083470962,0.78805684083470962,7.0189098053829183E-2,null,null,null,null,null,null,null,{"$f":"IFERROR(E701/Levelisation!F1400, 0)","v":1.5330296239351581E-4},{"$f":"IFERROR(F701/Levelisation!G1400, 0)","v":1.5330296239351581E-4},{"$f":"IFERROR(G701/Levelisation!H1400, 0)","v":1.5330296239351581E-4},{"$f":"IFERROR(H701/Levelisation!I1400, 0)","v":1.5330296239351581E-4},{"$f":"IFERROR(I701/Levelisation!J1400, 0)","v":1.5330296239351581E-4},{"$f":"IFERROR(J701/Levelisation!J1400, 0)","v":1.5330296239351581E-4},{"$f":"IFERROR(K701/Levelisation!L1400, 0)","v":1.5330296239351582E-5},"2.1 > El Salvador",687,26," "]
[{"$f":"INDEX(Country!$F$31:$G$76, MATCH(AI702, Country!$O$31:$O$76, 0), 1)","v":2.0999999999999979},{"$f":"INDEX(Country!$F$31:$G$76, MATCH(AI702, Country!$O$31:$O$76, 0), 2)","v":"Green micro-loans"},{"$f":"INDEX(Country!$K$31:$K$76, MATCH(AI702, Country!$O$31:$O$76, 0), 1)","v":"USD"},"Guatemala",0,0,0,0,0,0,179231,0,0,0,0,0,0,1.203479461415931,null,null,null,null,null,null,null,{"$f":"IFERROR(E702/Levelisation!F1401, 0)","v":0},{"$f":"IFERROR(F702/Levelisation!G1401, 0)","v":0},{"$f":"IFERROR(G702/Levelisation!H1401, 0)","v":0},{"$f":"IFERROR(H702/Levelisation!I1401, 0)","v":0},{"$f":"IFERROR(I702/Levelisation!J1401, 0)","v":0},{"$f":"IFERROR(J702/Levelisation!J1401, 0)","v":0},{"$f":"IFERROR(K702/Levelisation!L1401, 0)","v":2.628570130268968E-4},"2.1 > Guatemala",688,26," "]
[{"$f":"INDEX(Country!$F$31:$G$76, MATCH(AI703, Country!$O$31:$O$76, 0), 1)","v":2.0999999999999979},{"$f":"INDEX(Country!$F$31:$G$76, MATCH(AI703, Country!$O$31:$O$76, 0), 2)","v":"Green micro-loans"},{"$f":"INDEX(Country!$K$31:$K$76, MATCH(AI703, Country!$O$31:$O$76, 0), 1)","v":"USD"},"Guyana",0,0,0,0,0,0,0,0,0,0,0,0,0,0,null,null,null,null,null,null,null,{"$f":"IFERROR(E703/Levelisation!F1402, 0)","v":0},{"$f":"IFERROR(F703/Levelisation!G1402, 0)","v":0},{"$f":"IFERROR(G703/Levelisation!H1402, 0)","v":0},{"$f":"IFERROR(H703/Levelisation!I1402, 0)","v":0},{"$f":"IFERROR(I703/Levelisation!J1402, 0)","v":0},{"$f":"IFERROR(J703/Levelisation!J1402, 0)","v":0},{"$f":"IFERROR(K703/Levelisation!L1402, 0)","v":0},"2.1 > Guyana",689,26," "]
[{"$f":"INDEX(Country!$F$31:$G$76, MATCH(AI704, Country!$O$31:$O$76, 0), 1)","v":2.0999999999999979},{"$f":"INDEX(Country!$F$31:$G$76, MATCH(AI704, Country!$O$31:$O$76, 0), 2)","v":"Green micro-loans"},{"$f":"INDEX(Country!$K$31:$K$76, MATCH(AI704, Country!$O$31:$O$76, 0), 1)","v":"USD"},"Haiti",0,0,0,0,0,0,0,0,0,0,0,0,0,0,null,null,null,null,null,null,null,{"$f":"IFERROR(E704/Levelisation!F1403, 0)","v":0},{"$f":"IFERROR(F704/Levelisation!G1403, 0)","v":0},{"$f":"IFERROR(G704/Levelisation!H1403, 0)","v":0},{"$f":"IFERROR(H704/Levelisation!I1403, 0)","v":0},{"$f":"IFERROR(I704/Levelisation!J1403, 0)","v":0},{"$f":"IFERROR(J704/Levelisation!J1403, 0)","v":0},{"$f":"IFERROR(K704/Levelisation!L1403, 0)","v":0},"2.1 > Haiti",690,26," "]
[{"$f":"INDEX(Country!$F$31:$G$76, MATCH(AI705, Country!$O$31:$O$76, 0), 1)","v":2.0999999999999979},{"$f":"INDEX(Country!$F$31:$G$76, MATCH(AI705, Country!$O$31:$O$76, 0), 2)","v":"Green micro-loans"},{"$f":"INDEX(Country!$K$31:$K$76, MATCH(AI705, Country!$O$31:$O$76, 0), 1)","v":"USD"},"Honduras",0,0,0,0,0,0,7189056,0,0,0,0,0,0,35.876701483056728,null,null,null,null,null,null,null,{"$f":"IFERROR(E705/Levelisation!F1404, 0)","v":0},{"$f":"IFERROR(F705/Levelisation!G1404, 0)","v":0},{"$f":"IFERROR(G705/Levelisation!H1404, 0)","v":0},{"$f":"IFERROR(H705/Levelisation!I1404, 0)","v":0},{"$f":"IFERROR(I705/Levelisation!J1404, 0)","v":0},{"$f":"IFERROR(J705/Levelisation!J1404, 0)","v":0},{"$f":"IFERROR(K705/Levelisation!L1404, 0)","v":7.8359813286707214E-3},"2.1 > Honduras",691,26," "]
[{"$f":"INDEX(Country!$F$31:$G$76, MATCH(AI706, Country!$O$31:$O$76, 0), 1)","v":2.0999999999999979},{"$f":"INDEX(Country!$F$31:$G$76, MATCH(AI706, Country!$O$31:$O$76, 0), 2)","v":"Green micro-loans"},{"$f":"INDEX(Country!$K$31:$K$76, MATCH(AI706, Country!$O$31:$O$76, 0), 1)","v":"USD"},"Jamaica",0,0,0,0,0,0,0,0,0,0,0,0,0,0,null,null,null,null,null,null,null,{"$f":"IFERROR(E706/Levelisation!F1405, 0)","v":0},{"$f":"IFERROR(F706/Levelisation!G1405, 0)","v":0},{"$f":"IFERROR(G706/Levelisation!H1405, 0)","v":0},{"$f":"IFERROR(H706/Levelisation!I1405, 0)","v":0},{"$f":"IFERROR(I706/Levelisation!J1405, 0)","v":0},{"$f":"IFERROR(J706/Levelisation!J1405, 0)","v":0},{"$f":"IFERROR(K706/Levelisation!L1405, 0)","v":0},"2.1 > Jamaica",692,26," "]
[{"$f":"INDEX(Country!$F$31:$G$76, MATCH(AI707, Country!$O$31:$O$76, 0), 1)","v":2.0999999999999979},{"$f":"INDEX(Country!$F$31:$G$76, MATCH(AI707, Country!$O$31:$O$76, 0), 2)","v":"Green micro-loans"},{"$f":"INDEX(Country!$K$31:$K$76, MATCH(AI707, Country!$O$31:$O$76, 0), 1)","v":"USD"},"Mexico",371243.58,371243.58,371243.58,371243.58,371243.58,371243.58,150000,0.16668385430251997,0.16668385430251997,0.16668385430251997,0.16668385430251997,0.16668385430251997,0.16668385430251997,5.9984350344088617E-2,null,null,null,null,null,null,null,{"$f":"IFERROR(E707/Levelisation!F1406, 0)","v":3.2425489284097351E-5},{"$f":"IFERROR(F707/Levelisation!G1406, 0)","v":3.2425489284097351E-5},{"$f":"IFERROR(G707/Levelisation!H1406, 0)","v":3.2425489284097351E-5},{"$f":"IFERROR(H707/Levelisation!I1406, 0)","v":3.2425489284097351E-5},{"$f":"IFERROR(I707/Levelisation!J1406, 0)","v":3.2425489284097351E-5},{"$f":"IFERROR(J707/Levelisation!J1406, 0)","v":3.2425489284097351E-5},{"$f":"IFERROR(K707/Levelisation!L1406, 0)","v":1.31014343537324E-5},"2.1 > Mexico",693,26," "]
[{"$f":"INDEX(Country!$F$31:$G$76, MATCH(AI708, Country!$O$31:$O$76, 0), 1)","v":2.0999999999999979},{"$f":"INDEX(Country!$F$31:$G$76, MATCH(AI708, Country!$O$31:$O$76, 0), 2)","v":"Green micro-loans"},{"$f":"INDEX(Country!$K$31:$K$76, MATCH(AI708, Country!$O$31:$O$76, 0), 1)","v":"USD"},"Nicaragua",2934306.8299999996,2934306.8299999996,2934306.8299999996,2934306.8299999996,2934306.8299999996,2934306.8299999996,1266829,6.7499717426033259,6.7499717426033259,6.7499717426033259,6.7499717426033259,6.7499717426033259,6.7499717426033259,2.5955329415868027,null,null,null,null,null,null,null,{"$f":"IFERROR(E708/Levelisation!F1407, 0)","v":1.313091404825015E-3},{"$f":"IFERROR(F708/Levelisation!G1407, 0)","v":1.313091404825015E-3},{"$f":"IFERROR(G708/Levelisation!H1407, 0)","v":1.313091404825015E-3},{"$f":"IFERROR(H708/Levelisation!I1407, 0)","v":1.313091404825015E-3},{"$f":"IFERROR(I708/Levelisation!J1407, 0)","v":1.313091404825015E-3},{"$f":"IFERROR(J708/Levelisation!J1407, 0)","v":1.313091404825015E-3},{"$f":"IFERROR(K708/Levelisation!L1407, 0)","v":5.6690127094959227E-4},"2.1 > Nicaragua",694,26," "]
[{"$f":"INDEX(Country!$F$31:$G$76, MATCH(AI709, Country!$O$31:$O$76, 0), 1)","v":2.0999999999999979},{"$f":"INDEX(Country!$F$31:$G$76, MATCH(AI709, Country!$O$31:$O$76, 0), 2)","v":"Green micro-loans"},{"$f":"INDEX(Country!$K$31:$K$76, MATCH(AI709, Country!$O$31:$O$76, 0), 1)","v":"USD"},"Panama",0,0,0,0,0,0,6,0,0,0,0,0,0,3.624027098628148E-4,null,null,null,null,null,null,null,{"$f":"IFERROR(E709/Levelisation!F1408, 0)","v":0},{"$f":"IFERROR(F709/Levelisation!G1408, 0)","v":0},{"$f":"IFERROR(G709/Levelisation!H1408, 0)","v":0},{"$f":"IFERROR(H709/Levelisation!I1408, 0)","v":0},{"$f":"IFERROR(I709/Levelisation!J1408, 0)","v":0},{"$f":"IFERROR(J709/Levelisation!J1408, 0)","v":0},{"$f":"IFERROR(K709/Levelisation!L1408, 0)","v":7.9153900736549467E-8},"2.1 > Panama",695,26," "]
[{"$f":"INDEX(Country!$F$31:$G$76, MATCH(AI710, Country!$O$31:$O$76, 0), 1)","v":2.0999999999999979},{"$f":"INDEX(Country!$F$31:$G$76, MATCH(AI710, Country!$O$31:$O$76, 0), 2)","v":"Green micro-loans"},{"$f":"INDEX(Country!$K$31:$K$76, MATCH(AI710, Country!$O$31:$O$76, 0), 1)","v":"USD"},"Paraguay",0,0,0,0,0,0,1197335,0,0,0,0,0,0,2.4122232950311377,null,null,null,null,null,null,null,{"$f":"IFERROR(E710/Levelisation!F1409, 0)","v":0},{"$f":"IFERROR(F710/Levelisation!G1409, 0)","v":0},{"$f":"IFERROR(G710/Levelisation!H1409, 0)","v":0},{"$f":"IFERROR(H710/Levelisation!I1409, 0)","v":0},{"$f":"IFERROR(I710/Levelisation!J1409, 0)","v":0},{"$f":"IFERROR(J710/Levelisation!J1409, 0)","v":0},{"$f":"IFERROR(K710/Levelisation!L1409, 0)","v":5.2686383973664234E-4},"2.1 > Paraguay",696,26," "]
[{"$f":"INDEX(Country!$F$31:$G$76, MATCH(AI711, Country!$O$31:$O$76, 0), 1)","v":2.0999999999999979},{"$f":"INDEX(Country!$F$31:$G$76, MATCH(AI711, Country!$O$31:$O$76, 0), 2)","v":"Green micro-loans"},{"$f":"INDEX(Country!$K$31:$K$76, MATCH(AI711, Country!$O$31:$O$76, 0), 1)","v":"USD"},"Peru",245573.78599999999,245573.78599999999,245573.78599999999,245573.78599999999,245573.78599999999,245573.78599999999,252741192.32999998,5.9606197976146288E-2,5.9606197976146288E-2,5.9606197976146288E-2,5.9606197976146288E-2,5.9606197976146288E-2,5.9606197976146288E-2,54.63834844723592,null,null,null,null,null,null,null,{"$f":"IFERROR(E711/Levelisation!F1410, 0)","v":1.1595365020978499E-5},{"$f":"IFERROR(F711/Levelisation!G1410, 0)","v":1.1595365020978499E-5},{"$f":"IFERROR(G711/Levelisation!H1410, 0)","v":1.1595365020978499E-5},{"$f":"IFERROR(H711/Levelisation!I1410, 0)","v":1.1595365020978499E-5},{"$f":"IFERROR(I711/Levelisation!J1410, 0)","v":1.1595365020978499E-5},{"$f":"IFERROR(J711/Levelisation!J1410, 0)","v":1.1595365020978499E-5},{"$f":"IFERROR(K711/Levelisation!L1410, 0)","v":1.1933791585164066E-2},"2.1 > Peru",697,26," "]
[{"$f":"INDEX(Country!$F$31:$G$76, MATCH(AI712, Country!$O$31:$O$76, 0), 1)","v":2.0999999999999979},{"$f":"INDEX(Country!$F$31:$G$76, MATCH(AI712, Country!$O$31:$O$76, 0), 2)","v":"Green micro-loans"},{"$f":"INDEX(Country!$K$31:$K$76, MATCH(AI712, Country!$O$31:$O$76, 0), 1)","v":"USD"},"Suriname",0,0,0,0,0,0,0,0,0,0,0,0,0,0,null,null,null,null,null,null,null,{"$f":"IFERROR(E712/Levelisation!F1411, 0)","v":0},{"$f":"IFERROR(F712/Levelisation!G1411, 0)","v":0},{"$f":"IFERROR(G712/Levelisation!H1411, 0)","v":0},{"$f":"IFERROR(H712/Levelisation!I1411, 0)","v":0},{"$f":"IFERROR(I712/Levelisation!J1411, 0)","v":0},{"$f":"IFERROR(J712/Levelisation!J1411, 0)","v":0},{"$f":"IFERROR(K712/Levelisation!L1411, 0)","v":0},"2.1 > Suriname",698,26," "]
[{"$f":"INDEX(Country!$F$31:$G$76, MATCH(AI713, Country!$O$31:$O$76, 0), 1)","v":2.0999999999999979},{"$f":"INDEX(Country!$F$31:$G$76, MATCH(AI713, Country!$O$31:$O$76, 0), 2)","v":"Green micro-loans"},{"$f":"INDEX(Country!$K$31:$K$76, MATCH(AI713, Country!$O$31:$O$76, 0), 1)","v":"USD"},"Trinidad & Tobago",0,0,0,0,0,0,0,0,0,0,0,0,0,0,null,null,null,null,null,null,null,{"$f":"IFERROR(E713/Levelisation!F1412, 0)","v":0},{"$f":"IFERROR(F713/Levelisation!G1412, 0)","v":0},{"$f":"IFERROR(G713/Levelisation!H1412, 0)","v":0},{"$f":"IFERROR(H713/Levelisation!I1412, 0)","v":0},{"$f":"IFERROR(I713/Levelisation!J1412, 0)","v":0},{"$f":"IFERROR(J713/Levelisation!J1412, 0)","v":0},{"$f":"IFERROR(K713/Levelisation!L1412, 0)","v":0},"2.1 > Trinidad & Tobago",699,26," "]
[{"$f":"INDEX(Country!$F$31:$G$76, MATCH(AI714, Country!$O$31:$O$76, 0), 1)","v":2.0999999999999979},{"$f":"INDEX(Country!$F$31:$G$76, MATCH(AI714, Country!$O$31:$O$76, 0), 2)","v":"Green micro-loans"},{"$f":"INDEX(Country!$K$31:$K$76, MATCH(AI714, Country!$O$31:$O$76, 0), 1)","v":"USD"},"Uruguay",50000,50000,50000,50000,50000,50000,0,0,0,0,0,0,0,0,null,null,null,null,null,null,null,{"$f":"IFERROR(E714/Levelisation!F1413, 0)","v":0},{"$f":"IFERROR(F714/Levelisation!G1413, 0)","v":0},{"$f":"IFERROR(G714/Levelisation!H1413, 0)","v":0},{"$f":"IFERROR(H714/Levelisation!I1413, 0)","v":0},{"$f":"IFERROR(I714/Levelisation!J1413, 0)","v":0},{"$f":"IFERROR(J714/Levelisation!J1413, 0)","v":0},{"$f":"IFERROR(K714/Levelisation!L1413, 0)","v":0},"2.1 > Uruguay",700,26," "]
[{"$f":"INDEX(Country!$F$31:$G$76, MATCH(AI715, Country!$O$31:$O$76, 0), 1)","v":2.0999999999999979},{"$f":"INDEX(Country!$F$31:$G$76, MATCH(AI715, Country!$O$31:$O$76, 0), 2)","v":"Green micro-loans"},{"$f":"INDEX(Country!$K$31:$K$76, MATCH(AI715, Country!$O$31:$O$76, 0), 1)","v":"USD"},"Venezuela",200100,200100,200100,200100,200100,200100,31652.66,29.782292139314166,29.782292139314166,29.782292139314166,29.782292139314166,29.782292139314166,29.782292139314166,4.1959795396752337,null,null,null,null,null,null,null,{"$f":"IFERROR(E715/Levelisation!F1414, 0)","v":5.7936348943941384E-3},{"$f":"IFERROR(F715/Levelisation!G1414, 0)","v":5.7936348943941384E-3},{"$f":"IFERROR(G715/Levelisation!H1414, 0)","v":5.7936348943941384E-3},{"$f":"IFERROR(H715/Levelisation!I1414, 0)","v":5.7936348943941384E-3},{"$f":"IFERROR(I715/Levelisation!J1414, 0)","v":5.7936348943941384E-3},{"$f":"IFERROR(J715/Levelisation!J1414, 0)","v":5.7936348943941384E-3},{"$f":"IFERROR(K715/Levelisation!L1414, 0)","v":9.1646154660866353E-4},"2.1 > Venezuela",701,26," "]
[{"$f":"INDEX(Country!$F$31:$G$76, MATCH(AI716, Country!$O$31:$O$76, 0), 1)","v":2.0999999999999979},{"$f":"INDEX(Country!$F$31:$G$76, MATCH(AI716, Country!$O$31:$O$76, 0), 2)","v":"Green micro-loans"},{"$f":"INDEX(Country!$K$31:$K$76, MATCH(AI716, Country!$O$31:$O$76, 0), 1)","v":"USD"},"Benchmark",{"$f":"IFERROR(MAX(E690:E715), 0)","v":71160000},{"$f":"IFERROR(MAX(F690:F715), 0)","v":71160000},{"$f":"IFERROR(MAX(G690:G715), 0)","v":71160000},{"$f":"IFERROR(MAX(H690:H715), 0)","v":71160000},{"$f":"IFERROR(MAX(I690:I715), 0)","v":71160000},{"$f":"IFERROR(MAX(J690:J715), 0)","v":71160000},252741192.32999998,{"$f":"MAX(Z690:Z715)","v":1.9453287434334984E-2},1.9453287434334984E-2,{"$f":"MAX(AB690:AB715)","v":1.9453287434334984E-2},{"$f":"MAX(AC690:AC715)","v":1.9453287434334984E-2},{"$f":"MAX(AD690:AD715)","v":1.9453287434334984E-2},{"$f":"MAX(AE690:AE715)","v":1.9453287434334984E-2},{"$f":"MAX(AF690:AF715)","v":2.1841420768214638E-2},null,null,null,null,null,null,null,"Levelised by Population",null,null,null,null,null,null,"2.1 > Benchmark",702,26," "]
[{"$f":"INDEX(Country!$F$31:$G$76, MATCH(AI717, Country!$O$31:$O$76, 0), 1)","v":2.1099999999999977},{"$f":"INDEX(Country!$F$31:$G$76, MATCH(AI717, Country!$O$31:$O$76, 0), 2)","v":"Green micro-borrowers"},{"$f":"INDEX(Country!$K$31:$K$76, MATCH(AI717, Country!$O$31:$O$76, 0), 1)","v":"Borrowers"},"Argentina",1002,1002,1002,1002,1002,1002,1500,{"$f":"IFERROR(dbl_BenchmarkMax*Z717/L$743, 0)","v":4.136295704867222},{"$f":"IFERROR(dbl_BenchmarkMax*AA717/M$743, 0)","v":4.1210233739381001},{"$f":"IFERROR(dbl_BenchmarkMax*AB717/N$743, 0)","v":4.1288464688329842},{"$f":"IFERROR(dbl_BenchmarkMax*AC717/O$743, 0)","v":4.1352559849444566},{"$f":"IFERROR(dbl_BenchmarkMax*AD717/P$743, 0)","v":4.1381621815148257},{"$f":"IFERROR(dbl_BenchmarkMax*AE717/Q$743, 0)","v":4.1381621815148257},{"$f":"IFERROR(dbl_BenchmarkMax*AF717/R$743, 0)","v":8.8494166946798494},null,null,null,null,null,null,null,{"$f":"IFERROR(E717/Levelisation!F1441, 0)","v":26.124364489636296},{"$f":"IFERROR(F717/Levelisation!G1441, 0)","v":25.832731772713213},{"$f":"IFERROR(G717/Levelisation!H1441, 0)","v":25.544281853872434},{"$f":"IFERROR(H717/Levelisation!I1441, 0)","v":25.259018377070259},{"$f":"IFERROR(I717/Levelisation!J1441, 0)","v":24.976942443353195},{"$f":"IFERROR(J717/Levelisation!J1441, 0)","v":24.976942443353195},{"$f":"IFERROR(K717/Levelisation!L1441, 0)","v":36.560397777127818},"2.11 > Argentina",703,27," "]
[{"$f":"INDEX(Country!$F$31:$G$76, MATCH(AI718, Country!$O$31:$O$76, 0), 1)","v":2.1099999999999977},{"$f":"INDEX(Country!$F$31:$G$76, MATCH(AI718, Country!$O$31:$O$76, 0), 2)","v":"Green micro-borrowers"},{"$f":"INDEX(Country!$K$31:$K$76, MATCH(AI718, Country!$O$31:$O$76, 0), 1)","v":"Borrowers"},"Bahamas",0,0,0,0,0,0,0,0,0,0,0,0,0,0,null,null,null,null,null,null,null,{"$f":"IFERROR(E718/Levelisation!F1442, 0)","v":0},{"$f":"IFERROR(F718/Levelisation!G1442, 0)","v":0},{"$f":"IFERROR(G718/Levelisation!H1442, 0)","v":0},{"$f":"IFERROR(H718/Levelisation!I1442, 0)","v":0},{"$f":"IFERROR(I718/Levelisation!J1442, 0)","v":0},{"$f":"IFERROR(J718/Levelisation!J1442, 0)","v":0},{"$f":"IFERROR(K718/Levelisation!L1442, 0)","v":0},"2.11 > Bahamas",704,27," "]
[{"$f":"INDEX(Country!$F$31:$G$76, MATCH(AI719, Country!$O$31:$O$76, 0), 1)","v":2.1099999999999977},{"$f":"INDEX(Country!$F$31:$G$76, MATCH(AI719, Country!$O$31:$O$76, 0), 2)","v":"Green micro-borrowers"},{"$f":"INDEX(Country!$K$31:$K$76, MATCH(AI719, Country!$O$31:$O$76, 0), 1)","v":"Borrowers"},"Barbados",0,0,0,0,0,0,0,0,0,0,0,0,0,0,null,null,null,null,null,null,null,{"$f":"IFERROR(E719/Levelisation!F1443, 0)","v":0},{"$f":"IFERROR(F719/Levelisation!G1443, 0)","v":0},{"$f":"IFERROR(G719/Levelisation!H1443, 0)","v":0},{"$f":"IFERROR(H719/Levelisation!I1443, 0)","v":0},{"$f":"IFERROR(I719/Levelisation!J1443, 0)","v":0},{"$f":"IFERROR(J719/Levelisation!J1443, 0)","v":0},{"$f":"IFERROR(K719/Levelisation!L1443, 0)","v":0},{"$f":"A719&\" > \" &D719","v":"2.11 > Barbados"},705,27," "]
[{"$f":"INDEX(Country!$F$31:$G$76, MATCH(AI720, Country!$O$31:$O$76, 0), 1)","v":2.1099999999999977},{"$f":"INDEX(Country!$F$31:$G$76, MATCH(AI720, Country!$O$31:$O$76, 0), 2)","v":"Green micro-borrowers"},{"$f":"INDEX(Country!$K$31:$K$76, MATCH(AI720, Country!$O$31:$O$76, 0), 1)","v":"Borrowers"},{"$f":"D693","v":"Belize"},0,0,0,0,0,0,0,0,0,0,0,0,0,0,null,null,null,null,null,null,null,{"$f":"IFERROR(E720/Levelisation!F1444, 0)","v":0},{"$f":"IFERROR(F720/Levelisation!G1444, 0)","v":0},{"$f":"IFERROR(G720/Levelisation!H1444, 0)","v":0},{"$f":"IFERROR(H720/Levelisation!I1444, 0)","v":0},{"$f":"IFERROR(I720/Levelisation!J1444, 0)","v":0},{"$f":"IFERROR(J720/Levelisation!J1444, 0)","v":0},{"$f":"IFERROR(K720/Levelisation!L1444, 0)","v":0},"2.11 > Belize",706,27," "]
[{"$f":"INDEX(Country!$F$31:$G$76, MATCH(AI721, Country!$O$31:$O$76, 0), 1)","v":2.1099999999999977},{"$f":"INDEX(Country!$F$31:$G$76, MATCH(AI721, Country!$O$31:$O$76, 0), 2)","v":"Green micro-borrowers"},{"$f":"INDEX(Country!$K$31:$K$76, MATCH(AI721, Country!$O$31:$O$76, 0), 1)","v":"Borrowers"},"Bolivia",1582,1582,1582,1582,1582,1582,572,26.018445878017349,25.678879808757337,25.499237282291439,25.324690895203513,25.139520674465707,25.139520674465707,12.782953410360005,null,null,null,null,null,null,null,{"$f":"IFERROR(E721/Levelisation!F1445, 0)","v":164.32948997610885},{"$f":"IFERROR(F721/Levelisation!G1445, 0)","v":160.96866096866097},{"$f":"IFERROR(G721/Levelisation!H1445, 0)","v":157.75827682489029},{"$f":"IFERROR(H721/Levelisation!I1445, 0)","v":154.68856947296371},{"$f":"IFERROR(I721/Levelisation!J1445, 0)","v":151.73604450412429},{"$f":"IFERROR(J721/Levelisation!J1445, 0)","v":151.73604450412429},{"$f":"IFERROR(K721/Levelisation!L1445, 0)","v":52.81137475764011},"2.11 > Bolivia",{"$f":"AH720+1","v":707},{"$f":"ROUNDUP(AH721/COUNTA($D$15:$D$41),0)","v":27}," "]
[{"$f":"INDEX(Country!$F$31:$G$76, MATCH(AI722, Country!$O$31:$O$76, 0), 1)","v":2.1099999999999977},{"$f":"INDEX(Country!$F$31:$G$76, MATCH(AI722, Country!$O$31:$O$76, 0), 2)","v":"Green micro-borrowers"},{"$f":"INDEX(Country!$K$31:$K$76, MATCH(AI722, Country!$O$31:$O$76, 0), 1)","v":"Borrowers"},"Brazil",33708,33708,33708,33708,33708,33708,2,28.394747732491393,28.331925864764365,28.444724806797801,28.556577404564109,28.647363797877148,28.647363797877148,2.4404922886341897E-3,null,null,null,null,null,null,null,{"$f":"IFERROR(E722/Levelisation!F1446, 0)","v":179.33793719873589},{"$f":"IFERROR(F722/Levelisation!G1446, 0)","v":177.59934245882465},{"$f":"IFERROR(G722/Levelisation!H1446, 0)","v":175.98137232892876},{"$f":"IFERROR(H722/Levelisation!I1446, 0)","v":174.42961598368925},{"$f":"IFERROR(I722/Levelisation!J1446, 0)","v":172.90853411440031},{"$f":"IFERROR(J722/Levelisation!J1446, 0)","v":172.90853411440031},{"$f":"IFERROR(K722/Levelisation!L1446, 0)","v":1.0082627129324817E-2},"2.11 > Brazil",708,27," "]
[{"$f":"INDEX(Country!$F$31:$G$76, MATCH(AI723, Country!$O$31:$O$76, 0), 1)","v":2.1099999999999977},{"$f":"INDEX(Country!$F$31:$G$76, MATCH(AI723, Country!$O$31:$O$76, 0), 2)","v":"Green micro-borrowers"},{"$f":"INDEX(Country!$K$31:$K$76, MATCH(AI723, Country!$O$31:$O$76, 0), 1)","v":"Borrowers"},"Chile",0,0,0,0,0,0,3000,0,0,0,0,0,0,41.725434482482896,null,null,null,null,null,null,null,{"$f":"IFERROR(E723/Levelisation!F1447, 0)","v":0},{"$f":"IFERROR(F723/Levelisation!G1447, 0)","v":0},{"$f":"IFERROR(G723/Levelisation!H1447, 0)","v":0},{"$f":"IFERROR(H723/Levelisation!I1447, 0)","v":0},{"$f":"IFERROR(I723/Levelisation!J1447, 0)","v":0},{"$f":"IFERROR(J723/Levelisation!J1447, 0)","v":0},{"$f":"IFERROR(K723/Levelisation!L1447, 0)","v":172.38407171177386},"2.11 > Chile",709,27," "]
[{"$f":"INDEX(Country!$F$31:$G$76, MATCH(AI724, Country!$O$31:$O$76, 0), 1)","v":2.1099999999999977},{"$f":"INDEX(Country!$F$31:$G$76, MATCH(AI724, Country!$O$31:$O$76, 0), 2)","v":"Green micro-borrowers"},{"$f":"INDEX(Country!$K$31:$K$76, MATCH(AI724, Country!$O$31:$O$76, 0), 1)","v":"Borrowers"},"Colombia",0,0,0,0,0,0,0,0,0,0,0,0,0,0,null,null,null,null,null,null,null,{"$f":"IFERROR(E724/Levelisation!F1448, 0)","v":0},{"$f":"IFERROR(F724/Levelisation!G1448, 0)","v":0},{"$f":"IFERROR(G724/Levelisation!H1448, 0)","v":0},{"$f":"IFERROR(H724/Levelisation!I1448, 0)","v":0},{"$f":"IFERROR(I724/Levelisation!J1448, 0)","v":0},{"$f":"IFERROR(J724/Levelisation!J1448, 0)","v":0},{"$f":"IFERROR(K724/Levelisation!L1448, 0)","v":0},"2.11 > Colombia",710,27," "]
[{"$f":"INDEX(Country!$F$31:$G$76, MATCH(AI725, Country!$O$31:$O$76, 0), 1)","v":2.1099999999999977},{"$f":"INDEX(Country!$F$31:$G$76, MATCH(AI725, Country!$O$31:$O$76, 0), 2)","v":"Green micro-borrowers"},{"$f":"INDEX(Country!$K$31:$K$76, MATCH(AI725, Country!$O$31:$O$76, 0), 1)","v":"Borrowers"},"Costa Rica",0,0,0,0,0,0,82,0,0,0,0,0,0,4.2537587067073348,null,null,null,null,null,null,null,{"$f":"IFERROR(E725/Levelisation!F1449, 0)","v":0},{"$f":"IFERROR(F725/Levelisation!G1449, 0)","v":0},{"$f":"IFERROR(G725/Levelisation!H1449, 0)","v":0},{"$f":"IFERROR(H725/Levelisation!I1449, 0)","v":0},{"$f":"IFERROR(I725/Levelisation!J1449, 0)","v":0},{"$f":"IFERROR(J725/Levelisation!J1449, 0)","v":0},{"$f":"IFERROR(K725/Levelisation!L1449, 0)","v":17.573939134162021},"2.11 > Costa Rica",711,27," "]
[{"$f":"INDEX(Country!$F$31:$G$76, MATCH(AI726, Country!$O$31:$O$76, 0), 1)","v":2.1099999999999977},{"$f":"INDEX(Country!$F$31:$G$76, MATCH(AI726, Country!$O$31:$O$76, 0), 2)","v":"Green micro-borrowers"},{"$f":"INDEX(Country!$K$31:$K$76, MATCH(AI726, Country!$O$31:$O$76, 0), 1)","v":"Borrowers"},"Dominican Republic",0,0,0,0,0,0,243,0,0,0,0,0,0,5.7456253433809348,null,null,null,null,null,null,null,{"$f":"IFERROR(E726/Levelisation!F1450, 0)","v":0},{"$f":"IFERROR(F726/Levelisation!G1450, 0)","v":0},{"$f":"IFERROR(G726/Levelisation!H1450, 0)","v":0},{"$f":"IFERROR(H726/Levelisation!I1450, 0)","v":0},{"$f":"IFERROR(I726/Levelisation!J1450, 0)","v":0},{"$f":"IFERROR(J726/Levelisation!J1450, 0)","v":0},{"$f":"IFERROR(K726/Levelisation!L1450, 0)","v":23.737423073165967},"2.11 > Dominican Republic",712,27," "]
[{"$f":"INDEX(Country!$F$31:$G$76, MATCH(AI727, Country!$O$31:$O$76, 0), 1)","v":2.1099999999999977},{"$f":"INDEX(Country!$F$31:$G$76, MATCH(AI727, Country!$O$31:$O$76, 0), 2)","v":"Green micro-borrowers"},{"$f":"INDEX(Country!$K$31:$K$76, MATCH(AI727, Country!$O$31:$O$76, 0), 1)","v":"Borrowers"},"Ecuador",0,0,0,0,0,0,101,0,0,0,0,0,0,1.6042374032890088,null,null,null,null,null,null,null,{"$f":"IFERROR(E727/Levelisation!F1451, 0)","v":0},{"$f":"IFERROR(F727/Levelisation!G1451, 0)","v":0},{"$f":"IFERROR(G727/Levelisation!H1451, 0)","v":0},{"$f":"IFERROR(H727/Levelisation!I1451, 0)","v":0},{"$f":"IFERROR(I727/Levelisation!J1451, 0)","v":0},{"$f":"IFERROR(J727/Levelisation!J1451, 0)","v":0},{"$f":"IFERROR(K727/Levelisation!L1451, 0)","v":6.6277314784434669},"2.11 > Ecuador",713,27," "]
[{"$f":"INDEX(Country!$F$31:$G$76, MATCH(AI728, Country!$O$31:$O$76, 0), 1)","v":2.1099999999999977},{"$f":"INDEX(Country!$F$31:$G$76, MATCH(AI728, Country!$O$31:$O$76, 0), 2)","v":"Green micro-borrowers"},{"$f":"INDEX(Country!$K$31:$K$76, MATCH(AI728, Country!$O$31:$O$76, 0), 1)","v":"Borrowers"},"El Salvador",500,500,500,500,500,500,150,13.04208894897045,13.076000018676666,13.183920217187371,13.301433342833477,13.408813017848265,13.408813017848265,5.8287665459837035,null,null,null,null,null,null,null,{"$f":"IFERROR(E728/Levelisation!F1452, 0)","v":82.372322899505761},{"$f":"IFERROR(F728/Levelisation!G1452, 0)","v":81.967213114754102},{"$f":"IFERROR(G728/Levelisation!H1452, 0)","v":81.566068515497548},{"$f":"IFERROR(H728/Levelisation!I1452, 0)","v":81.247968800779987},{"$f":"IFERROR(I728/Levelisation!J1452, 0)","v":80.932340563289088},{"$f":"IFERROR(J728/Levelisation!J1452, 0)","v":80.932340563289088},{"$f":"IFERROR(K728/Levelisation!L1452, 0)","v":24.080911863862578},"2.11 > El Salvador",714,27," "]
[{"$f":"INDEX(Country!$F$31:$G$76, MATCH(AI729, Country!$O$31:$O$76, 0), 1)","v":2.1099999999999977},{"$f":"INDEX(Country!$F$31:$G$76, MATCH(AI729, Country!$O$31:$O$76, 0), 2)","v":"Green micro-borrowers"},{"$f":"INDEX(Country!$K$31:$K$76, MATCH(AI729, Country!$O$31:$O$76, 0), 1)","v":"Borrowers"},"Guatemala",0,0,0,0,0,0,820,0,0,0,0,0,0,13.140045101288596,null,null,null,null,null,null,null,{"$f":"IFERROR(E729/Levelisation!F1453, 0)","v":0},{"$f":"IFERROR(F729/Levelisation!G1453, 0)","v":0},{"$f":"IFERROR(G729/Levelisation!H1453, 0)","v":0},{"$f":"IFERROR(H729/Levelisation!I1453, 0)","v":0},{"$f":"IFERROR(I729/Levelisation!J1453, 0)","v":0},{"$f":"IFERROR(J729/Levelisation!J1453, 0)","v":0},{"$f":"IFERROR(K729/Levelisation!L1453, 0)","v":54.28666004634227},"2.11 > Guatemala",715,27," "]
[{"$f":"INDEX(Country!$F$31:$G$76, MATCH(AI730, Country!$O$31:$O$76, 0), 1)","v":2.1099999999999977},{"$f":"INDEX(Country!$F$31:$G$76, MATCH(AI730, Country!$O$31:$O$76, 0), 2)","v":"Green micro-borrowers"},{"$f":"INDEX(Country!$K$31:$K$76, MATCH(AI730, Country!$O$31:$O$76, 0), 1)","v":"Borrowers"},"Guyana",0,0,0,0,0,0,0,0,0,0,0,0,0,0,null,null,null,null,null,null,null,{"$f":"IFERROR(E730/Levelisation!F1454, 0)","v":0},{"$f":"IFERROR(F730/Levelisation!G1454, 0)","v":0},{"$f":"IFERROR(G730/Levelisation!H1454, 0)","v":0},{"$f":"IFERROR(H730/Levelisation!I1454, 0)","v":0},{"$f":"IFERROR(I730/Levelisation!J1454, 0)","v":0},{"$f":"IFERROR(J730/Levelisation!J1454, 0)","v":0},{"$f":"IFERROR(K730/Levelisation!L1454, 0)","v":0},"2.11 > Guyana",716,27," "]
[{"$f":"INDEX(Country!$F$31:$G$76, MATCH(AI731, Country!$O$31:$O$76, 0), 1)","v":2.1099999999999977},{"$f":"INDEX(Country!$F$31:$G$76, MATCH(AI731, Country!$O$31:$O$76, 0), 2)","v":"Green micro-borrowers"},{"$f":"INDEX(Country!$K$31:$K$76, MATCH(AI731, Country!$O$31:$O$76, 0), 1)","v":"Borrowers"},"Haiti",0,0,0,0,0,0,0,0,0,0,0,0,0,0,null,null,null,null,null,null,null,{"$f":"IFERROR(E731/Levelisation!F1455, 0)","v":0},{"$f":"IFERROR(F731/Levelisation!G1455, 0)","v":0},{"$f":"IFERROR(G731/Levelisation!H1455, 0)","v":0},{"$f":"IFERROR(H731/Levelisation!I1455, 0)","v":0},{"$f":"IFERROR(I731/Levelisation!J1455, 0)","v":0},{"$f":"IFERROR(J731/Levelisation!J1455, 0)","v":0},{"$f":"IFERROR(K731/Levelisation!L1455, 0)","v":0},"2.11 > Haiti",717,27," "]
[{"$f":"INDEX(Country!$F$31:$G$76, MATCH(AI732, Country!$O$31:$O$76, 0), 1)","v":2.1099999999999977},{"$f":"INDEX(Country!$F$31:$G$76, MATCH(AI732, Country!$O$31:$O$76, 0), 2)","v":"Green micro-borrowers"},{"$f":"INDEX(Country!$K$31:$K$76, MATCH(AI732, Country!$O$31:$O$76, 0), 1)","v":"Borrowers"},"Honduras",0,0,0,0,0,0,690,0,0,0,0,0,0,20.365074911436341,null,null,null,null,null,null,null,{"$f":"IFERROR(E732/Levelisation!F1456, 0)","v":0},{"$f":"IFERROR(F732/Levelisation!G1456, 0)","v":0},{"$f":"IFERROR(G732/Levelisation!H1456, 0)","v":0},{"$f":"IFERROR(H732/Levelisation!I1456, 0)","v":0},{"$f":"IFERROR(I732/Levelisation!J1456, 0)","v":0},{"$f":"IFERROR(J732/Levelisation!J1456, 0)","v":0},{"$f":"IFERROR(K732/Levelisation!L1456, 0)","v":84.136080965735886},"2.11 > Honduras",718,27," "]
[{"$f":"INDEX(Country!$F$31:$G$76, MATCH(AI733, Country!$O$31:$O$76, 0), 1)","v":2.1099999999999977},{"$f":"INDEX(Country!$F$31:$G$76, MATCH(AI733, Country!$O$31:$O$76, 0), 2)","v":"Green micro-borrowers"},{"$f":"INDEX(Country!$K$31:$K$76, MATCH(AI733, Country!$O$31:$O$76, 0), 1)","v":"Borrowers"},"Jamaica",0,0,0,0,0,0,0,0,0,0,0,0,0,0,null,null,null,null,null,null,null,{"$f":"IFERROR(E733/Levelisation!F1457, 0)","v":0},{"$f":"IFERROR(F733/Levelisation!G1457, 0)","v":0},{"$f":"IFERROR(G733/Levelisation!H1457, 0)","v":0},{"$f":"IFERROR(H733/Levelisation!I1457, 0)","v":0},{"$f":"IFERROR(I733/Levelisation!J1457, 0)","v":0},{"$f":"IFERROR(J733/Levelisation!J1457, 0)","v":0},{"$f":"IFERROR(K733/Levelisation!L1457, 0)","v":0},"2.11 > Jamaica",719,27," "]
[{"$f":"INDEX(Country!$F$31:$G$76, MATCH(AI734, Country!$O$31:$O$76, 0), 1)","v":2.1099999999999977},{"$f":"INDEX(Country!$F$31:$G$76, MATCH(AI734, Country!$O$31:$O$76, 0), 2)","v":"Green micro-borrowers"},{"$f":"INDEX(Country!$K$31:$K$76, MATCH(AI734, Country!$O$31:$O$76, 0), 1)","v":"Borrowers"},"Mexico",2854,2854,2854,2854,2854,2854,1460,4.2887594258401016,4.2513178091237513,4.2378405548367057,4.2229883288405716,4.2099477734707458,4.2099477734707458,3.0763971928059886,null,null,null,null,null,null,null,{"$f":"IFERROR(E734/Levelisation!F1458, 0)","v":27.087307688657308},{"$f":"IFERROR(F734/Levelisation!G1458, 0)","v":26.64948549872075},{"$f":"IFERROR(G734/Levelisation!H1458, 0)","v":26.218604736619692},{"$f":"IFERROR(H734/Levelisation!I1458, 0)","v":25.794906093526873},{"$f":"IFERROR(I734/Levelisation!J1458, 0)","v":25.410222851393826},{"$f":"IFERROR(J734/Levelisation!J1458, 0)","v":25.410222851393826},{"$f":"IFERROR(K734/Levelisation!L1458, 0)","v":12.709798732502263},"2.11 > Mexico",720,27," "]
[{"$f":"INDEX(Country!$F$31:$G$76, MATCH(AI735, Country!$O$31:$O$76, 0), 1)","v":2.1099999999999977},{"$f":"INDEX(Country!$F$31:$G$76, MATCH(AI735, Country!$O$31:$O$76, 0), 2)","v":"Green micro-borrowers"},{"$f":"INDEX(Country!$K$31:$K$76, MATCH(AI735, Country!$O$31:$O$76, 0), 1)","v":"Borrowers"},"Nicaragua",3511,3511,3511,3511,3511,3511,2348,100,100,100,100,100,100,95.022843717841468,null,null,null,null,null,null,null,{"$f":"IFERROR(E735/Levelisation!F1459, 0)","v":631.5884151825868},{"$f":"IFERROR(F735/Levelisation!G1459, 0)","v":626.85234779503662},{"$f":"IFERROR(G735/Levelisation!H1459, 0)","v":618.6784140969163},{"$f":"IFERROR(H735/Levelisation!I1459, 0)","v":610.82115518441196},{"$f":"IFERROR(I735/Levelisation!J1459, 0)","v":603.57572631940866},{"$f":"IFERROR(J735/Levelisation!J1459, 0)","v":603.57572631940866},{"$f":"IFERROR(K735/Levelisation!L1459, 0)","v":392.57649222538038},"2.11 > Nicaragua",721,27," "]
[{"$f":"INDEX(Country!$F$31:$G$76, MATCH(AI736, Country!$O$31:$O$76, 0), 1)","v":2.1099999999999977},{"$f":"INDEX(Country!$F$31:$G$76, MATCH(AI736, Country!$O$31:$O$76, 0), 2)","v":"Green micro-borrowers"},{"$f":"INDEX(Country!$K$31:$K$76, MATCH(AI736, Country!$O$31:$O$76, 0), 1)","v":"Borrowers"},"Panama",0,0,0,0,0,0,3,0,0,0,0,0,0,0.19867243127186038,null,null,null,null,null,null,null,{"$f":"IFERROR(E736/Levelisation!F1460, 0)","v":0},{"$f":"IFERROR(F736/Levelisation!G1460, 0)","v":0},{"$f":"IFERROR(G736/Levelisation!H1460, 0)","v":0},{"$f":"IFERROR(H736/Levelisation!I1460, 0)","v":0},{"$f":"IFERROR(I736/Levelisation!J1460, 0)","v":0},{"$f":"IFERROR(J736/Levelisation!J1460, 0)","v":0},{"$f":"IFERROR(K736/Levelisation!L1460, 0)","v":0.82079343365253077},"2.11 > Panama",722,27," "]
[{"$f":"INDEX(Country!$F$31:$G$76, MATCH(AI737, Country!$O$31:$O$76, 0), 1)","v":2.1099999999999977},{"$f":"INDEX(Country!$F$31:$G$76, MATCH(AI737, Country!$O$31:$O$76, 0), 2)","v":"Green micro-borrowers"},{"$f":"INDEX(Country!$K$31:$K$76, MATCH(AI737, Country!$O$31:$O$76, 0), 1)","v":"Borrowers"},"Paraguay",0,0,0,0,0,0,500,0,0,0,0,0,0,18.169137174064197,null,null,null,null,null,null,null,{"$f":"IFERROR(E737/Levelisation!F1461, 0)","v":0},{"$f":"IFERROR(F737/Levelisation!G1461, 0)","v":0},{"$f":"IFERROR(G737/Levelisation!H1461, 0)","v":0},{"$f":"IFERROR(H737/Levelisation!I1461, 0)","v":0},{"$f":"IFERROR(I737/Levelisation!J1461, 0)","v":0},{"$f":"IFERROR(J737/Levelisation!J1461, 0)","v":0},{"$f":"IFERROR(K737/Levelisation!L1461, 0)","v":75.06380423359856},"2.11 > Paraguay",723,27," "]
[{"$f":"INDEX(Country!$F$31:$G$76, MATCH(AI738, Country!$O$31:$O$76, 0), 1)","v":2.1099999999999977},{"$f":"INDEX(Country!$F$31:$G$76, MATCH(AI738, Country!$O$31:$O$76, 0), 2)","v":"Green micro-borrowers"},{"$f":"INDEX(Country!$K$31:$K$76, MATCH(AI738, Country!$O$31:$O$76, 0), 1)","v":"Borrowers"},"Peru",759,759,759,759,759,759,12590,4.3478002358516816,4.2904625978151794,4.2810084849705952,4.2699205375055209,4.2552309109108242,4.2552309109108242,100,null,null,null,null,null,null,null,{"$f":"IFERROR(E738/Levelisation!F1462, 0)","v":27.460202604920404},{"$f":"IFERROR(F738/Levelisation!G1462, 0)","v":26.894865525672373},{"$f":"IFERROR(G738/Levelisation!H1462, 0)","v":26.4856754021705},{"$f":"IFERROR(H738/Levelisation!I1462, 0)","v":26.081577952647677},{"$f":"IFERROR(I738/Levelisation!J1462, 0)","v":25.683540877097997},{"$f":"IFERROR(J738/Levelisation!J1462, 0)","v":25.683540877097997},{"$f":"IFERROR(K738/Levelisation!L1462, 0)","v":413.13906937061103},"2.11 > Peru",724,27," "]
[{"$f":"INDEX(Country!$F$31:$G$76, MATCH(AI739, Country!$O$31:$O$76, 0), 1)","v":2.1099999999999977},{"$f":"INDEX(Country!$F$31:$G$76, MATCH(AI739, Country!$O$31:$O$76, 0), 2)","v":"Green micro-borrowers"},{"$f":"INDEX(Country!$K$31:$K$76, MATCH(AI739, Country!$O$31:$O$76, 0), 1)","v":"Borrowers"},"Suriname",0,0,0,0,0,0,0,0,0,0,0,0,0,0,null,null,null,null,null,null,null,{"$f":"IFERROR(E739/Levelisation!F1463, 0)","v":0},{"$f":"IFERROR(F739/Levelisation!G1463, 0)","v":0},{"$f":"IFERROR(G739/Levelisation!H1463, 0)","v":0},{"$f":"IFERROR(H739/Levelisation!I1463, 0)","v":0},{"$f":"IFERROR(I739/Levelisation!J1463, 0)","v":0},{"$f":"IFERROR(J739/Levelisation!J1463, 0)","v":0},{"$f":"IFERROR(K739/Levelisation!L1463, 0)","v":0},"2.11 > Suriname",725,27," "]
[{"$f":"INDEX(Country!$F$31:$G$76, MATCH(AI740, Country!$O$31:$O$76, 0), 1)","v":2.1099999999999977},{"$f":"INDEX(Country!$F$31:$G$76, MATCH(AI740, Country!$O$31:$O$76, 0), 2)","v":"Green micro-borrowers"},{"$f":"INDEX(Country!$K$31:$K$76, MATCH(AI740, Country!$O$31:$O$76, 0), 1)","v":"Borrowers"},"Trinidad & Tobago",0,0,0,0,0,0,0,0,0,0,0,0,0,0,null,null,null,null,null,null,null,{"$f":"IFERROR(E740/Levelisation!F1464, 0)","v":0},{"$f":"IFERROR(F740/Levelisation!G1464, 0)","v":0},{"$f":"IFERROR(G740/Levelisation!H1464, 0)","v":0},{"$f":"IFERROR(H740/Levelisation!I1464, 0)","v":0},{"$f":"IFERROR(I740/Levelisation!J1464, 0)","v":0},{"$f":"IFERROR(J740/Levelisation!J1464, 0)","v":0},{"$f":"IFERROR(K740/Levelisation!L1464, 0)","v":0},"2.11 > Trinidad & Tobago",726,27," "]
[{"$f":"INDEX(Country!$F$31:$G$76, MATCH(AI741, Country!$O$31:$O$76, 0), 1)","v":2.1099999999999977},{"$f":"INDEX(Country!$F$31:$G$76, MATCH(AI741, Country!$O$31:$O$76, 0), 2)","v":"Green micro-borrowers"},{"$f":"INDEX(Country!$K$31:$K$76, MATCH(AI741, Country!$O$31:$O$76, 0), 1)","v":"Borrowers"},"Uruguay",10,10,10,10,10,10,720,0.47776391020066766,0.47992539178055144,0.48480762406333888,0.48942912282091006,0.49353379102929146,0.49353379102929146,51.545535850835826,null,null,null,null,null,null,null,{"$f":"IFERROR(E741/Levelisation!F1465, 0)","v":3.0175015087507542},{"$f":"IFERROR(F741/Levelisation!G1465, 0)","v":3.0084235860409145},{"$f":"IFERROR(G741/Levelisation!H1465, 0)","v":2.9994001199760048},{"$f":"IFERROR(H741/Levelisation!I1465, 0)","v":2.9895366218236172},{"$f":"IFERROR(I741/Levelisation!J1465, 0)","v":2.9788501638367588},{"$f":"IFERROR(J741/Levelisation!J1465, 0)","v":2.9788501638367588},{"$f":"IFERROR(K741/Levelisation!L1465, 0)","v":212.95474711623783},"2.11 > Uruguay",727,27," "]
[{"$f":"INDEX(Country!$F$31:$G$76, MATCH(AI742, Country!$O$31:$O$76, 0), 1)","v":2.1099999999999977},{"$f":"INDEX(Country!$F$31:$G$76, MATCH(AI742, Country!$O$31:$O$76, 0), 2)","v":"Green micro-borrowers"},{"$f":"INDEX(Country!$K$31:$K$76, MATCH(AI742, Country!$O$31:$O$76, 0), 1)","v":"Borrowers"},"Venezuela",200,200,200,200,200,200,17,1.1800332389826815,1.1693827901176905,1.1656500332651871,1.1618340897281556,1.157341997474997,1.157341997474997,0.13940567037161686,null,null,null,null,null,null,null,{"$f":"IFERROR(E742/Levelisation!F1466, 0)","v":7.4529532327184649},{"$f":"IFERROR(F742/Levelisation!G1466, 0)","v":7.3303034745638476},{"$f":"IFERROR(G742/Levelisation!H1466, 0)","v":7.2116251397252373},{"$f":"IFERROR(H742/Levelisation!I1466, 0)","v":7.096728408203818},{"$f":"IFERROR(I742/Levelisation!J1466, 0)","v":6.9854353672592646},{"$f":"IFERROR(J742/Levelisation!J1466, 0)","v":6.9854353672592646},{"$f":"IFERROR(K742/Levelisation!L1466, 0)","v":0.57593928922315951},"2.11 > Venezuela",728,27," "]
[{"$f":"INDEX(Country!$F$31:$G$76, MATCH(AI743, Country!$O$31:$O$76, 0), 1)","v":2.1099999999999977},{"$f":"INDEX(Country!$F$31:$G$76, MATCH(AI743, Country!$O$31:$O$76, 0), 2)","v":"Green micro-borrowers"},{"$f":"INDEX(Country!$K$31:$K$76, MATCH(AI743, Country!$O$31:$O$76, 0), 1)","v":"Borrowers"},"Benchmark",{"$f":"IFERROR(MAX(E717:E742), 0)","v":33708},{"$f":"IFERROR(MAX(F717:F742), 0)","v":33708},{"$f":"IFERROR(MAX(G717:G742), 0)","v":33708},{"$f":"IFERROR(MAX(H717:H742), 0)","v":33708},{"$f":"IFERROR(MAX(I717:I742), 0)","v":33708},{"$f":"IFERROR(MAX(J717:J742), 0)","v":33708},12590,{"$f":"MAX(Z717:Z742)","v":631.5884151825868},626.85234779503662,{"$f":"MAX(AB717:AB742)","v":618.6784140969163},{"$f":"MAX(AC717:AC742)","v":610.82115518441196},{"$f":"MAX(AD717:AD742)","v":603.57572631940866},{"$f":"MAX(AE717:AE742)","v":603.57572631940866},{"$f":"MAX(AF717:AF742)","v":413.13906937061103},"*Cost hence benchmark is lowest cost of debt.",null,null,null,null,null,null,null,null,null,null,null,null,null,"2.11 > Benchmark",729,27," "]
[{"$f":"INDEX(Country!$F$31:$G$76, MATCH(AI744, Country!$O$31:$O$76, 0), 1)","v":2.1199999999999974},{"$f":"INDEX(Country!$F$31:$G$76, MATCH(AI744, Country!$O$31:$O$76, 0), 2)","v":"Average cost of green micro debt"},{"$f":"INDEX(Country!$K$31:$K$76, MATCH(AI744, Country!$O$31:$O$76, 0), 1)","v":"%"},"Argentina",{"$f":"S744/100","v":3.5000000000000003E-2},{"$f":"T744/100","v":3.5000000000000003E-2},3.5000000000000003E-2,3.5000000000000003E-2,3.5000000000000003E-2,{"$f":"X744/100","v":3.5000000000000003E-2},{"$f":"Y744/100","v":0.03},{"$f":"IFERROR(dbl_BenchmarkMax*( SUMIFS(E$15:E$1256, $D$15:$D$1256, \"Benchmark\", $B$15:$B$1256,$B744)/E744), 0)","v":74.285714285714292},{"$f":"IFERROR(dbl_BenchmarkMax*( SUMIFS(F$15:F$1256, $D$15:$D$1256, \"Benchmark\", $B$15:$B$1256,$B744)/F744), 0)","v":74.285714285714292},{"$f":"IFERROR(dbl_BenchmarkMax*( SUMIFS(G$15:G$1256, $D$15:$D$1256, \"Benchmark\", $B$15:$B$1256,$B744)/G744), 0)","v":74.285714285714292},{"$f":"IFERROR(dbl_BenchmarkMax*( SUMIFS(H$15:H$1256, $D$15:$D$1256, \"Benchmark\", $B$15:$B$1256,$B744)/H744), 0)","v":74.285714285714292},{"$f":"IFERROR(dbl_BenchmarkMax*( SUMIFS(I$15:I$1256, $D$15:$D$1256, \"Benchmark\", $B$15:$B$1256,$B744)/I744), 0)","v":74.285714285714292},{"$f":"IFERROR(dbl_BenchmarkMax*( SUMIFS(J$15:J$1256, $D$15:$D$1256, \"Benchmark\", $B$15:$B$1256,$B744)/J744), 0)","v":74.285714285714292},{"$f":"IFERROR(dbl_BenchmarkMax*( SUMIFS(K$15:K$1256, $D$15:$D$1256, \"Benchmark\", $B$15:$B$1256,$B744)/K744), 0)","v":83.333333333333343},{"$f":"T744","v":3.5},{"$f":"U744","v":3.5},3.5,{"$f":"W744","v":3.5},{"$f":"X744","v":3.5},3.5,3,null,null,null,null,null,null,null,"2.12 > Argentina",730,28," "]
[{"$f":"INDEX(Country!$F$31:$G$76, MATCH(AI745, Country!$O$31:$O$76, 0), 1)","v":2.1199999999999974},{"$f":"INDEX(Country!$F$31:$G$76, MATCH(AI745, Country!$O$31:$O$76, 0), 2)","v":"Average cost of green micro debt"},{"$f":"INDEX(Country!$K$31:$K$76, MATCH(AI745, Country!$O$31:$O$76, 0), 1)","v":"%"},"Bahamas",{"$f":"S745/100","v":0},0,0,0,0,0,0,0,0,0,0,0,0,0,{"$f":"T745","v":0},0,0,0,0,0,0,null,null,null,null,null,null,null,"2.12 > Bahamas",731,28," "]
[{"$f":"INDEX(Country!$F$31:$G$76, MATCH(AI746, Country!$O$31:$O$76, 0), 1)","v":2.1199999999999974},{"$f":"INDEX(Country!$F$31:$G$76, MATCH(AI746, Country!$O$31:$O$76, 0), 2)","v":"Average cost of green micro debt"},{"$f":"INDEX(Country!$K$31:$K$76, MATCH(AI746, Country!$O$31:$O$76, 0), 1)","v":"%"},"Barbados",0,0,0,0,0,0,0,0,0,0,0,0,0,0,{"$f":"T746","v":0},0,0,0,0,0,0,null,null,null,null,null,null,null,"2.12 > Barbados",732,28," "]
[{"$f":"INDEX(Country!$F$31:$G$76, MATCH(AI747, Country!$O$31:$O$76, 0), 1)","v":2.1199999999999974},{"$f":"INDEX(Country!$F$31:$G$76, MATCH(AI747, Country!$O$31:$O$76, 0), 2)","v":"Average cost of green micro debt"},{"$f":"INDEX(Country!$K$31:$K$76, MATCH(AI747, Country!$O$31:$O$76, 0), 1)","v":"%"},"Belize",{"$f":"S747/100","v":0},0,0,0,0,0,0,0,0,0,0,0,0,0,{"$f":"T747","v":0},0,0,0,0,0,0,null,null,null,null,null,null,null,"2.12 > Belize",733,28," "]
[{"$f":"INDEX(Country!$F$31:$G$76, MATCH(AI748, Country!$O$31:$O$76, 0), 1)","v":2.1199999999999974},{"$f":"INDEX(Country!$F$31:$G$76, MATCH(AI748, Country!$O$31:$O$76, 0), 2)","v":"Average cost of green micro debt"},{"$f":"INDEX(Country!$K$31:$K$76, MATCH(AI748, Country!$O$31:$O$76, 0), 1)","v":"%"},"Bolivia",0.09,0.09,0.09,0.09,0.09,0.09,0.12670000000000001,28.888888888888893,28.888888888888893,28.888888888888893,28.888888888888893,28.888888888888893,28.888888888888893,19.731649565903709,{"$f":"T748","v":9},9,9,9,9,9,12.67,null,null,null,null,null,null,null,"2.12 > Bolivia",734,28," "]
[{"$f":"INDEX(Country!$F$31:$G$76, MATCH(AI749, Country!$O$31:$O$76, 0), 1)","v":2.1199999999999974},{"$f":"INDEX(Country!$F$31:$G$76, MATCH(AI749, Country!$O$31:$O$76, 0), 2)","v":"Average cost of green micro debt"},{"$f":"INDEX(Country!$K$31:$K$76, MATCH(AI749, Country!$O$31:$O$76, 0), 1)","v":"%"},"Brazil",2.6000000000000002E-2,2.6000000000000002E-2,2.6000000000000002E-2,2.6000000000000002E-2,2.6000000000000002E-2,2.6000000000000002E-2,2.5000000000000001E-2,100,100,100,100,100,100,100,{"$f":"T749","v":2.6},2.6,2.6,2.6,2.6,2.6,2.5,null,null,null,null,null,null,null,"2.12 > Brazil",735,28," "]
[{"$f":"INDEX(Country!$F$31:$G$76, MATCH(AI750, Country!$O$31:$O$76, 0), 1)","v":2.1199999999999974},{"$f":"INDEX(Country!$F$31:$G$76, MATCH(AI750, Country!$O$31:$O$76, 0), 2)","v":"Average cost of green micro debt"},{"$f":"INDEX(Country!$K$31:$K$76, MATCH(AI750, Country!$O$31:$O$76, 0), 1)","v":"%"},"Chile",0,0,0,0,0,0,0.14499999999999999,0,0,0,0,0,0,17.241379310344829,{"$f":"T750","v":0},0,0,0,0,0,14.5,null,null,null,null,null,null,null,"2.12 > Chile",736,28," "]
[{"$f":"INDEX(Country!$F$31:$G$76, MATCH(AI751, Country!$O$31:$O$76, 0), 1)","v":2.1199999999999974},{"$f":"INDEX(Country!$F$31:$G$76, MATCH(AI751, Country!$O$31:$O$76, 0), 2)","v":"Average cost of green micro debt"},{"$f":"INDEX(Country!$K$31:$K$76, MATCH(AI751, Country!$O$31:$O$76, 0), 1)","v":"%"},"Colombia",0,0,0,0,0,0,0,0,0,0,0,0,0,0,{"$f":"T751","v":0},0,0,0,0,0,0,null,null,null,null,null,null,null,"2.12 > Colombia",737,28," "]
[{"$f":"INDEX(Country!$F$31:$G$76, MATCH(AI752, Country!$O$31:$O$76, 0), 1)","v":2.1199999999999974},{"$f":"INDEX(Country!$F$31:$G$76, MATCH(AI752, Country!$O$31:$O$76, 0), 2)","v":"Average cost of green micro debt"},{"$f":"INDEX(Country!$K$31:$K$76, MATCH(AI752, Country!$O$31:$O$76, 0), 1)","v":"%"},"Costa Rica",0,0,0,0,0,0,0.13800000000000001,0,0,0,0,0,0,18.115942028985508,{"$f":"T752","v":0},0,0,0,0,0,13.8,null,null,null,null,null,null,null,"2.12 > Costa Rica",738,28," "]
[{"$f":"INDEX(Country!$F$31:$G$76, MATCH(AI753, Country!$O$31:$O$76, 0), 1)","v":2.1199999999999974},{"$f":"INDEX(Country!$F$31:$G$76, MATCH(AI753, Country!$O$31:$O$76, 0), 2)","v":"Average cost of green micro debt"},{"$f":"INDEX(Country!$K$31:$K$76, MATCH(AI753, Country!$O$31:$O$76, 0), 1)","v":"%"},"Dominican Republic",0,0,0,0,0,0,0.106,0,0,0,0,0,0,23.584905660377363,{"$f":"T753","v":0},0,0,0,0,0,10.6,null,null,null,null,null,null,null,"2.12 > Dominican Republic",739,28," "]
[{"$f":"INDEX(Country!$F$31:$G$76, MATCH(AI754, Country!$O$31:$O$76, 0), 1)","v":2.1199999999999974},{"$f":"INDEX(Country!$F$31:$G$76, MATCH(AI754, Country!$O$31:$O$76, 0), 2)","v":"Average cost of green micro debt"},{"$f":"INDEX(Country!$K$31:$K$76, MATCH(AI754, Country!$O$31:$O$76, 0), 1)","v":"%"},"Ecuador",0,0,0,0,0,0,0.155,0,0,0,0,0,0,16.12903225806452,{"$f":"T754","v":0},0,0,0,0,0,15.5,null,null,null,null,null,null,null,"2.12 > Ecuador",740,28," "]
[{"$f":"INDEX(Country!$F$31:$G$76, MATCH(AI755, Country!$O$31:$O$76, 0), 1)","v":2.1199999999999974},{"$f":"INDEX(Country!$F$31:$G$76, MATCH(AI755, Country!$O$31:$O$76, 0), 2)","v":"Average cost of green micro debt"},{"$f":"INDEX(Country!$K$31:$K$76, MATCH(AI755, Country!$O$31:$O$76, 0), 1)","v":"%"},"El Salvador",0.11,0.11,0.11,0.11,0.11,0.11,0.1,23.63636363636364,23.63636363636364,23.63636363636364,23.63636363636364,23.63636363636364,23.63636363636364,25,{"$f":"T755","v":11},11,11,11,11,11,10,null,null,null,null,null,null,null,"2.12 > El Salvador",741,28," "]
[{"$f":"INDEX(Country!$F$31:$G$76, MATCH(AI756, Country!$O$31:$O$76, 0), 1)","v":2.1199999999999974},{"$f":"INDEX(Country!$F$31:$G$76, MATCH(AI756, Country!$O$31:$O$76, 0), 2)","v":"Average cost of green micro debt"},{"$f":"INDEX(Country!$K$31:$K$76, MATCH(AI756, Country!$O$31:$O$76, 0), 1)","v":"%"},"Guatemala",0,0,0,0,0,0,0.13769999999999999,0,0,0,0,0,0,18.155410312273059,{"$f":"T756","v":0},0,0,0,0,0,13.77,null,null,null,null,null,null,null,"2.12 > Guatemala",742,28," "]
[{"$f":"INDEX(Country!$F$31:$G$76, MATCH(AI757, Country!$O$31:$O$76, 0), 1)","v":2.1199999999999974},{"$f":"INDEX(Country!$F$31:$G$76, MATCH(AI757, Country!$O$31:$O$76, 0), 2)","v":"Average cost of green micro debt"},{"$f":"INDEX(Country!$K$31:$K$76, MATCH(AI757, Country!$O$31:$O$76, 0), 1)","v":"%"},"Guyana",0,0,0,0,0,0,0,0,0,0,0,0,0,0,{"$f":"T757","v":0},0,0,0,0,0,0,null,null,null,null,null,null,null,"2.12 > Guyana",743,28," "]
[{"$f":"INDEX(Country!$F$31:$G$76, MATCH(AI758, Country!$O$31:$O$76, 0), 1)","v":2.1199999999999974},{"$f":"INDEX(Country!$F$31:$G$76, MATCH(AI758, Country!$O$31:$O$76, 0), 2)","v":"Average cost of green micro debt"},{"$f":"INDEX(Country!$K$31:$K$76, MATCH(AI758, Country!$O$31:$O$76, 0), 1)","v":"%"},"Haiti",0,0,0,0,0,0,0,0,0,0,0,0,0,0,{"$f":"T758","v":0},0,0,0,0,0,0,null,null,null,null,null,null,null,"2.12 > Haiti",744,28," "]
[{"$f":"INDEX(Country!$F$31:$G$76, MATCH(AI759, Country!$O$31:$O$76, 0), 1)","v":2.1199999999999974},{"$f":"INDEX(Country!$F$31:$G$76, MATCH(AI759, Country!$O$31:$O$76, 0), 2)","v":"Average cost of green micro debt"},{"$f":"INDEX(Country!$K$31:$K$76, MATCH(AI759, Country!$O$31:$O$76, 0), 1)","v":"%"},"Honduras",0,0,0,0,0,0,0.17670000000000002,0,0,0,0,0,0,14.148273910582907,{"$f":"T759","v":0},0,0,0,0,0,17.670000000000002,null,null,null,null,null,null,null,"2.12 > Honduras",745,28," "]
[{"$f":"INDEX(Country!$F$31:$G$76, MATCH(AI760, Country!$O$31:$O$76, 0), 1)","v":2.1199999999999974},{"$f":"INDEX(Country!$F$31:$G$76, MATCH(AI760, Country!$O$31:$O$76, 0), 2)","v":"Average cost of green micro debt"},{"$f":"INDEX(Country!$K$31:$K$76, MATCH(AI760, Country!$O$31:$O$76, 0), 1)","v":"%"},"Jamaica",0,{"$f":"T760/100","v":0},{"$f":"U760/100","v":0},{"$f":"V760/100","v":0},{"$f":"W760/100","v":0},{"$f":"X760/100","v":0},0,0,0,0,0,0,0,0,{"$f":"T760","v":0},0,0,0,0,0,0,null,null,null,null,null,null,null,"2.12 > Jamaica",746,28," "]
[{"$f":"INDEX(Country!$F$31:$G$76, MATCH(AI761, Country!$O$31:$O$76, 0), 1)","v":2.1199999999999974},{"$f":"INDEX(Country!$F$31:$G$76, MATCH(AI761, Country!$O$31:$O$76, 0), 2)","v":"Average cost of green micro debt"},{"$f":"INDEX(Country!$K$31:$K$76, MATCH(AI761, Country!$O$31:$O$76, 0), 1)","v":"%"},"Mexico",0.1,0.1,0.1,0.1,0.1,0.1,0.19800000000000001,26,26,26,26,26,26,12.626262626262626,{"$f":"T761","v":10},10,10,10,10,10,19.8,null,null,null,null,null,null,null,"2.12 > Mexico",747,28," "]
[{"$f":"INDEX(Country!$F$31:$G$76, MATCH(AI762, Country!$O$31:$O$76, 0), 1)","v":2.1199999999999974},{"$f":"INDEX(Country!$F$31:$G$76, MATCH(AI762, Country!$O$31:$O$76, 0), 2)","v":"Average cost of green micro debt"},{"$f":"INDEX(Country!$K$31:$K$76, MATCH(AI762, Country!$O$31:$O$76, 0), 1)","v":"%"},"Nicaragua",0.13200000000000001,0.13200000000000001,0.13200000000000001,0.13200000000000001,0.13200000000000001,0.13200000000000001,0.16940000000000002,19.696969696969699,19.696969696969699,19.696969696969699,19.696969696969699,19.696969696969699,19.696969696969699,14.757969303423849,{"$f":"T762","v":13.2},13.2,13.2,13.2,13.2,13.2,16.940000000000001,null,null,null,null,null,null,null,"2.12 > Nicaragua",748,28," "]
[{"$f":"INDEX(Country!$F$31:$G$76, MATCH(AI763, Country!$O$31:$O$76, 0), 1)","v":2.1199999999999974},{"$f":"INDEX(Country!$F$31:$G$76, MATCH(AI763, Country!$O$31:$O$76, 0), 2)","v":"Average cost of green micro debt"},{"$f":"INDEX(Country!$K$31:$K$76, MATCH(AI763, Country!$O$31:$O$76, 0), 1)","v":"%"},"Panama",0,0,0,0,0,0,0.14000000000000001,0,0,0,0,0,0,17.857142857142858,{"$f":"T763","v":0},0,0,0,0,0,14,null,null,null,null,null,null,null,"2.12 > Panama",749,28," "]
[{"$f":"INDEX(Country!$F$31:$G$76, MATCH(AI764, Country!$O$31:$O$76, 0), 1)","v":2.1199999999999974},{"$f":"INDEX(Country!$F$31:$G$76, MATCH(AI764, Country!$O$31:$O$76, 0), 2)","v":"Average cost of green micro debt"},{"$f":"INDEX(Country!$K$31:$K$76, MATCH(AI764, Country!$O$31:$O$76, 0), 1)","v":"%"},"Paraguay",0.215,0.215,0.215,0.215,0.215,0.215,0.25170000000000003,12.093023255813955,12.093023255813955,12.093023255813955,12.093023255813955,12.093023255813955,12.093023255813955,9.9324592769169637,{"$f":"T764","v":21.5},21.5,21.5,21.5,21.5,21.5,25.17,null,null,null,null,null,null,null,"2.12 > Paraguay",750,28," "]
[{"$f":"INDEX(Country!$F$31:$G$76, MATCH(AI765, Country!$O$31:$O$76, 0), 1)","v":2.1199999999999974},{"$f":"INDEX(Country!$F$31:$G$76, MATCH(AI765, Country!$O$31:$O$76, 0), 2)","v":"Average cost of green micro debt"},{"$f":"INDEX(Country!$K$31:$K$76, MATCH(AI765, Country!$O$31:$O$76, 0), 1)","v":"%"},"Peru",0.10249999999999999,0.10249999999999999,0.10249999999999999,0.10249999999999999,0.10249999999999999,0.10249999999999999,0.17319999999999999,25.36585365853659,25.36585365853659,25.36585365853659,25.36585365853659,25.36585365853659,25.36585365853659,14.434180138568131,{"$f":"T765","v":10.25},10.25,10.25,10.25,10.25,10.25,17.32,null,null,null,null,null,null,null,"2.12 > Peru",751,28," "]
[{"$f":"INDEX(Country!$F$31:$G$76, MATCH(AI766, Country!$O$31:$O$76, 0), 1)","v":2.1199999999999974},{"$f":"INDEX(Country!$F$31:$G$76, MATCH(AI766, Country!$O$31:$O$76, 0), 2)","v":"Average cost of green micro debt"},{"$f":"INDEX(Country!$K$31:$K$76, MATCH(AI766, Country!$O$31:$O$76, 0), 1)","v":"%"},"Suriname",0,0,0,0,0,0,0,0,0,0,0,0,0,0,{"$f":"T766","v":0},0,0,0,0,0,0,null,null,null,null,null,null,null,"2.12 > Suriname",752,28," "]
[{"$f":"INDEX(Country!$F$31:$G$76, MATCH(AI767, Country!$O$31:$O$76, 0), 1)","v":2.1199999999999974},{"$f":"INDEX(Country!$F$31:$G$76, MATCH(AI767, Country!$O$31:$O$76, 0), 2)","v":"Average cost of green micro debt"},{"$f":"INDEX(Country!$K$31:$K$76, MATCH(AI767, Country!$O$31:$O$76, 0), 1)","v":"%"},"Trinidad & Tobago",0,0,0,0,0,0,0,0,0,0,0,0,0,0,{"$f":"T767","v":0},0,0,0,0,0,0,null,null,null,null,null,null,null,"2.12 > Trinidad & Tobago",753,28," "]
[{"$f":"INDEX(Country!$F$31:$G$76, MATCH(AI768, Country!$O$31:$O$76, 0), 1)","v":2.1199999999999974},{"$f":"INDEX(Country!$F$31:$G$76, MATCH(AI768, Country!$O$31:$O$76, 0), 2)","v":"Average cost of green micro debt"},{"$f":"INDEX(Country!$K$31:$K$76, MATCH(AI768, Country!$O$31:$O$76, 0), 1)","v":"%"},"Uruguay",0,0,0,0,0,0,0.24,0,0,0,0,0,0,10.416666666666668,{"$f":"T768","v":0},0,0,0,0,0,24,null,null,null,null,null,null,null,"2.12 > Uruguay",754,28," "]
[{"$f":"INDEX(Country!$F$31:$G$76, MATCH(AI769, Country!$O$31:$O$76, 0), 1)","v":2.1199999999999974},{"$f":"INDEX(Country!$F$31:$G$76, MATCH(AI769, Country!$O$31:$O$76, 0), 2)","v":"Average cost of green micro debt"},{"$f":"INDEX(Country!$K$31:$K$76, MATCH(AI769, Country!$O$31:$O$76, 0), 1)","v":"%"},"Venezuela",0.16,0.16,0.16,0.16,0.16,0.16,0.18,16.25,16.25,16.25,16.25,16.25,16.25,13.888888888888889,{"$f":"T769","v":16},16,16,16,16,16,18,null,null,null,null,null,null,null,"2.12 > Venezuela",755,28," "]
[{"$f":"INDEX(Country!$F$31:$G$76, MATCH(AI770, Country!$O$31:$O$76, 0), 1)","v":2.1199999999999974},{"$f":"INDEX(Country!$F$31:$G$76, MATCH(AI770, Country!$O$31:$O$76, 0), 2)","v":"Average cost of green micro debt"},{"$f":"INDEX(Country!$K$31:$K$76, MATCH(AI770, Country!$O$31:$O$76, 0), 1)","v":"%"},"Benchmark",{"$f":"IFERROR(SMALL(E744:E769, COUNTIF(E744:E769, \"0\")+1), 0)","v":2.6000000000000002E-2},{"$f":"IFERROR(SMALL(F744:F769, COUNTIF(F744:F769, \"0\")+1), 0)","v":2.6000000000000002E-2},2.6000000000000002E-2,2.6000000000000002E-2,2.6000000000000002E-2,2.6000000000000002E-2,2.5000000000000001E-2,100,100,100,100,100,100,100,"*Cost hence bencmark is lowest cost of debt.",null,null,null,null,null,null,null,null,null,null,null,null,null,"2.12 > Benchmark",756,28," "]
[{"$f":"INDEX(Country!$F$31:$G$76, MATCH(AI771, Country!$O$31:$O$76, 0), 1)","v":2.1299999999999972},{"$f":"INDEX(Country!$F$31:$G$76, MATCH(AI771, Country!$O$31:$O$76, 0), 2)","v":"Average cost of debt"},{"$f":"INDEX(Country!$K$31:$K$76, MATCH(AI771, Country!$O$31:$O$76, 0), 1)","v":"%"},"Argentina",null,null,null,null,null,null,8.4313999999999986E-2,0,0,0,0,0,0,51.576250681974535,null,null,null,null,null,null,null,null,null,null,null,null,null,null,"2.13 > Argentina",757,29," "]
[{"$f":"INDEX(Country!$F$31:$G$76, MATCH(AI772, Country!$O$31:$O$76, 0), 1)","v":2.1299999999999972},{"$f":"INDEX(Country!$F$31:$G$76, MATCH(AI772, Country!$O$31:$O$76, 0), 2)","v":"Average cost of debt"},{"$f":"INDEX(Country!$K$31:$K$76, MATCH(AI772, Country!$O$31:$O$76, 0), 1)","v":"%"},"Bahamas",null,null,null,null,null,null,null,0,0,0,0,0,0,0,null,null,null,null,null,null,null,null,null,null,null,null,null,null,"2.13 > Bahamas",758,29," "]
[{"$f":"INDEX(Country!$F$31:$G$76, MATCH(AI773, Country!$O$31:$O$76, 0), 1)","v":2.1299999999999972},{"$f":"INDEX(Country!$F$31:$G$76, MATCH(AI773, Country!$O$31:$O$76, 0), 2)","v":"Average cost of debt"},{"$f":"INDEX(Country!$K$31:$K$76, MATCH(AI773, Country!$O$31:$O$76, 0), 1)","v":"%"},"Barbados",null,null,null,null,null,null,null,0,0,0,0,0,0,0,null,null,null,null,null,null,null,null,null,null,null,null,null,null,"2.13 > Barbados",759,29," "]
[{"$f":"INDEX(Country!$F$31:$G$76, MATCH(AI774, Country!$O$31:$O$76, 0), 1)","v":2.1299999999999972},{"$f":"INDEX(Country!$F$31:$G$76, MATCH(AI774, Country!$O$31:$O$76, 0), 2)","v":"Average cost of debt"},{"$f":"INDEX(Country!$K$31:$K$76, MATCH(AI774, Country!$O$31:$O$76, 0), 1)","v":"%"},"Belize",null,null,null,null,null,null,null,0,0,0,0,0,0,0,null,null,null,null,null,null,null,null,null,null,null,null,null,null,"2.13 > Belize",760,29," "]
[{"$f":"INDEX(Country!$F$31:$G$76, MATCH(AI775, Country!$O$31:$O$76, 0), 1)","v":2.1299999999999972},{"$f":"INDEX(Country!$F$31:$G$76, MATCH(AI775, Country!$O$31:$O$76, 0), 2)","v":"Average cost of debt"},{"$f":"INDEX(Country!$K$31:$K$76, MATCH(AI775, Country!$O$31:$O$76, 0), 1)","v":"%"},"Bolivia",null,null,null,null,null,null,null,0,0,0,0,0,0,0,null,null,null,null,null,null,null,null,null,null,null,null,null,null,"2.13 > Bolivia",761,29," "]
[{"$f":"INDEX(Country!$F$31:$G$76, MATCH(AI776, Country!$O$31:$O$76, 0), 1)","v":2.1299999999999972},{"$f":"INDEX(Country!$F$31:$G$76, MATCH(AI776, Country!$O$31:$O$76, 0), 2)","v":"Average cost of debt"},{"$f":"INDEX(Country!$K$31:$K$76, MATCH(AI776, Country!$O$31:$O$76, 0), 1)","v":"%"},"Brazil",null,null,null,null,null,null,0.05,{"$f":"IFERROR(dbl_BenchmarkMax*( SUMIFS(E$15:E$1256, $D$15:$D$1256, \"Benchmark\", $B$15:$B$1256,$B776)/E776), 0)","v":0},{"$f":"IFERROR(dbl_BenchmarkMax*( SUMIFS(F$15:F$1256, $D$15:$D$1256, \"Benchmark\", $B$15:$B$1256,$B776)/F776), 0)","v":0},0,0,0,0,86.972000000000008,null,null,null,null,null,null,null,null,null,null,null,null,null,null,"2.13 > Brazil",762,29," "]
[{"$f":"INDEX(Country!$F$31:$G$76, MATCH(AI777, Country!$O$31:$O$76, 0), 1)","v":2.1299999999999972},{"$f":"INDEX(Country!$F$31:$G$76, MATCH(AI777, Country!$O$31:$O$76, 0), 2)","v":"Average cost of debt"},{"$f":"INDEX(Country!$K$31:$K$76, MATCH(AI777, Country!$O$31:$O$76, 0), 1)","v":"%"},"Chile",null,null,null,null,null,null,5.1768000000000002E-2,0,0,0,0,0,0,84.001699891825069,null,null,null,null,null,null,null,null,null,null,null,null,null,null,"2.13 > Chile",763,29," "]
[{"$f":"INDEX(Country!$F$31:$G$76, MATCH(AI778, Country!$O$31:$O$76, 0), 1)","v":2.1299999999999972},{"$f":"INDEX(Country!$F$31:$G$76, MATCH(AI778, Country!$O$31:$O$76, 0), 2)","v":"Average cost of debt"},{"$f":"INDEX(Country!$K$31:$K$76, MATCH(AI778, Country!$O$31:$O$76, 0), 1)","v":"%"},"Colombia",null,null,null,null,null,null,5.1768000000000002E-2,0,0,0,0,0,0,84.001699891825069,null,null,null,null,null,null,null,null,null,null,null,null,null,null,"2.13 > Colombia",764,29," "]
[{"$f":"INDEX(Country!$F$31:$G$76, MATCH(AI779, Country!$O$31:$O$76, 0), 1)","v":2.1299999999999972},{"$f":"INDEX(Country!$F$31:$G$76, MATCH(AI779, Country!$O$31:$O$76, 0), 2)","v":"Average cost of debt"},{"$f":"INDEX(Country!$K$31:$K$76, MATCH(AI779, Country!$O$31:$O$76, 0), 1)","v":"%"},"Costa Rica",null,null,null,null,null,null,8.4166666666666667E-2,0,0,0,0,0,0,51.666534653465348,null,null,null,null,null,null,null,null,null,null,null,null,null,null,"2.13 > Costa Rica",765,29," "]
[{"$f":"INDEX(Country!$F$31:$G$76, MATCH(AI780, Country!$O$31:$O$76, 0), 1)","v":2.1299999999999972},{"$f":"INDEX(Country!$F$31:$G$76, MATCH(AI780, Country!$O$31:$O$76, 0), 2)","v":"Average cost of debt"},{"$f":"INDEX(Country!$K$31:$K$76, MATCH(AI780, Country!$O$31:$O$76, 0), 1)","v":"%"},"Dominican Republic",null,null,null,null,null,null,null,0,0,0,0,0,0,0,null,null,null,null,null,null,null,null,null,null,null,null,null,null,"2.13 > Dominican Republic",766,29," "]
[{"$f":"INDEX(Country!$F$31:$G$76, MATCH(AI781, Country!$O$31:$O$76, 0), 1)","v":2.1299999999999972},{"$f":"INDEX(Country!$F$31:$G$76, MATCH(AI781, Country!$O$31:$O$76, 0), 2)","v":"Average cost of debt"},{"$f":"INDEX(Country!$K$31:$K$76, MATCH(AI781, Country!$O$31:$O$76, 0), 1)","v":"%"},"Ecuador",null,null,null,null,null,null,0.10267499999999999,0,0,0,0,0,0,42.353055758461174,null,null,null,null,null,null,null,null,null,null,null,null,null,null,"2.13 > Ecuador",767,29," "]
[{"$f":"INDEX(Country!$F$31:$G$76, MATCH(AI782, Country!$O$31:$O$76, 0), 1)","v":2.1299999999999972},{"$f":"INDEX(Country!$F$31:$G$76, MATCH(AI782, Country!$O$31:$O$76, 0), 2)","v":"Average cost of debt"},{"$f":"INDEX(Country!$K$31:$K$76, MATCH(AI782, Country!$O$31:$O$76, 0), 1)","v":"%"},"El Salvador",null,null,null,null,null,null,8.8124999999999995E-2,0,0,0,0,0,0,49.345815602836886,null,null,null,null,null,null,null,null,null,null,null,null,null,null,"2.13 > El Salvador",768,29," "]
[{"$f":"INDEX(Country!$F$31:$G$76, MATCH(AI783, Country!$O$31:$O$76, 0), 1)","v":2.1299999999999972},{"$f":"INDEX(Country!$F$31:$G$76, MATCH(AI783, Country!$O$31:$O$76, 0), 2)","v":"Average cost of debt"},{"$f":"INDEX(Country!$K$31:$K$76, MATCH(AI783, Country!$O$31:$O$76, 0), 1)","v":"%"},"Guatemala",null,null,null,null,null,null,null,0,0,0,0,0,0,0,null,null,null,null,null,null,null,null,null,null,null,null,null,null,{"$f":"A783&\" > \" &D783","v":"2.13 > Guatemala"},769,29," "]
[{"$f":"INDEX(Country!$F$31:$G$76, MATCH(AI784, Country!$O$31:$O$76, 0), 1)","v":2.1299999999999972},{"$f":"INDEX(Country!$F$31:$G$76, MATCH(AI784, Country!$O$31:$O$76, 0), 2)","v":"Average cost of debt"},{"$f":"INDEX(Country!$K$31:$K$76, MATCH(AI784, Country!$O$31:$O$76, 0), 1)","v":"%"},{"$f":"D757","v":"Guyana"},null,null,null,null,null,null,null,0,0,0,0,0,0,0,null,null,null,null,null,null,null,null,null,null,null,null,null,null,"2.13 > Guyana",770,29," "]
[{"$f":"INDEX(Country!$F$31:$G$76, MATCH(AI785, Country!$O$31:$O$76, 0), 1)","v":2.1299999999999972},{"$f":"INDEX(Country!$F$31:$G$76, MATCH(AI785, Country!$O$31:$O$76, 0), 2)","v":"Average cost of debt"},{"$f":"INDEX(Country!$K$31:$K$76, MATCH(AI785, Country!$O$31:$O$76, 0), 1)","v":"%"},"Haiti",null,null,null,null,null,null,null,0,0,0,0,0,0,0,null,null,null,null,null,null,null,null,null,null,null,null,null,null,"2.13 > Haiti",{"$f":"AH784+1","v":771},{"$f":"ROUNDUP(AH785/COUNTA($D$15:$D$41),0)","v":29}," "]
[{"$f":"INDEX(Country!$F$31:$G$76, MATCH(AI786, Country!$O$31:$O$76, 0), 1)","v":2.1299999999999972},{"$f":"INDEX(Country!$F$31:$G$76, MATCH(AI786, Country!$O$31:$O$76, 0), 2)","v":"Average cost of debt"},{"$f":"INDEX(Country!$K$31:$K$76, MATCH(AI786, Country!$O$31:$O$76, 0), 1)","v":"%"},"Honduras",null,null,null,null,null,null,8.0604666666666672E-2,0,0,0,0,0,0,53.949729957736118,null,null,null,null,null,null,null,null,null,null,null,null,null,null,"2.13 > Honduras",772,29," "]
[{"$f":"INDEX(Country!$F$31:$G$76, MATCH(AI787, Country!$O$31:$O$76, 0), 1)","v":2.1299999999999972},{"$f":"INDEX(Country!$F$31:$G$76, MATCH(AI787, Country!$O$31:$O$76, 0), 2)","v":"Average cost of debt"},{"$f":"INDEX(Country!$K$31:$K$76, MATCH(AI787, Country!$O$31:$O$76, 0), 1)","v":"%"},"Jamaica",null,null,null,null,null,null,8.5000000000000006E-2,0,0,0,0,0,0,51.160000000000004,null,null,null,null,null,null,null,null,null,null,null,null,null,null,"2.13 > Jamaica",773,29," "]
[{"$f":"INDEX(Country!$F$31:$G$76, MATCH(AI788, Country!$O$31:$O$76, 0), 1)","v":2.1299999999999972},{"$f":"INDEX(Country!$F$31:$G$76, MATCH(AI788, Country!$O$31:$O$76, 0), 2)","v":"Average cost of debt"},{"$f":"INDEX(Country!$K$31:$K$76, MATCH(AI788, Country!$O$31:$O$76, 0), 1)","v":"%"},"Mexico",null,null,null,null,null,null,4.3486000000000004E-2,0,0,0,0,0,0,100,null,null,null,null,null,null,null,null,null,null,null,null,null,null,"2.13 > Mexico",774,29," "]
[{"$f":"INDEX(Country!$F$31:$G$76, MATCH(AI789, Country!$O$31:$O$76, 0), 1)","v":2.1299999999999972},{"$f":"INDEX(Country!$F$31:$G$76, MATCH(AI789, Country!$O$31:$O$76, 0), 2)","v":"Average cost of debt"},{"$f":"INDEX(Country!$K$31:$K$76, MATCH(AI789, Country!$O$31:$O$76, 0), 1)","v":"%"},"Nicaragua",null,null,null,null,null,null,5.5E-2,0,0,0,0,0,0,79.065454545454543,null,null,null,null,null,null,null,null,null,null,null,null,null,null,"2.13 > Nicaragua",775,29," "]
[{"$f":"INDEX(Country!$F$31:$G$76, MATCH(AI790, Country!$O$31:$O$76, 0), 1)","v":2.1299999999999972},{"$f":"INDEX(Country!$F$31:$G$76, MATCH(AI790, Country!$O$31:$O$76, 0), 2)","v":"Average cost of debt"},{"$f":"INDEX(Country!$K$31:$K$76, MATCH(AI790, Country!$O$31:$O$76, 0), 1)","v":"%"},"Panama",null,null,null,null,null,null,null,0,0,0,0,0,0,0,null,null,null,null,null,null,null,null,null,null,null,null,null,null,"2.13 > Panama",776,29," "]
[{"$f":"INDEX(Country!$F$31:$G$76, MATCH(AI791, Country!$O$31:$O$76, 0), 1)","v":2.1299999999999972},{"$f":"INDEX(Country!$F$31:$G$76, MATCH(AI791, Country!$O$31:$O$76, 0), 2)","v":"Average cost of debt"},{"$f":"INDEX(Country!$K$31:$K$76, MATCH(AI791, Country!$O$31:$O$76, 0), 1)","v":"%"},"Paraguay",null,null,null,null,null,null,5.5E-2,0,0,0,0,0,0,79.065454545454543,null,null,null,null,null,null,null,null,null,null,null,null,null,null,"2.13 > Paraguay",777,29," "]
[{"$f":"INDEX(Country!$F$31:$G$76, MATCH(AI792, Country!$O$31:$O$76, 0), 1)","v":2.1299999999999972},{"$f":"INDEX(Country!$F$31:$G$76, MATCH(AI792, Country!$O$31:$O$76, 0), 2)","v":"Average cost of debt"},{"$f":"INDEX(Country!$K$31:$K$76, MATCH(AI792, Country!$O$31:$O$76, 0), 1)","v":"%"},"Peru",null,null,null,null,null,null,6.9313999999999987E-2,0,0,0,0,0,0,62.737686470265764,null,null,null,null,null,null,null,null,null,null,null,null,null,null,"2.13 > Peru",778,29," "]
[{"$f":"INDEX(Country!$F$31:$G$76, MATCH(AI793, Country!$O$31:$O$76, 0), 1)","v":2.1299999999999972},{"$f":"INDEX(Country!$F$31:$G$76, MATCH(AI793, Country!$O$31:$O$76, 0), 2)","v":"Average cost of debt"},{"$f":"INDEX(Country!$K$31:$K$76, MATCH(AI793, Country!$O$31:$O$76, 0), 1)","v":"%"},"Suriname",null,null,null,null,null,null,null,0,0,0,0,0,0,0,null,null,null,null,null,null,null,null,null,null,null,null,null,null,"2.13 > Suriname",779,29," "]
[{"$f":"INDEX(Country!$F$31:$G$76, MATCH(AI794, Country!$O$31:$O$76, 0), 1)","v":2.1299999999999972},{"$f":"INDEX(Country!$F$31:$G$76, MATCH(AI794, Country!$O$31:$O$76, 0), 2)","v":"Average cost of debt"},{"$f":"INDEX(Country!$K$31:$K$76, MATCH(AI794, Country!$O$31:$O$76, 0), 1)","v":"%"},"Trinidad & Tobago",null,null,null,null,null,null,null,0,0,0,0,0,0,0,null,null,null,null,null,null,null,null,null,null,null,null,null,null,"2.13 > Trinidad & Tobago",780,29," "]
[{"$f":"INDEX(Country!$F$31:$G$76, MATCH(AI795, Country!$O$31:$O$76, 0), 1)","v":2.1299999999999972},{"$f":"INDEX(Country!$F$31:$G$76, MATCH(AI795, Country!$O$31:$O$76, 0), 2)","v":"Average cost of debt"},{"$f":"INDEX(Country!$K$31:$K$76, MATCH(AI795, Country!$O$31:$O$76, 0), 1)","v":"%"},"Uruguay",null,null,null,null,null,null,null,0,0,0,0,0,0,0,null,null,null,null,null,null,null,null,null,null,null,null,null,null,"2.13 > Uruguay",781,29," "]
[{"$f":"INDEX(Country!$F$31:$G$76, MATCH(AI796, Country!$O$31:$O$76, 0), 1)","v":2.1299999999999972},{"$f":"INDEX(Country!$F$31:$G$76, MATCH(AI796, Country!$O$31:$O$76, 0), 2)","v":"Average cost of debt"},{"$f":"INDEX(Country!$K$31:$K$76, MATCH(AI796, Country!$O$31:$O$76, 0), 1)","v":"%"},"Venezuela",null,null,null,null,null,null,null,0,0,0,0,0,0,0,null,null,null,null,null,null,null,null,null,null,null,null,null,null,"2.13 > Venezuela",782,29," "]
[{"$f":"INDEX(Country!$F$31:$G$76, MATCH(AI797, Country!$O$31:$O$76, 0), 1)","v":2.1299999999999972},{"$f":"INDEX(Country!$F$31:$G$76, MATCH(AI797, Country!$O$31:$O$76, 0), 2)","v":"Average cost of debt"},{"$f":"INDEX(Country!$K$31:$K$76, MATCH(AI797, Country!$O$31:$O$76, 0), 1)","v":"%"},"Benchmark",{"$f":"IFERROR(SMALL(E771:E796, COUNTIF(E771:E796, \"0\")+1), 0)","v":0},0,0,0,0,{"$f":"IFERROR(SMALL(J771:J796, COUNTIF(J771:J796, \"0\")+1), 0)","v":0},{"$f":"IFERROR(SMALL(K771:K796, COUNTIF(K771:K796, \"0\")+1), 0)","v":4.3486000000000004E-2},0,0,0,0,0,0,100,"*Cost hence benchmark is lowest cost of debt.",null,null,null,null,null,null,null,null,null,null,null,null,null,"2.13 > Benchmark",783,29," "]
[{"$f":"INDEX(Country!$F$31:$G$76, MATCH(AI798, Country!$O$31:$O$76, 0), 1)","v":2.139999999999997},{"$f":"INDEX(Country!$F$31:$G$76, MATCH(AI798, Country!$O$31:$O$76, 0), 2)","v":"Swap rate"},{"$f":"INDEX(Country!$K$31:$K$76, MATCH(AI798, Country!$O$31:$O$76, 0), 1)","v":"%"},{"$f":"D771","v":"Argentina"},9.5907999999999993E-2,0.159861,0.27762799999999999,0.107,0.1109,0.2253,0.1444,57.346623847854197,34.404889247533795,19.810681919691099,51.401869158878512,49.594229035166819,21.083000443852644,32.479224376731295,null,null,null,null,null,null,null,null,null,null,null,null,null,null,"2.14 > Argentina",784,30," "]
[{"$f":"INDEX(Country!$F$31:$G$76, MATCH(AI799, Country!$O$31:$O$76, 0), 1)","v":2.139999999999997},{"$f":"INDEX(Country!$F$31:$G$76, MATCH(AI799, Country!$O$31:$O$76, 0), 2)","v":"Swap rate"},{"$f":"INDEX(Country!$K$31:$K$76, MATCH(AI799, Country!$O$31:$O$76, 0), 1)","v":"%"},"Bahamas",5.5E-2,5.5E-2,5.5E-2,5.5E-2,5.5E-2,4.7500000000000001E-2,4.7500000000000001E-2,100,100,100,100,100,100,98.73684210526315,null,null,null,null,null,null,null,null,null,null,null,null,null,null,"2.14 > Bahamas",785,30," "]
[{"$f":"INDEX(Country!$F$31:$G$76, MATCH(AI800, Country!$O$31:$O$76, 0), 1)","v":2.139999999999997},{"$f":"INDEX(Country!$F$31:$G$76, MATCH(AI800, Country!$O$31:$O$76, 0), 2)","v":"Swap rate"},{"$f":"INDEX(Country!$K$31:$K$76, MATCH(AI800, Country!$O$31:$O$76, 0), 1)","v":"%"},"Barbados",0.1075,0.1045,9.8000000000000004E-2,8.6999999999999994E-2,8.6999999999999994E-2,8.6999999999999994E-2,0,51.162790697674424,52.631578947368418,56.12244897959183,63.218390804597703,63.218390804597703,54.597701149425291,0,null,null,null,null,null,null,null,null,null,null,null,null,null,null,"2.14 > Barbados",786,30," "]
[{"$f":"INDEX(Country!$F$31:$G$76, MATCH(AI801, Country!$O$31:$O$76, 0), 1)","v":2.139999999999997},{"$f":"INDEX(Country!$F$31:$G$76, MATCH(AI801, Country!$O$31:$O$76, 0), 2)","v":"Swap rate"},{"$f":"INDEX(Country!$K$31:$K$76, MATCH(AI801, Country!$O$31:$O$76, 0), 1)","v":"%"},"Belize",0.14230000000000001,0.14300000000000002,0.14099999999999999,0.13980000000000001,0.13780000000000001,0.13019999999999998,0.11990000000000001,38.650737877723117,38.46153846153846,39.007092198581567,39.341917024320452,39.912917271407835,36.482334869431646,39.115929941618013,null,null,null,null,null,null,null,null,null,null,null,null,null,null,"2.14 > Belize",787,30," "]
[{"$f":"INDEX(Country!$F$31:$G$76, MATCH(AI802, Country!$O$31:$O$76, 0), 1)","v":2.139999999999997},{"$f":"INDEX(Country!$F$31:$G$76, MATCH(AI802, Country!$O$31:$O$76, 0), 2)","v":"Swap rate"},{"$f":"INDEX(Country!$K$31:$K$76, MATCH(AI802, Country!$O$31:$O$76, 0), 1)","v":"%"},"Bolivia",0.1183,0.14349999999999999,0.13819999999999999,9.0700000000000003E-2,0.103822,0.108109,0.10603699999999999,46.491969568892642,38.327526132404181,39.797395079594793,60.639470782800444,52.975284621756472,43.937137518615472,44.22984429963126,null,null,null,null,null,null,null,null,null,null,null,null,null,null,"2.14 > Bolivia",788,30," "]
[{"$f":"INDEX(Country!$F$31:$G$76, MATCH(AI803, Country!$O$31:$O$76, 0), 1)","v":2.139999999999997},{"$f":"INDEX(Country!$F$31:$G$76, MATCH(AI803, Country!$O$31:$O$76, 0), 2)","v":"Swap rate"},{"$f":"INDEX(Country!$K$31:$K$76, MATCH(AI803, Country!$O$31:$O$76, 0), 1)","v":"%"},"Brazil",0.1235,0.1305,0.12590000000000001,0.12779799999999999,0.119407,0.10970000000000001,8.5952000000000001E-2,44.534412955465584,42.145593869731798,43.685464654487681,43.036667240488896,46.060951200515881,43.299908842297171,54.56533879374534,null,null,null,null,null,null,null,null,null,null,null,null,null,null,"2.14 > Brazil",789,30," "]
[{"$f":"INDEX(Country!$F$31:$G$76, MATCH(AI804, Country!$O$31:$O$76, 0), 1)","v":2.139999999999997},{"$f":"INDEX(Country!$F$31:$G$76, MATCH(AI804, Country!$O$31:$O$76, 0), 2)","v":"Swap rate"},{"$f":"INDEX(Country!$K$31:$K$76, MATCH(AI804, Country!$O$31:$O$76, 0), 1)","v":"%"},"Chile",6.0499999999999998E-2,6.480000000000001E-2,5.8799999999999998E-2,6.08E-2,5.91E-2,5.0700000000000002E-2,5.4699999999999999E-2,90.909090909090921,84.87654320987653,93.5374149659864,90.460526315789465,93.062605752961076,93.688362919132146,85.740402193784277,null,null,null,null,null,null,null,null,null,null,null,null,null,null,"2.14 > Chile",790,30," "]
[{"$f":"INDEX(Country!$F$31:$G$76, MATCH(AI805, Country!$O$31:$O$76, 0), 1)","v":2.139999999999997},{"$f":"INDEX(Country!$F$31:$G$76, MATCH(AI805, Country!$O$31:$O$76, 0), 2)","v":"Swap rate"},{"$f":"INDEX(Country!$K$31:$K$76, MATCH(AI805, Country!$O$31:$O$76, 0), 1)","v":"%"},"Colombia",8.6500000000000007E-2,9.820000000000001E-2,8.5500000000000007E-2,8.2699999999999996E-2,6.1200000000000004E-2,5.6500000000000002E-2,4.6899999999999997E-2,63.583815028901725,56.008146639511189,64.327485380116954,66.505441354292628,89.86928104575162,84.070796460176993,100,null,null,null,null,null,null,null,null,null,null,null,null,null,null,"2.14 > Colombia",791,30," "]
[{"$f":"INDEX(Country!$F$31:$G$76, MATCH(AI806, Country!$O$31:$O$76, 0), 1)","v":2.139999999999997},{"$f":"INDEX(Country!$F$31:$G$76, MATCH(AI806, Country!$O$31:$O$76, 0), 2)","v":"Swap rate"},{"$f":"INDEX(Country!$K$31:$K$76, MATCH(AI806, Country!$O$31:$O$76, 0), 1)","v":"%"},"Costa Rica",0.1575,0.12670000000000001,0.19920000000000002,0.17249999999999999,0.16920000000000002,0.16579999999999998,0.18079999999999999,34.920634920634917,43.409629044988158,27.610441767068274,31.884057971014496,32.505910165484629,28.648974668275034,25.940265486725668,null,null,null,null,null,null,null,null,null,null,null,null,null,null,"2.14 > Costa Rica",792,30," "]
[{"$f":"INDEX(Country!$F$31:$G$76, MATCH(AI807, Country!$O$31:$O$76, 0), 1)","v":2.139999999999997},{"$f":"INDEX(Country!$F$31:$G$76, MATCH(AI807, Country!$O$31:$O$76, 0), 2)","v":"Swap rate"},{"$f":"INDEX(Country!$K$31:$K$76, MATCH(AI807, Country!$O$31:$O$76, 0), 1)","v":"%"},"Dominican Republic",0.16440000000000002,0.15340000000000001,0.2394,0.13819999999999999,0.13619999999999999,0.17219999999999999,0.12859999999999999,33.454987834549875,35.853976531942635,22.974101921470343,39.797395079594793,40.381791483113069,27.584204413472708,36.469673405909795,null,null,null,null,null,null,null,null,null,null,null,null,null,null,"2.14 > Dominican Republic",793,30," "]
[{"$f":"INDEX(Country!$F$31:$G$76, MATCH(AI808, Country!$O$31:$O$76, 0), 1)","v":2.139999999999997},{"$f":"INDEX(Country!$F$31:$G$76, MATCH(AI808, Country!$O$31:$O$76, 0), 2)","v":"Swap rate"},{"$f":"INDEX(Country!$K$31:$K$76, MATCH(AI808, Country!$O$31:$O$76, 0), 1)","v":"%"},"Ecuador",0.10288700000000001,0.14729900000000001,0,0,0,0,0,{"$f":"IFERROR(dbl_BenchmarkMax*( SUMIFS(E$15:E$1256, $D$15:$D$1256, \"Benchmark\", $B$15:$B$1256,$B808)/E808), 0)","v":53.456704928708184},{"$f":"IFERROR(dbl_BenchmarkMax*( SUMIFS(F$15:F$1256, $D$15:$D$1256, \"Benchmark\", $B$15:$B$1256,$B808)/F808), 0)","v":37.339017915939685},{"$f":"IFERROR(dbl_BenchmarkMax*( SUMIFS(G$15:G$1256, $D$15:$D$1256, \"Benchmark\", $B$15:$B$1256,$B808)/G808), 0)","v":0},{"$f":"IFERROR(dbl_BenchmarkMax*( SUMIFS(H$15:H$1256, $D$15:$D$1256, \"Benchmark\", $B$15:$B$1256,$B808)/H808), 0)","v":0},{"$f":"IFERROR(dbl_BenchmarkMax*( SUMIFS(I$15:I$1256, $D$15:$D$1256, \"Benchmark\", $B$15:$B$1256,$B808)/I808), 0)","v":0},{"$f":"IFERROR(dbl_BenchmarkMax*( SUMIFS(J$15:J$1256, $D$15:$D$1256, \"Benchmark\", $B$15:$B$1256,$B808)/J808), 0)","v":0},{"$f":"IFERROR(dbl_BenchmarkMax*( SUMIFS(K$15:K$1256, $D$15:$D$1256, \"Benchmark\", $B$15:$B$1256,$B808)/K808), 0)","v":0},null,null,null,null,null,null,null,null,null,null,null,null,null,null,"2.14 > Ecuador",794,30," "]
[{"$f":"INDEX(Country!$F$31:$G$76, MATCH(AI809, Country!$O$31:$O$76, 0), 1)","v":2.139999999999997},{"$f":"INDEX(Country!$F$31:$G$76, MATCH(AI809, Country!$O$31:$O$76, 0), 2)","v":"Swap rate"},{"$f":"INDEX(Country!$K$31:$K$76, MATCH(AI809, Country!$O$31:$O$76, 0), 1)","v":"%"},"El Salvador",0,0,0,0,0,0,0,0,0,0,0,0,0,0,null,null,null,null,null,null,null,null,null,null,null,null,null,null,"2.14 > El Salvador",795,30," "]
[{"$f":"INDEX(Country!$F$31:$G$76, MATCH(AI810, Country!$O$31:$O$76, 0), 1)","v":2.139999999999997},{"$f":"INDEX(Country!$F$31:$G$76, MATCH(AI810, Country!$O$31:$O$76, 0), 2)","v":"Swap rate"},{"$f":"INDEX(Country!$K$31:$K$76, MATCH(AI810, Country!$O$31:$O$76, 0), 1)","v":"%"},"Guatemala",0.1288,0.12890000000000001,0.1384,0.13570000000000002,0.13250000000000001,0.1351,0.13470000000000001,42.701863354037265,42.668735453840185,39.739884393063583,40.530582166543844,41.509433962264147,35.159141376757958,34.818114328136595,null,null,null,null,null,null,null,null,null,null,null,null,null,null,"2.14 > Guatemala",796,30," "]
[{"$f":"INDEX(Country!$F$31:$G$76, MATCH(AI811, Country!$O$31:$O$76, 0), 1)","v":2.139999999999997},{"$f":"INDEX(Country!$F$31:$G$76, MATCH(AI811, Country!$O$31:$O$76, 0), 2)","v":"Swap rate"},{"$f":"INDEX(Country!$K$31:$K$76, MATCH(AI811, Country!$O$31:$O$76, 0), 1)","v":"%"},"Guyana",0.1454,0.14710000000000001,0.1454,0.14541700000000002,0.14541700000000002,0.14000000000000001,0.13833299999999998,37.826685006877582,37.389530931339223,37.826685006877582,37.822262871603726,37.822262871603726,33.928571428571423,33.903696153484709,null,null,null,null,null,null,null,null,null,null,null,null,null,null,"2.14 > Guyana",797,30," "]
[{"$f":"INDEX(Country!$F$31:$G$76, MATCH(AI812, Country!$O$31:$O$76, 0), 1)","v":2.139999999999997},{"$f":"INDEX(Country!$F$31:$G$76, MATCH(AI812, Country!$O$31:$O$76, 0), 2)","v":"Swap rate"},{"$f":"INDEX(Country!$K$31:$K$76, MATCH(AI812, Country!$O$31:$O$76, 0), 1)","v":"%"},"Haiti",0.252,0.249,0.20199999999999999,0.17559999999999998,0.182,0.11449999999999999,5.5800000000000002E-2,21.825396825396826,22.08835341365462,27.227722772277229,31.321184510250571,30.219780219780223,41.484716157205241,84.050179211469526,null,null,null,null,null,null,null,null,null,null,null,null,null,null,"2.14 > Haiti",798,30," "]
[{"$f":"INDEX(Country!$F$31:$G$76, MATCH(AI813, Country!$O$31:$O$76, 0), 1)","v":2.139999999999997},{"$f":"INDEX(Country!$F$31:$G$76, MATCH(AI813, Country!$O$31:$O$76, 0), 2)","v":"Swap rate"},{"$f":"INDEX(Country!$K$31:$K$76, MATCH(AI813, Country!$O$31:$O$76, 0), 1)","v":"%"},"Honduras",0.16600000000000001,0.16500000000000001,0.20039999999999999,0.18940000000000001,0.18982299999999999,0.18098600000000001,0.19246200000000002,33.132530120481931,33.333333333333329,27.445109780439125,29.039070749736005,28.974360325145003,26.245123932237853,24.36844675832112,null,null,null,null,null,null,null,null,null,null,null,null,null,null,"2.14 > Honduras",799,30," "]
[{"$f":"INDEX(Country!$F$31:$G$76, MATCH(AI814, Country!$O$31:$O$76, 0), 1)","v":2.139999999999997},{"$f":"INDEX(Country!$F$31:$G$76, MATCH(AI814, Country!$O$31:$O$76, 0), 2)","v":"Swap rate"},{"$f":"INDEX(Country!$K$31:$K$76, MATCH(AI814, Country!$O$31:$O$76, 0), 1)","v":"%"},"Jamaica",0.1759,0.1711,0.1678,0.161939,0.20430499999999999,0.18026200000000001,0.184423,31.267765776009099,32.144944476914084,32.777115613825977,33.963405973854357,26.920535473923792,26.350534222409607,25.430667541467166,null,null,null,null,null,null,null,null,null,null,null,null,null,null,"2.14 > Jamaica",800,30," "]
[{"$f":"INDEX(Country!$F$31:$G$76, MATCH(AI815, Country!$O$31:$O$76, 0), 1)","v":2.139999999999997},{"$f":"INDEX(Country!$F$31:$G$76, MATCH(AI815, Country!$O$31:$O$76, 0), 2)","v":"Swap rate"},{"$f":"INDEX(Country!$K$31:$K$76, MATCH(AI815, Country!$O$31:$O$76, 0), 1)","v":"%"},"Mexico",7.8799999999999995E-2,8.5950000000000013E-2,8.3100000000000007E-2,8.3199999999999996E-2,7.3399999999999993E-2,6.7599999999999993E-2,5.8400000000000001E-2,69.796954314720821,63.990692262943561,66.185318892900113,66.105769230769226,74.931880108991834,70.266272189349124,80.308219178082183,null,null,null,null,null,null,null,null,null,null,null,null,null,null,"2.14 > Mexico",801,30," "]
[{"$f":"INDEX(Country!$F$31:$G$76, MATCH(AI816, Country!$O$31:$O$76, 0), 1)","v":2.139999999999997},{"$f":"INDEX(Country!$F$31:$G$76, MATCH(AI816, Country!$O$31:$O$76, 0), 2)","v":"Swap rate"},{"$f":"INDEX(Country!$K$31:$K$76, MATCH(AI816, Country!$O$31:$O$76, 0), 1)","v":"%"},"Nicaragua",0.11635899999999999,0.12914,0.13577,0.14269600000000002,0.10157400000000001,0.13189500000000001,0.120711,47.267508314784422,42.58943781942078,40.509685497532594,38.543477042103483,54.14771496642841,36.013495583608169,38.853128546694172,null,null,null,null,null,null,null,null,null,null,null,null,null,null,"2.14 > Nicaragua",802,30," "]
[{"$f":"INDEX(Country!$F$31:$G$76, MATCH(AI817, Country!$O$31:$O$76, 0), 1)","v":2.139999999999997},{"$f":"INDEX(Country!$F$31:$G$76, MATCH(AI817, Country!$O$31:$O$76, 0), 2)","v":"Swap rate"},{"$f":"INDEX(Country!$K$31:$K$76, MATCH(AI817, Country!$O$31:$O$76, 0), 1)","v":"%"},"Panama",8.2100000000000006E-2,8.2500000000000004E-2,8.2405000000000006E-2,8.1600000000000006E-2,7.1399999999999991E-2,6.7400000000000002E-2,6.6900000000000001E-2,66.991473812423877,66.666666666666657,66.743522844487586,67.401960784313715,77.030812324929983,70.474777448071208,70.104633781763823,null,null,null,null,null,null,null,null,null,null,null,null,null,null,"2.14 > Panama",803,30," "]
[{"$f":"INDEX(Country!$F$31:$G$76, MATCH(AI818, Country!$O$31:$O$76, 0), 1)","v":2.139999999999997},{"$f":"INDEX(Country!$F$31:$G$76, MATCH(AI818, Country!$O$31:$O$76, 0), 2)","v":"Swap rate"},{"$f":"INDEX(Country!$K$31:$K$76, MATCH(AI818, Country!$O$31:$O$76, 0), 1)","v":"%"},"Paraguay",0.26510800000000001,0.17824699999999999,0.29504000000000002,0.26225399999999999,0.27108100000000002,0.26924300000000001,0.30847200000000002,20.746261900810232,30.856059288515375,18.641540130151842,20.972034744941929,20.289138670729411,17.642055689470109,15.203973132083298,null,null,null,null,null,null,null,null,null,null,null,null,null,null,"2.14 > Paraguay",804,30," "]
[{"$f":"INDEX(Country!$F$31:$G$76, MATCH(AI819, Country!$O$31:$O$76, 0), 1)","v":2.139999999999997},{"$f":"INDEX(Country!$F$31:$G$76, MATCH(AI819, Country!$O$31:$O$76, 0), 2)","v":"Swap rate"},{"$f":"INDEX(Country!$K$31:$K$76, MATCH(AI819, Country!$O$31:$O$76, 0), 1)","v":"%"},"Peru",0,0,0,0,0,0,0,0,0,0,0,0,0,0,null,null,null,null,null,null,null,null,null,null,null,null,null,null,"2.14 > Peru",805,30," "]
[{"$f":"INDEX(Country!$F$31:$G$76, MATCH(AI820, Country!$O$31:$O$76, 0), 1)","v":2.139999999999997},{"$f":"INDEX(Country!$F$31:$G$76, MATCH(AI820, Country!$O$31:$O$76, 0), 2)","v":"Swap rate"},{"$f":"INDEX(Country!$K$31:$K$76, MATCH(AI820, Country!$O$31:$O$76, 0), 1)","v":"%"},"Suriname",0.153,0.129,0.11699999999999999,0.11599999999999999,0.117865,0.11699999999999999,0.11800000000000001,35.947712418300654,42.63565891472868,47.008547008547012,47.413793103448285,46.663555762949137,40.598290598290603,39.745762711864401,null,null,null,null,null,null,null,null,null,null,null,null,null,null,"2.14 > Suriname",806,30," "]
[{"$f":"INDEX(Country!$F$31:$G$76, MATCH(AI821, Country!$O$31:$O$76, 0), 1)","v":2.139999999999997},{"$f":"INDEX(Country!$F$31:$G$76, MATCH(AI821, Country!$O$31:$O$76, 0), 2)","v":"Swap rate"},{"$f":"INDEX(Country!$K$31:$K$76, MATCH(AI821, Country!$O$31:$O$76, 0), 1)","v":"%"},{"$f":"D794","v":"Trinidad & Tobago"},0.11749999999999999,0.11749999999999999,0.13,0.10249999999999999,8.3800000000000013E-2,7.7499999999999999E-2,7.4999999999999997E-2,46.808510638297875,46.808510638297875,42.307692307692307,53.658536585365859,65.632458233890205,61.29032258064516,62.533333333333331,null,null,null,null,null,null,null,null,null,null,null,null,null,null,"2.14 > Trinidad & Tobago",807,30," "]
[{"$f":"INDEX(Country!$F$31:$G$76, MATCH(AI822, Country!$O$31:$O$76, 0), 1)","v":2.139999999999997},{"$f":"INDEX(Country!$F$31:$G$76, MATCH(AI822, Country!$O$31:$O$76, 0), 2)","v":"Swap rate"},{"$f":"INDEX(Country!$K$31:$K$76, MATCH(AI822, Country!$O$31:$O$76, 0), 1)","v":"%"},"Uruguay",8.7795000000000012E-2,0.10455100000000001,0.189549,0.14940699999999998,9.7056000000000003E-2,0.100151,0.11181800000000001,62.645936556751515,52.605905251982286,29.016243820858989,36.812197554331462,56.66831519947246,47.428383141456401,41.943157631150612,null,null,null,null,null,null,null,null,null,null,null,null,null,null,"2.14 > Uruguay",808,30," "]
[{"$f":"INDEX(Country!$F$31:$G$76, MATCH(AI823, Country!$O$31:$O$76, 0), 1)","v":2.139999999999997},{"$f":"INDEX(Country!$F$31:$G$76, MATCH(AI823, Country!$O$31:$O$76, 0), 2)","v":"Swap rate"},{"$f":"INDEX(Country!$K$31:$K$76, MATCH(AI823, Country!$O$31:$O$76, 0), 1)","v":"%"},"Venezuela",0.15720000000000001,0.20219999999999999,0.20440000000000003,0.18969999999999998,0.1812,0.15509999999999999,0.16269999999999998,34.987277353689564,27.200791295746786,26.908023483365945,28.99314707432789,30.353200883002206,30.625402965828503,28.8260602335587,null,null,null,null,null,null,null,null,null,null,null,null,null,null,"2.14 > Venezuela",809,30," "]
[{"$f":"INDEX(Country!$F$31:$G$76, MATCH(AI824, Country!$O$31:$O$76, 0), 1)","v":2.139999999999997},{"$f":"INDEX(Country!$F$31:$G$76, MATCH(AI824, Country!$O$31:$O$76, 0), 2)","v":"Swap rate"},{"$f":"INDEX(Country!$K$31:$K$76, MATCH(AI824, Country!$O$31:$O$76, 0), 1)","v":"%"},"Benchmark",{"$f":"IFERROR(SMALL(E798:E823, COUNTIF(E798:E823, \"0\")+1), 0)","v":5.5E-2},5.5E-2,5.5E-2,5.5E-2,5.5E-2,4.7500000000000001E-2,4.6899999999999997E-2,100,100,100,100,100,100,100,"*Cost hence benchmark is lowest cost of debt.",null,null,null,null,null,null,null,null,null,null,null,null,null,"2.14 > Benchmark",810,30," "]
[{"$f":"INDEX(Country!$F$31:$G$76, MATCH(AI825, Country!$O$31:$O$76, 0), 1)","v":3.01},{"$f":"INDEX(Country!$F$31:$G$76, MATCH(AI825, Country!$O$31:$O$76, 0), 2)","v":"Financial institutions in clean energy"},{"$f":"INDEX(Country!$K$31:$K$76, MATCH(AI825, Country!$O$31:$O$76, 0), 1)","v":"Companies"},"Argentina",{"$f":"S825","v":3},{"$f":"T825","v":3},{"$f":"U825","v":3},{"$f":"V825","v":3},{"$f":"W825","v":3},{"$f":"X825","v":3},{"$f":"Y825","v":3},{"$f":"IFERROR(dbl_BenchmarkMax*E825/ SUMIFS(E$15:E$1256, $D$15:$D$1256, \"Benchmark\", $B$15:$B$1256,$B825), 0)","v":75},{"$f":"IFERROR(dbl_BenchmarkMax*F825/ SUMIFS(F$15:F$1256, $D$15:$D$1256, \"Benchmark\", $B$15:$B$1256,$B825), 0)","v":75},{"$f":"IFERROR(dbl_BenchmarkMax*G825/ SUMIFS(G$15:G$1256, $D$15:$D$1256, \"Benchmark\", $B$15:$B$1256,$B825), 0)","v":75},{"$f":"IFERROR(dbl_BenchmarkMax*H825/ SUMIFS(H$15:H$1256, $D$15:$D$1256, \"Benchmark\", $B$15:$B$1256,$B825), 0)","v":75},{"$f":"IFERROR(dbl_BenchmarkMax*I825/ SUMIFS(I$15:I$1256, $D$15:$D$1256, \"Benchmark\", $B$15:$B$1256,$B825), 0)","v":75},{"$f":"IFERROR(dbl_BenchmarkMax*J825/ SUMIFS(J$15:J$1256, $D$15:$D$1256, \"Benchmark\", $B$15:$B$1256,$B825), 0)","v":75},{"$f":"IFERROR(dbl_BenchmarkMax*K825/ SUMIFS(K$15:K$1256, $D$15:$D$1256, \"Benchmark\", $B$15:$B$1256,$B825), 0)","v":75},{"$f":"T825","v":3},3,3,3,{"$f":"Y825","v":3},{"$f":"Levelisation!J789","v":3},{"$f":"Levelisation!L789","v":3},null,null,null,null,null,null,null,"3.01 > Argentina",811,31," "]
[{"$f":"INDEX(Country!$F$31:$G$76, MATCH(AI826, Country!$O$31:$O$76, 0), 1)","v":3.01},{"$f":"INDEX(Country!$F$31:$G$76, MATCH(AI826, Country!$O$31:$O$76, 0), 2)","v":"Financial institutions in clean energy"},{"$f":"INDEX(Country!$K$31:$K$76, MATCH(AI826, Country!$O$31:$O$76, 0), 1)","v":"Companies"},"Bahamas",0,0,0,0,0,0,0,{"$f":"IFERROR(dbl_BenchmarkMax*E826/ SUMIFS(E$15:E$1256, $D$15:$D$1256, \"Benchmark\", $B$15:$B$1256,$B826), 0)","v":0},0,0,0,0,0,0,{"$f":"T826","v":0},0,0,0,0,{"$f":"Levelisation!J790","v":0},{"$f":"Levelisation!L790","v":0},null,null,null,null,null,null,null,"3.01 > Bahamas",812,31," "]
[{"$f":"INDEX(Country!$F$31:$G$76, MATCH(AI827, Country!$O$31:$O$76, 0), 1)","v":3.01},{"$f":"INDEX(Country!$F$31:$G$76, MATCH(AI827, Country!$O$31:$O$76, 0), 2)","v":"Financial institutions in clean energy"},{"$f":"INDEX(Country!$K$31:$K$76, MATCH(AI827, Country!$O$31:$O$76, 0), 1)","v":"Companies"},"Barbados",0,0,0,0,0,0,0,0,0,0,0,0,0,0,{"$f":"T827","v":0},0,0,0,0,{"$f":"Levelisation!J791","v":0},{"$f":"Levelisation!L791","v":0},null,null,null,null,null,null,null,"3.01 > Barbados",813,31," "]
[{"$f":"INDEX(Country!$F$31:$G$76, MATCH(AI828, Country!$O$31:$O$76, 0), 1)","v":3.01},{"$f":"INDEX(Country!$F$31:$G$76, MATCH(AI828, Country!$O$31:$O$76, 0), 2)","v":"Financial institutions in clean energy"},{"$f":"INDEX(Country!$K$31:$K$76, MATCH(AI828, Country!$O$31:$O$76, 0), 1)","v":"Companies"},"Belize",1,1,1,1,1,1,1,25,25,25,25,25,25,25,{"$f":"T828","v":1},1,1,1,1,{"$f":"Levelisation!J792","v":1},{"$f":"Levelisation!L792","v":1},null,null,null,null,null,null,null,"3.01 > Belize",814,31," "]
[{"$f":"INDEX(Country!$F$31:$G$76, MATCH(AI829, Country!$O$31:$O$76, 0), 1)","v":3.01},{"$f":"INDEX(Country!$F$31:$G$76, MATCH(AI829, Country!$O$31:$O$76, 0), 2)","v":"Financial institutions in clean energy"},{"$f":"INDEX(Country!$K$31:$K$76, MATCH(AI829, Country!$O$31:$O$76, 0), 1)","v":"Companies"},"Bolivia",0,0,0,0,0,0,0,0,0,0,0,0,0,0,{"$f":"T829","v":0},0,0,0,0,{"$f":"Levelisation!J793","v":0},{"$f":"Levelisation!L793","v":0},null,null,null,null,null,null,null,"3.01 > Bolivia",815,31," "]
[{"$f":"INDEX(Country!$F$31:$G$76, MATCH(AI830, Country!$O$31:$O$76, 0), 1)","v":3.01},{"$f":"INDEX(Country!$F$31:$G$76, MATCH(AI830, Country!$O$31:$O$76, 0), 2)","v":"Financial institutions in clean energy"},{"$f":"INDEX(Country!$K$31:$K$76, MATCH(AI830, Country!$O$31:$O$76, 0), 1)","v":"Companies"},"Brazil",4,4,4,4,4,4,4,100,100,100,100,100,100,100,{"$f":"T830","v":4},4,4,4,4,{"$f":"Levelisation!J794","v":4},{"$f":"Levelisation!L794","v":4},null,null,null,null,null,null,null,"3.01 > Brazil",816,31," "]
[{"$f":"INDEX(Country!$F$31:$G$76, MATCH(AI831, Country!$O$31:$O$76, 0), 1)","v":3.01},{"$f":"INDEX(Country!$F$31:$G$76, MATCH(AI831, Country!$O$31:$O$76, 0), 2)","v":"Financial institutions in clean energy"},{"$f":"INDEX(Country!$K$31:$K$76, MATCH(AI831, Country!$O$31:$O$76, 0), 1)","v":"Companies"},"Chile",3,3,3,3,3,3,3,75,75,75,75,75,75,75,{"$f":"T831","v":3},3,3,3,3,{"$f":"Levelisation!J795","v":3},{"$f":"Levelisation!L795","v":3},null,null,null,null,null,null,null,"3.01 > Chile",817,31," "]
[{"$f":"INDEX(Country!$F$31:$G$76, MATCH(AI832, Country!$O$31:$O$76, 0), 1)","v":3.01},{"$f":"INDEX(Country!$F$31:$G$76, MATCH(AI832, Country!$O$31:$O$76, 0), 2)","v":"Financial institutions in clean energy"},{"$f":"INDEX(Country!$K$31:$K$76, MATCH(AI832, Country!$O$31:$O$76, 0), 1)","v":"Companies"},"Colombia",1,1,1,1,1,1,1,25,25,25,25,25,25,25,{"$f":"T832","v":1},1,1,1,1,{"$f":"Levelisation!J796","v":1},{"$f":"Levelisation!L796","v":1},null,null,null,null,null,null,null,"3.01 > Colombia",818,31," "]
[{"$f":"INDEX(Country!$F$31:$G$76, MATCH(AI833, Country!$O$31:$O$76, 0), 1)","v":3.01},{"$f":"INDEX(Country!$F$31:$G$76, MATCH(AI833, Country!$O$31:$O$76, 0), 2)","v":"Financial institutions in clean energy"},{"$f":"INDEX(Country!$K$31:$K$76, MATCH(AI833, Country!$O$31:$O$76, 0), 1)","v":"Companies"},"Costa Rica",1,1,1,1,1,1,1,25,25,25,25,25,25,25,{"$f":"T833","v":1},1,1,1,1,{"$f":"Levelisation!J797","v":1},{"$f":"Levelisation!L797","v":1},null,null,null,null,null,null,null,"3.01 > Costa Rica",819,31," "]
[{"$f":"INDEX(Country!$F$31:$G$76, MATCH(AI834, Country!$O$31:$O$76, 0), 1)","v":3.01},{"$f":"INDEX(Country!$F$31:$G$76, MATCH(AI834, Country!$O$31:$O$76, 0), 2)","v":"Financial institutions in clean energy"},{"$f":"INDEX(Country!$K$31:$K$76, MATCH(AI834, Country!$O$31:$O$76, 0), 1)","v":"Companies"},"Dominican Republic",1,1,1,1,1,1,1,25,25,25,25,25,25,25,{"$f":"T834","v":1},1,1,1,1,{"$f":"Levelisation!J798","v":1},{"$f":"Levelisation!L798","v":1},null,null,null,null,null,null,null,"3.01 > Dominican Republic",820,31," "]
[{"$f":"INDEX(Country!$F$31:$G$76, MATCH(AI835, Country!$O$31:$O$76, 0), 1)","v":3.01},{"$f":"INDEX(Country!$F$31:$G$76, MATCH(AI835, Country!$O$31:$O$76, 0), 2)","v":"Financial institutions in clean energy"},{"$f":"INDEX(Country!$K$31:$K$76, MATCH(AI835, Country!$O$31:$O$76, 0), 1)","v":"Companies"},"Ecuador",0,0,0,0,0,0,0,0,0,0,0,0,0,0,{"$f":"T835","v":0},0,0,0,0,{"$f":"Levelisation!J799","v":0},{"$f":"Levelisation!L799","v":0},null,null,null,null,null,null,null,"3.01 > Ecuador",821,31," "]
[{"$f":"INDEX(Country!$F$31:$G$76, MATCH(AI836, Country!$O$31:$O$76, 0), 1)","v":3.01},{"$f":"INDEX(Country!$F$31:$G$76, MATCH(AI836, Country!$O$31:$O$76, 0), 2)","v":"Financial institutions in clean energy"},{"$f":"INDEX(Country!$K$31:$K$76, MATCH(AI836, Country!$O$31:$O$76, 0), 1)","v":"Companies"},"El Salvador",1,1,1,1,1,1,1,25,25,25,25,25,25,25,{"$f":"T836","v":1},1,1,1,1,{"$f":"Levelisation!J800","v":1},{"$f":"Levelisation!L800","v":1},null,null,null,null,null,null,null,"3.01 > El Salvador",822,31," "]
[{"$f":"INDEX(Country!$F$31:$G$76, MATCH(AI837, Country!$O$31:$O$76, 0), 1)","v":3.01},{"$f":"INDEX(Country!$F$31:$G$76, MATCH(AI837, Country!$O$31:$O$76, 0), 2)","v":"Financial institutions in clean energy"},{"$f":"INDEX(Country!$K$31:$K$76, MATCH(AI837, Country!$O$31:$O$76, 0), 1)","v":"Companies"},"Guatemala",1,1,1,1,1,1,1,25,25,25,25,25,25,25,{"$f":"T837","v":1},1,1,1,1,{"$f":"Levelisation!J801","v":1},{"$f":"Levelisation!L801","v":1},null,null,null,null,null,null,null,"3.01 > Guatemala",823,31," "]
[{"$f":"INDEX(Country!$F$31:$G$76, MATCH(AI838, Country!$O$31:$O$76, 0), 1)","v":3.01},{"$f":"INDEX(Country!$F$31:$G$76, MATCH(AI838, Country!$O$31:$O$76, 0), 2)","v":"Financial institutions in clean energy"},{"$f":"INDEX(Country!$K$31:$K$76, MATCH(AI838, Country!$O$31:$O$76, 0), 1)","v":"Companies"},"Guyana",0,0,0,0,0,0,0,0,0,0,0,0,0,0,{"$f":"T838","v":0},0,0,0,0,{"$f":"Levelisation!J802","v":0},{"$f":"Levelisation!L802","v":0},null,null,null,null,null,null,null,"3.01 > Guyana",824,31," "]
[{"$f":"INDEX(Country!$F$31:$G$76, MATCH(AI839, Country!$O$31:$O$76, 0), 1)","v":3.01},{"$f":"INDEX(Country!$F$31:$G$76, MATCH(AI839, Country!$O$31:$O$76, 0), 2)","v":"Financial institutions in clean energy"},{"$f":"INDEX(Country!$K$31:$K$76, MATCH(AI839, Country!$O$31:$O$76, 0), 1)","v":"Companies"},"Haiti",0,0,0,0,0,0,0,0,0,0,0,0,0,0,{"$f":"T839","v":0},0,0,0,0,{"$f":"Levelisation!J803","v":0},{"$f":"Levelisation!L803","v":0},null,null,null,null,null,null,null,"3.01 > Haiti",825,31," "]
[{"$f":"INDEX(Country!$F$31:$G$76, MATCH(AI840, Country!$O$31:$O$76, 0), 1)","v":3.01},{"$f":"INDEX(Country!$F$31:$G$76, MATCH(AI840, Country!$O$31:$O$76, 0), 2)","v":"Financial institutions in clean energy"},{"$f":"INDEX(Country!$K$31:$K$76, MATCH(AI840, Country!$O$31:$O$76, 0), 1)","v":"Companies"},"Honduras",1,1,1,1,1,1,1,25,25,25,25,25,25,25,{"$f":"T840","v":1},1,1,1,1,{"$f":"Levelisation!J804","v":1},{"$f":"Levelisation!L804","v":1},null,null,null,null,null,null,null,"3.01 > Honduras",826,31," "]
[{"$f":"INDEX(Country!$F$31:$G$76, MATCH(AI841, Country!$O$31:$O$76, 0), 1)","v":3.01},{"$f":"INDEX(Country!$F$31:$G$76, MATCH(AI841, Country!$O$31:$O$76, 0), 2)","v":"Financial institutions in clean energy"},{"$f":"INDEX(Country!$K$31:$K$76, MATCH(AI841, Country!$O$31:$O$76, 0), 1)","v":"Companies"},"Jamaica",{"$f":"S841","v":1},1,1,1,1,1,1,25,25,25,25,25,25,25,{"$f":"T841","v":1},1,1,1,1,{"$f":"Levelisation!J805","v":1},{"$f":"Levelisation!L805","v":1},null,null,null,null,null,null,null,"3.01 > Jamaica",827,31," "]
[{"$f":"INDEX(Country!$F$31:$G$76, MATCH(AI842, Country!$O$31:$O$76, 0), 1)","v":3.01},{"$f":"INDEX(Country!$F$31:$G$76, MATCH(AI842, Country!$O$31:$O$76, 0), 2)","v":"Financial institutions in clean energy"},{"$f":"INDEX(Country!$K$31:$K$76, MATCH(AI842, Country!$O$31:$O$76, 0), 1)","v":"Companies"},"Mexico",1,1,1,1,1,1,1,25,25,25,25,25,25,25,{"$f":"T842","v":1},1,1,1,1,{"$f":"Levelisation!J806","v":1},{"$f":"Levelisation!L806","v":1},null,null,null,null,null,null,null,"3.01 > Mexico",828,31," "]
[{"$f":"INDEX(Country!$F$31:$G$76, MATCH(AI843, Country!$O$31:$O$76, 0), 1)","v":3.01},{"$f":"INDEX(Country!$F$31:$G$76, MATCH(AI843, Country!$O$31:$O$76, 0), 2)","v":"Financial institutions in clean energy"},{"$f":"INDEX(Country!$K$31:$K$76, MATCH(AI843, Country!$O$31:$O$76, 0), 1)","v":"Companies"},"Nicaragua",1,1,1,1,1,1,1,25,25,25,25,25,25,25,{"$f":"T843","v":1},1,1,1,1,{"$f":"Levelisation!J807","v":1},{"$f":"Levelisation!L807","v":1},null,null,null,null,null,null,null,"3.01 > Nicaragua",829,31," "]
[{"$f":"INDEX(Country!$F$31:$G$76, MATCH(AI844, Country!$O$31:$O$76, 0), 1)","v":3.01},{"$f":"INDEX(Country!$F$31:$G$76, MATCH(AI844, Country!$O$31:$O$76, 0), 2)","v":"Financial institutions in clean energy"},{"$f":"INDEX(Country!$K$31:$K$76, MATCH(AI844, Country!$O$31:$O$76, 0), 1)","v":"Companies"},"Panama",2,2,2,2,2,2,2,50,50,50,50,50,50,50,{"$f":"T844","v":2},2,2,2,2,{"$f":"Levelisation!J808","v":2},{"$f":"Levelisation!L808","v":2},null,null,null,null,null,null,null,"3.01 > Panama",830,31," "]
[{"$f":"INDEX(Country!$F$31:$G$76, MATCH(AI845, Country!$O$31:$O$76, 0), 1)","v":3.01},{"$f":"INDEX(Country!$F$31:$G$76, MATCH(AI845, Country!$O$31:$O$76, 0), 2)","v":"Financial institutions in clean energy"},{"$f":"INDEX(Country!$K$31:$K$76, MATCH(AI845, Country!$O$31:$O$76, 0), 1)","v":"Companies"},"Paraguay",0,0,0,0,0,0,0,0,0,0,0,0,0,0,{"$f":"T845","v":0},0,0,0,0,{"$f":"Levelisation!J809","v":0},{"$f":"Levelisation!L809","v":0},null,null,null,null,null,null,null,"3.01 > Paraguay",831,31," "]
[{"$f":"INDEX(Country!$F$31:$G$76, MATCH(AI846, Country!$O$31:$O$76, 0), 1)","v":3.01},{"$f":"INDEX(Country!$F$31:$G$76, MATCH(AI846, Country!$O$31:$O$76, 0), 2)","v":"Financial institutions in clean energy"},{"$f":"INDEX(Country!$K$31:$K$76, MATCH(AI846, Country!$O$31:$O$76, 0), 1)","v":"Companies"},"Peru",1,1,1,1,1,1,1,25,25,25,25,25,25,25,{"$f":"T846","v":1},1,1,1,1,{"$f":"Levelisation!J810","v":1},{"$f":"Levelisation!L810","v":1},null,null,null,null,null,null,null,"3.01 > Peru",832,31," "]
[{"$f":"INDEX(Country!$F$31:$G$76, MATCH(AI847, Country!$O$31:$O$76, 0), 1)","v":3.01},{"$f":"INDEX(Country!$F$31:$G$76, MATCH(AI847, Country!$O$31:$O$76, 0), 2)","v":"Financial institutions in clean energy"},{"$f":"INDEX(Country!$K$31:$K$76, MATCH(AI847, Country!$O$31:$O$76, 0), 1)","v":"Companies"},"Suriname",0,0,0,0,0,0,0,0,0,0,0,0,0,0,{"$f":"T847","v":0},0,0,0,0,{"$f":"Levelisation!J811","v":0},{"$f":"Levelisation!L811","v":0},null,null,null,null,null,null,null,{"$f":"A847&\" > \" &D847","v":"3.01 > Suriname"},833,31," "]
[{"$f":"INDEX(Country!$F$31:$G$76, MATCH(AI848, Country!$O$31:$O$76, 0), 1)","v":3.01},{"$f":"INDEX(Country!$F$31:$G$76, MATCH(AI848, Country!$O$31:$O$76, 0), 2)","v":"Financial institutions in clean energy"},{"$f":"INDEX(Country!$K$31:$K$76, MATCH(AI848, Country!$O$31:$O$76, 0), 1)","v":"Companies"},"Trinidad & Tobago",1,1,1,1,1,1,1,25,25,25,25,25,25,25,{"$f":"T848","v":1},1,1,1,1,{"$f":"Levelisation!J812","v":1},{"$f":"Levelisation!L812","v":1},null,null,null,null,null,null,null,"3.01 > Trinidad & Tobago",834,31," "]
[{"$f":"INDEX(Country!$F$31:$G$76, MATCH(AI849, Country!$O$31:$O$76, 0), 1)","v":3.01},{"$f":"INDEX(Country!$F$31:$G$76, MATCH(AI849, Country!$O$31:$O$76, 0), 2)","v":"Financial institutions in clean energy"},{"$f":"INDEX(Country!$K$31:$K$76, MATCH(AI849, Country!$O$31:$O$76, 0), 1)","v":"Companies"},"Uruguay",1,1,1,1,1,1,1,25,25,25,25,25,25,25,{"$f":"T849","v":1},1,1,1,1,{"$f":"Levelisation!J813","v":1},{"$f":"Levelisation!L813","v":1},null,null,null,null,null,null,null,"3.01 > Uruguay",{"$f":"AH848+1","v":835},{"$f":"ROUNDUP(AH849/COUNTA($D$15:$D$41),0)","v":31}," "]
[{"$f":"INDEX(Country!$F$31:$G$76, MATCH(AI850, Country!$O$31:$O$76, 0), 1)","v":3.01},{"$f":"INDEX(Country!$F$31:$G$76, MATCH(AI850, Country!$O$31:$O$76, 0), 2)","v":"Financial institutions in clean energy"},{"$f":"INDEX(Country!$K$31:$K$76, MATCH(AI850, Country!$O$31:$O$76, 0), 1)","v":"Companies"},"Venezuela",3,3,3,3,3,3,3,75,75,75,75,75,75,75,{"$f":"T850","v":3},3,3,3,3,{"$f":"Levelisation!J814","v":3},{"$f":"Levelisation!L814","v":3},null,null,null,null,null,null,null,"3.01 > Venezuela",836,31," "]
[{"$f":"INDEX(Country!$F$31:$G$76, MATCH(AI851, Country!$O$31:$O$76, 0), 1)","v":3.01},{"$f":"INDEX(Country!$F$31:$G$76, MATCH(AI851, Country!$O$31:$O$76, 0), 2)","v":"Financial institutions in clean energy"},{"$f":"INDEX(Country!$K$31:$K$76, MATCH(AI851, Country!$O$31:$O$76, 0), 1)","v":"Companies"},"Benchmark",{"$f":"IFERROR(MAX(E825:E850), 0)","v":4},{"$f":"IFERROR(MAX(F825:F850), 0)","v":4},4,4,4,4,4,100,100,100,100,100,100,100,null,null,null,null,null,null,null,null,null,null,null,null,null,null,"3.01 > Benchmark",837,31," "]
[{"$f":"INDEX(Country!$F$31:$G$76, MATCH(AI852, Country!$O$31:$O$76, 0), 1)","v":3.0199999999999996},{"$f":"INDEX(Country!$F$31:$G$76, MATCH(AI852, Country!$O$31:$O$76, 0), 2)","v":"Value chains by clean energy sector"},{"$f":"INDEX(Country!$K$31:$K$76, MATCH(AI852, Country!$O$31:$O$76, 0), 1)","v":"Value Chains"},"Argentina",{"$f":"Levelisation!F2508","v":16},{"$f":"Levelisation!G2508","v":16},{"$f":"Levelisation!H2508","v":16},{"$f":"Levelisation!I2508","v":16},{"$f":"Levelisation!J2508","v":16},{"$f":"Levelisation!K2508","v":16},{"$f":"Levelisation!L2508","v":26},40,40,40,40,40,40,65,null,null,null,null,null,null,null,null,null,null,null,null,null,null,"3.02 > Argentina",838,32," "]
[{"$f":"INDEX(Country!$F$31:$G$76, MATCH(AI853, Country!$O$31:$O$76, 0), 1)","v":3.0199999999999996},{"$f":"INDEX(Country!$F$31:$G$76, MATCH(AI853, Country!$O$31:$O$76, 0), 2)","v":"Value chains by clean energy sector"},{"$f":"INDEX(Country!$K$31:$K$76, MATCH(AI853, Country!$O$31:$O$76, 0), 1)","v":"Value Chains"},"Bahamas",{"$f":"Levelisation!F2509","v":2},{"$f":"Levelisation!G2509","v":2},{"$f":"Levelisation!H2509","v":2},{"$f":"Levelisation!I2509","v":2},{"$f":"Levelisation!J2509","v":2},{"$f":"Levelisation!K2509","v":2},{"$f":"Levelisation!L2509","v":4},5,5,5,5,5,5,10,null,null,null,null,null,null,null,null,null,null,null,null,null,null,"3.02 > Bahamas",839,32," "]
[{"$f":"INDEX(Country!$F$31:$G$76, MATCH(AI854, Country!$O$31:$O$76, 0), 1)","v":3.0199999999999996},{"$f":"INDEX(Country!$F$31:$G$76, MATCH(AI854, Country!$O$31:$O$76, 0), 2)","v":"Value chains by clean energy sector"},{"$f":"INDEX(Country!$K$31:$K$76, MATCH(AI854, Country!$O$31:$O$76, 0), 1)","v":"Value Chains"},"Barbados",{"$f":"Levelisation!F2510","v":0},{"$f":"Levelisation!G2510","v":0},{"$f":"Levelisation!H2510","v":0},{"$f":"Levelisation!I2510","v":0},{"$f":"Levelisation!J2510","v":0},{"$f":"Levelisation!K2510","v":0},{"$f":"Levelisation!L2510","v":0},0,0,0,0,0,0,0,null,null,null,null,null,null,null,null,null,null,null,null,null,null,"3.02 > Barbados",840,32," "]
[{"$f":"INDEX(Country!$F$31:$G$76, MATCH(AI855, Country!$O$31:$O$76, 0), 1)","v":3.0199999999999996},{"$f":"INDEX(Country!$F$31:$G$76, MATCH(AI855, Country!$O$31:$O$76, 0), 2)","v":"Value chains by clean energy sector"},{"$f":"INDEX(Country!$K$31:$K$76, MATCH(AI855, Country!$O$31:$O$76, 0), 1)","v":"Value Chains"},"Belize",{"$f":"Levelisation!F2511","v":2},{"$f":"Levelisation!G2511","v":2},{"$f":"Levelisation!H2511","v":2},{"$f":"Levelisation!I2511","v":2},{"$f":"Levelisation!J2511","v":2},{"$f":"Levelisation!K2511","v":2},{"$f":"Levelisation!L2511","v":3},5,5,5,5,5,5,7.5,null,null,null,null,null,null,null,null,null,null,null,null,null,null,"3.02 > Belize",841,32," "]
[{"$f":"INDEX(Country!$F$31:$G$76, MATCH(AI856, Country!$O$31:$O$76, 0), 1)","v":3.0199999999999996},{"$f":"INDEX(Country!$F$31:$G$76, MATCH(AI856, Country!$O$31:$O$76, 0), 2)","v":"Value chains by clean energy sector"},{"$f":"INDEX(Country!$K$31:$K$76, MATCH(AI856, Country!$O$31:$O$76, 0), 1)","v":"Value Chains"},"Bolivia",{"$f":"Levelisation!F2512","v":3},{"$f":"Levelisation!G2512","v":3},{"$f":"Levelisation!H2512","v":3},{"$f":"Levelisation!I2512","v":3},{"$f":"Levelisation!J2512","v":3},{"$f":"Levelisation!K2512","v":3},{"$f":"Levelisation!L2512","v":4},7.5,7.5,7.5,7.5,7.5,7.5,10,null,null,null,null,null,null,null,null,null,null,null,null,null,null,"3.02 > Bolivia",842,32," "]
[{"$f":"INDEX(Country!$F$31:$G$76, MATCH(AI857, Country!$O$31:$O$76, 0), 1)","v":3.0199999999999996},{"$f":"INDEX(Country!$F$31:$G$76, MATCH(AI857, Country!$O$31:$O$76, 0), 2)","v":"Value chains by clean energy sector"},{"$f":"INDEX(Country!$K$31:$K$76, MATCH(AI857, Country!$O$31:$O$76, 0), 1)","v":"Value Chains"},"Brazil",{"$f":"Levelisation!F2513","v":26},{"$f":"Levelisation!G2513","v":26},{"$f":"Levelisation!H2513","v":26},{"$f":"Levelisation!I2513","v":26},{"$f":"Levelisation!J2513","v":26},{"$f":"Levelisation!K2513","v":26},{"$f":"Levelisation!L2513","v":30},{"$f":"IFERROR(dbl_BenchmarkMax*E857/ SUMIFS(E$15:E$1256, $D$15:$D$1256, \"Benchmark\", $B$15:$B$1256,$B857), 0)","v":65},{"$f":"IFERROR(dbl_BenchmarkMax*F857/ SUMIFS(F$15:F$1256, $D$15:$D$1256, \"Benchmark\", $B$15:$B$1256,$B857), 0)","v":65},65,65,65,65,75,null,null,null,null,null,null,null,null,null,null,null,null,null,null,"3.02 > Brazil",843,32," "]
[{"$f":"INDEX(Country!$F$31:$G$76, MATCH(AI858, Country!$O$31:$O$76, 0), 1)","v":3.0199999999999996},{"$f":"INDEX(Country!$F$31:$G$76, MATCH(AI858, Country!$O$31:$O$76, 0), 2)","v":"Value chains by clean energy sector"},{"$f":"INDEX(Country!$K$31:$K$76, MATCH(AI858, Country!$O$31:$O$76, 0), 1)","v":"Value Chains"},"Chile",{"$f":"Levelisation!F2514","v":20},{"$f":"Levelisation!G2514","v":20},{"$f":"Levelisation!H2514","v":20},{"$f":"Levelisation!I2514","v":20},{"$f":"Levelisation!J2514","v":20},{"$f":"Levelisation!K2514","v":20},{"$f":"Levelisation!L2514","v":26},50,50,50,50,50,50,65,null,null,null,null,null,null,null,null,null,null,null,null,null,null,"3.02 > Chile",844,32," "]
[{"$f":"INDEX(Country!$F$31:$G$76, MATCH(AI859, Country!$O$31:$O$76, 0), 1)","v":3.0199999999999996},{"$f":"INDEX(Country!$F$31:$G$76, MATCH(AI859, Country!$O$31:$O$76, 0), 2)","v":"Value chains by clean energy sector"},{"$f":"INDEX(Country!$K$31:$K$76, MATCH(AI859, Country!$O$31:$O$76, 0), 1)","v":"Value Chains"},"Colombia",{"$f":"Levelisation!F2515","v":11},{"$f":"Levelisation!G2515","v":11},{"$f":"Levelisation!H2515","v":11},{"$f":"Levelisation!I2515","v":11},{"$f":"Levelisation!J2515","v":11},{"$f":"Levelisation!K2515","v":11},{"$f":"Levelisation!L2515","v":16},27.5,27.5,27.5,27.5,27.5,27.5,40,null,null,null,null,null,null,null,null,null,null,null,null,null,null,"3.02 > Colombia",845,32," "]
[{"$f":"INDEX(Country!$F$31:$G$76, MATCH(AI860, Country!$O$31:$O$76, 0), 1)","v":3.0199999999999996},{"$f":"INDEX(Country!$F$31:$G$76, MATCH(AI860, Country!$O$31:$O$76, 0), 2)","v":"Value chains by clean energy sector"},{"$f":"INDEX(Country!$K$31:$K$76, MATCH(AI860, Country!$O$31:$O$76, 0), 1)","v":"Value Chains"},"Costa Rica",{"$f":"Levelisation!F2516","v":12},{"$f":"Levelisation!G2516","v":12},{"$f":"Levelisation!H2516","v":12},{"$f":"Levelisation!I2516","v":12},{"$f":"Levelisation!J2516","v":12},{"$f":"Levelisation!K2516","v":12},{"$f":"Levelisation!L2516","v":17},30,30,30,30,30,30,42.5,null,null,null,null,null,null,null,null,null,null,null,null,null,null,"3.02 > Costa Rica",846,32," "]
[{"$f":"INDEX(Country!$F$31:$G$76, MATCH(AI861, Country!$O$31:$O$76, 0), 1)","v":3.0199999999999996},{"$f":"INDEX(Country!$F$31:$G$76, MATCH(AI861, Country!$O$31:$O$76, 0), 2)","v":"Value chains by clean energy sector"},{"$f":"INDEX(Country!$K$31:$K$76, MATCH(AI861, Country!$O$31:$O$76, 0), 1)","v":"Value Chains"},"Dominican Republic",{"$f":"Levelisation!F2517","v":2},{"$f":"Levelisation!G2517","v":2},{"$f":"Levelisation!H2517","v":2},{"$f":"Levelisation!I2517","v":2},{"$f":"Levelisation!J2517","v":2},{"$f":"Levelisation!K2517","v":2},{"$f":"Levelisation!L2517","v":7},5,5,5,5,5,5,17.5,null,null,null,null,null,null,null,null,null,null,null,null,null,null,"3.02 > Dominican Republic",847,32," "]
[{"$f":"INDEX(Country!$F$31:$G$76, MATCH(AI862, Country!$O$31:$O$76, 0), 1)","v":3.0199999999999996},{"$f":"INDEX(Country!$F$31:$G$76, MATCH(AI862, Country!$O$31:$O$76, 0), 2)","v":"Value chains by clean energy sector"},{"$f":"INDEX(Country!$K$31:$K$76, MATCH(AI862, Country!$O$31:$O$76, 0), 1)","v":"Value Chains"},"Ecuador",{"$f":"Levelisation!F2518","v":6},{"$f":"Levelisation!G2518","v":6},{"$f":"Levelisation!H2518","v":6},{"$f":"Levelisation!I2518","v":6},{"$f":"Levelisation!J2518","v":6},{"$f":"Levelisation!K2518","v":6},{"$f":"Levelisation!L2518","v":10},15,15,15,15,15,15,25,null,null,null,null,null,null,null,null,null,null,null,null,null,null,"3.02 > Ecuador",848,32," "]
[{"$f":"INDEX(Country!$F$31:$G$76, MATCH(AI863, Country!$O$31:$O$76, 0), 1)","v":3.0199999999999996},{"$f":"INDEX(Country!$F$31:$G$76, MATCH(AI863, Country!$O$31:$O$76, 0), 2)","v":"Value chains by clean energy sector"},{"$f":"INDEX(Country!$K$31:$K$76, MATCH(AI863, Country!$O$31:$O$76, 0), 1)","v":"Value Chains"},"El Salvador",{"$f":"Levelisation!F2519","v":10},{"$f":"Levelisation!G2519","v":10},{"$f":"Levelisation!H2519","v":10},{"$f":"Levelisation!I2519","v":10},{"$f":"Levelisation!J2519","v":10},{"$f":"Levelisation!K2519","v":10},{"$f":"Levelisation!L2519","v":13},25,25,25,25,25,25,32.5,null,null,null,null,null,null,null,null,null,null,null,null,null,null,"3.02 > El Salvador",849,32," "]
[{"$f":"INDEX(Country!$F$31:$G$76, MATCH(AI864, Country!$O$31:$O$76, 0), 1)","v":3.0199999999999996},{"$f":"INDEX(Country!$F$31:$G$76, MATCH(AI864, Country!$O$31:$O$76, 0), 2)","v":"Value chains by clean energy sector"},{"$f":"INDEX(Country!$K$31:$K$76, MATCH(AI864, Country!$O$31:$O$76, 0), 1)","v":"Value Chains"},"Guatemala",{"$f":"Levelisation!F2520","v":14},{"$f":"Levelisation!G2520","v":14},{"$f":"Levelisation!H2520","v":14},{"$f":"Levelisation!I2520","v":14},{"$f":"Levelisation!J2520","v":14},{"$f":"Levelisation!K2520","v":14},{"$f":"Levelisation!L2520","v":14},35,35,35,35,35,35,35,null,null,null,null,null,null,null,null,null,null,null,null,null,null,"3.02 > Guatemala",850,32," "]
[{"$f":"INDEX(Country!$F$31:$G$76, MATCH(AI865, Country!$O$31:$O$76, 0), 1)","v":3.0199999999999996},{"$f":"INDEX(Country!$F$31:$G$76, MATCH(AI865, Country!$O$31:$O$76, 0), 2)","v":"Value chains by clean energy sector"},{"$f":"INDEX(Country!$K$31:$K$76, MATCH(AI865, Country!$O$31:$O$76, 0), 1)","v":"Value Chains"},"Guyana",{"$f":"Levelisation!F2521","v":1},{"$f":"Levelisation!G2521","v":1},{"$f":"Levelisation!H2521","v":1},{"$f":"Levelisation!I2521","v":1},{"$f":"Levelisation!J2521","v":1},{"$f":"Levelisation!K2521","v":1},{"$f":"Levelisation!L2521","v":2},2.5,2.5,2.5,2.5,2.5,2.5,5,null,null,null,null,null,null,null,null,null,null,null,null,null,null,"3.02 > Guyana",851,32," "]
[{"$f":"INDEX(Country!$F$31:$G$76, MATCH(AI866, Country!$O$31:$O$76, 0), 1)","v":3.0199999999999996},{"$f":"INDEX(Country!$F$31:$G$76, MATCH(AI866, Country!$O$31:$O$76, 0), 2)","v":"Value chains by clean energy sector"},{"$f":"INDEX(Country!$K$31:$K$76, MATCH(AI866, Country!$O$31:$O$76, 0), 1)","v":"Value Chains"},"Haiti",{"$f":"Levelisation!F2522","v":2},{"$f":"Levelisation!G2522","v":2},{"$f":"Levelisation!H2522","v":2},{"$f":"Levelisation!I2522","v":2},{"$f":"Levelisation!J2522","v":2},{"$f":"Levelisation!K2522","v":2},{"$f":"Levelisation!L2522","v":3},5,5,5,5,5,5,7.5,null,null,null,null,null,null,null,null,null,null,null,null,null,null,"3.02 > Haiti",852,32," "]
[{"$f":"INDEX(Country!$F$31:$G$76, MATCH(AI867, Country!$O$31:$O$76, 0), 1)","v":3.0199999999999996},{"$f":"INDEX(Country!$F$31:$G$76, MATCH(AI867, Country!$O$31:$O$76, 0), 2)","v":"Value chains by clean energy sector"},{"$f":"INDEX(Country!$K$31:$K$76, MATCH(AI867, Country!$O$31:$O$76, 0), 1)","v":"Value Chains"},"Honduras",{"$f":"Levelisation!F2523","v":9},{"$f":"Levelisation!G2523","v":9},{"$f":"Levelisation!H2523","v":9},{"$f":"Levelisation!I2523","v":9},{"$f":"Levelisation!J2523","v":9},{"$f":"Levelisation!K2523","v":9},{"$f":"Levelisation!L2523","v":10},22.5,22.5,22.5,22.5,22.5,22.5,25,null,null,null,null,null,null,null,null,null,null,null,null,null,null,"3.02 > Honduras",853,32," "]
[{"$f":"INDEX(Country!$F$31:$G$76, MATCH(AI868, Country!$O$31:$O$76, 0), 1)","v":3.0199999999999996},{"$f":"INDEX(Country!$F$31:$G$76, MATCH(AI868, Country!$O$31:$O$76, 0), 2)","v":"Value chains by clean energy sector"},{"$f":"INDEX(Country!$K$31:$K$76, MATCH(AI868, Country!$O$31:$O$76, 0), 1)","v":"Value Chains"},"Jamaica",{"$f":"Levelisation!F2524","v":4},{"$f":"Levelisation!G2524","v":4},{"$f":"Levelisation!H2524","v":4},{"$f":"Levelisation!I2524","v":4},{"$f":"Levelisation!J2524","v":4},{"$f":"Levelisation!K2524","v":4},{"$f":"Levelisation!L2524","v":9},10,10,10,10,10,10,22.5,null,null,null,null,null,null,null,null,null,null,null,null,null,null,"3.02 > Jamaica",854,32," "]
[{"$f":"INDEX(Country!$F$31:$G$76, MATCH(AI869, Country!$O$31:$O$76, 0), 1)","v":3.0199999999999996},{"$f":"INDEX(Country!$F$31:$G$76, MATCH(AI869, Country!$O$31:$O$76, 0), 2)","v":"Value chains by clean energy sector"},{"$f":"INDEX(Country!$K$31:$K$76, MATCH(AI869, Country!$O$31:$O$76, 0), 1)","v":"Value Chains"},"Mexico",{"$f":"Levelisation!F2525","v":22},{"$f":"Levelisation!G2525","v":22},{"$f":"Levelisation!H2525","v":22},{"$f":"Levelisation!I2525","v":22},{"$f":"Levelisation!J2525","v":22},{"$f":"Levelisation!K2525","v":22},{"$f":"Levelisation!L2525","v":25},55,55,55,55,55,55,62.5,null,null,null,null,null,null,null,null,null,null,null,null,null,null,"3.02 > Mexico",855,32," "]
[{"$f":"INDEX(Country!$F$31:$G$76, MATCH(AI870, Country!$O$31:$O$76, 0), 1)","v":3.0199999999999996},{"$f":"INDEX(Country!$F$31:$G$76, MATCH(AI870, Country!$O$31:$O$76, 0), 2)","v":"Value chains by clean energy sector"},{"$f":"INDEX(Country!$K$31:$K$76, MATCH(AI870, Country!$O$31:$O$76, 0), 1)","v":"Value Chains"},"Nicaragua",{"$f":"Levelisation!F2526","v":6},{"$f":"Levelisation!G2526","v":6},{"$f":"Levelisation!H2526","v":6},{"$f":"Levelisation!I2526","v":6},{"$f":"Levelisation!J2526","v":6},{"$f":"Levelisation!K2526","v":6},{"$f":"Levelisation!L2526","v":12},15,15,15,15,15,15,30,null,null,null,null,null,null,null,null,null,null,null,null,null,null,"3.02 > Nicaragua",856,32," "]
[{"$f":"INDEX(Country!$F$31:$G$76, MATCH(AI871, Country!$O$31:$O$76, 0), 1)","v":3.0199999999999996},{"$f":"INDEX(Country!$F$31:$G$76, MATCH(AI871, Country!$O$31:$O$76, 0), 2)","v":"Value chains by clean energy sector"},{"$f":"INDEX(Country!$K$31:$K$76, MATCH(AI871, Country!$O$31:$O$76, 0), 1)","v":"Value Chains"},"Panama",{"$f":"Levelisation!F2527","v":5},{"$f":"Levelisation!G2527","v":5},{"$f":"Levelisation!H2527","v":5},{"$f":"Levelisation!I2527","v":5},{"$f":"Levelisation!J2527","v":5},{"$f":"Levelisation!K2527","v":5},{"$f":"Levelisation!L2527","v":8},12.5,12.5,12.5,12.5,12.5,12.5,20,null,null,null,null,null,null,null,null,null,null,null,null,null,null,"3.02 > Panama",857,32," "]
[{"$f":"INDEX(Country!$F$31:$G$76, MATCH(AI872, Country!$O$31:$O$76, 0), 1)","v":3.0199999999999996},{"$f":"INDEX(Country!$F$31:$G$76, MATCH(AI872, Country!$O$31:$O$76, 0), 2)","v":"Value chains by clean energy sector"},{"$f":"INDEX(Country!$K$31:$K$76, MATCH(AI872, Country!$O$31:$O$76, 0), 1)","v":"Value Chains"},"Paraguay",{"$f":"Levelisation!F2528","v":3},{"$f":"Levelisation!G2528","v":3},{"$f":"Levelisation!H2528","v":3},{"$f":"Levelisation!I2528","v":3},{"$f":"Levelisation!J2528","v":3},{"$f":"Levelisation!K2528","v":3},{"$f":"Levelisation!L2528","v":6},7.5,7.5,7.5,7.5,7.5,7.5,15,null,null,null,null,null,null,null,null,null,null,null,null,null,null,"3.02 > Paraguay",858,32," "]
[{"$f":"INDEX(Country!$F$31:$G$76, MATCH(AI873, Country!$O$31:$O$76, 0), 1)","v":3.0199999999999996},{"$f":"INDEX(Country!$F$31:$G$76, MATCH(AI873, Country!$O$31:$O$76, 0), 2)","v":"Value chains by clean energy sector"},{"$f":"INDEX(Country!$K$31:$K$76, MATCH(AI873, Country!$O$31:$O$76, 0), 1)","v":"Value Chains"},"Peru",{"$f":"Levelisation!F2529","v":15},{"$f":"Levelisation!G2529","v":15},{"$f":"Levelisation!H2529","v":15},{"$f":"Levelisation!I2529","v":15},{"$f":"Levelisation!J2529","v":15},{"$f":"Levelisation!K2529","v":15},{"$f":"Levelisation!L2529","v":17},37.5,37.5,37.5,37.5,37.5,37.5,42.5,null,null,null,null,null,null,null,null,null,null,null,null,null,null,"3.02 > Peru",859,32," "]
[{"$f":"INDEX(Country!$F$31:$G$76, MATCH(AI874, Country!$O$31:$O$76, 0), 1)","v":3.0199999999999996},{"$f":"INDEX(Country!$F$31:$G$76, MATCH(AI874, Country!$O$31:$O$76, 0), 2)","v":"Value chains by clean energy sector"},{"$f":"INDEX(Country!$K$31:$K$76, MATCH(AI874, Country!$O$31:$O$76, 0), 1)","v":"Value Chains"},"Suriname",{"$f":"Levelisation!F2530","v":1},{"$f":"Levelisation!G2530","v":1},{"$f":"Levelisation!H2530","v":1},{"$f":"Levelisation!I2530","v":1},{"$f":"Levelisation!J2530","v":1},{"$f":"Levelisation!K2530","v":1},{"$f":"Levelisation!L2530","v":3},2.5,2.5,2.5,2.5,2.5,2.5,7.5,null,null,null,null,null,null,null,null,null,null,null,null,null,null,"3.02 > Suriname",860,32," "]
[{"$f":"INDEX(Country!$F$31:$G$76, MATCH(AI875, Country!$O$31:$O$76, 0), 1)","v":3.0199999999999996},{"$f":"INDEX(Country!$F$31:$G$76, MATCH(AI875, Country!$O$31:$O$76, 0), 2)","v":"Value chains by clean energy sector"},{"$f":"INDEX(Country!$K$31:$K$76, MATCH(AI875, Country!$O$31:$O$76, 0), 1)","v":"Value Chains"},"Trinidad & Tobago",{"$f":"Levelisation!F2531","v":2},{"$f":"Levelisation!G2531","v":2},{"$f":"Levelisation!H2531","v":2},{"$f":"Levelisation!I2531","v":2},{"$f":"Levelisation!J2531","v":2},{"$f":"Levelisation!K2531","v":2},{"$f":"Levelisation!L2531","v":2},5,5,5,5,5,5,5,null,null,null,null,null,null,null,null,null,null,null,null,null,null,"3.02 > Trinidad & Tobago",861,32," "]
[{"$f":"INDEX(Country!$F$31:$G$76, MATCH(AI876, Country!$O$31:$O$76, 0), 1)","v":3.0199999999999996},{"$f":"INDEX(Country!$F$31:$G$76, MATCH(AI876, Country!$O$31:$O$76, 0), 2)","v":"Value chains by clean energy sector"},{"$f":"INDEX(Country!$K$31:$K$76, MATCH(AI876, Country!$O$31:$O$76, 0), 1)","v":"Value Chains"},"Uruguay",{"$f":"Levelisation!F2532","v":9},{"$f":"Levelisation!G2532","v":9},{"$f":"Levelisation!H2532","v":9},{"$f":"Levelisation!I2532","v":9},{"$f":"Levelisation!J2532","v":9},{"$f":"Levelisation!K2532","v":9},{"$f":"Levelisation!L2532","v":15},22.5,22.5,22.5,22.5,22.5,22.5,37.5,null,null,null,null,null,null,null,null,null,null,null,null,null,null,"3.02 > Uruguay",862,32," "]
[{"$f":"INDEX(Country!$F$31:$G$76, MATCH(AI877, Country!$O$31:$O$76, 0), 1)","v":3.0199999999999996},{"$f":"INDEX(Country!$F$31:$G$76, MATCH(AI877, Country!$O$31:$O$76, 0), 2)","v":"Value chains by clean energy sector"},{"$f":"INDEX(Country!$K$31:$K$76, MATCH(AI877, Country!$O$31:$O$76, 0), 1)","v":"Value Chains"},"Venezuela",{"$f":"Levelisation!F2533","v":2},{"$f":"Levelisation!G2533","v":2},{"$f":"Levelisation!H2533","v":2},{"$f":"Levelisation!I2533","v":2},{"$f":"Levelisation!J2533","v":2},{"$f":"Levelisation!K2533","v":2},{"$f":"Levelisation!L2533","v":5},5,5,5,5,5,5,12.5,null,null,null,null,null,null,null,null,null,null,null,null,null,null,"3.02 > Venezuela",863,32," "]
[{"$f":"INDEX(Country!$F$31:$G$76, MATCH(AI878, Country!$O$31:$O$76, 0), 1)","v":3.0199999999999996},{"$f":"INDEX(Country!$F$31:$G$76, MATCH(AI878, Country!$O$31:$O$76, 0), 2)","v":"Value chains by clean energy sector"},{"$f":"INDEX(Country!$K$31:$K$76, MATCH(AI878, Country!$O$31:$O$76, 0), 1)","v":"Value Chains"},"Benchmark",40,40,40,40,40,40,40,100,100,100,100,100,100,100,null,null,null,null,null,null,null,null,null,null,null,null,null,null,"3.02 > Benchmark",864,32," "]
[{"$f":"INDEX(Country!$F$31:$G$76, MATCH(AI879, Country!$O$31:$O$76, 0), 1)","v":3.0299999999999994},{"$f":"INDEX(Country!$F$31:$G$76, MATCH(AI879, Country!$O$31:$O$76, 0), 2)","v":"Clean energy service providers"},{"$f":"INDEX(Country!$K$31:$K$76, MATCH(AI879, Country!$O$31:$O$76, 0), 1)","v":"Sevice Providers"},"Argentina",{"$f":"Levelisation!F1336","v":6},{"$f":"Levelisation!G1336","v":6},{"$f":"Levelisation!H1336","v":6},{"$f":"Levelisation!I1336","v":6},{"$f":"Levelisation!J1336","v":6},{"$f":"Levelisation!K1336","v":6},{"$f":"Levelisation!L1336","v":8},30,30,30,30,30,30,40,null,null,null,null,null,null,null,null,null,null,null,null,null,null,"3.03 > Argentina",865,33," "]
[{"$f":"INDEX(Country!$F$31:$G$76, MATCH(AI880, Country!$O$31:$O$76, 0), 1)","v":3.0299999999999994},{"$f":"INDEX(Country!$F$31:$G$76, MATCH(AI880, Country!$O$31:$O$76, 0), 2)","v":"Clean energy service providers"},{"$f":"INDEX(Country!$K$31:$K$76, MATCH(AI880, Country!$O$31:$O$76, 0), 1)","v":"Sevice Providers"},"Bahamas",{"$f":"Levelisation!F1337","v":2},{"$f":"Levelisation!G1337","v":2},{"$f":"Levelisation!H1337","v":2},{"$f":"Levelisation!I1337","v":2},{"$f":"Levelisation!J1337","v":2},{"$f":"Levelisation!K1337","v":2},{"$f":"Levelisation!L1337","v":2},10,10,10,10,10,10,10,null,null,null,null,null,null,null,null,null,null,null,null,null,null,"3.03 > Bahamas",866,33," "]
[{"$f":"INDEX(Country!$F$31:$G$76, MATCH(AI881, Country!$O$31:$O$76, 0), 1)","v":3.0299999999999994},{"$f":"INDEX(Country!$F$31:$G$76, MATCH(AI881, Country!$O$31:$O$76, 0), 2)","v":"Clean energy service providers"},{"$f":"INDEX(Country!$K$31:$K$76, MATCH(AI881, Country!$O$31:$O$76, 0), 1)","v":"Sevice Providers"},"Barbados",{"$f":"Levelisation!F1338","v":3},{"$f":"Levelisation!G1338","v":3},{"$f":"Levelisation!H1338","v":3},{"$f":"Levelisation!I1338","v":3},{"$f":"Levelisation!J1338","v":3},{"$f":"Levelisation!K1338","v":3},{"$f":"Levelisation!L1338","v":3},15,15,15,15,15,15,15,null,null,null,null,null,null,null,null,null,null,null,null,null,null,"3.03 > Barbados",867,33," "]
[{"$f":"INDEX(Country!$F$31:$G$76, MATCH(AI882, Country!$O$31:$O$76, 0), 1)","v":3.0299999999999994},{"$f":"INDEX(Country!$F$31:$G$76, MATCH(AI882, Country!$O$31:$O$76, 0), 2)","v":"Clean energy service providers"},{"$f":"INDEX(Country!$K$31:$K$76, MATCH(AI882, Country!$O$31:$O$76, 0), 1)","v":"Sevice Providers"},"Belize",{"$f":"Levelisation!F1339","v":0},{"$f":"Levelisation!G1339","v":0},{"$f":"Levelisation!H1339","v":0},{"$f":"Levelisation!I1339","v":0},{"$f":"Levelisation!J1339","v":0},{"$f":"Levelisation!K1339","v":0},{"$f":"Levelisation!L1339","v":1},0,0,0,0,0,0,5,null,null,null,null,null,null,null,null,null,null,null,null,null,null,"3.03 > Belize",868,33," "]
[{"$f":"INDEX(Country!$F$31:$G$76, MATCH(AI883, Country!$O$31:$O$76, 0), 1)","v":3.0299999999999994},{"$f":"INDEX(Country!$F$31:$G$76, MATCH(AI883, Country!$O$31:$O$76, 0), 2)","v":"Clean energy service providers"},{"$f":"INDEX(Country!$K$31:$K$76, MATCH(AI883, Country!$O$31:$O$76, 0), 1)","v":"Sevice Providers"},"Bolivia",{"$f":"Levelisation!F1340","v":1},{"$f":"Levelisation!G1340","v":1},{"$f":"Levelisation!H1340","v":1},{"$f":"Levelisation!I1340","v":1},{"$f":"Levelisation!J1340","v":1},{"$f":"Levelisation!K1340","v":1},{"$f":"Levelisation!L1340","v":1},5,5,5,5,5,5,5,null,null,null,null,null,null,null,null,null,null,null,null,null,null,"3.03 > Bolivia",869,33," "]
[{"$f":"INDEX(Country!$F$31:$G$76, MATCH(AI884, Country!$O$31:$O$76, 0), 1)","v":3.0299999999999994},{"$f":"INDEX(Country!$F$31:$G$76, MATCH(AI884, Country!$O$31:$O$76, 0), 2)","v":"Clean energy service providers"},{"$f":"INDEX(Country!$K$31:$K$76, MATCH(AI884, Country!$O$31:$O$76, 0), 1)","v":"Sevice Providers"},"Brazil",{"$f":"Levelisation!F1341","v":16},{"$f":"Levelisation!G1341","v":16},{"$f":"Levelisation!H1341","v":16},{"$f":"Levelisation!I1341","v":16},{"$f":"Levelisation!J1341","v":16},{"$f":"Levelisation!K1341","v":16},{"$f":"Levelisation!L1341","v":18},80,80,80,80,80,80,90,null,null,null,null,null,null,null,null,null,null,null,null,null,null,"3.03 > Brazil",870,33," "]
[{"$f":"INDEX(Country!$F$31:$G$76, MATCH(AI885, Country!$O$31:$O$76, 0), 1)","v":3.0299999999999994},{"$f":"INDEX(Country!$F$31:$G$76, MATCH(AI885, Country!$O$31:$O$76, 0), 2)","v":"Clean energy service providers"},{"$f":"INDEX(Country!$K$31:$K$76, MATCH(AI885, Country!$O$31:$O$76, 0), 1)","v":"Sevice Providers"},{"$f":"D858","v":"Chile"},{"$f":"Levelisation!F1342","v":8},{"$f":"Levelisation!G1342","v":8},{"$f":"Levelisation!H1342","v":8},{"$f":"Levelisation!I1342","v":8},{"$f":"Levelisation!J1342","v":8},{"$f":"Levelisation!K1342","v":8},{"$f":"Levelisation!L1342","v":12},40,40,40,40,40,40,60,null,null,null,null,null,null,null,null,null,null,null,null,null,null,"3.03 > Chile",871,33," "]
[{"$f":"INDEX(Country!$F$31:$G$76, MATCH(AI886, Country!$O$31:$O$76, 0), 1)","v":3.0299999999999994},{"$f":"INDEX(Country!$F$31:$G$76, MATCH(AI886, Country!$O$31:$O$76, 0), 2)","v":"Clean energy service providers"},{"$f":"INDEX(Country!$K$31:$K$76, MATCH(AI886, Country!$O$31:$O$76, 0), 1)","v":"Sevice Providers"},"Colombia",{"$f":"Levelisation!F1343","v":4},{"$f":"Levelisation!G1343","v":4},{"$f":"Levelisation!H1343","v":4},{"$f":"Levelisation!I1343","v":4},{"$f":"Levelisation!J1343","v":4},{"$f":"Levelisation!K1343","v":4},{"$f":"Levelisation!L1343","v":5},20,20,20,20,20,20,25,null,null,null,null,null,null,null,null,null,null,null,null,null,null,"3.03 > Colombia",872,33," "]
[{"$f":"INDEX(Country!$F$31:$G$76, MATCH(AI887, Country!$O$31:$O$76, 0), 1)","v":3.0299999999999994},{"$f":"INDEX(Country!$F$31:$G$76, MATCH(AI887, Country!$O$31:$O$76, 0), 2)","v":"Clean energy service providers"},{"$f":"INDEX(Country!$K$31:$K$76, MATCH(AI887, Country!$O$31:$O$76, 0), 1)","v":"Sevice Providers"},"Costa Rica",{"$f":"Levelisation!F1344","v":5},{"$f":"Levelisation!G1344","v":5},{"$f":"Levelisation!H1344","v":5},{"$f":"Levelisation!I1344","v":5},{"$f":"Levelisation!J1344","v":5},{"$f":"Levelisation!K1344","v":5},{"$f":"Levelisation!L1344","v":5},25,25,25,25,25,25,25,null,null,null,null,null,null,null,null,null,null,null,null,null,null,"3.03 > Costa Rica",873,33," "]
[{"$f":"INDEX(Country!$F$31:$G$76, MATCH(AI888, Country!$O$31:$O$76, 0), 1)","v":3.0299999999999994},{"$f":"INDEX(Country!$F$31:$G$76, MATCH(AI888, Country!$O$31:$O$76, 0), 2)","v":"Clean energy service providers"},{"$f":"INDEX(Country!$K$31:$K$76, MATCH(AI888, Country!$O$31:$O$76, 0), 1)","v":"Sevice Providers"},"Dominican Republic",{"$f":"Levelisation!F1345","v":0},{"$f":"Levelisation!G1345","v":0},{"$f":"Levelisation!H1345","v":0},{"$f":"Levelisation!I1345","v":0},{"$f":"Levelisation!J1345","v":0},{"$f":"Levelisation!K1345","v":0},{"$f":"Levelisation!L1345","v":1},0,0,0,0,0,0,5,null,null,null,null,null,null,null,null,null,null,null,null,null,null,"3.03 > Dominican Republic",874,33," "]
[{"$f":"INDEX(Country!$F$31:$G$76, MATCH(AI889, Country!$O$31:$O$76, 0), 1)","v":3.0299999999999994},{"$f":"INDEX(Country!$F$31:$G$76, MATCH(AI889, Country!$O$31:$O$76, 0), 2)","v":"Clean energy service providers"},{"$f":"INDEX(Country!$K$31:$K$76, MATCH(AI889, Country!$O$31:$O$76, 0), 1)","v":"Sevice Providers"},"Ecuador",{"$f":"Levelisation!F1346","v":0},{"$f":"Levelisation!G1346","v":0},{"$f":"Levelisation!H1346","v":0},{"$f":"Levelisation!I1346","v":0},{"$f":"Levelisation!J1346","v":0},{"$f":"Levelisation!K1346","v":0},{"$f":"Levelisation!L1346","v":2},{"$f":"IFERROR(dbl_BenchmarkMax*E889/ SUMIFS(E$15:E$1256, $D$15:$D$1256, \"Benchmark\", $B$15:$B$1256,$B889), 0)","v":0},{"$f":"IFERROR(dbl_BenchmarkMax*F889/ SUMIFS(F$15:F$1256, $D$15:$D$1256, \"Benchmark\", $B$15:$B$1256,$B889), 0)","v":0},{"$f":"IFERROR(dbl_BenchmarkMax*G889/ SUMIFS(G$15:G$1256, $D$15:$D$1256, \"Benchmark\", $B$15:$B$1256,$B889), 0)","v":0},{"$f":"IFERROR(dbl_BenchmarkMax*H889/ SUMIFS(H$15:H$1256, $D$15:$D$1256, \"Benchmark\", $B$15:$B$1256,$B889), 0)","v":0},{"$f":"IFERROR(dbl_BenchmarkMax*I889/ SUMIFS(I$15:I$1256, $D$15:$D$1256, \"Benchmark\", $B$15:$B$1256,$B889), 0)","v":0},{"$f":"IFERROR(dbl_BenchmarkMax*J889/ SUMIFS(J$15:J$1256, $D$15:$D$1256, \"Benchmark\", $B$15:$B$1256,$B889), 0)","v":0},{"$f":"IFERROR(dbl_BenchmarkMax*K889/ SUMIFS(K$15:K$1256, $D$15:$D$1256, \"Benchmark\", $B$15:$B$1256,$B889), 0)","v":10},null,null,null,null,null,null,null,null,null,null,null,null,null,null,"3.03 > Ecuador",875,33," "]
[{"$f":"INDEX(Country!$F$31:$G$76, MATCH(AI890, Country!$O$31:$O$76, 0), 1)","v":3.0299999999999994},{"$f":"INDEX(Country!$F$31:$G$76, MATCH(AI890, Country!$O$31:$O$76, 0), 2)","v":"Clean energy service providers"},{"$f":"INDEX(Country!$K$31:$K$76, MATCH(AI890, Country!$O$31:$O$76, 0), 1)","v":"Sevice Providers"},"El Salvador",{"$f":"Levelisation!F1347","v":2},{"$f":"Levelisation!G1347","v":2},{"$f":"Levelisation!H1347","v":2},{"$f":"Levelisation!I1347","v":2},{"$f":"Levelisation!J1347","v":2},{"$f":"Levelisation!K1347","v":2},{"$f":"Levelisation!L1347","v":2},10,10,10,10,10,10,10,null,null,null,null,null,null,null,null,null,null,null,null,null,null,"3.03 > El Salvador",876,33," "]
[{"$f":"INDEX(Country!$F$31:$G$76, MATCH(AI891, Country!$O$31:$O$76, 0), 1)","v":3.0299999999999994},{"$f":"INDEX(Country!$F$31:$G$76, MATCH(AI891, Country!$O$31:$O$76, 0), 2)","v":"Clean energy service providers"},{"$f":"INDEX(Country!$K$31:$K$76, MATCH(AI891, Country!$O$31:$O$76, 0), 1)","v":"Sevice Providers"},"Guatemala",{"$f":"Levelisation!F1348","v":1},{"$f":"Levelisation!G1348","v":1},{"$f":"Levelisation!H1348","v":1},{"$f":"Levelisation!I1348","v":1},{"$f":"Levelisation!J1348","v":1},{"$f":"Levelisation!K1348","v":1},{"$f":"Levelisation!L1348","v":2},5,5,5,5,5,5,10,null,null,null,null,null,null,null,null,null,null,null,null,null,null,"3.03 > Guatemala",877,33," "]
[{"$f":"INDEX(Country!$F$31:$G$76, MATCH(AI892, Country!$O$31:$O$76, 0), 1)","v":3.0299999999999994},{"$f":"INDEX(Country!$F$31:$G$76, MATCH(AI892, Country!$O$31:$O$76, 0), 2)","v":"Clean energy service providers"},{"$f":"INDEX(Country!$K$31:$K$76, MATCH(AI892, Country!$O$31:$O$76, 0), 1)","v":"Sevice Providers"},"Guyana",{"$f":"Levelisation!F1349","v":1},{"$f":"Levelisation!G1349","v":1},{"$f":"Levelisation!H1349","v":1},{"$f":"Levelisation!I1349","v":1},{"$f":"Levelisation!J1349","v":1},{"$f":"Levelisation!K1349","v":1},{"$f":"Levelisation!L1349","v":1},5,5,5,5,5,5,5,null,null,null,null,null,null,null,null,null,null,null,null,null,null,"3.03 > Guyana",878,33," "]
[{"$f":"INDEX(Country!$F$31:$G$76, MATCH(AI893, Country!$O$31:$O$76, 0), 1)","v":3.0299999999999994},{"$f":"INDEX(Country!$F$31:$G$76, MATCH(AI893, Country!$O$31:$O$76, 0), 2)","v":"Clean energy service providers"},{"$f":"INDEX(Country!$K$31:$K$76, MATCH(AI893, Country!$O$31:$O$76, 0), 1)","v":"Sevice Providers"},"Haiti",{"$f":"Levelisation!F1350","v":1},{"$f":"Levelisation!G1350","v":1},{"$f":"Levelisation!H1350","v":1},{"$f":"Levelisation!I1350","v":1},{"$f":"Levelisation!J1350","v":1},{"$f":"Levelisation!K1350","v":1},{"$f":"Levelisation!L1350","v":1},5,5,5,5,5,5,5,null,null,null,null,null,null,null,null,null,null,null,null,null,null,"3.03 > Haiti",879,33," "]
[{"$f":"INDEX(Country!$F$31:$G$76, MATCH(AI894, Country!$O$31:$O$76, 0), 1)","v":3.0299999999999994},{"$f":"INDEX(Country!$F$31:$G$76, MATCH(AI894, Country!$O$31:$O$76, 0), 2)","v":"Clean energy service providers"},{"$f":"INDEX(Country!$K$31:$K$76, MATCH(AI894, Country!$O$31:$O$76, 0), 1)","v":"Sevice Providers"},"Honduras",{"$f":"Levelisation!F1351","v":0},{"$f":"Levelisation!G1351","v":0},{"$f":"Levelisation!H1351","v":0},{"$f":"Levelisation!I1351","v":0},{"$f":"Levelisation!J1351","v":0},{"$f":"Levelisation!K1351","v":0},{"$f":"Levelisation!L1351","v":1},0,0,0,0,0,0,5,null,null,null,null,null,null,null,null,null,null,null,null,null,null,"3.03 > Honduras",880,33," "]
[{"$f":"INDEX(Country!$F$31:$G$76, MATCH(AI895, Country!$O$31:$O$76, 0), 1)","v":3.0299999999999994},{"$f":"INDEX(Country!$F$31:$G$76, MATCH(AI895, Country!$O$31:$O$76, 0), 2)","v":"Clean energy service providers"},{"$f":"INDEX(Country!$K$31:$K$76, MATCH(AI895, Country!$O$31:$O$76, 0), 1)","v":"Sevice Providers"},"Jamaica",{"$f":"Levelisation!F1352","v":1},{"$f":"Levelisation!G1352","v":1},{"$f":"Levelisation!H1352","v":1},{"$f":"Levelisation!I1352","v":1},{"$f":"Levelisation!J1352","v":1},{"$f":"Levelisation!K1352","v":1},{"$f":"Levelisation!L1352","v":1},5,5,5,5,5,5,5,null,null,null,null,null,null,null,null,null,null,null,null,null,null,"3.03 > Jamaica",881,33," "]
[{"$f":"INDEX(Country!$F$31:$G$76, MATCH(AI896, Country!$O$31:$O$76, 0), 1)","v":3.0299999999999994},{"$f":"INDEX(Country!$F$31:$G$76, MATCH(AI896, Country!$O$31:$O$76, 0), 2)","v":"Clean energy service providers"},{"$f":"INDEX(Country!$K$31:$K$76, MATCH(AI896, Country!$O$31:$O$76, 0), 1)","v":"Sevice Providers"},"Mexico",{"$f":"Levelisation!F1353","v":7},{"$f":"Levelisation!G1353","v":7},{"$f":"Levelisation!H1353","v":7},{"$f":"Levelisation!I1353","v":7},{"$f":"Levelisation!J1353","v":7},{"$f":"Levelisation!K1353","v":7},{"$f":"Levelisation!L1353","v":12},35,35,35,35,35,35,60,null,null,null,null,null,null,null,null,null,null,null,null,null,null,"3.03 > Mexico",882,33," "]
[{"$f":"INDEX(Country!$F$31:$G$76, MATCH(AI897, Country!$O$31:$O$76, 0), 1)","v":3.0299999999999994},{"$f":"INDEX(Country!$F$31:$G$76, MATCH(AI897, Country!$O$31:$O$76, 0), 2)","v":"Clean energy service providers"},{"$f":"INDEX(Country!$K$31:$K$76, MATCH(AI897, Country!$O$31:$O$76, 0), 1)","v":"Sevice Providers"},"Nicaragua",{"$f":"Levelisation!F1354","v":0},{"$f":"Levelisation!G1354","v":0},{"$f":"Levelisation!H1354","v":0},{"$f":"Levelisation!I1354","v":0},{"$f":"Levelisation!J1354","v":0},{"$f":"Levelisation!K1354","v":0},{"$f":"Levelisation!L1354","v":0},0,0,0,0,0,0,0,null,null,null,null,null,null,null,null,null,null,null,null,null,null,"3.03 > Nicaragua",883,33," "]
[{"$f":"INDEX(Country!$F$31:$G$76, MATCH(AI898, Country!$O$31:$O$76, 0), 1)","v":3.0299999999999994},{"$f":"INDEX(Country!$F$31:$G$76, MATCH(AI898, Country!$O$31:$O$76, 0), 2)","v":"Clean energy service providers"},{"$f":"INDEX(Country!$K$31:$K$76, MATCH(AI898, Country!$O$31:$O$76, 0), 1)","v":"Sevice Providers"},"Panama",{"$f":"Levelisation!F1355","v":3},{"$f":"Levelisation!G1355","v":3},{"$f":"Levelisation!H1355","v":3},{"$f":"Levelisation!I1355","v":3},{"$f":"Levelisation!J1355","v":3},{"$f":"Levelisation!K1355","v":3},{"$f":"Levelisation!L1355","v":3},15,15,15,15,15,15,15,null,null,null,null,null,null,null,null,null,null,null,null,null,null,"3.03 > Panama",884,33," "]
[{"$f":"INDEX(Country!$F$31:$G$76, MATCH(AI899, Country!$O$31:$O$76, 0), 1)","v":3.0299999999999994},{"$f":"INDEX(Country!$F$31:$G$76, MATCH(AI899, Country!$O$31:$O$76, 0), 2)","v":"Clean energy service providers"},{"$f":"INDEX(Country!$K$31:$K$76, MATCH(AI899, Country!$O$31:$O$76, 0), 1)","v":"Sevice Providers"},"Paraguay",{"$f":"Levelisation!F1356","v":0},{"$f":"Levelisation!G1356","v":0},{"$f":"Levelisation!H1356","v":0},{"$f":"Levelisation!I1356","v":0},{"$f":"Levelisation!J1356","v":0},{"$f":"Levelisation!K1356","v":0},{"$f":"Levelisation!L1356","v":0},0,0,0,0,0,0,0,null,null,null,null,null,null,null,null,null,null,null,null,null,null,"3.03 > Paraguay",885,33," "]
[{"$f":"INDEX(Country!$F$31:$G$76, MATCH(AI900, Country!$O$31:$O$76, 0), 1)","v":3.0299999999999994},{"$f":"INDEX(Country!$F$31:$G$76, MATCH(AI900, Country!$O$31:$O$76, 0), 2)","v":"Clean energy service providers"},{"$f":"INDEX(Country!$K$31:$K$76, MATCH(AI900, Country!$O$31:$O$76, 0), 1)","v":"Sevice Providers"},"Peru",{"$f":"Levelisation!F1357","v":5},{"$f":"Levelisation!G1357","v":5},{"$f":"Levelisation!H1357","v":5},{"$f":"Levelisation!I1357","v":5},{"$f":"Levelisation!J1357","v":5},{"$f":"Levelisation!K1357","v":5},{"$f":"Levelisation!L1357","v":9},25,25,25,25,25,25,45,null,null,null,null,null,null,null,null,null,null,null,null,null,null,"3.03 > Peru",886,33," "]
[{"$f":"INDEX(Country!$F$31:$G$76, MATCH(AI901, Country!$O$31:$O$76, 0), 1)","v":3.0299999999999994},{"$f":"INDEX(Country!$F$31:$G$76, MATCH(AI901, Country!$O$31:$O$76, 0), 2)","v":"Clean energy service providers"},{"$f":"INDEX(Country!$K$31:$K$76, MATCH(AI901, Country!$O$31:$O$76, 0), 1)","v":"Sevice Providers"},"Suriname",{"$f":"Levelisation!F1358","v":0},{"$f":"Levelisation!G1358","v":0},{"$f":"Levelisation!H1358","v":0},{"$f":"Levelisation!I1358","v":0},{"$f":"Levelisation!J1358","v":0},{"$f":"Levelisation!K1358","v":0},{"$f":"Levelisation!L1358","v":0},0,0,0,0,0,0,0,null,null,null,null,null,null,null,null,null,null,null,null,null,null,"3.03 > Suriname",887,33," "]
[{"$f":"INDEX(Country!$F$31:$G$76, MATCH(AI902, Country!$O$31:$O$76, 0), 1)","v":3.0299999999999994},{"$f":"INDEX(Country!$F$31:$G$76, MATCH(AI902, Country!$O$31:$O$76, 0), 2)","v":"Clean energy service providers"},{"$f":"INDEX(Country!$K$31:$K$76, MATCH(AI902, Country!$O$31:$O$76, 0), 1)","v":"Sevice Providers"},"Trinidad & Tobago",{"$f":"Levelisation!F1359","v":0},{"$f":"Levelisation!G1359","v":0},{"$f":"Levelisation!H1359","v":0},{"$f":"Levelisation!I1359","v":0},{"$f":"Levelisation!J1359","v":0},{"$f":"Levelisation!K1359","v":0},{"$f":"Levelisation!L1359","v":5},0,0,0,0,0,0,25,null,null,null,null,null,null,null,null,null,null,null,null,null,null,"3.03 > Trinidad & Tobago",888,33," "]
[{"$f":"INDEX(Country!$F$31:$G$76, MATCH(AI903, Country!$O$31:$O$76, 0), 1)","v":3.0299999999999994},{"$f":"INDEX(Country!$F$31:$G$76, MATCH(AI903, Country!$O$31:$O$76, 0), 2)","v":"Clean energy service providers"},{"$f":"INDEX(Country!$K$31:$K$76, MATCH(AI903, Country!$O$31:$O$76, 0), 1)","v":"Sevice Providers"},"Uruguay",{"$f":"Levelisation!F1360","v":3},{"$f":"Levelisation!G1360","v":3},{"$f":"Levelisation!H1360","v":3},{"$f":"Levelisation!I1360","v":3},{"$f":"Levelisation!J1360","v":3},{"$f":"Levelisation!K1360","v":3},{"$f":"Levelisation!L1360","v":4},15,15,15,15,15,15,20,null,null,null,null,null,null,null,null,null,null,null,null,null,null,"3.03 > Uruguay",889,33," "]
[{"$f":"INDEX(Country!$F$31:$G$76, MATCH(AI904, Country!$O$31:$O$76, 0), 1)","v":3.0299999999999994},{"$f":"INDEX(Country!$F$31:$G$76, MATCH(AI904, Country!$O$31:$O$76, 0), 2)","v":"Clean energy service providers"},{"$f":"INDEX(Country!$K$31:$K$76, MATCH(AI904, Country!$O$31:$O$76, 0), 1)","v":"Sevice Providers"},"Venezuela",{"$f":"Levelisation!F1361","v":2},{"$f":"Levelisation!G1361","v":2},{"$f":"Levelisation!H1361","v":2},{"$f":"Levelisation!I1361","v":2},{"$f":"Levelisation!J1361","v":2},{"$f":"Levelisation!K1361","v":2},{"$f":"Levelisation!L1361","v":2},10,10,10,10,10,10,10,null,null,null,null,null,null,null,null,null,null,null,null,null,null,"3.03 > Venezuela",890,33," "]
[{"$f":"INDEX(Country!$F$31:$G$76, MATCH(AI905, Country!$O$31:$O$76, 0), 1)","v":3.0299999999999994},{"$f":"INDEX(Country!$F$31:$G$76, MATCH(AI905, Country!$O$31:$O$76, 0), 2)","v":"Clean energy service providers"},{"$f":"INDEX(Country!$K$31:$K$76, MATCH(AI905, Country!$O$31:$O$76, 0), 1)","v":"Sevice Providers"},"Benchmark",20,20,20,20,20,20,20,100,100,100,100,100,100,100,null,null,null,null,null,null,null,"Hard Coded Scores (Benchmark Base 4)",null,null,null,null,null,null,"3.03 > Benchmark",891,33," "]
[{"$f":"INDEX(Country!$F$31:$G$76, MATCH(AI906, Country!$O$31:$O$76, 0), 1)","v":4.01},{"$f":"INDEX(Country!$F$31:$G$76, MATCH(AI906, Country!$O$31:$O$76, 0), 2)","v":"Carbon offsets historical activity"},{"$f":"INDEX(Country!$K$31:$K$76, MATCH(AI906, Country!$O$31:$O$76, 0), 1)","v":"Projects"},"Argentina",{"$f":"F906","v":39},{"$f":"G906","v":39},39,39,{"$f":"K906","v":39},103.04933314886553,39,{"$f":"(Z906/4)*dbl_BenchmarkMax","v":100},{"$f":"(AA906/4)*dbl_BenchmarkMax","v":100},{"$f":"(AB906/4)*dbl_BenchmarkMax","v":100},{"$f":"(AC906/4)*dbl_BenchmarkMax","v":100},{"$f":"(AD906/4)*dbl_BenchmarkMax","v":100},{"$f":"(AE906/4)*dbl_BenchmarkMax","v":100},{"$f":"(AF906/4)*dbl_BenchmarkMax","v":100},null,null,null,null,null,null,null,{"$f":"AA906","v":4},4,4,{"$f":"AD906","v":4},{"$f":"AE906","v":4},{"$f":"AF906","v":4},4,"4.01 > Argentina",892,34," "]
[{"$f":"INDEX(Country!$F$31:$G$76, MATCH(AI907, Country!$O$31:$O$76, 0), 1)","v":4.01},{"$f":"INDEX(Country!$F$31:$G$76, MATCH(AI907, Country!$O$31:$O$76, 0), 2)","v":"Carbon offsets historical activity"},{"$f":"INDEX(Country!$K$31:$K$76, MATCH(AI907, Country!$O$31:$O$76, 0), 1)","v":"Projects"},"Bahamas",{"$f":"F907","v":2},2,2,2,2,25.97608695652174,2,25,25,25,25,25,25,25,null,null,null,null,null,null,null,{"$f":"AA907","v":1},1,1,1,1,1,1,"4.01 > Bahamas",893,34," "]
[{"$f":"INDEX(Country!$F$31:$G$76, MATCH(AI908, Country!$O$31:$O$76, 0), 1)","v":4.01},{"$f":"INDEX(Country!$F$31:$G$76, MATCH(AI908, Country!$O$31:$O$76, 0), 2)","v":"Carbon offsets historical activity"},{"$f":"INDEX(Country!$K$31:$K$76, MATCH(AI908, Country!$O$31:$O$76, 0), 1)","v":"Projects"},"Barbados",{"$f":"F908","v":0},0,0,0,0,0,0,0,0,0,0,0,0,0,null,null,null,null,null,null,null,{"$f":"AA908","v":0},0,0,0,0,0,0,"4.01 > Barbados",894,34," "]
[{"$f":"INDEX(Country!$F$31:$G$76, MATCH(AI909, Country!$O$31:$O$76, 0), 1)","v":4.01},{"$f":"INDEX(Country!$F$31:$G$76, MATCH(AI909, Country!$O$31:$O$76, 0), 2)","v":"Carbon offsets historical activity"},{"$f":"INDEX(Country!$K$31:$K$76, MATCH(AI909, Country!$O$31:$O$76, 0), 1)","v":"Projects"},"Belize",{"$f":"F909","v":3},3,3,3,3,189.59714285714287,3,0,0,0,0,0,0,0,null,null,null,null,null,null,null,{"$f":"AA909","v":0},0,0,0,0,0,0,"4.01 > Belize",895,34," "]
[{"$f":"INDEX(Country!$F$31:$G$76, MATCH(AI910, Country!$O$31:$O$76, 0), 1)","v":4.01},{"$f":"INDEX(Country!$F$31:$G$76, MATCH(AI910, Country!$O$31:$O$76, 0), 2)","v":"Carbon offsets historical activity"},{"$f":"INDEX(Country!$K$31:$K$76, MATCH(AI910, Country!$O$31:$O$76, 0), 1)","v":"Projects"},"Bolivia",{"$f":"F910","v":9},9,9,9,9,21.822382382382383,9,50,50,50,50,50,50,50,null,null,null,null,null,null,null,{"$f":"AA910","v":2},2,2,2,2,2,2,"4.01 > Bolivia",896,34," "]
[{"$f":"INDEX(Country!$F$31:$G$76, MATCH(AI911, Country!$O$31:$O$76, 0), 1)","v":4.01},{"$f":"INDEX(Country!$F$31:$G$76, MATCH(AI911, Country!$O$31:$O$76, 0), 2)","v":"Carbon offsets historical activity"},{"$f":"INDEX(Country!$K$31:$K$76, MATCH(AI911, Country!$O$31:$O$76, 0), 1)","v":"Projects"},"Brazil",{"$f":"F911","v":345},345,345,345,345,77.940044719386364,345,100,100,100,100,100,100,100,null,null,null,null,null,null,null,{"$f":"AA911","v":4},4,4,4,4,4,4,{"$f":"A911&\" > \" &D911","v":"4.01 > Brazil"},897,34," "]
[{"$f":"INDEX(Country!$F$31:$G$76, MATCH(AI912, Country!$O$31:$O$76, 0), 1)","v":4.01},{"$f":"INDEX(Country!$F$31:$G$76, MATCH(AI912, Country!$O$31:$O$76, 0), 2)","v":"Carbon offsets historical activity"},{"$f":"INDEX(Country!$K$31:$K$76, MATCH(AI912, Country!$O$31:$O$76, 0), 1)","v":"Projects"},"Chile",{"$f":"F912","v":85},85,85,85,85,491.44698863636376,85,100,100,100,100,100,100,100,null,null,null,null,null,null,null,{"$f":"AA912","v":4},4,4,4,4,4,4,"4.01 > Chile",898,34," "]
[{"$f":"INDEX(Country!$F$31:$G$76, MATCH(AI913, Country!$O$31:$O$76, 0), 1)","v":4.01},{"$f":"INDEX(Country!$F$31:$G$76, MATCH(AI913, Country!$O$31:$O$76, 0), 2)","v":"Carbon offsets historical activity"},{"$f":"INDEX(Country!$K$31:$K$76, MATCH(AI913, Country!$O$31:$O$76, 0), 1)","v":"Projects"},"Colombia",{"$f":"F913","v":51},51,51,51,51,138.37700574712645,51,75,75,75,75,75,75,75,null,null,null,null,null,null,null,{"$f":"AA913","v":3},3,3,3,3,3,3,"4.01 > Colombia",{"$f":"AH912+1","v":899},{"$f":"ROUNDUP(AH913/COUNTA($D$15:$D$41),0)","v":34}," "]
[{"$f":"INDEX(Country!$F$31:$G$76, MATCH(AI914, Country!$O$31:$O$76, 0), 1)","v":4.01},{"$f":"INDEX(Country!$F$31:$G$76, MATCH(AI914, Country!$O$31:$O$76, 0), 2)","v":"Carbon offsets historical activity"},{"$f":"INDEX(Country!$K$31:$K$76, MATCH(AI914, Country!$O$31:$O$76, 0), 1)","v":"Projects"},"Costa Rica",{"$f":"F914","v":13},13,13,13,13,331.02232996633001,13,25,25,25,25,25,25,25,null,null,null,null,null,null,null,{"$f":"AA914","v":1},1,1,1,1,1,1,"4.01 > Costa Rica",900,34," "]
[{"$f":"INDEX(Country!$F$31:$G$76, MATCH(AI915, Country!$O$31:$O$76, 0), 1)","v":4.01},{"$f":"INDEX(Country!$F$31:$G$76, MATCH(AI915, Country!$O$31:$O$76, 0), 2)","v":"Carbon offsets historical activity"},{"$f":"INDEX(Country!$K$31:$K$76, MATCH(AI915, Country!$O$31:$O$76, 0), 1)","v":"Projects"},"Dominican Republic",{"$f":"F915","v":11},11,11,11,11,158.13432835820893,11,0,0,0,0,0,0,0,null,null,null,null,null,null,null,{"$f":"AA915","v":0},0,0,0,0,0,0,"4.01 > Dominican Republic",901,34," "]
[{"$f":"INDEX(Country!$F$31:$G$76, MATCH(AI916, Country!$O$31:$O$76, 0), 1)","v":4.01},{"$f":"INDEX(Country!$F$31:$G$76, MATCH(AI916, Country!$O$31:$O$76, 0), 2)","v":"Carbon offsets historical activity"},{"$f":"INDEX(Country!$K$31:$K$76, MATCH(AI916, Country!$O$31:$O$76, 0), 1)","v":"Projects"},"Ecuador",{"$f":"F916","v":22},22,22,22,22,99.476766360000624,22,50,50,50,50,50,50,50,null,null,null,null,null,null,null,{"$f":"AA916","v":2},2,2,2,2,2,2,"4.01 > Ecuador",902,34," "]
[{"$f":"INDEX(Country!$F$31:$G$76, MATCH(AI917, Country!$O$31:$O$76, 0), 1)","v":4.01},{"$f":"INDEX(Country!$F$31:$G$76, MATCH(AI917, Country!$O$31:$O$76, 0), 2)","v":"Carbon offsets historical activity"},{"$f":"INDEX(Country!$K$31:$K$76, MATCH(AI917, Country!$O$31:$O$76, 0), 1)","v":"Projects"},"El Salvador",{"$f":"F917","v":7},7,7,7,7,342.71899082568808,7,25,25,25,25,25,25,25,null,null,null,null,null,null,null,{"$f":"AA917","v":1},1,1,1,1,1,1,"4.01 > El Salvador",903,34," "]
[{"$f":"INDEX(Country!$F$31:$G$76, MATCH(AI918, Country!$O$31:$O$76, 0), 1)","v":4.01},{"$f":"INDEX(Country!$F$31:$G$76, MATCH(AI918, Country!$O$31:$O$76, 0), 2)","v":"Carbon offsets historical activity"},{"$f":"INDEX(Country!$K$31:$K$76, MATCH(AI918, Country!$O$31:$O$76, 0), 1)","v":"Projects"},"Guatemala",{"$f":"F918","v":17},17,17,17,17,106.91757222665603,17,50,50,50,50,50,50,50,null,null,null,null,null,null,null,{"$f":"AA918","v":2},2,2,2,2,2,2,"4.01 > Guatemala",904,34," "]
[{"$f":"INDEX(Country!$F$31:$G$76, MATCH(AI919, Country!$O$31:$O$76, 0), 1)","v":4.01},{"$f":"INDEX(Country!$F$31:$G$76, MATCH(AI919, Country!$O$31:$O$76, 0), 2)","v":"Carbon offsets historical activity"},{"$f":"INDEX(Country!$K$31:$K$76, MATCH(AI919, Country!$O$31:$O$76, 0), 1)","v":"Projects"},"Guyana",{"$f":"F919","v":1},1,1,1,1,39.245283018867923,1,0,0,0,0,0,0,0,null,null,null,null,null,null,null,{"$f":"AA919","v":0},0,0,0,0,0,0,"4.01 > Guyana",905,34," "]
[{"$f":"INDEX(Country!$F$31:$G$76, MATCH(AI920, Country!$O$31:$O$76, 0), 1)","v":4.01},{"$f":"INDEX(Country!$F$31:$G$76, MATCH(AI920, Country!$O$31:$O$76, 0), 2)","v":"Carbon offsets historical activity"},{"$f":"INDEX(Country!$K$31:$K$76, MATCH(AI920, Country!$O$31:$O$76, 0), 1)","v":"Projects"},"Haiti",{"$f":"F920","v":0},0,0,0,0,0,0,0,0,0,0,0,0,0,null,null,null,null,null,null,null,{"$f":"AA920","v":0},0,0,0,0,0,0,"4.01 > Haiti",906,34," "]
[{"$f":"INDEX(Country!$F$31:$G$76, MATCH(AI921, Country!$O$31:$O$76, 0), 1)","v":4.01},{"$f":"INDEX(Country!$F$31:$G$76, MATCH(AI921, Country!$O$31:$O$76, 0), 2)","v":"Carbon offsets historical activity"},{"$f":"INDEX(Country!$K$31:$K$76, MATCH(AI921, Country!$O$31:$O$76, 0), 1)","v":"Projects"},"Honduras",{"$f":"F921","v":34},34,34,34,34,97.33180712032447,34,50,50,50,50,50,50,50,null,null,null,null,null,null,null,{"$f":"AA921","v":2},2,2,2,2,2,2,"4.01 > Honduras",907,34," "]
[{"$f":"INDEX(Country!$F$31:$G$76, MATCH(AI922, Country!$O$31:$O$76, 0), 1)","v":4.01},{"$f":"INDEX(Country!$F$31:$G$76, MATCH(AI922, Country!$O$31:$O$76, 0), 2)","v":"Carbon offsets historical activity"},{"$f":"INDEX(Country!$K$31:$K$76, MATCH(AI922, Country!$O$31:$O$76, 0), 1)","v":"Projects"},"Jamaica",{"$f":"F922","v":2},2,2,2,2,123.70078740157481,2,0,0,0,0,0,0,0,null,null,null,null,null,null,null,{"$f":"AA922","v":0},0,0,0,0,0,0,"4.01 > Jamaica",908,34," "]
[{"$f":"INDEX(Country!$F$31:$G$76, MATCH(AI923, Country!$O$31:$O$76, 0), 1)","v":4.01},{"$f":"INDEX(Country!$F$31:$G$76, MATCH(AI923, Country!$O$31:$O$76, 0), 2)","v":"Carbon offsets historical activity"},{"$f":"INDEX(Country!$K$31:$K$76, MATCH(AI923, Country!$O$31:$O$76, 0), 1)","v":"Projects"},"Mexico",{"$f":"F923","v":174},174,174,174,{"$f":"K923","v":174},118.72823546944858,174,100,100,100,100,100,100,100,null,null,null,null,null,null,null,{"$f":"AA923","v":4},4,4,4,4,4,4,"4.01 > Mexico",909,34," "]
[{"$f":"INDEX(Country!$F$31:$G$76, MATCH(AI924, Country!$O$31:$O$76, 0), 1)","v":4.01},{"$f":"INDEX(Country!$F$31:$G$76, MATCH(AI924, Country!$O$31:$O$76, 0), 2)","v":"Carbon offsets historical activity"},{"$f":"INDEX(Country!$K$31:$K$76, MATCH(AI924, Country!$O$31:$O$76, 0), 1)","v":"Projects"},"Nicaragua",{"$f":"F924","v":12},12,12,12,12,357.77237037037037,12,50,50,50,50,50,50,50,null,null,null,null,null,null,null,{"$f":"AA924","v":2},2,2,2,2,2,2,"4.01 > Nicaragua",910,34," "]
[{"$f":"INDEX(Country!$F$31:$G$76, MATCH(AI925, Country!$O$31:$O$76, 0), 1)","v":4.01},{"$f":"INDEX(Country!$F$31:$G$76, MATCH(AI925, Country!$O$31:$O$76, 0), 2)","v":"Carbon offsets historical activity"},{"$f":"INDEX(Country!$K$31:$K$76, MATCH(AI925, Country!$O$31:$O$76, 0), 1)","v":"Projects"},"Panama",{"$f":"F925","v":13},13,13,13,13,845.48349523809543,13,0,0,0,0,0,0,0,null,null,null,null,null,null,null,{"$f":"AA925","v":0},0,0,0,0,0,0,"4.01 > Panama",911,34," "]
[{"$f":"INDEX(Country!$F$31:$G$76, MATCH(AI926, Country!$O$31:$O$76, 0), 1)","v":4.01},{"$f":"INDEX(Country!$F$31:$G$76, MATCH(AI926, Country!$O$31:$O$76, 0), 2)","v":"Carbon offsets historical activity"},{"$f":"INDEX(Country!$K$31:$K$76, MATCH(AI926, Country!$O$31:$O$76, 0), 1)","v":"Projects"},"Paraguay",{"$f":"F926","v":2},2,2,2,2,34.880445744680856,2,0,0,0,0,0,0,0,null,null,null,null,null,null,null,{"$f":"AA926","v":0},0,0,0,0,0,0,"4.01 > Paraguay",912,34," "]
[{"$f":"INDEX(Country!$F$31:$G$76, MATCH(AI927, Country!$O$31:$O$76, 0), 1)","v":4.01},{"$f":"INDEX(Country!$F$31:$G$76, MATCH(AI927, Country!$O$31:$O$76, 0), 2)","v":"Carbon offsets historical activity"},{"$f":"INDEX(Country!$K$31:$K$76, MATCH(AI927, Country!$O$31:$O$76, 0), 1)","v":"Projects"},"Peru",{"$f":"F927","v":61},61,61,61,61,130.80298131278536,61,75,75,75,75,75,75,75,null,null,null,null,null,null,null,{"$f":"AA927","v":3},3,3,3,3,3,3,"4.01 > Peru",913,34," "]
[{"$f":"INDEX(Country!$F$31:$G$76, MATCH(AI928, Country!$O$31:$O$76, 0), 1)","v":4.01},{"$f":"INDEX(Country!$F$31:$G$76, MATCH(AI928, Country!$O$31:$O$76, 0), 2)","v":"Carbon offsets historical activity"},{"$f":"INDEX(Country!$K$31:$K$76, MATCH(AI928, Country!$O$31:$O$76, 0), 1)","v":"Projects"},"Suriname",{"$f":"F928","v":0},0,0,0,0,0,0,0,0,0,0,0,0,0,null,null,null,null,null,null,null,{"$f":"AA928","v":0},0,0,0,0,0,0,"4.01 > Suriname",914,34," "]
[{"$f":"INDEX(Country!$F$31:$G$76, MATCH(AI929, Country!$O$31:$O$76, 0), 1)","v":4.01},{"$f":"INDEX(Country!$F$31:$G$76, MATCH(AI929, Country!$O$31:$O$76, 0), 2)","v":"Carbon offsets historical activity"},{"$f":"INDEX(Country!$K$31:$K$76, MATCH(AI929, Country!$O$31:$O$76, 0), 1)","v":"Projects"},"Trinidad & Tobago",{"$f":"F929","v":0},0,0,0,0,0,0,0,0,0,0,0,0,0,null,null,null,null,null,null,null,{"$f":"AA929","v":0},0,0,0,0,0,0,"4.01 > Trinidad & Tobago",915,34," "]
[{"$f":"INDEX(Country!$F$31:$G$76, MATCH(AI930, Country!$O$31:$O$76, 0), 1)","v":4.01},{"$f":"INDEX(Country!$F$31:$G$76, MATCH(AI930, Country!$O$31:$O$76, 0), 2)","v":"Carbon offsets historical activity"},{"$f":"INDEX(Country!$K$31:$K$76, MATCH(AI930, Country!$O$31:$O$76, 0), 1)","v":"Projects"},"Uruguay",{"$f":"F930","v":24},24,24,24,24,56.78555023923446,24,50,50,50,50,50,50,50,null,null,null,null,null,null,null,{"$f":"AA930","v":2},2,2,2,2,2,2,"4.01 > Uruguay",916,34," "]
[{"$f":"INDEX(Country!$F$31:$G$76, MATCH(AI931, Country!$O$31:$O$76, 0), 1)","v":4.01},{"$f":"INDEX(Country!$F$31:$G$76, MATCH(AI931, Country!$O$31:$O$76, 0), 2)","v":"Carbon offsets historical activity"},{"$f":"INDEX(Country!$K$31:$K$76, MATCH(AI931, Country!$O$31:$O$76, 0), 1)","v":"Projects"},"Venezuela",{"$f":"F931","v":0},0,0,0,0,5.5236411842686711E-2,0,0,0,0,0,0,0,0,null,null,null,null,null,null,null,{"$f":"AA931","v":0},0,0,0,0,0,0,"4.01 > Venezuela",917,34," "]
[{"$f":"INDEX(Country!$F$31:$G$76, MATCH(AI932, Country!$O$31:$O$76, 0), 1)","v":4.01},{"$f":"INDEX(Country!$F$31:$G$76, MATCH(AI932, Country!$O$31:$O$76, 0), 2)","v":"Carbon offsets historical activity"},{"$f":"INDEX(Country!$K$31:$K$76, MATCH(AI932, Country!$O$31:$O$76, 0), 1)","v":"Projects"},"Benchmark",{"$f":"IFERROR(MAX(E906:E931), 0)","v":345},{"$f":"IFERROR(MAX(F906:F931), 0)","v":345},345,345,345,{"$f":"IFERROR(MAX(J906:J931), 0)","v":845.48349523809543},345,100,100,100,100,100,100,100,null,null,null,null,null,null,null,{"$f":"IFERROR(MAX(Z906:Z931), 0)","v":4},{"$f":"IFERROR(MAX(AA906:AA931), 0)","v":4},4,{"$f":"IFERROR(MAX(AC906:AC931), 0)","v":4},4,4,{"$f":"IFERROR(MAX(AF906:AF931), 0)","v":4},"4.01 > Benchmark",918,34," "]
[{"$f":"INDEX(Country!$F$31:$G$76, MATCH(AI933, Country!$O$31:$O$76, 0), 1)","v":4.0199999999999996},{"$f":"INDEX(Country!$F$31:$G$76, MATCH(AI933, Country!$O$31:$O$76, 0), 2)","v":"CDM risk"},{"$f":"INDEX(Country!$K$31:$K$76, MATCH(AI933, Country!$O$31:$O$76, 0), 1)","v":"Failures/Projects"},"Argentina",{"$f":"F933","v":11},11,11,11,{"$f":"K933","v":11},11,11,{"$f":"(Z933/6)*dbl_BenchmarkMax","v":83.333333333333343},{"$f":"(AA933/6)*dbl_BenchmarkMax","v":83.333333333333343},{"$f":"(AB933/6)*dbl_BenchmarkMax","v":83.333333333333343},{"$f":"(AC933/6)*dbl_BenchmarkMax","v":83.333333333333343},{"$f":"(AD933/6)*dbl_BenchmarkMax","v":83.333333333333343},{"$f":"(AE933/6)*dbl_BenchmarkMax","v":83.333333333333343},{"$f":"(AF933/6)*dbl_BenchmarkMax","v":83.333333333333343},null,null,null,null,null,null,null,{"$f":"AA933","v":5},5,5,{"$f":"AD933","v":5},{"$f":"AE933","v":5},{"$f":"AF933","v":5},5,"4.02 > Argentina",919,35," "]
[{"$f":"INDEX(Country!$F$31:$G$76, MATCH(AI934, Country!$O$31:$O$76, 0), 1)","v":4.0199999999999996},{"$f":"INDEX(Country!$F$31:$G$76, MATCH(AI934, Country!$O$31:$O$76, 0), 2)","v":"CDM risk"},{"$f":"INDEX(Country!$K$31:$K$76, MATCH(AI934, Country!$O$31:$O$76, 0), 1)","v":"Failures/Projects"},"Bahamas",{"$f":"F934","v":0},0,0,0,0,0,0,66.666666666666657,66.666666666666657,66.666666666666657,66.666666666666657,66.666666666666657,66.666666666666657,66.666666666666657,null,null,null,null,null,null,null,{"$f":"AA934","v":4},4,4,4,4,4,4,"4.02 > Bahamas",920,35," "]
[{"$f":"INDEX(Country!$F$31:$G$76, MATCH(AI935, Country!$O$31:$O$76, 0), 1)","v":4.0199999999999996},{"$f":"INDEX(Country!$F$31:$G$76, MATCH(AI935, Country!$O$31:$O$76, 0), 2)","v":"CDM risk"},{"$f":"INDEX(Country!$K$31:$K$76, MATCH(AI935, Country!$O$31:$O$76, 0), 1)","v":"Failures/Projects"},"Barbados",{"$f":"F935","v":0},0,0,0,0,0,0,0,0,0,0,0,0,0,null,null,null,null,null,null,null,{"$f":"AA935","v":0},0,0,0,0,0,0,"4.02 > Barbados",921,35," "]
[{"$f":"INDEX(Country!$F$31:$G$76, MATCH(AI936, Country!$O$31:$O$76, 0), 1)","v":4.0199999999999996},{"$f":"INDEX(Country!$F$31:$G$76, MATCH(AI936, Country!$O$31:$O$76, 0), 2)","v":"CDM risk"},{"$f":"INDEX(Country!$K$31:$K$76, MATCH(AI936, Country!$O$31:$O$76, 0), 1)","v":"Failures/Projects"},"Belize",{"$f":"F936","v":0},0,0,0,0,0,0,0,0,0,0,0,0,0,null,null,null,null,null,null,null,{"$f":"AA936","v":0},0,0,0,0,0,0,"4.02 > Belize",922,35," "]
[{"$f":"INDEX(Country!$F$31:$G$76, MATCH(AI937, Country!$O$31:$O$76, 0), 1)","v":4.0199999999999996},{"$f":"INDEX(Country!$F$31:$G$76, MATCH(AI937, Country!$O$31:$O$76, 0), 2)","v":"CDM risk"},{"$f":"INDEX(Country!$K$31:$K$76, MATCH(AI937, Country!$O$31:$O$76, 0), 1)","v":"Failures/Projects"},"Bolivia",{"$f":"F937","v":1},1,1,1,1,1,1,0,0,0,0,0,0,0,null,null,null,null,null,null,null,{"$f":"AA937","v":0},0,0,0,0,0,0,"4.02 > Bolivia",923,35," "]
[{"$f":"INDEX(Country!$F$31:$G$76, MATCH(AI938, Country!$O$31:$O$76, 0), 1)","v":4.0199999999999996},{"$f":"INDEX(Country!$F$31:$G$76, MATCH(AI938, Country!$O$31:$O$76, 0), 2)","v":"CDM risk"},{"$f":"INDEX(Country!$K$31:$K$76, MATCH(AI938, Country!$O$31:$O$76, 0), 1)","v":"Failures/Projects"},"Brazil",{"$f":"F938","v":118},118,118,118,118,118,118,16.666666666666664,16.666666666666664,16.666666666666664,16.666666666666664,16.666666666666664,16.666666666666664,16.666666666666664,null,null,null,null,null,null,null,{"$f":"AA938","v":1},1,1,1,1,1,1,"4.02 > Brazil",924,35," "]
[{"$f":"INDEX(Country!$F$31:$G$76, MATCH(AI939, Country!$O$31:$O$76, 0), 1)","v":4.0199999999999996},{"$f":"INDEX(Country!$F$31:$G$76, MATCH(AI939, Country!$O$31:$O$76, 0), 2)","v":"CDM risk"},{"$f":"INDEX(Country!$K$31:$K$76, MATCH(AI939, Country!$O$31:$O$76, 0), 1)","v":"Failures/Projects"},"Chile",{"$f":"F939","v":18},18,18,18,18,18,18,50,50,50,50,50,50,50,null,null,null,null,null,null,null,{"$f":"AA939","v":3},3,3,3,3,3,3,"4.02 > Chile",925,35," "]
[{"$f":"INDEX(Country!$F$31:$G$76, MATCH(AI940, Country!$O$31:$O$76, 0), 1)","v":4.0199999999999996},{"$f":"INDEX(Country!$F$31:$G$76, MATCH(AI940, Country!$O$31:$O$76, 0), 2)","v":"CDM risk"},{"$f":"INDEX(Country!$K$31:$K$76, MATCH(AI940, Country!$O$31:$O$76, 0), 1)","v":"Failures/Projects"},"Colombia",{"$f":"F940","v":9},9,9,9,9,9,9,50,50,50,50,50,50,50,null,null,null,null,null,null,null,{"$f":"AA940","v":3},3,3,3,3,3,3,"4.02 > Colombia",926,35," "]
[{"$f":"INDEX(Country!$F$31:$G$76, MATCH(AI941, Country!$O$31:$O$76, 0), 1)","v":4.0199999999999996},{"$f":"INDEX(Country!$F$31:$G$76, MATCH(AI941, Country!$O$31:$O$76, 0), 2)","v":"CDM risk"},{"$f":"INDEX(Country!$K$31:$K$76, MATCH(AI941, Country!$O$31:$O$76, 0), 1)","v":"Failures/Projects"},"Costa Rica",{"$f":"F941","v":2},2,2,2,2,2,2,66.666666666666657,66.666666666666657,66.666666666666657,66.666666666666657,66.666666666666657,66.666666666666657,66.666666666666657,null,null,null,null,null,null,null,{"$f":"AA941","v":4},4,4,4,4,4,4,"4.02 > Costa Rica",927,35," "]
[{"$f":"INDEX(Country!$F$31:$G$76, MATCH(AI942, Country!$O$31:$O$76, 0), 1)","v":4.0199999999999996},{"$f":"INDEX(Country!$F$31:$G$76, MATCH(AI942, Country!$O$31:$O$76, 0), 2)","v":"CDM risk"},{"$f":"INDEX(Country!$K$31:$K$76, MATCH(AI942, Country!$O$31:$O$76, 0), 1)","v":"Failures/Projects"},"Dominican Republic",{"$f":"F942","v":1},1,1,1,1,1,1,50,50,50,50,50,50,50,null,null,null,null,null,null,null,{"$f":"AA942","v":3},3,3,3,3,3,3,"4.02 > Dominican Republic",928,35," "]
[{"$f":"INDEX(Country!$F$31:$G$76, MATCH(AI943, Country!$O$31:$O$76, 0), 1)","v":4.0199999999999996},{"$f":"INDEX(Country!$F$31:$G$76, MATCH(AI943, Country!$O$31:$O$76, 0), 2)","v":"CDM risk"},{"$f":"INDEX(Country!$K$31:$K$76, MATCH(AI943, Country!$O$31:$O$76, 0), 1)","v":"Failures/Projects"},"Ecuador",{"$f":"F943","v":10},10,10,10,10,10,10,50,50,50,{"$f":"(AC943/6)*dbl_BenchmarkMax","v":50},50,50,50,null,null,null,null,null,null,null,{"$f":"AA943","v":3},3,3,3,3,3,3,"4.02 > Ecuador",929,35," "]
[{"$f":"INDEX(Country!$F$31:$G$76, MATCH(AI944, Country!$O$31:$O$76, 0), 1)","v":4.0199999999999996},{"$f":"INDEX(Country!$F$31:$G$76, MATCH(AI944, Country!$O$31:$O$76, 0), 2)","v":"CDM risk"},{"$f":"INDEX(Country!$K$31:$K$76, MATCH(AI944, Country!$O$31:$O$76, 0), 1)","v":"Failures/Projects"},"El Salvador",{"$f":"F944","v":2},2,2,2,2,2,2,66.666666666666657,66.666666666666657,66.666666666666657,66.666666666666657,66.666666666666657,66.666666666666657,66.666666666666657,null,null,null,null,null,null,null,{"$f":"AA944","v":4},4,4,4,4,4,4,"4.02 > El Salvador",930,35," "]
[{"$f":"INDEX(Country!$F$31:$G$76, MATCH(AI945, Country!$O$31:$O$76, 0), 1)","v":4.0199999999999996},{"$f":"INDEX(Country!$F$31:$G$76, MATCH(AI945, Country!$O$31:$O$76, 0), 2)","v":"CDM risk"},{"$f":"INDEX(Country!$K$31:$K$76, MATCH(AI945, Country!$O$31:$O$76, 0), 1)","v":"Failures/Projects"},"Guatemala",{"$f":"F945","v":7.0000000000000009},7.0000000000000009,7.0000000000000009,7.0000000000000009,7.0000000000000009,7.0000000000000009,7.0000000000000009,66.666666666666657,66.666666666666657,66.666666666666657,66.666666666666657,66.666666666666657,66.666666666666657,66.666666666666657,null,null,null,null,null,null,null,{"$f":"AA945","v":4},4,4,4,4,4,4,"4.02 > Guatemala",931,35," "]
[{"$f":"INDEX(Country!$F$31:$G$76, MATCH(AI946, Country!$O$31:$O$76, 0), 1)","v":4.0199999999999996},{"$f":"INDEX(Country!$F$31:$G$76, MATCH(AI946, Country!$O$31:$O$76, 0), 2)","v":"CDM risk"},{"$f":"INDEX(Country!$K$31:$K$76, MATCH(AI946, Country!$O$31:$O$76, 0), 1)","v":"Failures/Projects"},"Guyana",{"$f":"F946","v":0},0,0,0,0,0,0,66.666666666666657,66.666666666666657,66.666666666666657,66.666666666666657,66.666666666666657,66.666666666666657,66.666666666666657,null,null,null,null,null,null,null,{"$f":"AA946","v":4},4,4,4,4,4,4,"4.02 > Guyana",932,35," "]
[{"$f":"INDEX(Country!$F$31:$G$76, MATCH(AI947, Country!$O$31:$O$76, 0), 1)","v":4.0199999999999996},{"$f":"INDEX(Country!$F$31:$G$76, MATCH(AI947, Country!$O$31:$O$76, 0), 2)","v":"CDM risk"},{"$f":"INDEX(Country!$K$31:$K$76, MATCH(AI947, Country!$O$31:$O$76, 0), 1)","v":"Failures/Projects"},"Haiti",{"$f":"F947","v":0},0,0,0,0,0,0,0,0,0,0,0,0,0,null,null,null,null,null,null,null,{"$f":"AA947","v":0},0,0,0,0,0,0,"4.02 > Haiti",933,35," "]
[{"$f":"INDEX(Country!$F$31:$G$76, MATCH(AI948, Country!$O$31:$O$76, 0), 1)","v":4.0199999999999996},{"$f":"INDEX(Country!$F$31:$G$76, MATCH(AI948, Country!$O$31:$O$76, 0), 2)","v":"CDM risk"},{"$f":"INDEX(Country!$K$31:$K$76, MATCH(AI948, Country!$O$31:$O$76, 0), 1)","v":"Failures/Projects"},"Honduras",{"$f":"F948","v":11},11,11,11,11,11,11,50,50,50,50,50,50,50,null,null,null,null,null,null,null,{"$f":"AA948","v":3},3,3,3,3,3,3,"4.02 > Honduras",934,35," "]
[{"$f":"INDEX(Country!$F$31:$G$76, MATCH(AI949, Country!$O$31:$O$76, 0), 1)","v":4.0199999999999996},{"$f":"INDEX(Country!$F$31:$G$76, MATCH(AI949, Country!$O$31:$O$76, 0), 2)","v":"CDM risk"},{"$f":"INDEX(Country!$K$31:$K$76, MATCH(AI949, Country!$O$31:$O$76, 0), 1)","v":"Failures/Projects"},{"$f":"D922","v":"Jamaica"},{"$f":"F949","v":1},1,1,1,1,1,1,100,100,100,100,100,100,100,null,null,null,null,null,null,null,{"$f":"AA949","v":6},6,6,6,6,6,6,"4.02 > Jamaica",935,35," "]
[{"$f":"INDEX(Country!$F$31:$G$76, MATCH(AI950, Country!$O$31:$O$76, 0), 1)","v":4.0199999999999996},{"$f":"INDEX(Country!$F$31:$G$76, MATCH(AI950, Country!$O$31:$O$76, 0), 2)","v":"CDM risk"},{"$f":"INDEX(Country!$K$31:$K$76, MATCH(AI950, Country!$O$31:$O$76, 0), 1)","v":"Failures/Projects"},"Mexico",{"$f":"F950","v":38},38,38,38,38,38,38,83.333333333333343,83.333333333333343,83.333333333333343,83.333333333333343,83.333333333333343,83.333333333333343,83.333333333333343,null,null,null,null,null,null,null,{"$f":"AA950","v":5},5,5,5,5,5,5,"4.02 > Mexico",936,35," "]
[{"$f":"INDEX(Country!$F$31:$G$76, MATCH(AI951, Country!$O$31:$O$76, 0), 1)","v":4.0199999999999996},{"$f":"INDEX(Country!$F$31:$G$76, MATCH(AI951, Country!$O$31:$O$76, 0), 2)","v":"CDM risk"},{"$f":"INDEX(Country!$K$31:$K$76, MATCH(AI951, Country!$O$31:$O$76, 0), 1)","v":"Failures/Projects"},"Nicaragua",{"$f":"F951","v":3},3,3,3,3,3,3,16.666666666666664,16.666666666666664,16.666666666666664,16.666666666666664,16.666666666666664,16.666666666666664,16.666666666666664,null,null,null,null,null,null,null,{"$f":"AA951","v":1},1,1,1,1,1,1,"4.02 > Nicaragua",937,35," "]
[{"$f":"INDEX(Country!$F$31:$G$76, MATCH(AI952, Country!$O$31:$O$76, 0), 1)","v":4.0199999999999996},{"$f":"INDEX(Country!$F$31:$G$76, MATCH(AI952, Country!$O$31:$O$76, 0), 2)","v":"CDM risk"},{"$f":"INDEX(Country!$K$31:$K$76, MATCH(AI952, Country!$O$31:$O$76, 0), 1)","v":"Failures/Projects"},"Panama",{"$f":"F952","v":1},1,1,1,1,1,1,33.333333333333329,33.333333333333329,33.333333333333329,33.333333333333329,33.333333333333329,33.333333333333329,33.333333333333329,null,null,null,null,null,null,null,{"$f":"AA952","v":2},2,2,2,2,2,2,"4.02 > Panama",938,35," "]
[{"$f":"INDEX(Country!$F$31:$G$76, MATCH(AI953, Country!$O$31:$O$76, 0), 1)","v":4.0199999999999996},{"$f":"INDEX(Country!$F$31:$G$76, MATCH(AI953, Country!$O$31:$O$76, 0), 2)","v":"CDM risk"},{"$f":"INDEX(Country!$K$31:$K$76, MATCH(AI953, Country!$O$31:$O$76, 0), 1)","v":"Failures/Projects"},"Paraguay",{"$f":"F953","v":0},0,0,0,0,0,0,66.666666666666657,66.666666666666657,66.666666666666657,66.666666666666657,66.666666666666657,66.666666666666657,66.666666666666657,null,null,null,null,null,null,null,{"$f":"AA953","v":4},4,4,4,4,4,4,"4.02 > Paraguay",939,35," "]
[{"$f":"INDEX(Country!$F$31:$G$76, MATCH(AI954, Country!$O$31:$O$76, 0), 1)","v":4.0199999999999996},{"$f":"INDEX(Country!$F$31:$G$76, MATCH(AI954, Country!$O$31:$O$76, 0), 2)","v":"CDM risk"},{"$f":"INDEX(Country!$K$31:$K$76, MATCH(AI954, Country!$O$31:$O$76, 0), 1)","v":"Failures/Projects"},"Peru",{"$f":"F954","v":7.0000000000000009},7.0000000000000009,7.0000000000000009,7.0000000000000009,7.0000000000000009,7.0000000000000009,7.0000000000000009,100,100,100,100,100,100,100,null,null,null,null,null,null,null,{"$f":"AA954","v":6},6,6,6,6,6,6,"4.02 > Peru",940,35," "]
[{"$f":"INDEX(Country!$F$31:$G$76, MATCH(AI955, Country!$O$31:$O$76, 0), 1)","v":4.0199999999999996},{"$f":"INDEX(Country!$F$31:$G$76, MATCH(AI955, Country!$O$31:$O$76, 0), 2)","v":"CDM risk"},{"$f":"INDEX(Country!$K$31:$K$76, MATCH(AI955, Country!$O$31:$O$76, 0), 1)","v":"Failures/Projects"},"Suriname",{"$f":"F955","v":0},0,0,0,0,0,0,0,0,0,0,0,0,0,null,null,null,null,null,null,null,{"$f":"AA955","v":0},0,0,0,0,0,0,"4.02 > Suriname",941,35," "]
[{"$f":"INDEX(Country!$F$31:$G$76, MATCH(AI956, Country!$O$31:$O$76, 0), 1)","v":4.0199999999999996},{"$f":"INDEX(Country!$F$31:$G$76, MATCH(AI956, Country!$O$31:$O$76, 0), 2)","v":"CDM risk"},{"$f":"INDEX(Country!$K$31:$K$76, MATCH(AI956, Country!$O$31:$O$76, 0), 1)","v":"Failures/Projects"},"Trinidad & Tobago",{"$f":"F956","v":0},0,0,0,0,0,0,0,0,0,0,0,0,0,null,null,null,null,null,null,null,{"$f":"AA956","v":0},0,0,0,0,0,0,"4.02 > Trinidad & Tobago",942,35," "]
[{"$f":"INDEX(Country!$F$31:$G$76, MATCH(AI957, Country!$O$31:$O$76, 0), 1)","v":4.0199999999999996},{"$f":"INDEX(Country!$F$31:$G$76, MATCH(AI957, Country!$O$31:$O$76, 0), 2)","v":"CDM risk"},{"$f":"INDEX(Country!$K$31:$K$76, MATCH(AI957, Country!$O$31:$O$76, 0), 1)","v":"Failures/Projects"},"Uruguay",{"$f":"F957","v":1},1,1,1,1,1,1,66.666666666666657,66.666666666666657,66.666666666666657,66.666666666666657,66.666666666666657,66.666666666666657,66.666666666666657,null,null,null,null,null,null,null,{"$f":"AA957","v":4},4,4,4,4,4,4,"4.02 > Uruguay",943,35," "]
[{"$f":"INDEX(Country!$F$31:$G$76, MATCH(AI958, Country!$O$31:$O$76, 0), 1)","v":4.0199999999999996},{"$f":"INDEX(Country!$F$31:$G$76, MATCH(AI958, Country!$O$31:$O$76, 0), 2)","v":"CDM risk"},{"$f":"INDEX(Country!$K$31:$K$76, MATCH(AI958, Country!$O$31:$O$76, 0), 1)","v":"Failures/Projects"},"Venezuela",{"$f":"F958","v":0},0,0,0,0,0,0,0,0,0,0,0,0,0,null,null,null,null,null,null,null,{"$f":"AA958","v":0},0,0,0,0,0,0,"4.02 > Venezuela",944,35," "]
[{"$f":"INDEX(Country!$F$31:$G$76, MATCH(AI959, Country!$O$31:$O$76, 0), 1)","v":4.0199999999999996},{"$f":"INDEX(Country!$F$31:$G$76, MATCH(AI959, Country!$O$31:$O$76, 0), 2)","v":"CDM risk"},{"$f":"INDEX(Country!$K$31:$K$76, MATCH(AI959, Country!$O$31:$O$76, 0), 1)","v":"Failures/Projects"},"Benchmark",{"$f":"IFERROR(MAX(E933:E958), 0)","v":118},118,118,118,118,{"$f":"IFERROR(MAX(J933:J958), 0)","v":118},118,100,100,100,100,100,100,100,null,null,null,null,null,null,null,{"$f":"IFERROR(MAX(Z933:Z958), 0)","v":6},{"$f":"IFERROR(MAX(AA933:AA958), 0)","v":6},{"$f":"IFERROR(MAX(AB933:AB958), 0)","v":6},{"$f":"IFERROR(MAX(AC933:AC958), 0)","v":6},6,6,6,"4.02 > Benchmark",945,35," "]
[{"$f":"INDEX(Country!$F$31:$G$76, MATCH(AI960, Country!$O$31:$O$76, 0), 1)","v":4.0299999999999994},{"$f":"INDEX(Country!$F$31:$G$76, MATCH(AI960, Country!$O$31:$O$76, 0), 2)","v":"Carbon offsets future potential"},{"$f":"INDEX(Country!$K$31:$K$76, MATCH(AI960, Country!$O$31:$O$76, 0), 1)","v":"Potential"},{"$f":"D906","v":"Argentina"},null,null,null,null,null,null,null,{"$f":"(Z960/4)*dbl_BenchmarkMax","v":36.565846636656929},{"$f":"(AA960/4)*dbl_BenchmarkMax","v":36.565846636656929},{"$f":"(AB960/4)*dbl_BenchmarkMax","v":36.565846636656929},{"$f":"(AC960/4)*dbl_BenchmarkMax","v":36.565846636656929},{"$f":"(AD960/4)*dbl_BenchmarkMax","v":36.565846636656929},{"$f":"(AE960/4)*dbl_BenchmarkMax","v":36.565846636656929},{"$f":"(AF960/4)*dbl_BenchmarkMax","v":36.565846636656929},null,null,null,null,null,null,null,{"$f":"AA960","v":1.4626338654662772},1.4626338654662772,1.4626338654662772,1.4626338654662772,1.4626338654662772,1.4626338654662772,1.4626338654662772,"4.03 > Argentina",946,36," "]
[{"$f":"INDEX(Country!$F$31:$G$76, MATCH(AI961, Country!$O$31:$O$76, 0), 1)","v":4.0299999999999994},{"$f":"INDEX(Country!$F$31:$G$76, MATCH(AI961, Country!$O$31:$O$76, 0), 2)","v":"Carbon offsets future potential"},{"$f":"INDEX(Country!$K$31:$K$76, MATCH(AI961, Country!$O$31:$O$76, 0), 1)","v":"Potential"},"Bahamas",null,null,null,null,null,null,null,2.49081432584219,2.49081432584219,2.49081432584219,2.49081432584219,2.49081432584219,2.49081432584219,2.49081432584219,null,null,null,null,null,null,null,{"$f":"AA961","v":9.9632573033687596E-2},9.9632573033687596E-2,9.9632573033687596E-2,9.9632573033687596E-2,9.9632573033687596E-2,9.9632573033687596E-2,9.9632573033687596E-2,"4.03 > Bahamas",947,36," "]
[{"$f":"INDEX(Country!$F$31:$G$76, MATCH(AI962, Country!$O$31:$O$76, 0), 1)","v":4.0299999999999994},{"$f":"INDEX(Country!$F$31:$G$76, MATCH(AI962, Country!$O$31:$O$76, 0), 2)","v":"Carbon offsets future potential"},{"$f":"INDEX(Country!$K$31:$K$76, MATCH(AI962, Country!$O$31:$O$76, 0), 1)","v":"Potential"},"Barbados",null,null,null,null,null,null,null,2.8908741732374863,2.8908741732374863,2.8908741732374863,2.8908741732374863,2.8908741732374863,2.8908741732374863,2.8908741732374863,null,null,null,null,null,null,null,0.11563496692949946,0.11563496692949946,0.11563496692949946,0.11563496692949946,0.11563496692949946,0.11563496692949946,0.11563496692949946,"4.03 > Barbados",948,36," "]
[{"$f":"INDEX(Country!$F$31:$G$76, MATCH(AI963, Country!$O$31:$O$76, 0), 1)","v":4.0299999999999994},{"$f":"INDEX(Country!$F$31:$G$76, MATCH(AI963, Country!$O$31:$O$76, 0), 2)","v":"Carbon offsets future potential"},{"$f":"INDEX(Country!$K$31:$K$76, MATCH(AI963, Country!$O$31:$O$76, 0), 1)","v":"Potential"},"Belize",null,null,null,null,null,null,null,16.940345007716594,16.940345007716594,16.940345007716594,16.940345007716594,16.940345007716594,16.940345007716594,16.940345007716594,null,null,null,null,null,null,null,0.67761380030866381,0.67761380030866381,0.67761380030866381,0.67761380030866381,0.67761380030866381,0.67761380030866381,0.67761380030866381,"4.03 > Belize",949,36," "]
[{"$f":"INDEX(Country!$F$31:$G$76, MATCH(AI964, Country!$O$31:$O$76, 0), 1)","v":4.0299999999999994},{"$f":"INDEX(Country!$F$31:$G$76, MATCH(AI964, Country!$O$31:$O$76, 0), 2)","v":"Carbon offsets future potential"},{"$f":"INDEX(Country!$K$31:$K$76, MATCH(AI964, Country!$O$31:$O$76, 0), 1)","v":"Potential"},"Bolivia",null,null,null,null,null,null,null,33.653418684473216,33.653418684473216,33.653418684473216,33.653418684473216,33.653418684473216,33.653418684473216,33.653418684473216,null,null,null,null,null,null,null,1.3461367473789285,1.3461367473789285,1.3461367473789285,1.3461367473789285,1.3461367473789285,1.3461367473789285,1.3461367473789285,"4.03 > Bolivia",950,36," "]
[{"$f":"INDEX(Country!$F$31:$G$76, MATCH(AI965, Country!$O$31:$O$76, 0), 1)","v":4.0299999999999994},{"$f":"INDEX(Country!$F$31:$G$76, MATCH(AI965, Country!$O$31:$O$76, 0), 2)","v":"Carbon offsets future potential"},{"$f":"INDEX(Country!$K$31:$K$76, MATCH(AI965, Country!$O$31:$O$76, 0), 1)","v":"Potential"},"Brazil",null,null,null,null,null,null,null,41.422998851174277,41.422998851174277,41.422998851174277,41.422998851174277,41.422998851174277,41.422998851174277,41.422998851174277,null,null,null,null,null,null,null,1.6569199540469712,1.6569199540469712,1.6569199540469712,1.6569199540469712,1.6569199540469712,1.6569199540469712,1.6569199540469712,"4.03 > Brazil",951,36," "]
[{"$f":"INDEX(Country!$F$31:$G$76, MATCH(AI966, Country!$O$31:$O$76, 0), 1)","v":4.0299999999999994},{"$f":"INDEX(Country!$F$31:$G$76, MATCH(AI966, Country!$O$31:$O$76, 0), 2)","v":"Carbon offsets future potential"},{"$f":"INDEX(Country!$K$31:$K$76, MATCH(AI966, Country!$O$31:$O$76, 0), 1)","v":"Potential"},"Chile",null,null,null,null,null,null,null,29.485180268341871,29.485180268341871,29.485180268341871,29.485180268341871,29.485180268341871,29.485180268341871,29.485180268341871,null,null,null,null,null,null,null,1.1794072107336748,1.1794072107336748,1.1794072107336748,1.1794072107336748,1.1794072107336748,1.1794072107336748,1.1794072107336748,"4.03 > Chile",952,36," "]
[{"$f":"INDEX(Country!$F$31:$G$76, MATCH(AI967, Country!$O$31:$O$76, 0), 1)","v":4.0299999999999994},{"$f":"INDEX(Country!$F$31:$G$76, MATCH(AI967, Country!$O$31:$O$76, 0), 2)","v":"Carbon offsets future potential"},{"$f":"INDEX(Country!$K$31:$K$76, MATCH(AI967, Country!$O$31:$O$76, 0), 1)","v":"Potential"},"Colombia",null,null,null,null,null,null,null,21.982489776364169,21.982489776364169,21.982489776364169,21.982489776364169,21.982489776364169,21.982489776364169,21.982489776364169,null,null,null,null,null,null,null,0.87929959105456668,0.87929959105456668,0.87929959105456668,0.87929959105456668,0.87929959105456668,0.87929959105456668,0.87929959105456668,"4.03 > Colombia",953,36," "]
[{"$f":"INDEX(Country!$F$31:$G$76, MATCH(AI968, Country!$O$31:$O$76, 0), 1)","v":4.0299999999999994},{"$f":"INDEX(Country!$F$31:$G$76, MATCH(AI968, Country!$O$31:$O$76, 0), 2)","v":"Carbon offsets future potential"},{"$f":"INDEX(Country!$K$31:$K$76, MATCH(AI968, Country!$O$31:$O$76, 0), 1)","v":"Potential"},"Costa Rica",null,null,null,null,null,null,null,16.865235079726638,16.865235079726638,16.865235079726638,16.865235079726638,16.865235079726638,16.865235079726638,16.865235079726638,null,null,null,null,null,null,null,0.67460940318906548,0.67460940318906548,0.67460940318906548,0.67460940318906548,0.67460940318906548,0.67460940318906548,0.67460940318906548,"4.03 > Costa Rica",954,36," "]
[{"$f":"INDEX(Country!$F$31:$G$76, MATCH(AI969, Country!$O$31:$O$76, 0), 1)","v":4.0299999999999994},{"$f":"INDEX(Country!$F$31:$G$76, MATCH(AI969, Country!$O$31:$O$76, 0), 2)","v":"Carbon offsets future potential"},{"$f":"INDEX(Country!$K$31:$K$76, MATCH(AI969, Country!$O$31:$O$76, 0), 1)","v":"Potential"},"Dominican Republic",null,null,null,null,null,null,null,7.4752192144683383,7.4752192144683383,7.4752192144683383,7.4752192144683383,7.4752192144683383,7.4752192144683383,7.4752192144683383,null,null,null,null,null,null,null,0.29900876857873354,0.29900876857873354,0.29900876857873354,0.29900876857873354,0.29900876857873354,0.29900876857873354,0.29900876857873354,"4.03 > Dominican Republic",955,36," "]
[{"$f":"INDEX(Country!$F$31:$G$76, MATCH(AI970, Country!$O$31:$O$76, 0), 1)","v":4.0299999999999994},{"$f":"INDEX(Country!$F$31:$G$76, MATCH(AI970, Country!$O$31:$O$76, 0), 2)","v":"Carbon offsets future potential"},{"$f":"INDEX(Country!$K$31:$K$76, MATCH(AI970, Country!$O$31:$O$76, 0), 1)","v":"Potential"},"Ecuador",null,null,null,null,null,null,null,24.143328011494049,24.143328011494049,24.143328011494049,24.143328011494049,24.143328011494049,24.143328011494049,24.143328011494049,null,null,null,null,null,null,null,0.9657331204597619,0.9657331204597619,0.9657331204597619,0.9657331204597619,0.9657331204597619,0.9657331204597619,0.9657331204597619,"4.03 > Ecuador",956,36," "]
[{"$f":"INDEX(Country!$F$31:$G$76, MATCH(AI971, Country!$O$31:$O$76, 0), 1)","v":4.0299999999999994},{"$f":"INDEX(Country!$F$31:$G$76, MATCH(AI971, Country!$O$31:$O$76, 0), 2)","v":"Carbon offsets future potential"},{"$f":"INDEX(Country!$K$31:$K$76, MATCH(AI971, Country!$O$31:$O$76, 0), 1)","v":"Potential"},"El Salvador",null,null,null,null,null,null,null,7.7772041973708159,7.7772041973708159,7.7772041973708159,7.7772041973708159,7.7772041973708159,7.7772041973708159,7.7772041973708159,null,null,null,null,null,null,null,0.31108816789483262,0.31108816789483262,0.31108816789483262,0.31108816789483262,0.31108816789483262,0.31108816789483262,0.31108816789483262,"4.03 > El Salvador",957,36," "]
[{"$f":"INDEX(Country!$F$31:$G$76, MATCH(AI972, Country!$O$31:$O$76, 0), 1)","v":4.0299999999999994},{"$f":"INDEX(Country!$F$31:$G$76, MATCH(AI972, Country!$O$31:$O$76, 0), 2)","v":"Carbon offsets future potential"},{"$f":"INDEX(Country!$K$31:$K$76, MATCH(AI972, Country!$O$31:$O$76, 0), 1)","v":"Potential"},"Guatemala",null,null,null,null,null,null,null,21.231970437932159,21.231970437932159,21.231970437932159,21.231970437932159,21.231970437932159,21.231970437932159,21.231970437932159,null,null,null,null,null,null,null,0.84927881751728629,0.84927881751728629,0.84927881751728629,0.84927881751728629,0.84927881751728629,0.84927881751728629,0.84927881751728629,"4.03 > Guatemala",958,36," "]
[{"$f":"INDEX(Country!$F$31:$G$76, MATCH(AI973, Country!$O$31:$O$76, 0), 1)","v":4.0299999999999994},{"$f":"INDEX(Country!$F$31:$G$76, MATCH(AI973, Country!$O$31:$O$76, 0), 2)","v":"Carbon offsets future potential"},{"$f":"INDEX(Country!$K$31:$K$76, MATCH(AI973, Country!$O$31:$O$76, 0), 1)","v":"Potential"},"Guyana",null,null,null,null,null,null,null,8.5475113254245443,8.5475113254245443,8.5475113254245443,8.5475113254245443,8.5475113254245443,8.5475113254245443,8.5475113254245443,null,null,null,null,null,null,null,0.3419004530169818,0.3419004530169818,0.3419004530169818,0.3419004530169818,0.3419004530169818,0.3419004530169818,0.3419004530169818,"4.03 > Guyana",959,36," "]
[{"$f":"INDEX(Country!$F$31:$G$76, MATCH(AI974, Country!$O$31:$O$76, 0), 1)","v":4.0299999999999994},{"$f":"INDEX(Country!$F$31:$G$76, MATCH(AI974, Country!$O$31:$O$76, 0), 2)","v":"Carbon offsets future potential"},{"$f":"INDEX(Country!$K$31:$K$76, MATCH(AI974, Country!$O$31:$O$76, 0), 1)","v":"Potential"},"Haiti",null,null,null,null,null,null,null,16.486509492632514,16.486509492632514,16.486509492632514,16.486509492632514,16.486509492632514,16.486509492632514,16.486509492632514,null,null,null,null,null,null,null,0.65946037970530058,0.65946037970530058,0.65946037970530058,0.65946037970530058,0.65946037970530058,0.65946037970530058,0.65946037970530058,"4.03 > Haiti",960,36," "]
[{"$f":"INDEX(Country!$F$31:$G$76, MATCH(AI975, Country!$O$31:$O$76, 0), 1)","v":4.0299999999999994},{"$f":"INDEX(Country!$F$31:$G$76, MATCH(AI975, Country!$O$31:$O$76, 0), 2)","v":"Carbon offsets future potential"},{"$f":"INDEX(Country!$K$31:$K$76, MATCH(AI975, Country!$O$31:$O$76, 0), 1)","v":"Potential"},"Honduras",null,null,null,null,null,null,null,37.284275547243482,37.284275547243482,37.284275547243482,37.284275547243482,37.284275547243482,37.284275547243482,37.284275547243482,null,null,null,null,null,null,null,1.4913710218897391,1.4913710218897391,1.4913710218897391,1.4913710218897391,1.4913710218897391,1.4913710218897391,1.4913710218897391,{"$f":"A975&\" > \" &D975","v":"4.03 > Honduras"},961,36," "]
[{"$f":"INDEX(Country!$F$31:$G$76, MATCH(AI976, Country!$O$31:$O$76, 0), 1)","v":4.0299999999999994},{"$f":"INDEX(Country!$F$31:$G$76, MATCH(AI976, Country!$O$31:$O$76, 0), 2)","v":"Carbon offsets future potential"},{"$f":"INDEX(Country!$K$31:$K$76, MATCH(AI976, Country!$O$31:$O$76, 0), 1)","v":"Potential"},"Jamaica",null,null,null,null,null,null,null,12.291636144907224,12.291636144907224,12.291636144907224,12.291636144907224,12.291636144907224,12.291636144907224,12.291636144907224,null,null,null,null,null,null,null,0.49166544579628896,0.49166544579628896,0.49166544579628896,0.49166544579628896,0.49166544579628896,0.49166544579628896,0.49166544579628896,"4.03 > Jamaica",962,36," "]
[{"$f":"INDEX(Country!$F$31:$G$76, MATCH(AI977, Country!$O$31:$O$76, 0), 1)","v":4.0299999999999994},{"$f":"INDEX(Country!$F$31:$G$76, MATCH(AI977, Country!$O$31:$O$76, 0), 2)","v":"Carbon offsets future potential"},{"$f":"INDEX(Country!$K$31:$K$76, MATCH(AI977, Country!$O$31:$O$76, 0), 1)","v":"Potential"},"Mexico",null,null,null,null,null,null,null,21.915425365296318,21.915425365296318,21.915425365296318,21.915425365296318,21.915425365296318,21.915425365296318,21.915425365296318,null,null,null,null,null,null,null,0.87661701461185271,0.87661701461185271,0.87661701461185271,0.87661701461185271,0.87661701461185271,0.87661701461185271,0.87661701461185271,"4.03 > Mexico",{"$f":"AH976+1","v":963},{"$f":"ROUNDUP(AH977/COUNTA($D$15:$D$41),0)","v":36}," "]
[{"$f":"INDEX(Country!$F$31:$G$76, MATCH(AI978, Country!$O$31:$O$76, 0), 1)","v":4.0299999999999994},{"$f":"INDEX(Country!$F$31:$G$76, MATCH(AI978, Country!$O$31:$O$76, 0), 2)","v":"Carbon offsets future potential"},{"$f":"INDEX(Country!$K$31:$K$76, MATCH(AI978, Country!$O$31:$O$76, 0), 1)","v":"Potential"},"Nicaragua",null,null,null,null,null,null,null,31.953739934132923,31.953739934132923,31.953739934132923,31.953739934132923,31.953739934132923,31.953739934132923,31.953739934132923,null,null,null,null,null,null,null,1.278149597365317,1.278149597365317,1.278149597365317,1.278149597365317,1.278149597365317,1.278149597365317,1.278149597365317,"4.03 > Nicaragua",964,36," "]
[{"$f":"INDEX(Country!$F$31:$G$76, MATCH(AI979, Country!$O$31:$O$76, 0), 1)","v":4.0299999999999994},{"$f":"INDEX(Country!$F$31:$G$76, MATCH(AI979, Country!$O$31:$O$76, 0), 2)","v":"Carbon offsets future potential"},{"$f":"INDEX(Country!$K$31:$K$76, MATCH(AI979, Country!$O$31:$O$76, 0), 1)","v":"Potential"},"Panama",null,null,null,null,null,null,null,12.238800840163943,12.238800840163943,12.238800840163943,12.238800840163943,12.238800840163943,12.238800840163943,12.238800840163943,null,null,null,null,null,null,null,0.48955203360655775,0.48955203360655775,0.48955203360655775,0.48955203360655775,0.48955203360655775,0.48955203360655775,0.48955203360655775,"4.03 > Panama",965,36," "]
[{"$f":"INDEX(Country!$F$31:$G$76, MATCH(AI980, Country!$O$31:$O$76, 0), 1)","v":4.0299999999999994},{"$f":"INDEX(Country!$F$31:$G$76, MATCH(AI980, Country!$O$31:$O$76, 0), 2)","v":"Carbon offsets future potential"},{"$f":"INDEX(Country!$K$31:$K$76, MATCH(AI980, Country!$O$31:$O$76, 0), 1)","v":"Potential"},"Paraguay",null,null,null,null,null,null,null,40.945735506989926,40.945735506989926,40.945735506989926,40.945735506989926,40.945735506989926,40.945735506989926,40.945735506989926,null,null,null,null,null,null,null,1.6378294202795971,1.6378294202795971,1.6378294202795971,1.6378294202795971,1.6378294202795971,1.6378294202795971,1.6378294202795971,"4.03 > Paraguay",966,36," "]
[{"$f":"INDEX(Country!$F$31:$G$76, MATCH(AI981, Country!$O$31:$O$76, 0), 1)","v":4.0299999999999994},{"$f":"INDEX(Country!$F$31:$G$76, MATCH(AI981, Country!$O$31:$O$76, 0), 2)","v":"Carbon offsets future potential"},{"$f":"INDEX(Country!$K$31:$K$76, MATCH(AI981, Country!$O$31:$O$76, 0), 1)","v":"Potential"},"Peru",null,null,null,null,null,null,null,26.405590050969757,26.405590050969757,26.405590050969757,26.405590050969757,26.405590050969757,26.405590050969757,26.405590050969757,null,null,null,null,null,null,null,1.0562236020387903,1.0562236020387903,1.0562236020387903,1.0562236020387903,1.0562236020387903,1.0562236020387903,1.0562236020387903,"4.03 > Peru",967,36," "]
[{"$f":"INDEX(Country!$F$31:$G$76, MATCH(AI982, Country!$O$31:$O$76, 0), 1)","v":4.0299999999999994},{"$f":"INDEX(Country!$F$31:$G$76, MATCH(AI982, Country!$O$31:$O$76, 0), 2)","v":"Carbon offsets future potential"},{"$f":"INDEX(Country!$K$31:$K$76, MATCH(AI982, Country!$O$31:$O$76, 0), 1)","v":"Potential"},"Suriname",null,null,null,null,null,null,null,16.553488652935151,16.553488652935151,16.553488652935151,16.553488652935151,16.553488652935151,16.553488652935151,16.553488652935151,null,null,null,null,null,null,null,0.662139546117406,0.662139546117406,0.662139546117406,0.662139546117406,0.662139546117406,0.662139546117406,0.662139546117406,"4.03 > Suriname",968,36," "]
[{"$f":"INDEX(Country!$F$31:$G$76, MATCH(AI983, Country!$O$31:$O$76, 0), 1)","v":4.0299999999999994},{"$f":"INDEX(Country!$F$31:$G$76, MATCH(AI983, Country!$O$31:$O$76, 0), 2)","v":"Carbon offsets future potential"},{"$f":"INDEX(Country!$K$31:$K$76, MATCH(AI983, Country!$O$31:$O$76, 0), 1)","v":"Potential"},"Trinidad & Tobago",null,null,null,null,null,null,null,52.149176733312075,52.149176733312075,52.149176733312075,52.149176733312075,52.149176733312075,52.149176733312075,52.149176733312075,null,null,null,null,null,null,null,2.085967069332483,2.085967069332483,2.085967069332483,2.085967069332483,2.085967069332483,2.085967069332483,2.085967069332483,"4.03 > Trinidad & Tobago",969,36," "]
[{"$f":"INDEX(Country!$F$31:$G$76, MATCH(AI984, Country!$O$31:$O$76, 0), 1)","v":4.0299999999999994},{"$f":"INDEX(Country!$F$31:$G$76, MATCH(AI984, Country!$O$31:$O$76, 0), 2)","v":"Carbon offsets future potential"},{"$f":"INDEX(Country!$K$31:$K$76, MATCH(AI984, Country!$O$31:$O$76, 0), 1)","v":"Potential"},"Uruguay",null,null,null,null,null,null,null,50.359065385168769,50.359065385168769,50.359065385168769,50.359065385168769,50.359065385168769,50.359065385168769,50.359065385168769,null,null,null,null,null,null,null,2.0143626154067507,2.0143626154067507,2.0143626154067507,2.0143626154067507,2.0143626154067507,2.0143626154067507,2.0143626154067507,"4.03 > Uruguay",970,36," "]
[{"$f":"INDEX(Country!$F$31:$G$76, MATCH(AI985, Country!$O$31:$O$76, 0), 1)","v":4.0299999999999994},{"$f":"INDEX(Country!$F$31:$G$76, MATCH(AI985, Country!$O$31:$O$76, 0), 2)","v":"Carbon offsets future potential"},{"$f":"INDEX(Country!$K$31:$K$76, MATCH(AI985, Country!$O$31:$O$76, 0), 1)","v":"Potential"},"Venezuela",null,null,null,null,null,null,null,24.310465759898726,24.310465759898726,24.310465759898726,24.310465759898726,24.310465759898726,24.310465759898726,24.310465759898726,null,null,null,null,null,null,null,0.972418630395949,0.972418630395949,0.972418630395949,0.972418630395949,0.972418630395949,0.972418630395949,0.972418630395949,"4.03 > Venezuela",971,36," "]
[{"$f":"INDEX(Country!$F$31:$G$76, MATCH(AI986, Country!$O$31:$O$76, 0), 1)","v":4.0299999999999994},{"$f":"INDEX(Country!$F$31:$G$76, MATCH(AI986, Country!$O$31:$O$76, 0), 2)","v":"Carbon offsets future potential"},{"$f":"INDEX(Country!$K$31:$K$76, MATCH(AI986, Country!$O$31:$O$76, 0), 1)","v":"Potential"},"Benchmark",{"$f":"IFERROR(MAX(E960:E985), 0)","v":0},{"$f":"IFERROR(MAX(F960:F985), 0)","v":0},{"$f":"IFERROR(MAX(G960:G985), 0)","v":0},{"$f":"IFERROR(MAX(H960:H985), 0)","v":0},{"$f":"IFERROR(MAX(I960:I985), 0)","v":0},{"$f":"IFERROR(MAX(J960:J985), 0)","v":0},0,100,100,100,100,100,100,100,null,null,null,null,null,null,null,4,4,4,4,4,4,4,"4.03 > Benchmark",972,36," "]
[{"$f":"INDEX(Country!$F$31:$G$76, MATCH(AI987, Country!$O$31:$O$76, 0), 1)","v":4.0399999999999991},{"$f":"INDEX(Country!$F$31:$G$76, MATCH(AI987, Country!$O$31:$O$76, 0), 2)","v":"GHG emissions reduction target"},{"$f":"INDEX(Country!$K$31:$K$76, MATCH(AI987, Country!$O$31:$O$76, 0), 1)","v":"Target"},{"$f":"D960","v":"Argentina"},null,null,null,null,null,null,0,{"$f":"(Z987/5)*dbl_BenchmarkMax","v":0},{"$f":"(AA987/5)*dbl_BenchmarkMax","v":0},{"$f":"(AB987/5)*dbl_BenchmarkMax","v":0},{"$f":"(AC987/5)*dbl_BenchmarkMax","v":0},{"$f":"(AD987/5)*dbl_BenchmarkMax","v":0},{"$f":"(AE987/5)*dbl_BenchmarkMax","v":0},{"$f":"(AF987/5)*dbl_BenchmarkMax","v":0},null,null,null,null,null,null,null,{"$f":"AA987","v":0},{"$f":"AB987","v":0},0,0,0,0,0,"4.04 > Argentina",973,37," "]
[{"$f":"INDEX(Country!$F$31:$G$76, MATCH(AI988, Country!$O$31:$O$76, 0), 1)","v":4.0399999999999991},{"$f":"INDEX(Country!$F$31:$G$76, MATCH(AI988, Country!$O$31:$O$76, 0), 2)","v":"GHG emissions reduction target"},{"$f":"INDEX(Country!$K$31:$K$76, MATCH(AI988, Country!$O$31:$O$76, 0), 1)","v":"Target"},"Bahamas",null,null,null,null,null,null,0,0,0,0,0,0,0,0,null,null,null,null,null,null,null,{"$f":"AA988","v":0},0,0,0,0,0,0,"4.04 > Bahamas",974,37," "]
[{"$f":"INDEX(Country!$F$31:$G$76, MATCH(AI989, Country!$O$31:$O$76, 0), 1)","v":4.0399999999999991},{"$f":"INDEX(Country!$F$31:$G$76, MATCH(AI989, Country!$O$31:$O$76, 0), 2)","v":"GHG emissions reduction target"},{"$f":"INDEX(Country!$K$31:$K$76, MATCH(AI989, Country!$O$31:$O$76, 0), 1)","v":"Target"},"Barbados",null,null,null,null,null,null,0,0,0,0,0,0,0,0,null,null,null,null,null,null,null,{"$f":"AA989","v":0},0,0,0,0,0,0,"4.04 > Barbados",975,37," "]
[{"$f":"INDEX(Country!$F$31:$G$76, MATCH(AI990, Country!$O$31:$O$76, 0), 1)","v":4.0399999999999991},{"$f":"INDEX(Country!$F$31:$G$76, MATCH(AI990, Country!$O$31:$O$76, 0), 2)","v":"GHG emissions reduction target"},{"$f":"INDEX(Country!$K$31:$K$76, MATCH(AI990, Country!$O$31:$O$76, 0), 1)","v":"Target"},"Belize",null,null,null,null,null,null,0,0,0,0,0,0,0,0,null,null,null,null,null,null,null,{"$f":"AA990","v":0},0,0,0,0,0,0,"4.04 > Belize",976,37," "]
[{"$f":"INDEX(Country!$F$31:$G$76, MATCH(AI991, Country!$O$31:$O$76, 0), 1)","v":4.0399999999999991},{"$f":"INDEX(Country!$F$31:$G$76, MATCH(AI991, Country!$O$31:$O$76, 0), 2)","v":"GHG emissions reduction target"},{"$f":"INDEX(Country!$K$31:$K$76, MATCH(AI991, Country!$O$31:$O$76, 0), 1)","v":"Target"},"Bolivia",null,null,null,null,null,null,0,0,0,0,0,0,0,0,null,null,null,null,null,null,null,{"$f":"AA991","v":0},0,0,0,0,0,0,"4.04 > Bolivia",977,37," "]
[{"$f":"INDEX(Country!$F$31:$G$76, MATCH(AI992, Country!$O$31:$O$76, 0), 1)","v":4.0399999999999991},{"$f":"INDEX(Country!$F$31:$G$76, MATCH(AI992, Country!$O$31:$O$76, 0), 2)","v":"GHG emissions reduction target"},{"$f":"INDEX(Country!$K$31:$K$76, MATCH(AI992, Country!$O$31:$O$76, 0), 1)","v":"Target"},"Brazil",null,null,null,null,null,null,1,60,60,60,60,60,60,60,null,null,null,null,null,null,null,{"$f":"AA992","v":3},3,3,3,3,3,3,"4.04 > Brazil",978,37," "]
[{"$f":"INDEX(Country!$F$31:$G$76, MATCH(AI993, Country!$O$31:$O$76, 0), 1)","v":4.0399999999999991},{"$f":"INDEX(Country!$F$31:$G$76, MATCH(AI993, Country!$O$31:$O$76, 0), 2)","v":"GHG emissions reduction target"},{"$f":"INDEX(Country!$K$31:$K$76, MATCH(AI993, Country!$O$31:$O$76, 0), 1)","v":"Target"},"Chile",null,null,null,null,null,null,1,60,60,60,60,60,60,60,null,null,null,null,null,null,null,{"$f":"AA993","v":3},3,3,3,3,3,3,"4.04 > Chile",979,37," "]
[{"$f":"INDEX(Country!$F$31:$G$76, MATCH(AI994, Country!$O$31:$O$76, 0), 1)","v":4.0399999999999991},{"$f":"INDEX(Country!$F$31:$G$76, MATCH(AI994, Country!$O$31:$O$76, 0), 2)","v":"GHG emissions reduction target"},{"$f":"INDEX(Country!$K$31:$K$76, MATCH(AI994, Country!$O$31:$O$76, 0), 1)","v":"Target"},"Colombia",null,null,null,null,null,null,0,0,0,0,0,0,0,0,null,null,null,null,null,null,null,{"$f":"AA994","v":0},0,0,0,0,0,0,"4.04 > Colombia",980,37," "]
[{"$f":"INDEX(Country!$F$31:$G$76, MATCH(AI995, Country!$O$31:$O$76, 0), 1)","v":4.0399999999999991},{"$f":"INDEX(Country!$F$31:$G$76, MATCH(AI995, Country!$O$31:$O$76, 0), 2)","v":"GHG emissions reduction target"},{"$f":"INDEX(Country!$K$31:$K$76, MATCH(AI995, Country!$O$31:$O$76, 0), 1)","v":"Target"},"Costa Rica",null,null,null,null,null,null,1,60,60,60,60,60,60,60,null,null,null,null,null,null,null,{"$f":"AA995","v":3},3,3,3,3,3,3,"4.04 > Costa Rica",981,37," "]
[{"$f":"INDEX(Country!$F$31:$G$76, MATCH(AI996, Country!$O$31:$O$76, 0), 1)","v":4.0399999999999991},{"$f":"INDEX(Country!$F$31:$G$76, MATCH(AI996, Country!$O$31:$O$76, 0), 2)","v":"GHG emissions reduction target"},{"$f":"INDEX(Country!$K$31:$K$76, MATCH(AI996, Country!$O$31:$O$76, 0), 1)","v":"Target"},"Dominican Republic",null,null,null,null,null,null,1,60,60,60,60,60,60,60,null,null,null,null,null,null,null,{"$f":"AA996","v":3},3,3,3,3,3,3,"4.04 > Dominican Republic",982,37," "]
[{"$f":"INDEX(Country!$F$31:$G$76, MATCH(AI997, Country!$O$31:$O$76, 0), 1)","v":4.0399999999999991},{"$f":"INDEX(Country!$F$31:$G$76, MATCH(AI997, Country!$O$31:$O$76, 0), 2)","v":"GHG emissions reduction target"},{"$f":"INDEX(Country!$K$31:$K$76, MATCH(AI997, Country!$O$31:$O$76, 0), 1)","v":"Target"},"Ecuador",null,null,null,null,null,null,0,0,0,0,0,0,0,0,null,null,null,null,null,null,null,{"$f":"AA997","v":0},0,0,0,0,0,0,"4.04 > Ecuador",983,37," "]
[{"$f":"INDEX(Country!$F$31:$G$76, MATCH(AI998, Country!$O$31:$O$76, 0), 1)","v":4.0399999999999991},{"$f":"INDEX(Country!$F$31:$G$76, MATCH(AI998, Country!$O$31:$O$76, 0), 2)","v":"GHG emissions reduction target"},{"$f":"INDEX(Country!$K$31:$K$76, MATCH(AI998, Country!$O$31:$O$76, 0), 1)","v":"Target"},"El Salvador",null,null,null,null,null,null,0,0,0,0,0,0,0,0,null,null,null,null,null,null,null,{"$f":"AA998","v":0},0,0,0,0,0,0,"4.04 > El Salvador",984,37," "]
[{"$f":"INDEX(Country!$F$31:$G$76, MATCH(AI999, Country!$O$31:$O$76, 0), 1)","v":4.0399999999999991},{"$f":"INDEX(Country!$F$31:$G$76, MATCH(AI999, Country!$O$31:$O$76, 0), 2)","v":"GHG emissions reduction target"},{"$f":"INDEX(Country!$K$31:$K$76, MATCH(AI999, Country!$O$31:$O$76, 0), 1)","v":"Target"},"Guatemala",null,null,null,null,null,null,0,0,0,0,0,0,0,0,null,null,null,null,null,null,null,{"$f":"AA999","v":0},0,0,0,0,0,0,"4.04 > Guatemala",985,37," "]
[{"$f":"INDEX(Country!$F$31:$G$76, MATCH(AI1000, Country!$O$31:$O$76, 0), 1)","v":4.0399999999999991},{"$f":"INDEX(Country!$F$31:$G$76, MATCH(AI1000, Country!$O$31:$O$76, 0), 2)","v":"GHG emissions reduction target"},{"$f":"INDEX(Country!$K$31:$K$76, MATCH(AI1000, Country!$O$31:$O$76, 0), 1)","v":"Target"},"Guyana",null,null,null,null,null,null,0,0,0,0,0,0,0,0,null,null,null,null,null,null,null,{"$f":"AA1000","v":0},0,0,0,0,0,0,"4.04 > Guyana",986,37," "]
[{"$f":"INDEX(Country!$F$31:$G$76, MATCH(AI1001, Country!$O$31:$O$76, 0), 1)","v":4.0399999999999991},{"$f":"INDEX(Country!$F$31:$G$76, MATCH(AI1001, Country!$O$31:$O$76, 0), 2)","v":"GHG emissions reduction target"},{"$f":"INDEX(Country!$K$31:$K$76, MATCH(AI1001, Country!$O$31:$O$76, 0), 1)","v":"Target"},"Haiti",null,null,null,null,null,null,0,0,0,0,0,0,0,0,null,null,null,null,null,null,null,{"$f":"AA1001","v":0},0,0,0,0,0,0,"4.04 > Haiti",987,37," "]
[{"$f":"INDEX(Country!$F$31:$G$76, MATCH(AI1002, Country!$O$31:$O$76, 0), 1)","v":4.0399999999999991},{"$f":"INDEX(Country!$F$31:$G$76, MATCH(AI1002, Country!$O$31:$O$76, 0), 2)","v":"GHG emissions reduction target"},{"$f":"INDEX(Country!$K$31:$K$76, MATCH(AI1002, Country!$O$31:$O$76, 0), 1)","v":"Target"},"Honduras",null,null,null,null,null,null,0,0,0,0,0,0,0,0,null,null,null,null,null,null,null,{"$f":"AA1002","v":0},0,0,0,0,0,0,"4.04 > Honduras",988,37," "]
[{"$f":"INDEX(Country!$F$31:$G$76, MATCH(AI1003, Country!$O$31:$O$76, 0), 1)","v":4.0399999999999991},{"$f":"INDEX(Country!$F$31:$G$76, MATCH(AI1003, Country!$O$31:$O$76, 0), 2)","v":"GHG emissions reduction target"},{"$f":"INDEX(Country!$K$31:$K$76, MATCH(AI1003, Country!$O$31:$O$76, 0), 1)","v":"Target"},"Jamaica",null,null,null,null,null,null,0,0,0,0,0,0,0,0,null,null,null,null,null,null,null,{"$f":"AA1003","v":0},0,0,0,0,0,0,"4.04 > Jamaica",989,37," "]
[{"$f":"INDEX(Country!$F$31:$G$76, MATCH(AI1004, Country!$O$31:$O$76, 0), 1)","v":4.0399999999999991},{"$f":"INDEX(Country!$F$31:$G$76, MATCH(AI1004, Country!$O$31:$O$76, 0), 2)","v":"GHG emissions reduction target"},{"$f":"INDEX(Country!$K$31:$K$76, MATCH(AI1004, Country!$O$31:$O$76, 0), 1)","v":"Target"},"Mexico",null,null,null,null,null,null,1,60,60,60,60,60,60,60,null,null,null,null,null,null,null,{"$f":"AA1004","v":3},3,3,3,3,3,3,"4.04 > Mexico",990,37," "]
[{"$f":"INDEX(Country!$F$31:$G$76, MATCH(AI1005, Country!$O$31:$O$76, 0), 1)","v":4.0399999999999991},{"$f":"INDEX(Country!$F$31:$G$76, MATCH(AI1005, Country!$O$31:$O$76, 0), 2)","v":"GHG emissions reduction target"},{"$f":"INDEX(Country!$K$31:$K$76, MATCH(AI1005, Country!$O$31:$O$76, 0), 1)","v":"Target"},"Nicaragua",null,null,null,null,null,null,0,0,0,0,0,0,0,0,null,null,null,null,null,null,null,{"$f":"AA1005","v":0},0,0,0,0,0,0,"4.04 > Nicaragua",991,37," "]
[{"$f":"INDEX(Country!$F$31:$G$76, MATCH(AI1006, Country!$O$31:$O$76, 0), 1)","v":4.0399999999999991},{"$f":"INDEX(Country!$F$31:$G$76, MATCH(AI1006, Country!$O$31:$O$76, 0), 2)","v":"GHG emissions reduction target"},{"$f":"INDEX(Country!$K$31:$K$76, MATCH(AI1006, Country!$O$31:$O$76, 0), 1)","v":"Target"},"Panama",null,null,null,null,null,null,0,0,0,0,0,0,0,0,null,null,null,null,null,null,null,{"$f":"AA1006","v":0},0,0,0,0,0,0,"4.04 > Panama",992,37," "]
[{"$f":"INDEX(Country!$F$31:$G$76, MATCH(AI1007, Country!$O$31:$O$76, 0), 1)","v":4.0399999999999991},{"$f":"INDEX(Country!$F$31:$G$76, MATCH(AI1007, Country!$O$31:$O$76, 0), 2)","v":"GHG emissions reduction target"},{"$f":"INDEX(Country!$K$31:$K$76, MATCH(AI1007, Country!$O$31:$O$76, 0), 1)","v":"Target"},"Paraguay",null,null,null,null,null,null,0,0,0,0,0,0,0,0,null,null,null,null,null,null,null,{"$f":"AA1007","v":0},0,0,0,0,0,0,"4.04 > Paraguay",993,37," "]
[{"$f":"INDEX(Country!$F$31:$G$76, MATCH(AI1008, Country!$O$31:$O$76, 0), 1)","v":4.0399999999999991},{"$f":"INDEX(Country!$F$31:$G$76, MATCH(AI1008, Country!$O$31:$O$76, 0), 2)","v":"GHG emissions reduction target"},{"$f":"INDEX(Country!$K$31:$K$76, MATCH(AI1008, Country!$O$31:$O$76, 0), 1)","v":"Target"},"Peru",null,null,null,null,null,null,0,0,0,0,0,0,0,0,null,null,null,null,null,null,null,{"$f":"AA1008","v":0},0,0,0,0,0,0,"4.04 > Peru",994,37," "]
[{"$f":"INDEX(Country!$F$31:$G$76, MATCH(AI1009, Country!$O$31:$O$76, 0), 1)","v":4.0399999999999991},{"$f":"INDEX(Country!$F$31:$G$76, MATCH(AI1009, Country!$O$31:$O$76, 0), 2)","v":"GHG emissions reduction target"},{"$f":"INDEX(Country!$K$31:$K$76, MATCH(AI1009, Country!$O$31:$O$76, 0), 1)","v":"Target"},"Suriname",null,null,null,null,null,null,0,0,0,0,0,0,0,0,null,null,null,null,null,null,null,{"$f":"AA1009","v":0},0,0,0,0,0,0,"4.04 > Suriname",995,37," "]
[{"$f":"INDEX(Country!$F$31:$G$76, MATCH(AI1010, Country!$O$31:$O$76, 0), 1)","v":4.0399999999999991},{"$f":"INDEX(Country!$F$31:$G$76, MATCH(AI1010, Country!$O$31:$O$76, 0), 2)","v":"GHG emissions reduction target"},{"$f":"INDEX(Country!$K$31:$K$76, MATCH(AI1010, Country!$O$31:$O$76, 0), 1)","v":"Target"},"Trinidad & Tobago",null,null,null,null,null,null,0,0,0,0,0,0,0,0,null,null,null,null,null,null,null,{"$f":"AA1010","v":0},0,0,0,0,0,0,"4.04 > Trinidad & Tobago",996,37," "]
[{"$f":"INDEX(Country!$F$31:$G$76, MATCH(AI1011, Country!$O$31:$O$76, 0), 1)","v":4.0399999999999991},{"$f":"INDEX(Country!$F$31:$G$76, MATCH(AI1011, Country!$O$31:$O$76, 0), 2)","v":"GHG emissions reduction target"},{"$f":"INDEX(Country!$K$31:$K$76, MATCH(AI1011, Country!$O$31:$O$76, 0), 1)","v":"Target"},"Uruguay",null,null,null,null,null,null,0,0,0,0,0,0,0,0,null,null,null,null,null,null,null,{"$f":"AA1011","v":0},0,0,0,0,0,0,"4.04 > Uruguay",997,37," "]
[{"$f":"INDEX(Country!$F$31:$G$76, MATCH(AI1012, Country!$O$31:$O$76, 0), 1)","v":4.0399999999999991},{"$f":"INDEX(Country!$F$31:$G$76, MATCH(AI1012, Country!$O$31:$O$76, 0), 2)","v":"GHG emissions reduction target"},{"$f":"INDEX(Country!$K$31:$K$76, MATCH(AI1012, Country!$O$31:$O$76, 0), 1)","v":"Target"},"Venezuela",null,null,null,null,null,null,0,0,0,0,0,0,0,0,null,null,null,null,null,null,null,{"$f":"AA1012","v":0},0,0,0,0,0,0,"4.04 > Venezuela",998,37," "]
[{"$f":"INDEX(Country!$F$31:$G$76, MATCH(AI1013, Country!$O$31:$O$76, 0), 1)","v":4.0399999999999991},{"$f":"INDEX(Country!$F$31:$G$76, MATCH(AI1013, Country!$O$31:$O$76, 0), 2)","v":"GHG emissions reduction target"},{"$f":"INDEX(Country!$K$31:$K$76, MATCH(AI1013, Country!$O$31:$O$76, 0), 1)","v":"Target"},"Benchmark",{"$f":"IFERROR(MAX(E987:E1012), 0)","v":0},0,0,0,0,0,0,100,100,100,100,100,100,100,null,null,null,null,null,null,null,5,5,5,5,5,5,5,"4.04 > Benchmark",999,37," "]
[{"$f":"INDEX(Country!$F$31:$G$76, MATCH(AI1014, Country!$O$31:$O$76, 0), 1)","v":4.0499999999999989},{"$f":"INDEX(Country!$F$31:$G$76, MATCH(AI1014, Country!$O$31:$O$76, 0), 2)","v":"GHG country registry"},{"$f":"INDEX(Country!$K$31:$K$76, MATCH(AI1014, Country!$O$31:$O$76, 0), 1)","v":"Registry"},"Argentina",null,null,null,null,null,null,null,{"$f":"(Z1014/3)*dbl_BenchmarkMax","v":16.666666666666664},{"$f":"(AA1014/3)*dbl_BenchmarkMax","v":16.666666666666664},{"$f":"(AB1014/3)*dbl_BenchmarkMax","v":16.666666666666664},{"$f":"(AC1014/3)*dbl_BenchmarkMax","v":16.666666666666664},{"$f":"(AD1014/3)*dbl_BenchmarkMax","v":16.666666666666664},{"$f":"(AE1014/3)*dbl_BenchmarkMax","v":16.666666666666664},{"$f":"(AF1014/3)*dbl_BenchmarkMax","v":16.666666666666664},null,null,null,null,null,null,null,{"$f":"AA1014","v":0.5},0.5,0.5,0.5,0.5,0.5,0.5,"4.05 > Argentina",1000,38," "]
[{"$f":"INDEX(Country!$F$31:$G$76, MATCH(AI1015, Country!$O$31:$O$76, 0), 1)","v":4.0499999999999989},{"$f":"INDEX(Country!$F$31:$G$76, MATCH(AI1015, Country!$O$31:$O$76, 0), 2)","v":"GHG country registry"},{"$f":"INDEX(Country!$K$31:$K$76, MATCH(AI1015, Country!$O$31:$O$76, 0), 1)","v":"Registry"},"Bahamas",null,null,null,null,null,null,null,0,0,0,0,0,0,0,null,null,null,null,null,null,null,{"$f":"AA1015","v":0},0,0,0,0,0,0,"4.05 > Bahamas",1001,38," "]
[{"$f":"INDEX(Country!$F$31:$G$76, MATCH(AI1016, Country!$O$31:$O$76, 0), 1)","v":4.0499999999999989},{"$f":"INDEX(Country!$F$31:$G$76, MATCH(AI1016, Country!$O$31:$O$76, 0), 2)","v":"GHG country registry"},{"$f":"INDEX(Country!$K$31:$K$76, MATCH(AI1016, Country!$O$31:$O$76, 0), 1)","v":"Registry"},"Barbados",null,null,null,null,null,null,null,0,0,0,0,0,0,0,null,null,null,null,null,null,null,{"$f":"AA1016","v":0},0,0,0,0,0,0,"4.05 > Barbados",1002,38," "]
[{"$f":"INDEX(Country!$F$31:$G$76, MATCH(AI1017, Country!$O$31:$O$76, 0), 1)","v":4.0499999999999989},{"$f":"INDEX(Country!$F$31:$G$76, MATCH(AI1017, Country!$O$31:$O$76, 0), 2)","v":"GHG country registry"},{"$f":"INDEX(Country!$K$31:$K$76, MATCH(AI1017, Country!$O$31:$O$76, 0), 1)","v":"Registry"},"Belize",null,null,null,null,null,null,null,0,0,0,0,0,0,0,null,null,null,null,null,null,null,{"$f":"AA1017","v":0},0,0,0,0,0,0,"4.05 > Belize",1003,38," "]
[{"$f":"INDEX(Country!$F$31:$G$76, MATCH(AI1018, Country!$O$31:$O$76, 0), 1)","v":4.0499999999999989},{"$f":"INDEX(Country!$F$31:$G$76, MATCH(AI1018, Country!$O$31:$O$76, 0), 2)","v":"GHG country registry"},{"$f":"INDEX(Country!$K$31:$K$76, MATCH(AI1018, Country!$O$31:$O$76, 0), 1)","v":"Registry"},"Bolivia",null,null,null,null,null,null,null,0,0,0,0,0,0,0,null,null,null,null,null,null,null,{"$f":"AA1018","v":0},0,0,0,0,0,0,"4.05 > Bolivia",1004,38," "]
[{"$f":"INDEX(Country!$F$31:$G$76, MATCH(AI1019, Country!$O$31:$O$76, 0), 1)","v":4.0499999999999989},{"$f":"INDEX(Country!$F$31:$G$76, MATCH(AI1019, Country!$O$31:$O$76, 0), 2)","v":"GHG country registry"},{"$f":"INDEX(Country!$K$31:$K$76, MATCH(AI1019, Country!$O$31:$O$76, 0), 1)","v":"Registry"},"Brazil",null,null,null,null,null,null,null,66.666666666666657,66.666666666666657,66.666666666666657,66.666666666666657,66.666666666666657,66.666666666666657,66.666666666666657,null,null,null,null,null,null,null,{"$f":"AA1019","v":2},2,2,2,2,2,2,"4.05 > Brazil",1005,38," "]
[{"$f":"INDEX(Country!$F$31:$G$76, MATCH(AI1020, Country!$O$31:$O$76, 0), 1)","v":4.0499999999999989},{"$f":"INDEX(Country!$F$31:$G$76, MATCH(AI1020, Country!$O$31:$O$76, 0), 2)","v":"GHG country registry"},{"$f":"INDEX(Country!$K$31:$K$76, MATCH(AI1020, Country!$O$31:$O$76, 0), 1)","v":"Registry"},"Chile",null,null,null,null,null,null,null,16.666666666666664,16.666666666666664,16.666666666666664,16.666666666666664,16.666666666666664,16.666666666666664,16.666666666666664,null,null,null,null,null,null,null,{"$f":"AA1020","v":0.5},0.5,0.5,0.5,0.5,0.5,0.5,"4.05 > Chile",1006,38," "]
[{"$f":"INDEX(Country!$F$31:$G$76, MATCH(AI1021, Country!$O$31:$O$76, 0), 1)","v":4.0499999999999989},{"$f":"INDEX(Country!$F$31:$G$76, MATCH(AI1021, Country!$O$31:$O$76, 0), 2)","v":"GHG country registry"},{"$f":"INDEX(Country!$K$31:$K$76, MATCH(AI1021, Country!$O$31:$O$76, 0), 1)","v":"Registry"},"Colombia",null,null,null,null,null,null,null,16.666666666666664,16.666666666666664,16.666666666666664,16.666666666666664,16.666666666666664,16.666666666666664,16.666666666666664,null,null,null,null,null,null,null,{"$f":"AA1021","v":0.5},0.5,0.5,0.5,0.5,0.5,0.5,"4.05 > Colombia",1007,38," "]
[{"$f":"INDEX(Country!$F$31:$G$76, MATCH(AI1022, Country!$O$31:$O$76, 0), 1)","v":4.0499999999999989},{"$f":"INDEX(Country!$F$31:$G$76, MATCH(AI1022, Country!$O$31:$O$76, 0), 2)","v":"GHG country registry"},{"$f":"INDEX(Country!$K$31:$K$76, MATCH(AI1022, Country!$O$31:$O$76, 0), 1)","v":"Registry"},"Costa Rica",null,null,null,null,null,null,null,0,0,0,0,0,0,0,null,null,null,null,null,null,null,{"$f":"AA1022","v":0},0,0,0,0,0,0,"4.05 > Costa Rica",1008,38," "]
[{"$f":"INDEX(Country!$F$31:$G$76, MATCH(AI1023, Country!$O$31:$O$76, 0), 1)","v":4.0499999999999989},{"$f":"INDEX(Country!$F$31:$G$76, MATCH(AI1023, Country!$O$31:$O$76, 0), 2)","v":"GHG country registry"},{"$f":"INDEX(Country!$K$31:$K$76, MATCH(AI1023, Country!$O$31:$O$76, 0), 1)","v":"Registry"},"Dominican Republic",null,null,null,null,null,null,null,0,0,0,0,0,0,0,null,null,null,null,null,null,null,{"$f":"AA1023","v":0},0,0,0,0,0,0,"4.05 > Dominican Republic",1009,38," "]
[{"$f":"INDEX(Country!$F$31:$G$76, MATCH(AI1024, Country!$O$31:$O$76, 0), 1)","v":4.0499999999999989},{"$f":"INDEX(Country!$F$31:$G$76, MATCH(AI1024, Country!$O$31:$O$76, 0), 2)","v":"GHG country registry"},{"$f":"INDEX(Country!$K$31:$K$76, MATCH(AI1024, Country!$O$31:$O$76, 0), 1)","v":"Registry"},"Ecuador",null,null,null,null,null,null,null,0,0,0,0,0,0,0,null,null,null,null,null,null,null,{"$f":"AA1024","v":0},0,0,0,0,0,0,"4.05 > Ecuador",1010,38," "]
[{"$f":"INDEX(Country!$F$31:$G$76, MATCH(AI1025, Country!$O$31:$O$76, 0), 1)","v":4.0499999999999989},{"$f":"INDEX(Country!$F$31:$G$76, MATCH(AI1025, Country!$O$31:$O$76, 0), 2)","v":"GHG country registry"},{"$f":"INDEX(Country!$K$31:$K$76, MATCH(AI1025, Country!$O$31:$O$76, 0), 1)","v":"Registry"},"El Salvador",null,null,null,null,null,null,null,0,0,0,0,0,0,0,null,null,null,null,null,null,null,{"$f":"AA1025","v":0},0,0,0,0,0,0,"4.05 > El Salvador",1011,38," "]
[{"$f":"INDEX(Country!$F$31:$G$76, MATCH(AI1026, Country!$O$31:$O$76, 0), 1)","v":4.0499999999999989},{"$f":"INDEX(Country!$F$31:$G$76, MATCH(AI1026, Country!$O$31:$O$76, 0), 2)","v":"GHG country registry"},{"$f":"INDEX(Country!$K$31:$K$76, MATCH(AI1026, Country!$O$31:$O$76, 0), 1)","v":"Registry"},"Guatemala",null,null,null,null,null,null,null,0,0,0,0,0,0,0,null,null,null,null,null,null,null,{"$f":"AA1026","v":0},0,0,0,0,0,0,"4.05 > Guatemala",1012,38," "]
[{"$f":"INDEX(Country!$F$31:$G$76, MATCH(AI1027, Country!$O$31:$O$76, 0), 1)","v":4.0499999999999989},{"$f":"INDEX(Country!$F$31:$G$76, MATCH(AI1027, Country!$O$31:$O$76, 0), 2)","v":"GHG country registry"},{"$f":"INDEX(Country!$K$31:$K$76, MATCH(AI1027, Country!$O$31:$O$76, 0), 1)","v":"Registry"},"Guyana",null,null,null,null,null,null,null,0,0,0,0,0,0,0,null,null,null,null,null,null,null,{"$f":"AA1027","v":0},0,0,0,0,0,0,"4.05 > Guyana",1013,38," "]
[{"$f":"INDEX(Country!$F$31:$G$76, MATCH(AI1028, Country!$O$31:$O$76, 0), 1)","v":4.0499999999999989},{"$f":"INDEX(Country!$F$31:$G$76, MATCH(AI1028, Country!$O$31:$O$76, 0), 2)","v":"GHG country registry"},{"$f":"INDEX(Country!$K$31:$K$76, MATCH(AI1028, Country!$O$31:$O$76, 0), 1)","v":"Registry"},"Haiti",null,null,null,null,null,null,null,0,0,0,0,0,0,0,null,null,null,null,null,null,null,{"$f":"AA1028","v":0},0,0,0,0,0,0,"4.05 > Haiti",1014,38," "]
[{"$f":"INDEX(Country!$F$31:$G$76, MATCH(AI1029, Country!$O$31:$O$76, 0), 1)","v":4.0499999999999989},{"$f":"INDEX(Country!$F$31:$G$76, MATCH(AI1029, Country!$O$31:$O$76, 0), 2)","v":"GHG country registry"},{"$f":"INDEX(Country!$K$31:$K$76, MATCH(AI1029, Country!$O$31:$O$76, 0), 1)","v":"Registry"},"Honduras",null,null,null,null,null,null,null,0,0,0,0,0,0,0,null,null,null,null,null,null,null,{"$f":"AA1029","v":0},0,0,0,0,0,0,"4.05 > Honduras",1015,38," "]
[{"$f":"INDEX(Country!$F$31:$G$76, MATCH(AI1030, Country!$O$31:$O$76, 0), 1)","v":4.0499999999999989},{"$f":"INDEX(Country!$F$31:$G$76, MATCH(AI1030, Country!$O$31:$O$76, 0), 2)","v":"GHG country registry"},{"$f":"INDEX(Country!$K$31:$K$76, MATCH(AI1030, Country!$O$31:$O$76, 0), 1)","v":"Registry"},"Jamaica",null,null,null,null,null,null,null,0,0,0,0,0,0,0,null,null,null,null,null,null,null,{"$f":"AA1030","v":0},0,0,0,0,0,0,"4.05 > Jamaica",1016,38," "]
[{"$f":"INDEX(Country!$F$31:$G$76, MATCH(AI1031, Country!$O$31:$O$76, 0), 1)","v":4.0499999999999989},{"$f":"INDEX(Country!$F$31:$G$76, MATCH(AI1031, Country!$O$31:$O$76, 0), 2)","v":"GHG country registry"},{"$f":"INDEX(Country!$K$31:$K$76, MATCH(AI1031, Country!$O$31:$O$76, 0), 1)","v":"Registry"},"Mexico",null,null,null,null,null,null,null,66.666666666666657,66.666666666666657,66.666666666666657,66.666666666666657,66.666666666666657,66.666666666666657,66.666666666666657,null,null,null,null,null,null,null,{"$f":"AA1031","v":2},2,2,2,2,2,2,"4.05 > Mexico",1017,38," "]
[{"$f":"INDEX(Country!$F$31:$G$76, MATCH(AI1032, Country!$O$31:$O$76, 0), 1)","v":4.0499999999999989},{"$f":"INDEX(Country!$F$31:$G$76, MATCH(AI1032, Country!$O$31:$O$76, 0), 2)","v":"GHG country registry"},{"$f":"INDEX(Country!$K$31:$K$76, MATCH(AI1032, Country!$O$31:$O$76, 0), 1)","v":"Registry"},"Nicaragua",null,null,null,null,null,null,null,0,0,0,0,0,0,0,null,null,null,null,null,null,null,{"$f":"AA1032","v":0},0,0,0,0,0,0,"4.05 > Nicaragua",1018,38," "]
[{"$f":"INDEX(Country!$F$31:$G$76, MATCH(AI1033, Country!$O$31:$O$76, 0), 1)","v":4.0499999999999989},{"$f":"INDEX(Country!$F$31:$G$76, MATCH(AI1033, Country!$O$31:$O$76, 0), 2)","v":"GHG country registry"},{"$f":"INDEX(Country!$K$31:$K$76, MATCH(AI1033, Country!$O$31:$O$76, 0), 1)","v":"Registry"},"Panama",null,null,null,null,null,null,null,0,0,0,0,0,0,0,null,null,null,null,null,null,null,{"$f":"AA1033","v":0},0,0,0,0,0,0,"4.05 > Panama",1019,38," "]
[{"$f":"INDEX(Country!$F$31:$G$76, MATCH(AI1034, Country!$O$31:$O$76, 0), 1)","v":4.0499999999999989},{"$f":"INDEX(Country!$F$31:$G$76, MATCH(AI1034, Country!$O$31:$O$76, 0), 2)","v":"GHG country registry"},{"$f":"INDEX(Country!$K$31:$K$76, MATCH(AI1034, Country!$O$31:$O$76, 0), 1)","v":"Registry"},"Paraguay",null,null,null,null,null,null,null,0,0,0,0,0,0,0,null,null,null,null,null,null,null,{"$f":"AA1034","v":0},0,0,0,0,0,0,"4.05 > Paraguay",1020,38," "]
[{"$f":"INDEX(Country!$F$31:$G$76, MATCH(AI1035, Country!$O$31:$O$76, 0), 1)","v":4.0499999999999989},{"$f":"INDEX(Country!$F$31:$G$76, MATCH(AI1035, Country!$O$31:$O$76, 0), 2)","v":"GHG country registry"},{"$f":"INDEX(Country!$K$31:$K$76, MATCH(AI1035, Country!$O$31:$O$76, 0), 1)","v":"Registry"},"Peru",null,null,null,null,null,null,null,0,0,0,0,0,0,0,null,null,null,null,null,null,null,{"$f":"AA1035","v":0},0,0,0,0,0,0,"4.05 > Peru",1021,38," "]
[{"$f":"INDEX(Country!$F$31:$G$76, MATCH(AI1036, Country!$O$31:$O$76, 0), 1)","v":4.0499999999999989},{"$f":"INDEX(Country!$F$31:$G$76, MATCH(AI1036, Country!$O$31:$O$76, 0), 2)","v":"GHG country registry"},{"$f":"INDEX(Country!$K$31:$K$76, MATCH(AI1036, Country!$O$31:$O$76, 0), 1)","v":"Registry"},"Suriname",null,null,null,null,null,null,null,0,0,0,0,0,0,0,null,null,null,null,null,null,null,{"$f":"AA1036","v":0},0,0,0,0,0,0,"4.05 > Suriname",1022,38," "]
[{"$f":"INDEX(Country!$F$31:$G$76, MATCH(AI1037, Country!$O$31:$O$76, 0), 1)","v":4.0499999999999989},{"$f":"INDEX(Country!$F$31:$G$76, MATCH(AI1037, Country!$O$31:$O$76, 0), 2)","v":"GHG country registry"},{"$f":"INDEX(Country!$K$31:$K$76, MATCH(AI1037, Country!$O$31:$O$76, 0), 1)","v":"Registry"},"Trinidad & Tobago",null,null,null,null,null,null,null,0,0,0,0,0,0,0,null,null,null,null,null,null,null,{"$f":"AA1037","v":0},0,0,0,0,0,0,"4.05 > Trinidad & Tobago",1023,38," "]
[{"$f":"INDEX(Country!$F$31:$G$76, MATCH(AI1038, Country!$O$31:$O$76, 0), 1)","v":4.0499999999999989},{"$f":"INDEX(Country!$F$31:$G$76, MATCH(AI1038, Country!$O$31:$O$76, 0), 2)","v":"GHG country registry"},{"$f":"INDEX(Country!$K$31:$K$76, MATCH(AI1038, Country!$O$31:$O$76, 0), 1)","v":"Registry"},"Uruguay",null,null,null,null,null,null,null,0,0,0,0,0,0,0,null,null,null,null,null,null,null,{"$f":"AA1038","v":0},0,0,0,0,0,0,"4.05 > Uruguay",1024,38," "]
[{"$f":"INDEX(Country!$F$31:$G$76, MATCH(AI1039, Country!$O$31:$O$76, 0), 1)","v":4.0499999999999989},{"$f":"INDEX(Country!$F$31:$G$76, MATCH(AI1039, Country!$O$31:$O$76, 0), 2)","v":"GHG country registry"},{"$f":"INDEX(Country!$K$31:$K$76, MATCH(AI1039, Country!$O$31:$O$76, 0), 1)","v":"Registry"},"Venezuela",null,null,null,null,null,null,null,0,0,0,0,0,0,0,null,null,null,null,null,null,null,{"$f":"AA1039","v":0},0,0,0,0,0,0,{"$f":"A1039&\" > \" &D1039","v":"4.05 > Venezuela"},1025,38," "]
[{"$f":"INDEX(Country!$F$31:$G$76, MATCH(AI1040, Country!$O$31:$O$76, 0), 1)","v":4.0499999999999989},{"$f":"INDEX(Country!$F$31:$G$76, MATCH(AI1040, Country!$O$31:$O$76, 0), 2)","v":"GHG country registry"},{"$f":"INDEX(Country!$K$31:$K$76, MATCH(AI1040, Country!$O$31:$O$76, 0), 1)","v":"Registry"},"Benchmark",{"$f":"IFERROR(MAX(E1014:E1039), 0)","v":0},0,0,0,0,0,0,100,100,100,100,100,100,100,null,null,null,null,null,null,null,3,3,3,3,3,3,3,"4.05 > Benchmark",1026,38," "]
[{"$f":"INDEX(Country!$F$31:$G$76, MATCH(AI1041, Country!$O$31:$O$76, 0), 1)","v":4.0599999999999987},{"$f":"INDEX(Country!$F$31:$G$76, MATCH(AI1041, Country!$O$31:$O$76, 0), 2)","v":"GHG market-based instruments"},{"$f":"INDEX(Country!$K$31:$K$76, MATCH(AI1041, Country!$O$31:$O$76, 0), 1)","v":"Program"},"Argentina",null,null,null,null,null,null,null,{"$f":"(Z1041/1)*dbl_BenchmarkMax","v":0},{"$f":"(AA1041/1)*dbl_BenchmarkMax","v":0},{"$f":"(AB1041/1)*dbl_BenchmarkMax","v":0},{"$f":"(AC1041/1)*dbl_BenchmarkMax","v":0},{"$f":"(AD1041/1)*dbl_BenchmarkMax","v":0},{"$f":"(AE1041/1)*dbl_BenchmarkMax","v":0},{"$f":"(AF1041/1)*dbl_BenchmarkMax","v":0},null,null,null,null,null,null,null,{"$f":"AA1041","v":0},0,0,0,0,0,0,"4.06 > Argentina",{"$f":"AH1040+1","v":1027},{"$f":"ROUNDUP(AH1041/COUNTA($D$15:$D$41),0)","v":39}," "]
[{"$f":"INDEX(Country!$F$31:$G$76, MATCH(AI1042, Country!$O$31:$O$76, 0), 1)","v":4.0599999999999987},{"$f":"INDEX(Country!$F$31:$G$76, MATCH(AI1042, Country!$O$31:$O$76, 0), 2)","v":"GHG market-based instruments"},{"$f":"INDEX(Country!$K$31:$K$76, MATCH(AI1042, Country!$O$31:$O$76, 0), 1)","v":"Program"},"Bahamas",null,null,null,null,null,null,null,0,0,0,0,0,0,0,null,null,null,null,null,null,null,{"$f":"AA1042","v":0},0,0,0,0,0,0,"4.06 > Bahamas",1028,39," "]
[{"$f":"INDEX(Country!$F$31:$G$76, MATCH(AI1043, Country!$O$31:$O$76, 0), 1)","v":4.0599999999999987},{"$f":"INDEX(Country!$F$31:$G$76, MATCH(AI1043, Country!$O$31:$O$76, 0), 2)","v":"GHG market-based instruments"},{"$f":"INDEX(Country!$K$31:$K$76, MATCH(AI1043, Country!$O$31:$O$76, 0), 1)","v":"Program"},"Barbados",null,null,null,null,null,null,null,0,0,0,0,0,0,0,null,null,null,null,null,null,null,{"$f":"AA1043","v":0},0,0,0,0,0,0,"4.06 > Barbados",1029,39," "]
[{"$f":"INDEX(Country!$F$31:$G$76, MATCH(AI1044, Country!$O$31:$O$76, 0), 1)","v":4.0599999999999987},{"$f":"INDEX(Country!$F$31:$G$76, MATCH(AI1044, Country!$O$31:$O$76, 0), 2)","v":"GHG market-based instruments"},{"$f":"INDEX(Country!$K$31:$K$76, MATCH(AI1044, Country!$O$31:$O$76, 0), 1)","v":"Program"},"Belize",null,null,null,null,null,null,null,0,0,0,0,0,0,0,null,null,null,null,null,null,null,{"$f":"AA1044","v":0},0,0,0,0,0,0,"4.06 > Belize",1030,39," "]
[{"$f":"INDEX(Country!$F$31:$G$76, MATCH(AI1045, Country!$O$31:$O$76, 0), 1)","v":4.0599999999999987},{"$f":"INDEX(Country!$F$31:$G$76, MATCH(AI1045, Country!$O$31:$O$76, 0), 2)","v":"GHG market-based instruments"},{"$f":"INDEX(Country!$K$31:$K$76, MATCH(AI1045, Country!$O$31:$O$76, 0), 1)","v":"Program"},"Bolivia",null,null,null,null,null,null,null,0,0,0,0,0,0,0,null,null,null,null,null,null,null,{"$f":"AA1045","v":0},0,0,0,0,0,0,"4.06 > Bolivia",1031,39," "]
[{"$f":"INDEX(Country!$F$31:$G$76, MATCH(AI1046, Country!$O$31:$O$76, 0), 1)","v":4.0599999999999987},{"$f":"INDEX(Country!$F$31:$G$76, MATCH(AI1046, Country!$O$31:$O$76, 0), 2)","v":"GHG market-based instruments"},{"$f":"INDEX(Country!$K$31:$K$76, MATCH(AI1046, Country!$O$31:$O$76, 0), 1)","v":"Program"},"Brazil",null,null,null,null,null,null,null,0,0,0,0,0,0,0,null,null,null,null,null,null,null,{"$f":"AA1046","v":0},0,0,0,0,0,0,"4.06 > Brazil",1032,39," "]
[{"$f":"INDEX(Country!$F$31:$G$76, MATCH(AI1047, Country!$O$31:$O$76, 0), 1)","v":4.0599999999999987},{"$f":"INDEX(Country!$F$31:$G$76, MATCH(AI1047, Country!$O$31:$O$76, 0), 2)","v":"GHG market-based instruments"},{"$f":"INDEX(Country!$K$31:$K$76, MATCH(AI1047, Country!$O$31:$O$76, 0), 1)","v":"Program"},"Chile",null,null,null,null,null,null,null,50,50,50,50,50,50,50,null,null,null,null,null,null,null,{"$f":"AA1047","v":0.5},0.5,0.5,0.5,0.5,0.5,0.5,"4.06 > Chile",1033,39," "]
[{"$f":"INDEX(Country!$F$31:$G$76, MATCH(AI1048, Country!$O$31:$O$76, 0), 1)","v":4.0599999999999987},{"$f":"INDEX(Country!$F$31:$G$76, MATCH(AI1048, Country!$O$31:$O$76, 0), 2)","v":"GHG market-based instruments"},{"$f":"INDEX(Country!$K$31:$K$76, MATCH(AI1048, Country!$O$31:$O$76, 0), 1)","v":"Program"},"Colombia",null,null,null,null,null,null,null,0,0,0,0,0,0,0,null,null,null,null,null,null,null,{"$f":"AA1048","v":0},0,0,0,0,0,0,"4.06 > Colombia",1034,39," "]
[{"$f":"INDEX(Country!$F$31:$G$76, MATCH(AI1049, Country!$O$31:$O$76, 0), 1)","v":4.0599999999999987},{"$f":"INDEX(Country!$F$31:$G$76, MATCH(AI1049, Country!$O$31:$O$76, 0), 2)","v":"GHG market-based instruments"},{"$f":"INDEX(Country!$K$31:$K$76, MATCH(AI1049, Country!$O$31:$O$76, 0), 1)","v":"Program"},"Costa Rica",null,null,null,null,null,null,null,50,50,50,50,50,50,50,null,null,null,null,null,null,null,{"$f":"AA1049","v":0.5},0.5,0.5,0.5,0.5,0.5,0.5,"4.06 > Costa Rica",1035,39," "]
[{"$f":"INDEX(Country!$F$31:$G$76, MATCH(AI1050, Country!$O$31:$O$76, 0), 1)","v":4.0599999999999987},{"$f":"INDEX(Country!$F$31:$G$76, MATCH(AI1050, Country!$O$31:$O$76, 0), 2)","v":"GHG market-based instruments"},{"$f":"INDEX(Country!$K$31:$K$76, MATCH(AI1050, Country!$O$31:$O$76, 0), 1)","v":"Program"},"Dominican Republic",null,null,null,null,null,null,null,0,0,0,0,0,0,0,null,null,null,null,null,null,null,{"$f":"AA1050","v":0},0,0,0,0,0,0,"4.06 > Dominican Republic",1036,39," "]
[{"$f":"INDEX(Country!$F$31:$G$76, MATCH(AI1051, Country!$O$31:$O$76, 0), 1)","v":4.0599999999999987},{"$f":"INDEX(Country!$F$31:$G$76, MATCH(AI1051, Country!$O$31:$O$76, 0), 2)","v":"GHG market-based instruments"},{"$f":"INDEX(Country!$K$31:$K$76, MATCH(AI1051, Country!$O$31:$O$76, 0), 1)","v":"Program"},{"$f":"D1024","v":"Ecuador"},null,null,null,null,null,null,null,0,0,0,0,0,0,0,null,null,null,null,null,null,null,{"$f":"AA1051","v":0},0,0,0,0,0,0,"4.06 > Ecuador",1037,39," "]
[{"$f":"INDEX(Country!$F$31:$G$76, MATCH(AI1052, Country!$O$31:$O$76, 0), 1)","v":4.0599999999999987},{"$f":"INDEX(Country!$F$31:$G$76, MATCH(AI1052, Country!$O$31:$O$76, 0), 2)","v":"GHG market-based instruments"},{"$f":"INDEX(Country!$K$31:$K$76, MATCH(AI1052, Country!$O$31:$O$76, 0), 1)","v":"Program"},"El Salvador",null,null,null,null,null,null,null,0,0,0,0,0,0,0,null,null,null,null,null,null,null,{"$f":"AA1052","v":0},0,0,0,0,0,0,"4.06 > El Salvador",1038,39," "]
[{"$f":"INDEX(Country!$F$31:$G$76, MATCH(AI1053, Country!$O$31:$O$76, 0), 1)","v":4.0599999999999987},{"$f":"INDEX(Country!$F$31:$G$76, MATCH(AI1053, Country!$O$31:$O$76, 0), 2)","v":"GHG market-based instruments"},{"$f":"INDEX(Country!$K$31:$K$76, MATCH(AI1053, Country!$O$31:$O$76, 0), 1)","v":"Program"},"Guatemala",null,null,null,null,null,null,null,0,0,0,0,0,0,0,null,null,null,null,null,null,null,{"$f":"AA1053","v":0},0,0,0,0,0,0,"4.06 > Guatemala",1039,39," "]
[{"$f":"INDEX(Country!$F$31:$G$76, MATCH(AI1054, Country!$O$31:$O$76, 0), 1)","v":4.0599999999999987},{"$f":"INDEX(Country!$F$31:$G$76, MATCH(AI1054, Country!$O$31:$O$76, 0), 2)","v":"GHG market-based instruments"},{"$f":"INDEX(Country!$K$31:$K$76, MATCH(AI1054, Country!$O$31:$O$76, 0), 1)","v":"Program"},"Guyana",null,null,null,null,null,null,null,0,0,0,0,0,0,0,null,null,null,null,null,null,null,{"$f":"AA1054","v":0},0,0,0,0,0,0,"4.06 > Guyana",1040,39," "]
[{"$f":"INDEX(Country!$F$31:$G$76, MATCH(AI1055, Country!$O$31:$O$76, 0), 1)","v":4.0599999999999987},{"$f":"INDEX(Country!$F$31:$G$76, MATCH(AI1055, Country!$O$31:$O$76, 0), 2)","v":"GHG market-based instruments"},{"$f":"INDEX(Country!$K$31:$K$76, MATCH(AI1055, Country!$O$31:$O$76, 0), 1)","v":"Program"},"Haiti",null,null,null,null,null,null,null,0,0,0,0,0,0,0,null,null,null,null,null,null,null,{"$f":"AA1055","v":0},0,0,0,0,0,0,"4.06 > Haiti",1041,39," "]
[{"$f":"INDEX(Country!$F$31:$G$76, MATCH(AI1056, Country!$O$31:$O$76, 0), 1)","v":4.0599999999999987},{"$f":"INDEX(Country!$F$31:$G$76, MATCH(AI1056, Country!$O$31:$O$76, 0), 2)","v":"GHG market-based instruments"},{"$f":"INDEX(Country!$K$31:$K$76, MATCH(AI1056, Country!$O$31:$O$76, 0), 1)","v":"Program"},"Honduras",null,null,null,null,null,null,null,0,0,0,0,0,0,0,null,null,null,null,null,null,null,{"$f":"AA1056","v":0},0,0,0,0,0,0,"4.06 > Honduras",1042,39," "]
[{"$f":"INDEX(Country!$F$31:$G$76, MATCH(AI1057, Country!$O$31:$O$76, 0), 1)","v":4.0599999999999987},{"$f":"INDEX(Country!$F$31:$G$76, MATCH(AI1057, Country!$O$31:$O$76, 0), 2)","v":"GHG market-based instruments"},{"$f":"INDEX(Country!$K$31:$K$76, MATCH(AI1057, Country!$O$31:$O$76, 0), 1)","v":"Program"},"Jamaica",null,null,null,null,null,null,null,0,0,0,0,0,0,0,null,null,null,null,null,null,null,{"$f":"AA1057","v":0},0,0,0,0,0,0,"4.06 > Jamaica",1043,39," "]
[{"$f":"INDEX(Country!$F$31:$G$76, MATCH(AI1058, Country!$O$31:$O$76, 0), 1)","v":4.0599999999999987},{"$f":"INDEX(Country!$F$31:$G$76, MATCH(AI1058, Country!$O$31:$O$76, 0), 2)","v":"GHG market-based instruments"},{"$f":"INDEX(Country!$K$31:$K$76, MATCH(AI1058, Country!$O$31:$O$76, 0), 1)","v":"Program"},"Mexico",null,null,null,null,null,null,null,50,50,50,50,50,50,50,null,null,null,null,null,null,null,{"$f":"AA1058","v":0.5},0.5,0.5,0.5,0.5,0.5,0.5,"4.06 > Mexico",1044,39," "]
[{"$f":"INDEX(Country!$F$31:$G$76, MATCH(AI1059, Country!$O$31:$O$76, 0), 1)","v":4.0599999999999987},{"$f":"INDEX(Country!$F$31:$G$76, MATCH(AI1059, Country!$O$31:$O$76, 0), 2)","v":"GHG market-based instruments"},{"$f":"INDEX(Country!$K$31:$K$76, MATCH(AI1059, Country!$O$31:$O$76, 0), 1)","v":"Program"},"Nicaragua",null,null,null,null,null,null,null,0,0,0,0,0,0,0,null,null,null,null,null,null,null,{"$f":"AA1059","v":0},0,0,0,0,0,0,"4.06 > Nicaragua",1045,39," "]
[{"$f":"INDEX(Country!$F$31:$G$76, MATCH(AI1060, Country!$O$31:$O$76, 0), 1)","v":4.0599999999999987},{"$f":"INDEX(Country!$F$31:$G$76, MATCH(AI1060, Country!$O$31:$O$76, 0), 2)","v":"GHG market-based instruments"},{"$f":"INDEX(Country!$K$31:$K$76, MATCH(AI1060, Country!$O$31:$O$76, 0), 1)","v":"Program"},"Panama",null,null,null,null,null,null,null,0,0,0,0,0,0,0,null,null,null,null,null,null,null,{"$f":"AA1060","v":0},0,0,0,0,0,0,"4.06 > Panama",1046,39," "]
[{"$f":"INDEX(Country!$F$31:$G$76, MATCH(AI1061, Country!$O$31:$O$76, 0), 1)","v":4.0599999999999987},{"$f":"INDEX(Country!$F$31:$G$76, MATCH(AI1061, Country!$O$31:$O$76, 0), 2)","v":"GHG market-based instruments"},{"$f":"INDEX(Country!$K$31:$K$76, MATCH(AI1061, Country!$O$31:$O$76, 0), 1)","v":"Program"},"Paraguay",null,null,null,null,null,null,null,0,0,0,0,0,0,0,null,null,null,null,null,null,null,{"$f":"AA1061","v":0},0,0,0,0,0,0,"4.06 > Paraguay",1047,39," "]
[{"$f":"INDEX(Country!$F$31:$G$76, MATCH(AI1062, Country!$O$31:$O$76, 0), 1)","v":4.0599999999999987},{"$f":"INDEX(Country!$F$31:$G$76, MATCH(AI1062, Country!$O$31:$O$76, 0), 2)","v":"GHG market-based instruments"},{"$f":"INDEX(Country!$K$31:$K$76, MATCH(AI1062, Country!$O$31:$O$76, 0), 1)","v":"Program"},"Peru",null,null,null,null,null,null,null,0,0,0,0,0,0,0,null,null,null,null,null,null,null,{"$f":"AA1062","v":0},0,0,0,0,0,0,"4.06 > Peru",1048,39," "]
[{"$f":"INDEX(Country!$F$31:$G$76, MATCH(AI1063, Country!$O$31:$O$76, 0), 1)","v":4.0599999999999987},{"$f":"INDEX(Country!$F$31:$G$76, MATCH(AI1063, Country!$O$31:$O$76, 0), 2)","v":"GHG market-based instruments"},{"$f":"INDEX(Country!$K$31:$K$76, MATCH(AI1063, Country!$O$31:$O$76, 0), 1)","v":"Program"},"Suriname",null,null,null,null,null,null,null,0,0,0,0,0,0,0,null,null,null,null,null,null,null,{"$f":"AA1063","v":0},0,0,0,0,0,0,"4.06 > Suriname",1049,39," "]
[{"$f":"INDEX(Country!$F$31:$G$76, MATCH(AI1064, Country!$O$31:$O$76, 0), 1)","v":4.0599999999999987},{"$f":"INDEX(Country!$F$31:$G$76, MATCH(AI1064, Country!$O$31:$O$76, 0), 2)","v":"GHG market-based instruments"},{"$f":"INDEX(Country!$K$31:$K$76, MATCH(AI1064, Country!$O$31:$O$76, 0), 1)","v":"Program"},"Trinidad & Tobago",null,null,null,null,null,null,null,0,0,0,0,0,0,0,null,null,null,null,null,null,null,{"$f":"AA1064","v":0},0,0,0,0,0,0,"4.06 > Trinidad & Tobago",1050,39," "]
[{"$f":"INDEX(Country!$F$31:$G$76, MATCH(AI1065, Country!$O$31:$O$76, 0), 1)","v":4.0599999999999987},{"$f":"INDEX(Country!$F$31:$G$76, MATCH(AI1065, Country!$O$31:$O$76, 0), 2)","v":"GHG market-based instruments"},{"$f":"INDEX(Country!$K$31:$K$76, MATCH(AI1065, Country!$O$31:$O$76, 0), 1)","v":"Program"},"Uruguay",null,null,null,null,null,null,null,0,0,0,0,0,0,0,null,null,null,null,null,null,null,{"$f":"AA1065","v":0},0,0,0,0,0,0,"4.06 > Uruguay",1051,39," "]
[{"$f":"INDEX(Country!$F$31:$G$76, MATCH(AI1066, Country!$O$31:$O$76, 0), 1)","v":4.0599999999999987},{"$f":"INDEX(Country!$F$31:$G$76, MATCH(AI1066, Country!$O$31:$O$76, 0), 2)","v":"GHG market-based instruments"},{"$f":"INDEX(Country!$K$31:$K$76, MATCH(AI1066, Country!$O$31:$O$76, 0), 1)","v":"Program"},"Venezuela",null,null,null,null,null,null,null,0,0,0,0,0,0,0,null,null,null,null,null,null,null,{"$f":"AA1066","v":0},0,0,0,0,0,0,"4.06 > Venezuela",1052,39," "]
[{"$f":"INDEX(Country!$F$31:$G$76, MATCH(AI1067, Country!$O$31:$O$76, 0), 1)","v":4.0599999999999987},{"$f":"INDEX(Country!$F$31:$G$76, MATCH(AI1067, Country!$O$31:$O$76, 0), 2)","v":"GHG market-based instruments"},{"$f":"INDEX(Country!$K$31:$K$76, MATCH(AI1067, Country!$O$31:$O$76, 0), 1)","v":"Program"},"Benchmark",{"$f":"IFERROR(MAX(E1041:E1066), 0)","v":0},0,0,0,0,0,0,{"$f":"(Z1067)*dbl_BenchmarkMax","v":100},100,100,100,100,100,100,null,null,null,null,null,null,null,1,1,1,1,1,1,1,"4.06 > Benchmark",1053,39," "]
[{"$f":"INDEX(Country!$F$31:$G$76, MATCH(AI1068, Country!$O$31:$O$76, 0), 1)","v":4.0699999999999985},{"$f":"INDEX(Country!$F$31:$G$76, MATCH(AI1068, Country!$O$31:$O$76, 0), 2)","v":"PMR & NAMA"},{"$f":"INDEX(Country!$K$31:$K$76, MATCH(AI1068, Country!$O$31:$O$76, 0), 1)","v":"PMR & NAMA"},{"$f":"D1014","v":"Argentina"},null,null,null,null,null,null,null,{"$f":"(Z1068/4)*dbl_BenchmarkMax","v":0},{"$f":"(AA1068/4)*dbl_BenchmarkMax","v":0},{"$f":"(AB1068/4)*dbl_BenchmarkMax","v":0},{"$f":"(AC1068/4)*dbl_BenchmarkMax","v":0},{"$f":"(AD1068/4)*dbl_BenchmarkMax","v":0},{"$f":"(AE1068/4)*dbl_BenchmarkMax","v":0},{"$f":"(AF1068/4)*dbl_BenchmarkMax","v":0},null,null,null,null,null,null,null,{"$f":"AA1068","v":0},0,0,0,0,0,0,"4.07 > Argentina",1054,40," "]
[{"$f":"INDEX(Country!$F$31:$G$76, MATCH(AI1069, Country!$O$31:$O$76, 0), 1)","v":4.0699999999999985},{"$f":"INDEX(Country!$F$31:$G$76, MATCH(AI1069, Country!$O$31:$O$76, 0), 2)","v":"PMR & NAMA"},{"$f":"INDEX(Country!$K$31:$K$76, MATCH(AI1069, Country!$O$31:$O$76, 0), 1)","v":"PMR & NAMA"},"Bahamas",null,null,null,null,null,null,null,0,0,0,0,0,0,0,null,null,null,null,null,null,null,{"$f":"AA1069","v":0},0,0,0,0,0,0,"4.07 > Bahamas",1055,40," "]
[{"$f":"INDEX(Country!$F$31:$G$76, MATCH(AI1070, Country!$O$31:$O$76, 0), 1)","v":4.0699999999999985},{"$f":"INDEX(Country!$F$31:$G$76, MATCH(AI1070, Country!$O$31:$O$76, 0), 2)","v":"PMR & NAMA"},{"$f":"INDEX(Country!$K$31:$K$76, MATCH(AI1070, Country!$O$31:$O$76, 0), 1)","v":"PMR & NAMA"},"Barbados",null,null,null,null,null,null,null,25,25,25,25,25,25,25,null,null,null,null,null,null,null,{"$f":"AA1070","v":1},1,1,1,1,1,1,"4.07 > Barbados",1056,40," "]
[{"$f":"INDEX(Country!$F$31:$G$76, MATCH(AI1071, Country!$O$31:$O$76, 0), 1)","v":4.0699999999999985},{"$f":"INDEX(Country!$F$31:$G$76, MATCH(AI1071, Country!$O$31:$O$76, 0), 2)","v":"PMR & NAMA"},{"$f":"INDEX(Country!$K$31:$K$76, MATCH(AI1071, Country!$O$31:$O$76, 0), 1)","v":"PMR & NAMA"},"Belize",null,null,null,null,null,null,null,0,0,0,0,0,0,0,null,null,null,null,null,null,null,{"$f":"AA1071","v":0},0,0,0,0,0,0,"4.07 > Belize",1057,40," "]
[{"$f":"INDEX(Country!$F$31:$G$76, MATCH(AI1072, Country!$O$31:$O$76, 0), 1)","v":4.0699999999999985},{"$f":"INDEX(Country!$F$31:$G$76, MATCH(AI1072, Country!$O$31:$O$76, 0), 2)","v":"PMR & NAMA"},{"$f":"INDEX(Country!$K$31:$K$76, MATCH(AI1072, Country!$O$31:$O$76, 0), 1)","v":"PMR & NAMA"},"Bolivia",null,null,null,null,null,null,null,0,0,0,0,0,0,0,null,null,null,null,null,null,null,{"$f":"AA1072","v":0},0,0,0,0,0,0,"4.07 > Bolivia",1058,40," "]
[{"$f":"INDEX(Country!$F$31:$G$76, MATCH(AI1073, Country!$O$31:$O$76, 0), 1)","v":4.0699999999999985},{"$f":"INDEX(Country!$F$31:$G$76, MATCH(AI1073, Country!$O$31:$O$76, 0), 2)","v":"PMR & NAMA"},{"$f":"INDEX(Country!$K$31:$K$76, MATCH(AI1073, Country!$O$31:$O$76, 0), 1)","v":"PMR & NAMA"},"Brazil",null,null,null,null,null,null,null,25,25,25,25,25,25,25,null,null,null,null,null,null,null,{"$f":"AA1073","v":1},1,1,1,1,1,1,"4.07 > Brazil",1059,40," "]
[{"$f":"INDEX(Country!$F$31:$G$76, MATCH(AI1074, Country!$O$31:$O$76, 0), 1)","v":4.0699999999999985},{"$f":"INDEX(Country!$F$31:$G$76, MATCH(AI1074, Country!$O$31:$O$76, 0), 2)","v":"PMR & NAMA"},{"$f":"INDEX(Country!$K$31:$K$76, MATCH(AI1074, Country!$O$31:$O$76, 0), 1)","v":"PMR & NAMA"},"Chile",null,null,null,null,null,null,null,50,50,50,50,50,50,50,null,null,null,null,null,null,null,{"$f":"AA1074","v":2},2,2,2,2,2,2,"4.07 > Chile",1060,40," "]
[{"$f":"INDEX(Country!$F$31:$G$76, MATCH(AI1075, Country!$O$31:$O$76, 0), 1)","v":4.0699999999999985},{"$f":"INDEX(Country!$F$31:$G$76, MATCH(AI1075, Country!$O$31:$O$76, 0), 2)","v":"PMR & NAMA"},{"$f":"INDEX(Country!$K$31:$K$76, MATCH(AI1075, Country!$O$31:$O$76, 0), 1)","v":"PMR & NAMA"},"Colombia",null,null,null,null,null,null,null,50,50,50,50,50,50,50,null,null,null,null,null,null,null,{"$f":"AA1075","v":2},2,2,2,2,2,2,"4.07 > Colombia",1061,40," "]
[{"$f":"INDEX(Country!$F$31:$G$76, MATCH(AI1076, Country!$O$31:$O$76, 0), 1)","v":4.0699999999999985},{"$f":"INDEX(Country!$F$31:$G$76, MATCH(AI1076, Country!$O$31:$O$76, 0), 2)","v":"PMR & NAMA"},{"$f":"INDEX(Country!$K$31:$K$76, MATCH(AI1076, Country!$O$31:$O$76, 0), 1)","v":"PMR & NAMA"},"Costa Rica",null,null,null,null,null,null,null,50,50,50,50,50,50,50,null,null,null,null,null,null,null,{"$f":"AA1076","v":2},2,2,2,2,2,2,"4.07 > Costa Rica",1062,40," "]
[{"$f":"INDEX(Country!$F$31:$G$76, MATCH(AI1077, Country!$O$31:$O$76, 0), 1)","v":4.0699999999999985},{"$f":"INDEX(Country!$F$31:$G$76, MATCH(AI1077, Country!$O$31:$O$76, 0), 2)","v":"PMR & NAMA"},{"$f":"INDEX(Country!$K$31:$K$76, MATCH(AI1077, Country!$O$31:$O$76, 0), 1)","v":"PMR & NAMA"},"Dominican Republic",null,null,null,null,null,null,null,0,0,0,0,0,0,0,null,null,null,null,null,null,null,{"$f":"AA1077","v":0},0,0,0,0,0,0,"4.07 > Dominican Republic",1063,40," "]
[{"$f":"INDEX(Country!$F$31:$G$76, MATCH(AI1078, Country!$O$31:$O$76, 0), 1)","v":4.0699999999999985},{"$f":"INDEX(Country!$F$31:$G$76, MATCH(AI1078, Country!$O$31:$O$76, 0), 2)","v":"PMR & NAMA"},{"$f":"INDEX(Country!$K$31:$K$76, MATCH(AI1078, Country!$O$31:$O$76, 0), 1)","v":"PMR & NAMA"},"Ecuador",null,null,null,null,null,null,null,0,0,0,0,0,0,0,null,null,null,null,null,null,null,{"$f":"AA1078","v":0},0,0,0,0,0,0,"4.07 > Ecuador",1064,40," "]
[{"$f":"INDEX(Country!$F$31:$G$76, MATCH(AI1079, Country!$O$31:$O$76, 0), 1)","v":4.0699999999999985},{"$f":"INDEX(Country!$F$31:$G$76, MATCH(AI1079, Country!$O$31:$O$76, 0), 2)","v":"PMR & NAMA"},{"$f":"INDEX(Country!$K$31:$K$76, MATCH(AI1079, Country!$O$31:$O$76, 0), 1)","v":"PMR & NAMA"},"El Salvador",null,null,null,null,null,null,null,0,0,0,0,0,0,0,null,null,null,null,null,null,null,{"$f":"AA1079","v":0},0,0,0,0,0,0,"4.07 > El Salvador",1065,40," "]
[{"$f":"INDEX(Country!$F$31:$G$76, MATCH(AI1080, Country!$O$31:$O$76, 0), 1)","v":4.0699999999999985},{"$f":"INDEX(Country!$F$31:$G$76, MATCH(AI1080, Country!$O$31:$O$76, 0), 2)","v":"PMR & NAMA"},{"$f":"INDEX(Country!$K$31:$K$76, MATCH(AI1080, Country!$O$31:$O$76, 0), 1)","v":"PMR & NAMA"},"Guatemala",null,null,null,null,null,null,null,0,0,0,0,0,0,0,null,null,null,null,null,null,null,{"$f":"AA1080","v":0},0,0,0,0,0,0,"4.07 > Guatemala",1066,40," "]
[{"$f":"INDEX(Country!$F$31:$G$76, MATCH(AI1081, Country!$O$31:$O$76, 0), 1)","v":4.0699999999999985},{"$f":"INDEX(Country!$F$31:$G$76, MATCH(AI1081, Country!$O$31:$O$76, 0), 2)","v":"PMR & NAMA"},{"$f":"INDEX(Country!$K$31:$K$76, MATCH(AI1081, Country!$O$31:$O$76, 0), 1)","v":"PMR & NAMA"},"Guyana",null,null,null,null,null,null,null,0,0,0,0,0,0,0,null,null,null,null,null,null,null,{"$f":"AA1081","v":0},0,0,0,0,0,0,"4.07 > Guyana",1067,40," "]
[{"$f":"INDEX(Country!$F$31:$G$76, MATCH(AI1082, Country!$O$31:$O$76, 0), 1)","v":4.0699999999999985},{"$f":"INDEX(Country!$F$31:$G$76, MATCH(AI1082, Country!$O$31:$O$76, 0), 2)","v":"PMR & NAMA"},{"$f":"INDEX(Country!$K$31:$K$76, MATCH(AI1082, Country!$O$31:$O$76, 0), 1)","v":"PMR & NAMA"},"Haiti",null,null,null,null,null,null,null,0,0,0,0,0,0,0,null,null,null,null,null,null,null,{"$f":"AA1082","v":0},0,0,0,0,0,0,"4.07 > Haiti",1068,40," "]
[{"$f":"INDEX(Country!$F$31:$G$76, MATCH(AI1083, Country!$O$31:$O$76, 0), 1)","v":4.0699999999999985},{"$f":"INDEX(Country!$F$31:$G$76, MATCH(AI1083, Country!$O$31:$O$76, 0), 2)","v":"PMR & NAMA"},{"$f":"INDEX(Country!$K$31:$K$76, MATCH(AI1083, Country!$O$31:$O$76, 0), 1)","v":"PMR & NAMA"},"Honduras",null,null,null,null,null,null,null,0,0,0,0,0,0,0,null,null,null,null,null,null,null,{"$f":"AA1083","v":0},0,0,0,0,0,0,"4.07 > Honduras",1069,40," "]
[{"$f":"INDEX(Country!$F$31:$G$76, MATCH(AI1084, Country!$O$31:$O$76, 0), 1)","v":4.0699999999999985},{"$f":"INDEX(Country!$F$31:$G$76, MATCH(AI1084, Country!$O$31:$O$76, 0), 2)","v":"PMR & NAMA"},{"$f":"INDEX(Country!$K$31:$K$76, MATCH(AI1084, Country!$O$31:$O$76, 0), 1)","v":"PMR & NAMA"},"Jamaica",null,null,null,null,null,null,null,0,0,0,0,0,0,0,null,null,null,null,null,null,null,{"$f":"AA1084","v":0},0,0,0,0,0,0,"4.07 > Jamaica",1070,40," "]
[{"$f":"INDEX(Country!$F$31:$G$76, MATCH(AI1085, Country!$O$31:$O$76, 0), 1)","v":4.0699999999999985},{"$f":"INDEX(Country!$F$31:$G$76, MATCH(AI1085, Country!$O$31:$O$76, 0), 2)","v":"PMR & NAMA"},{"$f":"INDEX(Country!$K$31:$K$76, MATCH(AI1085, Country!$O$31:$O$76, 0), 1)","v":"PMR & NAMA"},"Mexico",null,null,null,null,null,null,null,50,50,50,50,50,50,50,null,null,null,null,null,null,null,{"$f":"AA1085","v":2},2,2,2,2,2,2,"4.07 > Mexico",1071,40," "]
[{"$f":"INDEX(Country!$F$31:$G$76, MATCH(AI1086, Country!$O$31:$O$76, 0), 1)","v":4.0699999999999985},{"$f":"INDEX(Country!$F$31:$G$76, MATCH(AI1086, Country!$O$31:$O$76, 0), 2)","v":"PMR & NAMA"},{"$f":"INDEX(Country!$K$31:$K$76, MATCH(AI1086, Country!$O$31:$O$76, 0), 1)","v":"PMR & NAMA"},"Nicaragua",null,null,null,null,null,null,null,0,0,0,0,0,0,0,null,null,null,null,null,null,null,{"$f":"AA1086","v":0},0,0,0,0,0,0,"4.07 > Nicaragua",1072,40," "]
[{"$f":"INDEX(Country!$F$31:$G$76, MATCH(AI1087, Country!$O$31:$O$76, 0), 1)","v":4.0699999999999985},{"$f":"INDEX(Country!$F$31:$G$76, MATCH(AI1087, Country!$O$31:$O$76, 0), 2)","v":"PMR & NAMA"},{"$f":"INDEX(Country!$K$31:$K$76, MATCH(AI1087, Country!$O$31:$O$76, 0), 1)","v":"PMR & NAMA"},"Panama",null,null,null,null,null,null,null,0,0,0,0,0,0,0,null,null,null,null,null,null,null,{"$f":"AA1087","v":0},0,0,0,0,0,0,"4.07 > Panama",1073,40," "]
[{"$f":"INDEX(Country!$F$31:$G$76, MATCH(AI1088, Country!$O$31:$O$76, 0), 1)","v":4.0699999999999985},{"$f":"INDEX(Country!$F$31:$G$76, MATCH(AI1088, Country!$O$31:$O$76, 0), 2)","v":"PMR & NAMA"},{"$f":"INDEX(Country!$K$31:$K$76, MATCH(AI1088, Country!$O$31:$O$76, 0), 1)","v":"PMR & NAMA"},"Paraguay",null,null,null,null,null,null,null,0,0,0,0,0,0,0,null,null,null,null,null,null,null,{"$f":"AA1088","v":0},0,0,0,0,0,0,"4.07 > Paraguay",1074,40," "]
[{"$f":"INDEX(Country!$F$31:$G$76, MATCH(AI1089, Country!$O$31:$O$76, 0), 1)","v":4.0699999999999985},{"$f":"INDEX(Country!$F$31:$G$76, MATCH(AI1089, Country!$O$31:$O$76, 0), 2)","v":"PMR & NAMA"},{"$f":"INDEX(Country!$K$31:$K$76, MATCH(AI1089, Country!$O$31:$O$76, 0), 1)","v":"PMR & NAMA"},"Peru",null,null,null,null,null,null,null,50,50,50,50,50,50,50,null,null,null,null,null,null,null,{"$f":"AA1089","v":2},2,2,2,2,2,2,"4.07 > Peru",1075,40," "]
[{"$f":"INDEX(Country!$F$31:$G$76, MATCH(AI1090, Country!$O$31:$O$76, 0), 1)","v":4.0699999999999985},{"$f":"INDEX(Country!$F$31:$G$76, MATCH(AI1090, Country!$O$31:$O$76, 0), 2)","v":"PMR & NAMA"},{"$f":"INDEX(Country!$K$31:$K$76, MATCH(AI1090, Country!$O$31:$O$76, 0), 1)","v":"PMR & NAMA"},"Suriname",null,null,null,null,null,null,null,0,0,0,0,0,0,0,null,null,null,null,null,null,null,{"$f":"AA1090","v":0},0,0,0,0,0,0,"4.07 > Suriname",1076,40," "]
[{"$f":"INDEX(Country!$F$31:$G$76, MATCH(AI1091, Country!$O$31:$O$76, 0), 1)","v":4.0699999999999985},{"$f":"INDEX(Country!$F$31:$G$76, MATCH(AI1091, Country!$O$31:$O$76, 0), 2)","v":"PMR & NAMA"},{"$f":"INDEX(Country!$K$31:$K$76, MATCH(AI1091, Country!$O$31:$O$76, 0), 1)","v":"PMR & NAMA"},"Trinidad & Tobago",null,null,null,null,null,null,null,0,0,0,0,0,0,0,null,null,null,null,null,null,null,{"$f":"AA1091","v":0},0,0,0,0,0,0,"4.07 > Trinidad & Tobago",1077,40," "]
[{"$f":"INDEX(Country!$F$31:$G$76, MATCH(AI1092, Country!$O$31:$O$76, 0), 1)","v":4.0699999999999985},{"$f":"INDEX(Country!$F$31:$G$76, MATCH(AI1092, Country!$O$31:$O$76, 0), 2)","v":"PMR & NAMA"},{"$f":"INDEX(Country!$K$31:$K$76, MATCH(AI1092, Country!$O$31:$O$76, 0), 1)","v":"PMR & NAMA"},"Uruguay",null,null,null,null,null,null,null,0,0,0,0,0,0,0,null,null,null,null,null,null,null,{"$f":"AA1092","v":0},0,0,0,0,0,0,"4.07 > Uruguay",1078,40," "]
[{"$f":"INDEX(Country!$F$31:$G$76, MATCH(AI1093, Country!$O$31:$O$76, 0), 1)","v":4.0699999999999985},{"$f":"INDEX(Country!$F$31:$G$76, MATCH(AI1093, Country!$O$31:$O$76, 0), 2)","v":"PMR & NAMA"},{"$f":"INDEX(Country!$K$31:$K$76, MATCH(AI1093, Country!$O$31:$O$76, 0), 1)","v":"PMR & NAMA"},"Venezuela",null,null,null,null,null,null,null,0,0,0,0,0,0,0,null,null,null,null,null,null,null,{"$f":"AA1093","v":0},0,0,0,0,0,0,"4.07 > Venezuela",1079,40," "]
[{"$f":"INDEX(Country!$F$31:$G$76, MATCH(AI1094, Country!$O$31:$O$76, 0), 1)","v":4.0699999999999985},{"$f":"INDEX(Country!$F$31:$G$76, MATCH(AI1094, Country!$O$31:$O$76, 0), 2)","v":"PMR & NAMA"},{"$f":"INDEX(Country!$K$31:$K$76, MATCH(AI1094, Country!$O$31:$O$76, 0), 1)","v":"PMR & NAMA"},"Benchmark",{"$f":"IFERROR(MAX(E1068:E1093), 0)","v":0},0,0,0,0,0,0,100,100,100,100,100,100,100,null,null,null,null,null,null,null,4,4,4,4,4,4,4,"4.07 > Benchmark",1080,40," "]
[{"$f":"INDEX(Country!$F$31:$G$76, MATCH(AI1095, Country!$O$31:$O$76, 0), 1)","v":4.0799999999999983},{"$f":"INDEX(Country!$F$31:$G$76, MATCH(AI1095, Country!$O$31:$O$76, 0), 2)","v":"Voluntary GHG reporting by corporates"},{"$f":"INDEX(Country!$K$31:$K$76, MATCH(AI1095, Country!$O$31:$O$76, 0), 1)","v":"Companies"},"Argentina",null,null,null,null,null,null,null,{"$f":"(Z1095)*dbl_BenchmarkMax","v":0},{"$f":"(AA1095)*dbl_BenchmarkMax","v":0},{"$f":"(AB1095)*dbl_BenchmarkMax","v":0},{"$f":"(AC1095)*dbl_BenchmarkMax","v":0},{"$f":"(AD1095)*dbl_BenchmarkMax","v":0},{"$f":"(AE1095)*dbl_BenchmarkMax","v":0},{"$f":"(AF1095)*dbl_BenchmarkMax","v":0},null,null,null,null,null,null,null,{"$f":"AA1095","v":0},0,0,0,0,0,0,"4.08 > Argentina",1081,41," "]
[{"$f":"INDEX(Country!$F$31:$G$76, MATCH(AI1096, Country!$O$31:$O$76, 0), 1)","v":4.0799999999999983},{"$f":"INDEX(Country!$F$31:$G$76, MATCH(AI1096, Country!$O$31:$O$76, 0), 2)","v":"Voluntary GHG reporting by corporates"},{"$f":"INDEX(Country!$K$31:$K$76, MATCH(AI1096, Country!$O$31:$O$76, 0), 1)","v":"Companies"},"Bahamas",null,null,null,null,null,null,null,0,0,0,0,0,0,0,null,null,null,null,null,null,null,{"$f":"AA1096","v":0},0,0,0,0,0,0,"4.08 > Bahamas",1082,41," "]
[{"$f":"INDEX(Country!$F$31:$G$76, MATCH(AI1097, Country!$O$31:$O$76, 0), 1)","v":4.0799999999999983},{"$f":"INDEX(Country!$F$31:$G$76, MATCH(AI1097, Country!$O$31:$O$76, 0), 2)","v":"Voluntary GHG reporting by corporates"},{"$f":"INDEX(Country!$K$31:$K$76, MATCH(AI1097, Country!$O$31:$O$76, 0), 1)","v":"Companies"},"Barbados",null,null,null,null,null,null,null,0,0,0,0,0,0,0,null,null,null,null,null,null,null,{"$f":"AA1097","v":0},0,0,0,0,0,0,"4.08 > Barbados",1083,41," "]
[{"$f":"INDEX(Country!$F$31:$G$76, MATCH(AI1098, Country!$O$31:$O$76, 0), 1)","v":4.0799999999999983},{"$f":"INDEX(Country!$F$31:$G$76, MATCH(AI1098, Country!$O$31:$O$76, 0), 2)","v":"Voluntary GHG reporting by corporates"},{"$f":"INDEX(Country!$K$31:$K$76, MATCH(AI1098, Country!$O$31:$O$76, 0), 1)","v":"Companies"},"Belize",null,null,null,null,null,null,null,0,0,0,0,0,0,0,null,null,null,null,null,null,null,{"$f":"AA1098","v":0},0,0,0,0,0,0,"4.08 > Belize",1084,41," "]
[{"$f":"INDEX(Country!$F$31:$G$76, MATCH(AI1099, Country!$O$31:$O$76, 0), 1)","v":4.0799999999999983},{"$f":"INDEX(Country!$F$31:$G$76, MATCH(AI1099, Country!$O$31:$O$76, 0), 2)","v":"Voluntary GHG reporting by corporates"},{"$f":"INDEX(Country!$K$31:$K$76, MATCH(AI1099, Country!$O$31:$O$76, 0), 1)","v":"Companies"},"Bolivia",null,null,null,null,null,null,null,0,0,0,0,0,0,0,null,null,null,null,null,null,null,{"$f":"AA1099","v":0},0,0,0,0,0,0,"4.08 > Bolivia",1085,41," "]
[{"$f":"INDEX(Country!$F$31:$G$76, MATCH(AI1100, Country!$O$31:$O$76, 0), 1)","v":4.0799999999999983},{"$f":"INDEX(Country!$F$31:$G$76, MATCH(AI1100, Country!$O$31:$O$76, 0), 2)","v":"Voluntary GHG reporting by corporates"},{"$f":"INDEX(Country!$K$31:$K$76, MATCH(AI1100, Country!$O$31:$O$76, 0), 1)","v":"Companies"},{"$f":"D1046","v":"Brazil"},null,null,null,null,null,null,null,57.937928976424949,57.937928976424949,57.937928976424949,57.937928976424949,57.937928976424949,57.937928976424949,57.937928976424949,null,null,null,null,null,null,null,{"$f":"AA1100","v":0.57937928976424946},0.57937928976424946,0.57937928976424946,0.57937928976424946,0.57937928976424946,0.57937928976424946,0.57937928976424946,"4.08 > Brazil",1086,41," "]
[{"$f":"INDEX(Country!$F$31:$G$76, MATCH(AI1101, Country!$O$31:$O$76, 0), 1)","v":4.0799999999999983},{"$f":"INDEX(Country!$F$31:$G$76, MATCH(AI1101, Country!$O$31:$O$76, 0), 2)","v":"Voluntary GHG reporting by corporates"},{"$f":"INDEX(Country!$K$31:$K$76, MATCH(AI1101, Country!$O$31:$O$76, 0), 1)","v":"Companies"},"Chile",null,null,null,null,null,null,null,49.648382559774959,49.648382559774959,49.648382559774959,49.648382559774959,49.648382559774959,49.648382559774959,49.648382559774959,null,null,null,null,null,null,null,{"$f":"AA1101","v":0.49648382559774956},0.49648382559774956,0.49648382559774956,0.49648382559774956,0.49648382559774956,0.49648382559774956,0.49648382559774956,"4.08 > Chile",1087,41," "]
[{"$f":"INDEX(Country!$F$31:$G$76, MATCH(AI1102, Country!$O$31:$O$76, 0), 1)","v":4.0799999999999983},{"$f":"INDEX(Country!$F$31:$G$76, MATCH(AI1102, Country!$O$31:$O$76, 0), 2)","v":"Voluntary GHG reporting by corporates"},{"$f":"INDEX(Country!$K$31:$K$76, MATCH(AI1102, Country!$O$31:$O$76, 0), 1)","v":"Companies"},"Colombia",null,null,null,null,null,null,null,100,100,100,100,100,100,100,null,null,null,null,null,null,null,{"$f":"AA1102","v":1},1,1,1,1,1,1,"4.08 > Colombia",1088,41," "]
[{"$f":"INDEX(Country!$F$31:$G$76, MATCH(AI1103, Country!$O$31:$O$76, 0), 1)","v":4.0799999999999983},{"$f":"INDEX(Country!$F$31:$G$76, MATCH(AI1103, Country!$O$31:$O$76, 0), 2)","v":"Voluntary GHG reporting by corporates"},{"$f":"INDEX(Country!$K$31:$K$76, MATCH(AI1103, Country!$O$31:$O$76, 0), 1)","v":"Companies"},"Costa Rica",null,null,null,null,null,null,null,0,0,0,0,0,0,0,null,null,null,null,null,null,null,{"$f":"AA1103","v":0},0,0,0,0,0,0,{"$f":"A1103&\" > \" &D1103","v":"4.08 > Costa Rica"},1089,41," "]
[{"$f":"INDEX(Country!$F$31:$G$76, MATCH(AI1104, Country!$O$31:$O$76, 0), 1)","v":4.0799999999999983},{"$f":"INDEX(Country!$F$31:$G$76, MATCH(AI1104, Country!$O$31:$O$76, 0), 2)","v":"Voluntary GHG reporting by corporates"},{"$f":"INDEX(Country!$K$31:$K$76, MATCH(AI1104, Country!$O$31:$O$76, 0), 1)","v":"Companies"},"Dominican Republic",null,null,null,null,null,null,null,0,0,0,0,0,0,0,null,null,null,null,null,null,null,{"$f":"AA1104","v":0},0,0,0,0,0,0,"4.08 > Dominican Republic",1090,41," "]
[{"$f":"INDEX(Country!$F$31:$G$76, MATCH(AI1105, Country!$O$31:$O$76, 0), 1)","v":4.0799999999999983},{"$f":"INDEX(Country!$F$31:$G$76, MATCH(AI1105, Country!$O$31:$O$76, 0), 2)","v":"Voluntary GHG reporting by corporates"},{"$f":"INDEX(Country!$K$31:$K$76, MATCH(AI1105, Country!$O$31:$O$76, 0), 1)","v":"Companies"},"Ecuador",null,null,null,null,null,null,null,0,0,0,0,0,0,0,null,null,null,null,null,null,null,{"$f":"AA1105","v":0},0,0,0,0,0,0,"4.08 > Ecuador",{"$f":"AH1104+1","v":1091},{"$f":"ROUNDUP(AH1105/COUNTA($D$15:$D$41),0)","v":41}," "]
[{"$f":"INDEX(Country!$F$31:$G$76, MATCH(AI1106, Country!$O$31:$O$76, 0), 1)","v":4.0799999999999983},{"$f":"INDEX(Country!$F$31:$G$76, MATCH(AI1106, Country!$O$31:$O$76, 0), 2)","v":"Voluntary GHG reporting by corporates"},{"$f":"INDEX(Country!$K$31:$K$76, MATCH(AI1106, Country!$O$31:$O$76, 0), 1)","v":"Companies"},"El Salvador",null,null,null,null,null,null,null,0,0,0,0,0,0,0,null,null,null,null,null,null,null,{"$f":"AA1106","v":0},0,0,0,0,0,0,"4.08 > El Salvador",1092,41," "]
[{"$f":"INDEX(Country!$F$31:$G$76, MATCH(AI1107, Country!$O$31:$O$76, 0), 1)","v":4.0799999999999983},{"$f":"INDEX(Country!$F$31:$G$76, MATCH(AI1107, Country!$O$31:$O$76, 0), 2)","v":"Voluntary GHG reporting by corporates"},{"$f":"INDEX(Country!$K$31:$K$76, MATCH(AI1107, Country!$O$31:$O$76, 0), 1)","v":"Companies"},"Guatemala",null,null,null,null,null,null,null,0,0,0,0,0,0,0,null,null,null,null,null,null,null,{"$f":"AA1107","v":0},0,0,0,0,0,0,"4.08 > Guatemala",1093,41," "]
[{"$f":"INDEX(Country!$F$31:$G$76, MATCH(AI1108, Country!$O$31:$O$76, 0), 1)","v":4.0799999999999983},{"$f":"INDEX(Country!$F$31:$G$76, MATCH(AI1108, Country!$O$31:$O$76, 0), 2)","v":"Voluntary GHG reporting by corporates"},{"$f":"INDEX(Country!$K$31:$K$76, MATCH(AI1108, Country!$O$31:$O$76, 0), 1)","v":"Companies"},"Guyana",null,null,null,null,null,null,null,0,0,0,0,0,0,0,null,null,null,null,null,null,null,{"$f":"AA1108","v":0},0,0,0,0,0,0,"4.08 > Guyana",1094,41," "]
[{"$f":"INDEX(Country!$F$31:$G$76, MATCH(AI1109, Country!$O$31:$O$76, 0), 1)","v":4.0799999999999983},{"$f":"INDEX(Country!$F$31:$G$76, MATCH(AI1109, Country!$O$31:$O$76, 0), 2)","v":"Voluntary GHG reporting by corporates"},{"$f":"INDEX(Country!$K$31:$K$76, MATCH(AI1109, Country!$O$31:$O$76, 0), 1)","v":"Companies"},"Haiti",null,null,null,null,null,null,null,0,0,0,0,0,0,0,null,null,null,null,null,null,null,{"$f":"AA1109","v":0},0,0,0,0,0,0,"4.08 > Haiti",1095,41," "]
[{"$f":"INDEX(Country!$F$31:$G$76, MATCH(AI1110, Country!$O$31:$O$76, 0), 1)","v":4.0799999999999983},{"$f":"INDEX(Country!$F$31:$G$76, MATCH(AI1110, Country!$O$31:$O$76, 0), 2)","v":"Voluntary GHG reporting by corporates"},{"$f":"INDEX(Country!$K$31:$K$76, MATCH(AI1110, Country!$O$31:$O$76, 0), 1)","v":"Companies"},"Honduras",null,null,null,null,null,null,null,0,0,0,0,0,0,0,null,null,null,null,null,null,null,{"$f":"AA1110","v":0},0,0,0,0,0,0,"4.08 > Honduras",1096,41," "]
[{"$f":"INDEX(Country!$F$31:$G$76, MATCH(AI1111, Country!$O$31:$O$76, 0), 1)","v":4.0799999999999983},{"$f":"INDEX(Country!$F$31:$G$76, MATCH(AI1111, Country!$O$31:$O$76, 0), 2)","v":"Voluntary GHG reporting by corporates"},{"$f":"INDEX(Country!$K$31:$K$76, MATCH(AI1111, Country!$O$31:$O$76, 0), 1)","v":"Companies"},"Jamaica",null,null,null,null,null,null,null,0,0,0,0,0,0,0,null,null,null,null,null,null,null,{"$f":"AA1111","v":0},0,0,0,0,0,0,"4.08 > Jamaica",1097,41," "]
[{"$f":"INDEX(Country!$F$31:$G$76, MATCH(AI1112, Country!$O$31:$O$76, 0), 1)","v":4.0799999999999983},{"$f":"INDEX(Country!$F$31:$G$76, MATCH(AI1112, Country!$O$31:$O$76, 0), 2)","v":"Voluntary GHG reporting by corporates"},{"$f":"INDEX(Country!$K$31:$K$76, MATCH(AI1112, Country!$O$31:$O$76, 0), 1)","v":"Companies"},"Mexico",null,null,null,null,null,null,null,36.816854401335,36.816854401335,36.816854401335,36.816854401335,36.816854401335,36.816854401335,36.816854401335,null,null,null,null,null,null,null,{"$f":"AA1112","v":0.36816854401334997},0.36816854401334997,0.36816854401334997,0.36816854401334997,0.36816854401334997,0.36816854401334997,0.36816854401334997,"4.08 > Mexico",1098,41," "]
[{"$f":"INDEX(Country!$F$31:$G$76, MATCH(AI1113, Country!$O$31:$O$76, 0), 1)","v":4.0799999999999983},{"$f":"INDEX(Country!$F$31:$G$76, MATCH(AI1113, Country!$O$31:$O$76, 0), 2)","v":"Voluntary GHG reporting by corporates"},{"$f":"INDEX(Country!$K$31:$K$76, MATCH(AI1113, Country!$O$31:$O$76, 0), 1)","v":"Companies"},"Nicaragua",null,null,null,null,null,null,null,0,0,0,0,0,0,0,null,null,null,null,null,null,null,{"$f":"AA1113","v":0},0,0,0,0,0,0,"4.08 > Nicaragua",1099,41," "]
[{"$f":"INDEX(Country!$F$31:$G$76, MATCH(AI1114, Country!$O$31:$O$76, 0), 1)","v":4.0799999999999983},{"$f":"INDEX(Country!$F$31:$G$76, MATCH(AI1114, Country!$O$31:$O$76, 0), 2)","v":"Voluntary GHG reporting by corporates"},{"$f":"INDEX(Country!$K$31:$K$76, MATCH(AI1114, Country!$O$31:$O$76, 0), 1)","v":"Companies"},"Panama",null,null,null,null,null,null,null,0,0,0,0,0,0,0,null,null,null,null,null,null,null,{"$f":"AA1114","v":0},0,0,0,0,0,0,"4.08 > Panama",1100,41," "]
[{"$f":"INDEX(Country!$F$31:$G$76, MATCH(AI1115, Country!$O$31:$O$76, 0), 1)","v":4.0799999999999983},{"$f":"INDEX(Country!$F$31:$G$76, MATCH(AI1115, Country!$O$31:$O$76, 0), 2)","v":"Voluntary GHG reporting by corporates"},{"$f":"INDEX(Country!$K$31:$K$76, MATCH(AI1115, Country!$O$31:$O$76, 0), 1)","v":"Companies"},"Paraguay",null,null,null,null,null,null,null,0,0,0,0,0,0,0,null,null,null,null,null,null,null,{"$f":"AA1115","v":0},0,0,0,0,0,0,"4.08 > Paraguay",1101,41," "]
[{"$f":"INDEX(Country!$F$31:$G$76, MATCH(AI1116, Country!$O$31:$O$76, 0), 1)","v":4.0799999999999983},{"$f":"INDEX(Country!$F$31:$G$76, MATCH(AI1116, Country!$O$31:$O$76, 0), 2)","v":"Voluntary GHG reporting by corporates"},{"$f":"INDEX(Country!$K$31:$K$76, MATCH(AI1116, Country!$O$31:$O$76, 0), 1)","v":"Companies"},"Peru",null,null,null,null,null,null,null,43.987538940809969,43.987538940809969,43.987538940809969,43.987538940809969,43.987538940809969,43.987538940809969,43.987538940809969,null,null,null,null,null,null,null,{"$f":"AA1116","v":0.43987538940809967},0.43987538940809967,0.43987538940809967,0.43987538940809967,0.43987538940809967,0.43987538940809967,0.43987538940809967,"4.08 > Peru",1102,41," "]
[{"$f":"INDEX(Country!$F$31:$G$76, MATCH(AI1117, Country!$O$31:$O$76, 0), 1)","v":4.0799999999999983},{"$f":"INDEX(Country!$F$31:$G$76, MATCH(AI1117, Country!$O$31:$O$76, 0), 2)","v":"Voluntary GHG reporting by corporates"},{"$f":"INDEX(Country!$K$31:$K$76, MATCH(AI1117, Country!$O$31:$O$76, 0), 1)","v":"Companies"},"Suriname",null,null,null,null,null,null,null,0,0,0,0,0,0,0,null,null,null,null,null,null,null,{"$f":"AA1117","v":0},0,0,0,0,0,0,"4.08 > Suriname",1103,41," "]
[{"$f":"INDEX(Country!$F$31:$G$76, MATCH(AI1118, Country!$O$31:$O$76, 0), 1)","v":4.0799999999999983},{"$f":"INDEX(Country!$F$31:$G$76, MATCH(AI1118, Country!$O$31:$O$76, 0), 2)","v":"Voluntary GHG reporting by corporates"},{"$f":"INDEX(Country!$K$31:$K$76, MATCH(AI1118, Country!$O$31:$O$76, 0), 1)","v":"Companies"},"Trinidad & Tobago",null,null,null,null,null,null,null,0,0,0,0,0,0,0,null,null,null,null,null,null,null,{"$f":"AA1118","v":0},0,0,0,0,0,0,"4.08 > Trinidad & Tobago",1104,41," "]
[{"$f":"INDEX(Country!$F$31:$G$76, MATCH(AI1119, Country!$O$31:$O$76, 0), 1)","v":4.0799999999999983},{"$f":"INDEX(Country!$F$31:$G$76, MATCH(AI1119, Country!$O$31:$O$76, 0), 2)","v":"Voluntary GHG reporting by corporates"},{"$f":"INDEX(Country!$K$31:$K$76, MATCH(AI1119, Country!$O$31:$O$76, 0), 1)","v":"Companies"},"Uruguay",null,null,null,null,null,null,null,0,0,0,0,0,0,0,null,null,null,null,null,null,null,{"$f":"AA1119","v":0},0,0,0,0,0,0,"4.08 > Uruguay",1105,41," "]
[{"$f":"INDEX(Country!$F$31:$G$76, MATCH(AI1120, Country!$O$31:$O$76, 0), 1)","v":4.0799999999999983},{"$f":"INDEX(Country!$F$31:$G$76, MATCH(AI1120, Country!$O$31:$O$76, 0), 2)","v":"Voluntary GHG reporting by corporates"},{"$f":"INDEX(Country!$K$31:$K$76, MATCH(AI1120, Country!$O$31:$O$76, 0), 1)","v":"Companies"},"Venezuela",null,null,null,null,null,null,null,0,0,0,0,0,0,0,null,null,null,null,null,null,null,{"$f":"AA1120","v":0},0,0,0,0,0,0,"4.08 > Venezuela",1106,41," "]
[{"$f":"INDEX(Country!$F$31:$G$76, MATCH(AI1121, Country!$O$31:$O$76, 0), 1)","v":4.0799999999999983},{"$f":"INDEX(Country!$F$31:$G$76, MATCH(AI1121, Country!$O$31:$O$76, 0), 2)","v":"Voluntary GHG reporting by corporates"},{"$f":"INDEX(Country!$K$31:$K$76, MATCH(AI1121, Country!$O$31:$O$76, 0), 1)","v":"Companies"},"Benchmark",{"$f":"IFERROR(MAX(E1095:E1120), 0)","v":0},0,0,0,0,0,0,100,100,100,100,100,100,100,null,null,null,null,null,null,null,{"$f":"IFERROR(MAX(Z1095:Z1120), 0)","v":1},1,1,1,1,1,{"$f":"IFERROR(MAX(AF1095:AF1120), 0)","v":1},"4.08 > Benchmark",1107,41," "]
[{"$f":"INDEX(Country!$F$31:$G$76, MATCH(AI1122, Country!$O$31:$O$76, 0), 1)","v":4.0899999999999981},{"$f":"INDEX(Country!$F$31:$G$76, MATCH(AI1122, Country!$O$31:$O$76, 0), 2)","v":"Investor pressure – PRI signatories"},{"$f":"INDEX(Country!$K$31:$K$76, MATCH(AI1122, Country!$O$31:$O$76, 0), 1)","v":"Companies"},{"$f":"D1095","v":"Argentina"},null,null,null,null,null,null,null,{"$f":"(Z1122/1)*dbl_BenchmarkMax","v":0},{"$f":"(AA1122/1)*dbl_BenchmarkMax","v":0},{"$f":"(AB1122/1)*dbl_BenchmarkMax","v":0},{"$f":"(AC1122/1)*dbl_BenchmarkMax","v":0},{"$f":"(AD1122/1)*dbl_BenchmarkMax","v":0},{"$f":"(AE1122/1)*dbl_BenchmarkMax","v":0},{"$f":"(AF1122/1)*dbl_BenchmarkMax","v":0},null,null,null,null,null,null,null,{"$f":"AA1122","v":0},0,0,0,0,0,0,"4.09 > Argentina",1108,42," "]
[{"$f":"INDEX(Country!$F$31:$G$76, MATCH(AI1123, Country!$O$31:$O$76, 0), 1)","v":4.0899999999999981},{"$f":"INDEX(Country!$F$31:$G$76, MATCH(AI1123, Country!$O$31:$O$76, 0), 2)","v":"Investor pressure – PRI signatories"},{"$f":"INDEX(Country!$K$31:$K$76, MATCH(AI1123, Country!$O$31:$O$76, 0), 1)","v":"Companies"},"Bahamas",null,null,null,null,null,null,null,0,0,0,0,0,0,0,null,null,null,null,null,null,null,{"$f":"AA1123","v":0},0,0,0,0,0,0,"4.09 > Bahamas",1109,42," "]
[{"$f":"INDEX(Country!$F$31:$G$76, MATCH(AI1124, Country!$O$31:$O$76, 0), 1)","v":4.0899999999999981},{"$f":"INDEX(Country!$F$31:$G$76, MATCH(AI1124, Country!$O$31:$O$76, 0), 2)","v":"Investor pressure – PRI signatories"},{"$f":"INDEX(Country!$K$31:$K$76, MATCH(AI1124, Country!$O$31:$O$76, 0), 1)","v":"Companies"},"Barbados",null,null,null,null,null,null,null,1.6129032258064515,1.6129032258064515,1.6129032258064515,1.6129032258064515,1.6129032258064515,1.6129032258064515,1.6129032258064515,null,null,null,null,null,null,null,{"$f":"AA1124","v":1.6129032258064516E-2},1.6129032258064516E-2,1.6129032258064516E-2,1.6129032258064516E-2,1.6129032258064516E-2,1.6129032258064516E-2,1.6129032258064516E-2,"4.09 > Barbados",1110,42," "]
[{"$f":"INDEX(Country!$F$31:$G$76, MATCH(AI1125, Country!$O$31:$O$76, 0), 1)","v":4.0899999999999981},{"$f":"INDEX(Country!$F$31:$G$76, MATCH(AI1125, Country!$O$31:$O$76, 0), 2)","v":"Investor pressure – PRI signatories"},{"$f":"INDEX(Country!$K$31:$K$76, MATCH(AI1125, Country!$O$31:$O$76, 0), 1)","v":"Companies"},"Belize",null,null,null,null,null,null,null,0,0,0,0,0,0,0,null,null,null,null,null,null,null,{"$f":"AA1125","v":0},0,0,0,0,0,0,"4.09 > Belize",1111,42," "]
[{"$f":"INDEX(Country!$F$31:$G$76, MATCH(AI1126, Country!$O$31:$O$76, 0), 1)","v":4.0899999999999981},{"$f":"INDEX(Country!$F$31:$G$76, MATCH(AI1126, Country!$O$31:$O$76, 0), 2)","v":"Investor pressure – PRI signatories"},{"$f":"INDEX(Country!$K$31:$K$76, MATCH(AI1126, Country!$O$31:$O$76, 0), 1)","v":"Companies"},"Bolivia",null,null,null,null,null,null,null,0,0,0,0,0,0,0,null,null,null,null,null,null,null,{"$f":"AA1126","v":0},0,0,0,0,0,0,"4.09 > Bolivia",1112,42," "]
[{"$f":"INDEX(Country!$F$31:$G$76, MATCH(AI1127, Country!$O$31:$O$76, 0), 1)","v":4.0899999999999981},{"$f":"INDEX(Country!$F$31:$G$76, MATCH(AI1127, Country!$O$31:$O$76, 0), 2)","v":"Investor pressure – PRI signatories"},{"$f":"INDEX(Country!$K$31:$K$76, MATCH(AI1127, Country!$O$31:$O$76, 0), 1)","v":"Companies"},"Brazil",null,null,null,null,null,null,null,100,100,100,100,100,100,100,null,null,null,null,null,null,null,{"$f":"AA1127","v":1},1,1,1,1,1,1,"4.09 > Brazil",1113,42," "]
[{"$f":"INDEX(Country!$F$31:$G$76, MATCH(AI1128, Country!$O$31:$O$76, 0), 1)","v":4.0899999999999981},{"$f":"INDEX(Country!$F$31:$G$76, MATCH(AI1128, Country!$O$31:$O$76, 0), 2)","v":"Investor pressure – PRI signatories"},{"$f":"INDEX(Country!$K$31:$K$76, MATCH(AI1128, Country!$O$31:$O$76, 0), 1)","v":"Companies"},"Chile",null,null,null,null,null,null,null,0,0,0,0,0,0,0,null,null,null,null,null,null,null,{"$f":"AA1128","v":0},0,0,0,0,0,0,"4.09 > Chile",1114,42," "]
[{"$f":"INDEX(Country!$F$31:$G$76, MATCH(AI1129, Country!$O$31:$O$76, 0), 1)","v":4.0899999999999981},{"$f":"INDEX(Country!$F$31:$G$76, MATCH(AI1129, Country!$O$31:$O$76, 0), 2)","v":"Investor pressure – PRI signatories"},{"$f":"INDEX(Country!$K$31:$K$76, MATCH(AI1129, Country!$O$31:$O$76, 0), 1)","v":"Companies"},"Colombia",null,null,null,null,null,null,null,1.6129032258064515,1.6129032258064515,1.6129032258064515,1.6129032258064515,1.6129032258064515,1.6129032258064515,1.6129032258064515,null,null,null,null,null,null,null,{"$f":"AA1129","v":1.6129032258064516E-2},1.6129032258064516E-2,1.6129032258064516E-2,1.6129032258064516E-2,1.6129032258064516E-2,1.6129032258064516E-2,1.6129032258064516E-2,"4.09 > Colombia",1115,42," "]
[{"$f":"INDEX(Country!$F$31:$G$76, MATCH(AI1130, Country!$O$31:$O$76, 0), 1)","v":4.0899999999999981},{"$f":"INDEX(Country!$F$31:$G$76, MATCH(AI1130, Country!$O$31:$O$76, 0), 2)","v":"Investor pressure – PRI signatories"},{"$f":"INDEX(Country!$K$31:$K$76, MATCH(AI1130, Country!$O$31:$O$76, 0), 1)","v":"Companies"},"Costa Rica",null,null,null,null,null,null,null,0,0,0,0,0,0,0,null,null,null,null,null,null,null,{"$f":"AA1130","v":0},0,0,0,0,0,0,"4.09 > Costa Rica",1116,42," "]
[{"$f":"INDEX(Country!$F$31:$G$76, MATCH(AI1131, Country!$O$31:$O$76, 0), 1)","v":4.0899999999999981},{"$f":"INDEX(Country!$F$31:$G$76, MATCH(AI1131, Country!$O$31:$O$76, 0), 2)","v":"Investor pressure – PRI signatories"},{"$f":"INDEX(Country!$K$31:$K$76, MATCH(AI1131, Country!$O$31:$O$76, 0), 1)","v":"Companies"},"Dominican Republic",null,null,null,null,null,null,null,0,0,0,0,0,0,0,null,null,null,null,null,null,null,{"$f":"AA1131","v":0},0,0,0,0,0,0,"4.09 > Dominican Republic",1117,42," "]
[{"$f":"INDEX(Country!$F$31:$G$76, MATCH(AI1132, Country!$O$31:$O$76, 0), 1)","v":4.0899999999999981},{"$f":"INDEX(Country!$F$31:$G$76, MATCH(AI1132, Country!$O$31:$O$76, 0), 2)","v":"Investor pressure – PRI signatories"},{"$f":"INDEX(Country!$K$31:$K$76, MATCH(AI1132, Country!$O$31:$O$76, 0), 1)","v":"Companies"},"Ecuador",null,null,null,null,null,null,null,0,0,0,0,0,0,0,null,null,null,null,null,null,null,{"$f":"AA1132","v":0},0,0,0,0,0,0,"4.09 > Ecuador",1118,42," "]
[{"$f":"INDEX(Country!$F$31:$G$76, MATCH(AI1133, Country!$O$31:$O$76, 0), 1)","v":4.0899999999999981},{"$f":"INDEX(Country!$F$31:$G$76, MATCH(AI1133, Country!$O$31:$O$76, 0), 2)","v":"Investor pressure – PRI signatories"},{"$f":"INDEX(Country!$K$31:$K$76, MATCH(AI1133, Country!$O$31:$O$76, 0), 1)","v":"Companies"},"El Salvador",null,null,null,null,null,null,null,0,0,0,0,0,0,0,null,null,null,null,null,null,null,{"$f":"AA1133","v":0},0,0,0,0,0,0,"4.09 > El Salvador",1119,42," "]
[{"$f":"INDEX(Country!$F$31:$G$76, MATCH(AI1134, Country!$O$31:$O$76, 0), 1)","v":4.0899999999999981},{"$f":"INDEX(Country!$F$31:$G$76, MATCH(AI1134, Country!$O$31:$O$76, 0), 2)","v":"Investor pressure – PRI signatories"},{"$f":"INDEX(Country!$K$31:$K$76, MATCH(AI1134, Country!$O$31:$O$76, 0), 1)","v":"Companies"},"Guatemala",null,null,null,null,null,null,null,0,0,0,0,0,0,0,null,null,null,null,null,null,null,{"$f":"AA1134","v":0},0,0,0,0,0,0,"4.09 > Guatemala",1120,42," "]
[{"$f":"INDEX(Country!$F$31:$G$76, MATCH(AI1135, Country!$O$31:$O$76, 0), 1)","v":4.0899999999999981},{"$f":"INDEX(Country!$F$31:$G$76, MATCH(AI1135, Country!$O$31:$O$76, 0), 2)","v":"Investor pressure – PRI signatories"},{"$f":"INDEX(Country!$K$31:$K$76, MATCH(AI1135, Country!$O$31:$O$76, 0), 1)","v":"Companies"},"Guyana",null,null,null,null,null,null,null,0,0,0,0,0,0,0,null,null,null,null,null,null,null,{"$f":"AA1135","v":0},0,0,0,0,0,0,"4.09 > Guyana",1121,42," "]
[{"$f":"INDEX(Country!$F$31:$G$76, MATCH(AI1136, Country!$O$31:$O$76, 0), 1)","v":4.0899999999999981},{"$f":"INDEX(Country!$F$31:$G$76, MATCH(AI1136, Country!$O$31:$O$76, 0), 2)","v":"Investor pressure – PRI signatories"},{"$f":"INDEX(Country!$K$31:$K$76, MATCH(AI1136, Country!$O$31:$O$76, 0), 1)","v":"Companies"},"Haiti",null,null,null,null,null,null,null,0,0,0,0,0,0,0,null,null,null,null,null,null,null,{"$f":"AA1136","v":0},0,0,0,0,0,0,"4.09 > Haiti",1122,42," "]
[{"$f":"INDEX(Country!$F$31:$G$76, MATCH(AI1137, Country!$O$31:$O$76, 0), 1)","v":4.0899999999999981},{"$f":"INDEX(Country!$F$31:$G$76, MATCH(AI1137, Country!$O$31:$O$76, 0), 2)","v":"Investor pressure – PRI signatories"},{"$f":"INDEX(Country!$K$31:$K$76, MATCH(AI1137, Country!$O$31:$O$76, 0), 1)","v":"Companies"},"Honduras",null,null,null,null,null,null,null,0,0,0,0,0,0,0,null,null,null,null,null,null,null,{"$f":"AA1137","v":0},0,0,0,0,0,0,"4.09 > Honduras",1123,42," "]
[{"$f":"INDEX(Country!$F$31:$G$76, MATCH(AI1138, Country!$O$31:$O$76, 0), 1)","v":4.0899999999999981},{"$f":"INDEX(Country!$F$31:$G$76, MATCH(AI1138, Country!$O$31:$O$76, 0), 2)","v":"Investor pressure – PRI signatories"},{"$f":"INDEX(Country!$K$31:$K$76, MATCH(AI1138, Country!$O$31:$O$76, 0), 1)","v":"Companies"},"Jamaica",null,null,null,null,null,null,null,0,0,0,0,0,0,0,null,null,null,null,null,null,null,{"$f":"AA1138","v":0},0,0,0,0,0,0,"4.09 > Jamaica",1124,42," "]
[{"$f":"INDEX(Country!$F$31:$G$76, MATCH(AI1139, Country!$O$31:$O$76, 0), 1)","v":4.0899999999999981},{"$f":"INDEX(Country!$F$31:$G$76, MATCH(AI1139, Country!$O$31:$O$76, 0), 2)","v":"Investor pressure – PRI signatories"},{"$f":"INDEX(Country!$K$31:$K$76, MATCH(AI1139, Country!$O$31:$O$76, 0), 1)","v":"Companies"},"Mexico",null,null,null,null,null,null,null,0,0,0,0,0,0,0,null,null,null,null,null,null,null,{"$f":"AA1139","v":0},0,0,0,0,0,0,"4.09 > Mexico",1125,42," "]
[{"$f":"INDEX(Country!$F$31:$G$76, MATCH(AI1140, Country!$O$31:$O$76, 0), 1)","v":4.0899999999999981},{"$f":"INDEX(Country!$F$31:$G$76, MATCH(AI1140, Country!$O$31:$O$76, 0), 2)","v":"Investor pressure – PRI signatories"},{"$f":"INDEX(Country!$K$31:$K$76, MATCH(AI1140, Country!$O$31:$O$76, 0), 1)","v":"Companies"},"Nicaragua",null,null,null,null,null,null,null,0,0,0,0,0,0,0,null,null,null,null,null,null,null,{"$f":"AA1140","v":0},0,0,0,0,0,0,"4.09 > Nicaragua",1126,42," "]
[{"$f":"INDEX(Country!$F$31:$G$76, MATCH(AI1141, Country!$O$31:$O$76, 0), 1)","v":4.0899999999999981},{"$f":"INDEX(Country!$F$31:$G$76, MATCH(AI1141, Country!$O$31:$O$76, 0), 2)","v":"Investor pressure – PRI signatories"},{"$f":"INDEX(Country!$K$31:$K$76, MATCH(AI1141, Country!$O$31:$O$76, 0), 1)","v":"Companies"},"Panama",null,null,null,null,null,null,null,0,0,0,0,0,0,0,null,null,null,null,null,null,null,{"$f":"AA1141","v":0},0,0,0,0,0,0,"4.09 > Panama",1127,42," "]
[{"$f":"INDEX(Country!$F$31:$G$76, MATCH(AI1142, Country!$O$31:$O$76, 0), 1)","v":4.0899999999999981},{"$f":"INDEX(Country!$F$31:$G$76, MATCH(AI1142, Country!$O$31:$O$76, 0), 2)","v":"Investor pressure – PRI signatories"},{"$f":"INDEX(Country!$K$31:$K$76, MATCH(AI1142, Country!$O$31:$O$76, 0), 1)","v":"Companies"},"Paraguay",null,null,null,null,null,null,null,0,0,0,0,0,0,0,null,null,null,null,null,null,null,{"$f":"AA1142","v":0},0,0,0,0,0,0,"4.09 > Paraguay",1128,42," "]
[{"$f":"INDEX(Country!$F$31:$G$76, MATCH(AI1143, Country!$O$31:$O$76, 0), 1)","v":4.0899999999999981},{"$f":"INDEX(Country!$F$31:$G$76, MATCH(AI1143, Country!$O$31:$O$76, 0), 2)","v":"Investor pressure – PRI signatories"},{"$f":"INDEX(Country!$K$31:$K$76, MATCH(AI1143, Country!$O$31:$O$76, 0), 1)","v":"Companies"},"Peru",null,null,null,null,null,null,null,1.6129032258064515,1.6129032258064515,1.6129032258064515,1.6129032258064515,1.6129032258064515,1.6129032258064515,1.6129032258064515,null,null,null,null,null,null,null,{"$f":"AA1143","v":1.6129032258064516E-2},1.6129032258064516E-2,1.6129032258064516E-2,1.6129032258064516E-2,1.6129032258064516E-2,1.6129032258064516E-2,1.6129032258064516E-2,"4.09 > Peru",1129,42," "]
[{"$f":"INDEX(Country!$F$31:$G$76, MATCH(AI1144, Country!$O$31:$O$76, 0), 1)","v":4.0899999999999981},{"$f":"INDEX(Country!$F$31:$G$76, MATCH(AI1144, Country!$O$31:$O$76, 0), 2)","v":"Investor pressure – PRI signatories"},{"$f":"INDEX(Country!$K$31:$K$76, MATCH(AI1144, Country!$O$31:$O$76, 0), 1)","v":"Companies"},"Suriname",null,null,null,null,null,null,null,0,0,0,0,0,0,0,null,null,null,null,null,null,null,{"$f":"AA1144","v":0},0,0,0,0,0,0,"4.09 > Suriname",1130,42," "]
[{"$f":"INDEX(Country!$F$31:$G$76, MATCH(AI1145, Country!$O$31:$O$76, 0), 1)","v":4.0899999999999981},{"$f":"INDEX(Country!$F$31:$G$76, MATCH(AI1145, Country!$O$31:$O$76, 0), 2)","v":"Investor pressure – PRI signatories"},{"$f":"INDEX(Country!$K$31:$K$76, MATCH(AI1145, Country!$O$31:$O$76, 0), 1)","v":"Companies"},"Trinidad & Tobago",null,null,null,null,null,null,null,0,0,0,0,0,0,0,null,null,null,null,null,null,null,{"$f":"AA1145","v":0},0,0,0,0,0,0,"4.09 > Trinidad & Tobago",1131,42," "]
[{"$f":"INDEX(Country!$F$31:$G$76, MATCH(AI1146, Country!$O$31:$O$76, 0), 1)","v":4.0899999999999981},{"$f":"INDEX(Country!$F$31:$G$76, MATCH(AI1146, Country!$O$31:$O$76, 0), 2)","v":"Investor pressure – PRI signatories"},{"$f":"INDEX(Country!$K$31:$K$76, MATCH(AI1146, Country!$O$31:$O$76, 0), 1)","v":"Companies"},"Uruguay",null,null,null,null,null,null,null,0,0,0,0,0,0,0,null,null,null,null,null,null,null,{"$f":"AA1146","v":0},0,0,0,0,0,0,"4.09 > Uruguay",1132,42," "]
[{"$f":"INDEX(Country!$F$31:$G$76, MATCH(AI1147, Country!$O$31:$O$76, 0), 1)","v":4.0899999999999981},{"$f":"INDEX(Country!$F$31:$G$76, MATCH(AI1147, Country!$O$31:$O$76, 0), 2)","v":"Investor pressure – PRI signatories"},{"$f":"INDEX(Country!$K$31:$K$76, MATCH(AI1147, Country!$O$31:$O$76, 0), 1)","v":"Companies"},"Venezuela",null,null,null,null,null,null,null,0,0,0,0,0,0,0,null,null,null,null,null,null,null,{"$f":"AA1147","v":0},0,0,0,0,0,0,"4.09 > Venezuela",1133,42," "]
[{"$f":"INDEX(Country!$F$31:$G$76, MATCH(AI1148, Country!$O$31:$O$76, 0), 1)","v":4.0899999999999981},{"$f":"INDEX(Country!$F$31:$G$76, MATCH(AI1148, Country!$O$31:$O$76, 0), 2)","v":"Investor pressure – PRI signatories"},{"$f":"INDEX(Country!$K$31:$K$76, MATCH(AI1148, Country!$O$31:$O$76, 0), 1)","v":"Companies"},"Benchmark",{"$f":"IFERROR(MAX(E1122:E1147), 0)","v":0},0,0,0,0,0,0,{"$f":"(Z1148)*dbl_BenchmarkMax","v":100},{"$f":"(AA1148)*dbl_BenchmarkMax","v":100},{"$f":"(AB1148)*dbl_BenchmarkMax","v":100},{"$f":"(AC1148)*dbl_BenchmarkMax","v":100},{"$f":"(AD1148)*dbl_BenchmarkMax","v":100},{"$f":"(AE1148)*dbl_BenchmarkMax","v":100},{"$f":"(AF1148)*dbl_BenchmarkMax","v":100},null,null,null,null,null,null,null,{"$f":"IFERROR(MAX(Z1122:Z1147), 0)","v":1},1,1,1,1,1,1,"4.09 > Benchmark",1134,42," "]
[{"$f":"INDEX(Country!$F$31:$G$76, MATCH(AI1149, Country!$O$31:$O$76, 0), 1)","v":4.0999999999999979},{"$f":"INDEX(Country!$F$31:$G$76, MATCH(AI1149, Country!$O$31:$O$76, 0), 2)","v":"Corporate energy efficiency initiatives"},{"$f":"INDEX(Country!$K$31:$K$76, MATCH(AI1149, Country!$O$31:$O$76, 0), 1)","v":"Companies"},"Argentina",null,null,null,null,null,null,null,15.197278911564627,15.197278911564627,15.197278911564627,15.197278911564627,15.197278911564627,15.197278911564627,15.197278911564627,null,null,null,null,null,null,null,{"$f":"AA1149","v":0.15197278911564627},0.15197278911564627,0.15197278911564627,0.15197278911564627,0.15197278911564627,0.15197278911564627,0.15197278911564627,"4.1 > Argentina",1135,43," "]
[{"$f":"INDEX(Country!$F$31:$G$76, MATCH(AI1150, Country!$O$31:$O$76, 0), 1)","v":4.0999999999999979},{"$f":"INDEX(Country!$F$31:$G$76, MATCH(AI1150, Country!$O$31:$O$76, 0), 2)","v":"Corporate energy efficiency initiatives"},{"$f":"INDEX(Country!$K$31:$K$76, MATCH(AI1150, Country!$O$31:$O$76, 0), 1)","v":"Companies"},"Bahamas",null,null,null,null,null,null,null,0,0,0,0,0,0,0,null,null,null,null,null,null,null,{"$f":"AA1150","v":0},0,0,0,0,0,0,"4.1 > Bahamas",1136,43," "]
[{"$f":"INDEX(Country!$F$31:$G$76, MATCH(AI1151, Country!$O$31:$O$76, 0), 1)","v":4.0999999999999979},{"$f":"INDEX(Country!$F$31:$G$76, MATCH(AI1151, Country!$O$31:$O$76, 0), 2)","v":"Corporate energy efficiency initiatives"},{"$f":"INDEX(Country!$K$31:$K$76, MATCH(AI1151, Country!$O$31:$O$76, 0), 1)","v":"Companies"},"Barbados",null,null,null,null,null,null,null,0,0,0,0,0,0,0,null,null,null,null,null,null,null,{"$f":"AA1151","v":0},0,0,0,0,0,0,"4.1 > Barbados",1137,43," "]
[{"$f":"INDEX(Country!$F$31:$G$76, MATCH(AI1152, Country!$O$31:$O$76, 0), 1)","v":4.0999999999999979},{"$f":"INDEX(Country!$F$31:$G$76, MATCH(AI1152, Country!$O$31:$O$76, 0), 2)","v":"Corporate energy efficiency initiatives"},{"$f":"INDEX(Country!$K$31:$K$76, MATCH(AI1152, Country!$O$31:$O$76, 0), 1)","v":"Companies"},"Belize",null,null,null,null,null,null,null,0,0,0,0,0,0,0,null,null,null,null,null,null,null,{"$f":"AA1152","v":0},0,0,0,0,0,0,"4.1 > Belize",1138,43," "]
[{"$f":"INDEX(Country!$F$31:$G$76, MATCH(AI1153, Country!$O$31:$O$76, 0), 1)","v":4.0999999999999979},{"$f":"INDEX(Country!$F$31:$G$76, MATCH(AI1153, Country!$O$31:$O$76, 0), 2)","v":"Corporate energy efficiency initiatives"},{"$f":"INDEX(Country!$K$31:$K$76, MATCH(AI1153, Country!$O$31:$O$76, 0), 1)","v":"Companies"},"Bolivia",null,null,null,null,null,null,null,0,0,0,0,0,0,0,null,null,null,null,null,null,null,{"$f":"AA1153","v":0},0,0,0,0,0,0,"4.1 > Bolivia",1139,43," "]
[{"$f":"INDEX(Country!$F$31:$G$76, MATCH(AI1154, Country!$O$31:$O$76, 0), 1)","v":4.0999999999999979},{"$f":"INDEX(Country!$F$31:$G$76, MATCH(AI1154, Country!$O$31:$O$76, 0), 2)","v":"Corporate energy efficiency initiatives"},{"$f":"INDEX(Country!$K$31:$K$76, MATCH(AI1154, Country!$O$31:$O$76, 0), 1)","v":"Companies"},"Brazil",null,null,null,null,null,null,null,100,100,100,100,100,100,100,null,null,null,null,null,null,null,{"$f":"AA1154","v":1},1,1,1,1,1,1,"4.1 > Brazil",1140,43," "]
[{"$f":"INDEX(Country!$F$31:$G$76, MATCH(AI1155, Country!$O$31:$O$76, 0), 1)","v":4.0999999999999979},{"$f":"INDEX(Country!$F$31:$G$76, MATCH(AI1155, Country!$O$31:$O$76, 0), 2)","v":"Corporate energy efficiency initiatives"},{"$f":"INDEX(Country!$K$31:$K$76, MATCH(AI1155, Country!$O$31:$O$76, 0), 1)","v":"Companies"},"Chile",null,null,null,null,null,null,null,56.556962025316459,56.556962025316459,56.556962025316459,56.556962025316459,56.556962025316459,56.556962025316459,56.556962025316459,null,null,null,null,null,null,null,{"$f":"AA1155","v":0.5655696202531646},0.5655696202531646,0.5655696202531646,0.5655696202531646,0.5655696202531646,0.5655696202531646,0.5655696202531646,"4.1 > Chile",1141,43," "]
[{"$f":"INDEX(Country!$F$31:$G$76, MATCH(AI1156, Country!$O$31:$O$76, 0), 1)","v":4.0999999999999979},{"$f":"INDEX(Country!$F$31:$G$76, MATCH(AI1156, Country!$O$31:$O$76, 0), 2)","v":"Corporate energy efficiency initiatives"},{"$f":"INDEX(Country!$K$31:$K$76, MATCH(AI1156, Country!$O$31:$O$76, 0), 1)","v":"Companies"},"Colombia",null,null,null,null,null,null,null,37.971671388101988,37.971671388101988,37.971671388101988,37.971671388101988,37.971671388101988,37.971671388101988,37.971671388101988,null,null,null,null,null,null,null,{"$f":"AA1156","v":0.37971671388101991},0.37971671388101991,0.37971671388101991,0.37971671388101991,0.37971671388101991,0.37971671388101991,0.37971671388101991,"4.1 > Colombia",1142,43," "]
[{"$f":"INDEX(Country!$F$31:$G$76, MATCH(AI1157, Country!$O$31:$O$76, 0), 1)","v":4.0999999999999979},{"$f":"INDEX(Country!$F$31:$G$76, MATCH(AI1157, Country!$O$31:$O$76, 0), 2)","v":"Corporate energy efficiency initiatives"},{"$f":"INDEX(Country!$K$31:$K$76, MATCH(AI1157, Country!$O$31:$O$76, 0), 1)","v":"Companies"},"Costa Rica",null,null,null,null,null,null,null,0,0,0,0,0,0,0,null,null,null,null,null,null,null,{"$f":"AA1157","v":0},0,0,0,0,0,0,"4.1 > Costa Rica",1143,43," "]
[{"$f":"INDEX(Country!$F$31:$G$76, MATCH(AI1158, Country!$O$31:$O$76, 0), 1)","v":4.0999999999999979},{"$f":"INDEX(Country!$F$31:$G$76, MATCH(AI1158, Country!$O$31:$O$76, 0), 2)","v":"Corporate energy efficiency initiatives"},{"$f":"INDEX(Country!$K$31:$K$76, MATCH(AI1158, Country!$O$31:$O$76, 0), 1)","v":"Companies"},"Dominican Republic",null,null,null,null,null,null,null,0,0,0,0,0,0,0,null,null,null,null,null,null,null,{"$f":"AA1158","v":0},0,0,0,0,0,0,"4.1 > Dominican Republic",1144,43," "]
[{"$f":"INDEX(Country!$F$31:$G$76, MATCH(AI1159, Country!$O$31:$O$76, 0), 1)","v":4.0999999999999979},{"$f":"INDEX(Country!$F$31:$G$76, MATCH(AI1159, Country!$O$31:$O$76, 0), 2)","v":"Corporate energy efficiency initiatives"},{"$f":"INDEX(Country!$K$31:$K$76, MATCH(AI1159, Country!$O$31:$O$76, 0), 1)","v":"Companies"},"Ecuador",null,null,null,null,null,null,null,0,0,0,0,0,0,0,null,null,null,null,null,null,null,{"$f":"AA1159","v":0},0,0,0,0,0,0,"4.1 > Ecuador",1145,43," "]
[{"$f":"INDEX(Country!$F$31:$G$76, MATCH(AI1160, Country!$O$31:$O$76, 0), 1)","v":4.0999999999999979},{"$f":"INDEX(Country!$F$31:$G$76, MATCH(AI1160, Country!$O$31:$O$76, 0), 2)","v":"Corporate energy efficiency initiatives"},{"$f":"INDEX(Country!$K$31:$K$76, MATCH(AI1160, Country!$O$31:$O$76, 0), 1)","v":"Companies"},"El Salvador",null,null,null,null,null,null,null,0,0,0,0,0,0,0,null,null,null,null,null,null,null,{"$f":"AA1160","v":0},0,0,0,0,0,0,"4.1 > El Salvador",1146,43," "]
[{"$f":"INDEX(Country!$F$31:$G$76, MATCH(AI1161, Country!$O$31:$O$76, 0), 1)","v":4.0999999999999979},{"$f":"INDEX(Country!$F$31:$G$76, MATCH(AI1161, Country!$O$31:$O$76, 0), 2)","v":"Corporate energy efficiency initiatives"},{"$f":"INDEX(Country!$K$31:$K$76, MATCH(AI1161, Country!$O$31:$O$76, 0), 1)","v":"Companies"},"Guatemala",null,null,null,null,null,null,null,0,0,0,0,0,0,0,null,null,null,null,null,null,null,{"$f":"AA1161","v":0},0,0,0,0,0,0,"4.1 > Guatemala",1147,43," "]
[{"$f":"INDEX(Country!$F$31:$G$76, MATCH(AI1162, Country!$O$31:$O$76, 0), 1)","v":4.0999999999999979},{"$f":"INDEX(Country!$F$31:$G$76, MATCH(AI1162, Country!$O$31:$O$76, 0), 2)","v":"Corporate energy efficiency initiatives"},{"$f":"INDEX(Country!$K$31:$K$76, MATCH(AI1162, Country!$O$31:$O$76, 0), 1)","v":"Companies"},"Guyana",null,null,null,null,null,null,null,0,0,0,0,0,0,0,null,null,null,null,null,null,null,{"$f":"AA1162","v":0},0,0,0,0,0,0,"4.1 > Guyana",1148,43," "]
[{"$f":"INDEX(Country!$F$31:$G$76, MATCH(AI1163, Country!$O$31:$O$76, 0), 1)","v":4.0999999999999979},{"$f":"INDEX(Country!$F$31:$G$76, MATCH(AI1163, Country!$O$31:$O$76, 0), 2)","v":"Corporate energy efficiency initiatives"},{"$f":"INDEX(Country!$K$31:$K$76, MATCH(AI1163, Country!$O$31:$O$76, 0), 1)","v":"Companies"},"Haiti",null,null,null,null,null,null,null,0,0,0,0,0,0,0,null,null,null,null,null,null,null,{"$f":"AA1163","v":0},0,0,0,0,0,0,"4.1 > Haiti",1149,43," "]
[{"$f":"INDEX(Country!$F$31:$G$76, MATCH(AI1164, Country!$O$31:$O$76, 0), 1)","v":4.0999999999999979},{"$f":"INDEX(Country!$F$31:$G$76, MATCH(AI1164, Country!$O$31:$O$76, 0), 2)","v":"Corporate energy efficiency initiatives"},{"$f":"INDEX(Country!$K$31:$K$76, MATCH(AI1164, Country!$O$31:$O$76, 0), 1)","v":"Companies"},"Honduras",null,null,null,null,null,null,null,0,0,0,0,0,0,0,null,null,null,null,null,null,null,{"$f":"AA1164","v":0},0,0,0,0,0,0,"4.1 > Honduras",1150,43," "]
[{"$f":"INDEX(Country!$F$31:$G$76, MATCH(AI1165, Country!$O$31:$O$76, 0), 1)","v":4.0999999999999979},{"$f":"INDEX(Country!$F$31:$G$76, MATCH(AI1165, Country!$O$31:$O$76, 0), 2)","v":"Corporate energy efficiency initiatives"},{"$f":"INDEX(Country!$K$31:$K$76, MATCH(AI1165, Country!$O$31:$O$76, 0), 1)","v":"Companies"},"Jamaica",null,null,null,null,null,null,null,0,0,0,0,0,0,0,null,null,null,null,null,null,null,{"$f":"AA1165","v":0},0,0,0,0,0,0,"4.1 > Jamaica",1151,43," "]
[{"$f":"INDEX(Country!$F$31:$G$76, MATCH(AI1166, Country!$O$31:$O$76, 0), 1)","v":4.0999999999999979},{"$f":"INDEX(Country!$F$31:$G$76, MATCH(AI1166, Country!$O$31:$O$76, 0), 2)","v":"Corporate energy efficiency initiatives"},{"$f":"INDEX(Country!$K$31:$K$76, MATCH(AI1166, Country!$O$31:$O$76, 0), 1)","v":"Companies"},"Mexico",null,null,null,null,null,null,null,61.511889862327919,61.511889862327919,61.511889862327919,61.511889862327919,61.511889862327919,61.511889862327919,61.511889862327919,null,null,null,null,null,null,null,{"$f":"AA1166","v":0.61511889862327918},0.61511889862327918,0.61511889862327918,0.61511889862327918,0.61511889862327918,0.61511889862327918,0.61511889862327918,"4.1 > Mexico",1152,43," "]
[{"$f":"INDEX(Country!$F$31:$G$76, MATCH(AI1167, Country!$O$31:$O$76, 0), 1)","v":4.0999999999999979},{"$f":"INDEX(Country!$F$31:$G$76, MATCH(AI1167, Country!$O$31:$O$76, 0), 2)","v":"Corporate energy efficiency initiatives"},{"$f":"INDEX(Country!$K$31:$K$76, MATCH(AI1167, Country!$O$31:$O$76, 0), 1)","v":"Companies"},"Nicaragua",null,null,null,null,null,null,null,0,0,0,0,0,0,0,null,null,null,null,null,null,null,{"$f":"AA1167","v":0},0,0,0,0,0,0,{"$f":"A1167&\" > \" &D1167","v":"4.1 > Nicaragua"},1153,43," "]
[{"$f":"INDEX(Country!$F$31:$G$76, MATCH(AI1168, Country!$O$31:$O$76, 0), 1)","v":4.0999999999999979},{"$f":"INDEX(Country!$F$31:$G$76, MATCH(AI1168, Country!$O$31:$O$76, 0), 2)","v":"Corporate energy efficiency initiatives"},{"$f":"INDEX(Country!$K$31:$K$76, MATCH(AI1168, Country!$O$31:$O$76, 0), 1)","v":"Companies"},"Panama",null,null,null,null,null,null,null,0,0,0,0,0,0,0,null,null,null,null,null,null,null,{"$f":"AA1168","v":0},0,0,0,0,0,0,"4.1 > Panama",1154,43," "]
[{"$f":"INDEX(Country!$F$31:$G$76, MATCH(AI1169, Country!$O$31:$O$76, 0), 1)","v":4.0999999999999979},{"$f":"INDEX(Country!$F$31:$G$76, MATCH(AI1169, Country!$O$31:$O$76, 0), 2)","v":"Corporate energy efficiency initiatives"},{"$f":"INDEX(Country!$K$31:$K$76, MATCH(AI1169, Country!$O$31:$O$76, 0), 1)","v":"Companies"},"Paraguay",null,null,null,null,null,null,null,0,0,0,0,0,0,0,null,null,null,null,null,null,null,{"$f":"AA1169","v":0},0,0,0,0,0,0,"4.1 > Paraguay",{"$f":"AH1168+1","v":1155},{"$f":"ROUNDUP(AH1169/COUNTA($D$15:$D$41),0)","v":43}," "]
[{"$f":"INDEX(Country!$F$31:$G$76, MATCH(AI1170, Country!$O$31:$O$76, 0), 1)","v":4.0999999999999979},{"$f":"INDEX(Country!$F$31:$G$76, MATCH(AI1170, Country!$O$31:$O$76, 0), 2)","v":"Corporate energy efficiency initiatives"},{"$f":"INDEX(Country!$K$31:$K$76, MATCH(AI1170, Country!$O$31:$O$76, 0), 1)","v":"Companies"},"Peru",null,null,null,null,null,null,null,4.1757009345794396,4.1757009345794396,4.1757009345794396,4.1757009345794396,4.1757009345794396,4.1757009345794396,4.1757009345794396,null,null,null,null,null,null,null,{"$f":"AA1170","v":4.1757009345794398E-2},4.1757009345794398E-2,4.1757009345794398E-2,4.1757009345794398E-2,4.1757009345794398E-2,4.1757009345794398E-2,4.1757009345794398E-2,"4.1 > Peru",1156,43," "]
[{"$f":"INDEX(Country!$F$31:$G$76, MATCH(AI1171, Country!$O$31:$O$76, 0), 1)","v":4.0999999999999979},{"$f":"INDEX(Country!$F$31:$G$76, MATCH(AI1171, Country!$O$31:$O$76, 0), 2)","v":"Corporate energy efficiency initiatives"},{"$f":"INDEX(Country!$K$31:$K$76, MATCH(AI1171, Country!$O$31:$O$76, 0), 1)","v":"Companies"},"Suriname",null,null,null,null,null,null,null,0,0,0,0,0,0,0,null,null,null,null,null,null,null,{"$f":"AA1171","v":0},0,0,0,0,0,0,"4.1 > Suriname",1157,43," "]
[{"$f":"INDEX(Country!$F$31:$G$76, MATCH(AI1172, Country!$O$31:$O$76, 0), 1)","v":4.0999999999999979},{"$f":"INDEX(Country!$F$31:$G$76, MATCH(AI1172, Country!$O$31:$O$76, 0), 2)","v":"Corporate energy efficiency initiatives"},{"$f":"INDEX(Country!$K$31:$K$76, MATCH(AI1172, Country!$O$31:$O$76, 0), 1)","v":"Companies"},"Trinidad & Tobago",null,null,null,null,null,null,null,0,0,0,0,0,0,0,null,null,null,null,null,null,null,{"$f":"AA1172","v":0},0,0,0,0,0,0,"4.1 > Trinidad & Tobago",1158,43," "]
[{"$f":"INDEX(Country!$F$31:$G$76, MATCH(AI1173, Country!$O$31:$O$76, 0), 1)","v":4.0999999999999979},{"$f":"INDEX(Country!$F$31:$G$76, MATCH(AI1173, Country!$O$31:$O$76, 0), 2)","v":"Corporate energy efficiency initiatives"},{"$f":"INDEX(Country!$K$31:$K$76, MATCH(AI1173, Country!$O$31:$O$76, 0), 1)","v":"Companies"},"Uruguay",null,null,null,null,null,null,null,0,0,0,0,0,0,0,null,null,null,null,null,null,null,{"$f":"AA1173","v":0},0,0,0,0,0,0,"4.1 > Uruguay",1159,43," "]
[{"$f":"INDEX(Country!$F$31:$G$76, MATCH(AI1174, Country!$O$31:$O$76, 0), 1)","v":4.0999999999999979},{"$f":"INDEX(Country!$F$31:$G$76, MATCH(AI1174, Country!$O$31:$O$76, 0), 2)","v":"Corporate energy efficiency initiatives"},{"$f":"INDEX(Country!$K$31:$K$76, MATCH(AI1174, Country!$O$31:$O$76, 0), 1)","v":"Companies"},"Venezuela",null,null,null,null,null,null,null,0,0,0,0,0,0,0,null,null,null,null,null,null,null,{"$f":"AA1174","v":0},0,0,0,0,0,0,"4.1 > Venezuela",1160,43," "]
[{"$f":"INDEX(Country!$F$31:$G$76, MATCH(AI1175, Country!$O$31:$O$76, 0), 1)","v":4.0999999999999979},{"$f":"INDEX(Country!$F$31:$G$76, MATCH(AI1175, Country!$O$31:$O$76, 0), 2)","v":"Corporate energy efficiency initiatives"},{"$f":"INDEX(Country!$K$31:$K$76, MATCH(AI1175, Country!$O$31:$O$76, 0), 1)","v":"Companies"},"Benchmark",{"$f":"IFERROR(MAX(E1149:E1174), 0)","v":0},0,0,0,0,0,0,100,100,100,100,100,100,100,null,null,null,null,null,null,null,{"$f":"IFERROR(MAX(Z1149:Z1174), 0)","v":1},1,1,1,1,1,{"$f":"IFERROR(MAX(AF1149:AF1174), 0)","v":1},"4.1 > Benchmark",1161,43," "]
[{"$f":"INDEX(Country!$F$31:$G$76, MATCH(AI1176, Country!$O$31:$O$76, 0), 1)","v":4.1099999999999977},{"$f":"INDEX(Country!$F$31:$G$76, MATCH(AI1176, Country!$O$31:$O$76, 0), 2)","v":"Corporate emission reduction policies"},{"$f":"INDEX(Country!$K$31:$K$76, MATCH(AI1176, Country!$O$31:$O$76, 0), 1)","v":"Companies"},"Argentina",null,null,null,null,null,null,null,17.07559428265688,17.07559428265688,17.07559428265688,17.07559428265688,17.07559428265688,17.07559428265688,17.07559428265688,null,null,null,null,null,null,null,{"$f":"AA1176","v":0.17075594282656881},0.17075594282656881,0.17075594282656881,0.17075594282656881,0.17075594282656881,0.17075594282656881,0.17075594282656881,"4.11 > Argentina",1162,44," "]
[{"$f":"INDEX(Country!$F$31:$G$76, MATCH(AI1177, Country!$O$31:$O$76, 0), 1)","v":4.1099999999999977},{"$f":"INDEX(Country!$F$31:$G$76, MATCH(AI1177, Country!$O$31:$O$76, 0), 2)","v":"Corporate emission reduction policies"},{"$f":"INDEX(Country!$K$31:$K$76, MATCH(AI1177, Country!$O$31:$O$76, 0), 1)","v":"Companies"},"Bahamas",null,null,null,null,null,null,null,0,0,0,0,0,0,0,null,null,null,null,null,null,null,{"$f":"AA1177","v":0},0,0,0,0,0,0,"4.11 > Bahamas",1163,44," "]
[{"$f":"INDEX(Country!$F$31:$G$76, MATCH(AI1178, Country!$O$31:$O$76, 0), 1)","v":4.1099999999999977},{"$f":"INDEX(Country!$F$31:$G$76, MATCH(AI1178, Country!$O$31:$O$76, 0), 2)","v":"Corporate emission reduction policies"},{"$f":"INDEX(Country!$K$31:$K$76, MATCH(AI1178, Country!$O$31:$O$76, 0), 1)","v":"Companies"},"Barbados",null,null,null,null,null,null,null,0,0,0,0,0,0,0,null,null,null,null,null,null,null,{"$f":"AA1178","v":0},0,0,0,0,0,0,"4.11 > Barbados",1164,44," "]
[{"$f":"INDEX(Country!$F$31:$G$76, MATCH(AI1179, Country!$O$31:$O$76, 0), 1)","v":4.1099999999999977},{"$f":"INDEX(Country!$F$31:$G$76, MATCH(AI1179, Country!$O$31:$O$76, 0), 2)","v":"Corporate emission reduction policies"},{"$f":"INDEX(Country!$K$31:$K$76, MATCH(AI1179, Country!$O$31:$O$76, 0), 1)","v":"Companies"},"Belize",null,null,null,null,null,null,null,0,0,0,0,0,0,0,null,null,null,null,null,null,null,{"$f":"AA1179","v":0},0,0,0,0,0,0,"4.11 > Belize",1165,44," "]
[{"$f":"INDEX(Country!$F$31:$G$76, MATCH(AI1180, Country!$O$31:$O$76, 0), 1)","v":4.1099999999999977},{"$f":"INDEX(Country!$F$31:$G$76, MATCH(AI1180, Country!$O$31:$O$76, 0), 2)","v":"Corporate emission reduction policies"},{"$f":"INDEX(Country!$K$31:$K$76, MATCH(AI1180, Country!$O$31:$O$76, 0), 1)","v":"Companies"},"Bolivia",null,null,null,null,null,null,null,{"$f":"(Z1180)*dbl_BenchmarkMax","v":0},{"$f":"(AA1180)*dbl_BenchmarkMax","v":0},{"$f":"(AB1180)*dbl_BenchmarkMax","v":0},{"$f":"(AC1180)*dbl_BenchmarkMax","v":0},{"$f":"(AD1180)*dbl_BenchmarkMax","v":0},{"$f":"(AE1180)*dbl_BenchmarkMax","v":0},{"$f":"(AF1180)*dbl_BenchmarkMax","v":0},null,null,null,null,null,null,null,{"$f":"AA1180","v":0},0,0,0,0,0,0,"4.11 > Bolivia",1166,44," "]
[{"$f":"INDEX(Country!$F$31:$G$76, MATCH(AI1181, Country!$O$31:$O$76, 0), 1)","v":4.1099999999999977},{"$f":"INDEX(Country!$F$31:$G$76, MATCH(AI1181, Country!$O$31:$O$76, 0), 2)","v":"Corporate emission reduction policies"},{"$f":"INDEX(Country!$K$31:$K$76, MATCH(AI1181, Country!$O$31:$O$76, 0), 1)","v":"Companies"},"Brazil",null,null,null,null,null,null,null,100,100,100,100,100,100,100,null,null,null,null,null,null,null,{"$f":"AA1181","v":1},1,1,1,1,1,1,"4.11 > Brazil",1167,44," "]
[{"$f":"INDEX(Country!$F$31:$G$76, MATCH(AI1182, Country!$O$31:$O$76, 0), 1)","v":4.1099999999999977},{"$f":"INDEX(Country!$F$31:$G$76, MATCH(AI1182, Country!$O$31:$O$76, 0), 2)","v":"Corporate emission reduction policies"},{"$f":"INDEX(Country!$K$31:$K$76, MATCH(AI1182, Country!$O$31:$O$76, 0), 1)","v":"Companies"},"Chile",null,null,null,null,null,null,null,63.547148343052193,63.547148343052193,63.547148343052193,63.547148343052193,63.547148343052193,63.547148343052193,63.547148343052193,null,null,null,null,null,null,null,{"$f":"AA1182","v":0.63547148343052196},0.63547148343052196,0.63547148343052196,0.63547148343052196,0.63547148343052196,0.63547148343052196,0.63547148343052196,"4.11 > Chile",1168,44," "]
[{"$f":"INDEX(Country!$F$31:$G$76, MATCH(AI1183, Country!$O$31:$O$76, 0), 1)","v":4.1099999999999977},{"$f":"INDEX(Country!$F$31:$G$76, MATCH(AI1183, Country!$O$31:$O$76, 0), 2)","v":"Corporate emission reduction policies"},{"$f":"INDEX(Country!$K$31:$K$76, MATCH(AI1183, Country!$O$31:$O$76, 0), 1)","v":"Companies"},"Colombia",null,null,null,null,null,null,null,35.553999427061783,35.553999427061783,35.553999427061783,35.553999427061783,35.553999427061783,35.553999427061783,35.553999427061783,null,null,null,null,null,null,null,{"$f":"AA1183","v":0.35553999427061783},0.35553999427061783,0.35553999427061783,0.35553999427061783,0.35553999427061783,0.35553999427061783,0.35553999427061783,"4.11 > Colombia",1169,44," "]
[{"$f":"INDEX(Country!$F$31:$G$76, MATCH(AI1184, Country!$O$31:$O$76, 0), 1)","v":4.1099999999999977},{"$f":"INDEX(Country!$F$31:$G$76, MATCH(AI1184, Country!$O$31:$O$76, 0), 2)","v":"Corporate emission reduction policies"},{"$f":"INDEX(Country!$K$31:$K$76, MATCH(AI1184, Country!$O$31:$O$76, 0), 1)","v":"Companies"},"Costa Rica",null,null,null,null,null,null,null,0,0,0,0,0,0,0,null,null,null,null,null,null,null,{"$f":"AA1184","v":0},0,0,0,0,0,0,"4.11 > Costa Rica",1170,44," "]
[{"$f":"INDEX(Country!$F$31:$G$76, MATCH(AI1185, Country!$O$31:$O$76, 0), 1)","v":4.1099999999999977},{"$f":"INDEX(Country!$F$31:$G$76, MATCH(AI1185, Country!$O$31:$O$76, 0), 2)","v":"Corporate emission reduction policies"},{"$f":"INDEX(Country!$K$31:$K$76, MATCH(AI1185, Country!$O$31:$O$76, 0), 1)","v":"Companies"},"Dominican Republic",null,null,null,null,null,null,null,0,0,0,0,0,0,0,null,null,null,null,null,null,null,{"$f":"AA1185","v":0},0,0,0,0,0,0,"4.11 > Dominican Republic",1171,44," "]
[{"$f":"INDEX(Country!$F$31:$G$76, MATCH(AI1186, Country!$O$31:$O$76, 0), 1)","v":4.1099999999999977},{"$f":"INDEX(Country!$F$31:$G$76, MATCH(AI1186, Country!$O$31:$O$76, 0), 2)","v":"Corporate emission reduction policies"},{"$f":"INDEX(Country!$K$31:$K$76, MATCH(AI1186, Country!$O$31:$O$76, 0), 1)","v":"Companies"},{"$f":"D1159","v":"Ecuador"},null,null,null,null,null,null,null,0,0,0,0,0,0,0,null,null,null,null,null,null,null,{"$f":"AA1186","v":0},0,0,0,0,0,0,"4.11 > Ecuador",1172,44," "]
[{"$f":"INDEX(Country!$F$31:$G$76, MATCH(AI1187, Country!$O$31:$O$76, 0), 1)","v":4.1099999999999977},{"$f":"INDEX(Country!$F$31:$G$76, MATCH(AI1187, Country!$O$31:$O$76, 0), 2)","v":"Corporate emission reduction policies"},{"$f":"INDEX(Country!$K$31:$K$76, MATCH(AI1187, Country!$O$31:$O$76, 0), 1)","v":"Companies"},"El Salvador",null,null,null,null,null,null,null,0,0,0,0,0,0,0,null,null,null,null,null,null,null,{"$f":"AA1187","v":0},0,0,0,0,0,0,"4.11 > El Salvador",1173,44," "]
[{"$f":"INDEX(Country!$F$31:$G$76, MATCH(AI1188, Country!$O$31:$O$76, 0), 1)","v":4.1099999999999977},{"$f":"INDEX(Country!$F$31:$G$76, MATCH(AI1188, Country!$O$31:$O$76, 0), 2)","v":"Corporate emission reduction policies"},{"$f":"INDEX(Country!$K$31:$K$76, MATCH(AI1188, Country!$O$31:$O$76, 0), 1)","v":"Companies"},"Guatemala",null,null,null,null,null,null,null,0,0,0,0,0,0,0,null,null,null,null,null,null,null,{"$f":"AA1188","v":0},0,0,0,0,0,0,"4.11 > Guatemala",1174,44," "]
[{"$f":"INDEX(Country!$F$31:$G$76, MATCH(AI1189, Country!$O$31:$O$76, 0), 1)","v":4.1099999999999977},{"$f":"INDEX(Country!$F$31:$G$76, MATCH(AI1189, Country!$O$31:$O$76, 0), 2)","v":"Corporate emission reduction policies"},{"$f":"INDEX(Country!$K$31:$K$76, MATCH(AI1189, Country!$O$31:$O$76, 0), 1)","v":"Companies"},"Guyana",null,null,null,null,null,null,null,0,0,0,0,0,0,0,null,null,null,null,null,null,null,{"$f":"AA1189","v":0},0,0,0,0,0,0,"4.11 > Guyana",1175,44," "]
[{"$f":"INDEX(Country!$F$31:$G$76, MATCH(AI1190, Country!$O$31:$O$76, 0), 1)","v":4.1099999999999977},{"$f":"INDEX(Country!$F$31:$G$76, MATCH(AI1190, Country!$O$31:$O$76, 0), 2)","v":"Corporate emission reduction policies"},{"$f":"INDEX(Country!$K$31:$K$76, MATCH(AI1190, Country!$O$31:$O$76, 0), 1)","v":"Companies"},"Haiti",null,null,null,null,null,null,null,0,0,0,0,0,0,0,null,null,null,null,null,null,null,{"$f":"AA1190","v":0},0,0,0,0,0,0,"4.11 > Haiti",1176,44," "]
[{"$f":"INDEX(Country!$F$31:$G$76, MATCH(AI1191, Country!$O$31:$O$76, 0), 1)","v":4.1099999999999977},{"$f":"INDEX(Country!$F$31:$G$76, MATCH(AI1191, Country!$O$31:$O$76, 0), 2)","v":"Corporate emission reduction policies"},{"$f":"INDEX(Country!$K$31:$K$76, MATCH(AI1191, Country!$O$31:$O$76, 0), 1)","v":"Companies"},"Honduras",null,null,null,null,null,null,null,0,0,0,0,0,0,0,null,null,null,null,null,null,null,{"$f":"AA1191","v":0},0,0,0,0,0,0,"4.11 > Honduras",1177,44," "]
[{"$f":"INDEX(Country!$F$31:$G$76, MATCH(AI1192, Country!$O$31:$O$76, 0), 1)","v":4.1099999999999977},{"$f":"INDEX(Country!$F$31:$G$76, MATCH(AI1192, Country!$O$31:$O$76, 0), 2)","v":"Corporate emission reduction policies"},{"$f":"INDEX(Country!$K$31:$K$76, MATCH(AI1192, Country!$O$31:$O$76, 0), 1)","v":"Companies"},"Jamaica",null,null,null,null,null,null,null,0,0,0,0,0,0,0,null,null,null,null,null,null,null,{"$f":"AA1192","v":0},0,0,0,0,0,0,"4.11 > Jamaica",1178,44," "]
[{"$f":"INDEX(Country!$F$31:$G$76, MATCH(AI1193, Country!$O$31:$O$76, 0), 1)","v":4.1099999999999977},{"$f":"INDEX(Country!$F$31:$G$76, MATCH(AI1193, Country!$O$31:$O$76, 0), 2)","v":"Corporate emission reduction policies"},{"$f":"INDEX(Country!$K$31:$K$76, MATCH(AI1193, Country!$O$31:$O$76, 0), 1)","v":"Companies"},"Mexico",null,null,null,null,null,null,null,62.831348173981517,62.831348173981517,62.831348173981517,62.831348173981517,62.831348173981517,62.831348173981517,62.831348173981517,null,null,null,null,null,null,null,{"$f":"AA1193","v":0.62831348173981516},0.62831348173981516,0.62831348173981516,0.62831348173981516,0.62831348173981516,0.62831348173981516,0.62831348173981516,"4.11 > Mexico",1179,44," "]
[{"$f":"INDEX(Country!$F$31:$G$76, MATCH(AI1194, Country!$O$31:$O$76, 0), 1)","v":4.1099999999999977},{"$f":"INDEX(Country!$F$31:$G$76, MATCH(AI1194, Country!$O$31:$O$76, 0), 2)","v":"Corporate emission reduction policies"},{"$f":"INDEX(Country!$K$31:$K$76, MATCH(AI1194, Country!$O$31:$O$76, 0), 1)","v":"Companies"},"Nicaragua",null,null,null,null,null,null,null,0,0,0,0,0,0,0,null,null,null,null,null,null,null,{"$f":"AA1194","v":0},0,0,0,0,0,0,"4.11 > Nicaragua",1180,44," "]
[{"$f":"INDEX(Country!$F$31:$G$76, MATCH(AI1195, Country!$O$31:$O$76, 0), 1)","v":4.1099999999999977},{"$f":"INDEX(Country!$F$31:$G$76, MATCH(AI1195, Country!$O$31:$O$76, 0), 2)","v":"Corporate emission reduction policies"},{"$f":"INDEX(Country!$K$31:$K$76, MATCH(AI1195, Country!$O$31:$O$76, 0), 1)","v":"Companies"},"Panama",null,null,null,null,null,null,null,0,0,0,0,0,0,0,null,null,null,null,null,null,null,{"$f":"AA1195","v":0},0,0,0,0,0,0,"4.11 > Panama",1181,44," "]
[{"$f":"INDEX(Country!$F$31:$G$76, MATCH(AI1196, Country!$O$31:$O$76, 0), 1)","v":4.1099999999999977},{"$f":"INDEX(Country!$F$31:$G$76, MATCH(AI1196, Country!$O$31:$O$76, 0), 2)","v":"Corporate emission reduction policies"},{"$f":"INDEX(Country!$K$31:$K$76, MATCH(AI1196, Country!$O$31:$O$76, 0), 1)","v":"Companies"},"Paraguay",null,null,null,null,null,null,null,0,0,0,0,0,0,0,null,null,null,null,null,null,null,{"$f":"AA1196","v":0},0,0,0,0,0,0,"4.11 > Paraguay",1182,44," "]
[{"$f":"INDEX(Country!$F$31:$G$76, MATCH(AI1197, Country!$O$31:$O$76, 0), 1)","v":4.1099999999999977},{"$f":"INDEX(Country!$F$31:$G$76, MATCH(AI1197, Country!$O$31:$O$76, 0), 2)","v":"Corporate emission reduction policies"},{"$f":"INDEX(Country!$K$31:$K$76, MATCH(AI1197, Country!$O$31:$O$76, 0), 1)","v":"Companies"},"Peru",null,null,null,null,null,null,null,4.691798802898246,4.691798802898246,4.691798802898246,4.691798802898246,4.691798802898246,4.691798802898246,4.691798802898246,null,null,null,null,null,null,null,{"$f":"AA1197","v":4.6917988028982463E-2},4.6917988028982463E-2,4.6917988028982463E-2,4.6917988028982463E-2,4.6917988028982463E-2,4.6917988028982463E-2,4.6917988028982463E-2,"4.11 > Peru",1183,44," "]
[{"$f":"INDEX(Country!$F$31:$G$76, MATCH(AI1198, Country!$O$31:$O$76, 0), 1)","v":4.1099999999999977},{"$f":"INDEX(Country!$F$31:$G$76, MATCH(AI1198, Country!$O$31:$O$76, 0), 2)","v":"Corporate emission reduction policies"},{"$f":"INDEX(Country!$K$31:$K$76, MATCH(AI1198, Country!$O$31:$O$76, 0), 1)","v":"Companies"},"Suriname",null,null,null,null,null,null,null,0,0,0,0,0,0,0,null,null,null,null,null,null,null,{"$f":"AA1198","v":0},0,0,0,0,0,0,"4.11 > Suriname",1184,44," "]
[{"$f":"INDEX(Country!$F$31:$G$76, MATCH(AI1199, Country!$O$31:$O$76, 0), 1)","v":4.1099999999999977},{"$f":"INDEX(Country!$F$31:$G$76, MATCH(AI1199, Country!$O$31:$O$76, 0), 2)","v":"Corporate emission reduction policies"},{"$f":"INDEX(Country!$K$31:$K$76, MATCH(AI1199, Country!$O$31:$O$76, 0), 1)","v":"Companies"},"Trinidad & Tobago",null,null,null,null,null,null,null,0,0,0,0,0,0,0,null,null,null,null,null,null,null,{"$f":"AA1199","v":0},0,0,0,0,0,0,"4.11 > Trinidad & Tobago",1185,44," "]
[{"$f":"INDEX(Country!$F$31:$G$76, MATCH(AI1200, Country!$O$31:$O$76, 0), 1)","v":4.1099999999999977},{"$f":"INDEX(Country!$F$31:$G$76, MATCH(AI1200, Country!$O$31:$O$76, 0), 2)","v":"Corporate emission reduction policies"},{"$f":"INDEX(Country!$K$31:$K$76, MATCH(AI1200, Country!$O$31:$O$76, 0), 1)","v":"Companies"},"Uruguay",null,null,null,null,null,null,null,0,0,0,0,0,0,0,null,null,null,null,null,null,null,{"$f":"AA1200","v":0},0,0,0,0,0,0,"4.11 > Uruguay",1186,44," "]
[{"$f":"INDEX(Country!$F$31:$G$76, MATCH(AI1201, Country!$O$31:$O$76, 0), 1)","v":4.1099999999999977},{"$f":"INDEX(Country!$F$31:$G$76, MATCH(AI1201, Country!$O$31:$O$76, 0), 2)","v":"Corporate emission reduction policies"},{"$f":"INDEX(Country!$K$31:$K$76, MATCH(AI1201, Country!$O$31:$O$76, 0), 1)","v":"Companies"},"Venezuela",null,null,null,null,null,null,null,0,0,0,0,0,0,0,null,null,null,null,null,null,null,{"$f":"AA1201","v":0},0,0,0,0,0,0,"4.11 > Venezuela",1187,44," "]
[{"$f":"INDEX(Country!$F$31:$G$76, MATCH(AI1202, Country!$O$31:$O$76, 0), 1)","v":4.1099999999999977},{"$f":"INDEX(Country!$F$31:$G$76, MATCH(AI1202, Country!$O$31:$O$76, 0), 2)","v":"Corporate emission reduction policies"},{"$f":"INDEX(Country!$K$31:$K$76, MATCH(AI1202, Country!$O$31:$O$76, 0), 1)","v":"Companies"},"Benchmark",{"$f":"IFERROR(MAX(E1176:E1201), 0)","v":0},0,0,0,0,0,0,100,100,100,100,100,100,100,null,null,null,null,null,null,null,1,1,1,1,1,1,1,"4.11 > Benchmark",1188,44," "]
[{"$f":"INDEX(Country!$F$31:$G$76, MATCH(AI1203, Country!$O$31:$O$76, 0), 1)","v":4.1199999999999974},{"$f":"INDEX(Country!$F$31:$G$76, MATCH(AI1203, Country!$O$31:$O$76, 0), 2)","v":"Capacity building – env. business training"},{"$f":"INDEX(Country!$K$31:$K$76, MATCH(AI1203, Country!$O$31:$O$76, 0), 1)","v":"Organisations"},{"$f":"D1149","v":"Argentina"},null,null,null,null,null,null,null,100,100,100,100,100,100,100,null,null,null,null,null,null,null,{"$f":"AA1203","v":1},1,1,1,1,1,1,"4.12 > Argentina",1189,45," "]
[{"$f":"INDEX(Country!$F$31:$G$76, MATCH(AI1204, Country!$O$31:$O$76, 0), 1)","v":4.1199999999999974},{"$f":"INDEX(Country!$F$31:$G$76, MATCH(AI1204, Country!$O$31:$O$76, 0), 2)","v":"Capacity building – env. business training"},{"$f":"INDEX(Country!$K$31:$K$76, MATCH(AI1204, Country!$O$31:$O$76, 0), 1)","v":"Organisations"},"Bahamas",null,null,null,null,null,null,null,0,0,0,0,0,0,0,null,null,null,null,null,null,null,{"$f":"AA1204","v":0},0,0,0,0,0,0,"4.12 > Bahamas",1190,45," "]
[{"$f":"INDEX(Country!$F$31:$G$76, MATCH(AI1205, Country!$O$31:$O$76, 0), 1)","v":4.1199999999999974},{"$f":"INDEX(Country!$F$31:$G$76, MATCH(AI1205, Country!$O$31:$O$76, 0), 2)","v":"Capacity building – env. business training"},{"$f":"INDEX(Country!$K$31:$K$76, MATCH(AI1205, Country!$O$31:$O$76, 0), 1)","v":"Organisations"},"Barbados",null,null,null,null,null,null,null,100,100,100,100,100,100,100,null,null,null,null,null,null,null,{"$f":"AA1205","v":1},1,1,1,1,1,1,"4.12 > Barbados",1191,45," "]
[{"$f":"INDEX(Country!$F$31:$G$76, MATCH(AI1206, Country!$O$31:$O$76, 0), 1)","v":4.1199999999999974},{"$f":"INDEX(Country!$F$31:$G$76, MATCH(AI1206, Country!$O$31:$O$76, 0), 2)","v":"Capacity building – env. business training"},{"$f":"INDEX(Country!$K$31:$K$76, MATCH(AI1206, Country!$O$31:$O$76, 0), 1)","v":"Organisations"},"Belize",null,null,null,null,null,null,null,100,100,100,100,100,100,100,null,null,null,null,null,null,null,{"$f":"AA1206","v":1},1,1,1,1,1,1,"4.12 > Belize",1192,45," "]
[{"$f":"INDEX(Country!$F$31:$G$76, MATCH(AI1207, Country!$O$31:$O$76, 0), 1)","v":4.1199999999999974},{"$f":"INDEX(Country!$F$31:$G$76, MATCH(AI1207, Country!$O$31:$O$76, 0), 2)","v":"Capacity building – env. business training"},{"$f":"INDEX(Country!$K$31:$K$76, MATCH(AI1207, Country!$O$31:$O$76, 0), 1)","v":"Organisations"},"Bolivia",null,null,null,null,null,null,null,0,0,0,0,0,0,0,null,null,null,null,null,null,null,{"$f":"AA1207","v":0},0,0,0,0,0,0,"4.12 > Bolivia",1193,45," "]
[{"$f":"INDEX(Country!$F$31:$G$76, MATCH(AI1208, Country!$O$31:$O$76, 0), 1)","v":4.1199999999999974},{"$f":"INDEX(Country!$F$31:$G$76, MATCH(AI1208, Country!$O$31:$O$76, 0), 2)","v":"Capacity building – env. business training"},{"$f":"INDEX(Country!$K$31:$K$76, MATCH(AI1208, Country!$O$31:$O$76, 0), 1)","v":"Organisations"},"Brazil",null,null,null,null,null,null,null,100,100,100,100,100,100,100,null,null,null,null,null,null,null,{"$f":"AA1208","v":1},1,1,1,1,1,1,"4.12 > Brazil",1194,45," "]
[{"$f":"INDEX(Country!$F$31:$G$76, MATCH(AI1209, Country!$O$31:$O$76, 0), 1)","v":4.1199999999999974},{"$f":"INDEX(Country!$F$31:$G$76, MATCH(AI1209, Country!$O$31:$O$76, 0), 2)","v":"Capacity building – env. business training"},{"$f":"INDEX(Country!$K$31:$K$76, MATCH(AI1209, Country!$O$31:$O$76, 0), 1)","v":"Organisations"},"Chile",null,null,null,null,null,null,null,100,100,100,100,100,100,100,null,null,null,null,null,null,null,{"$f":"AA1209","v":1},1,1,1,1,1,1,"4.12 > Chile",1195,45," "]
[{"$f":"INDEX(Country!$F$31:$G$76, MATCH(AI1210, Country!$O$31:$O$76, 0), 1)","v":4.1199999999999974},{"$f":"INDEX(Country!$F$31:$G$76, MATCH(AI1210, Country!$O$31:$O$76, 0), 2)","v":"Capacity building – env. business training"},{"$f":"INDEX(Country!$K$31:$K$76, MATCH(AI1210, Country!$O$31:$O$76, 0), 1)","v":"Organisations"},"Colombia",null,null,null,null,null,null,null,100,100,100,100,100,100,100,null,null,null,null,null,null,null,{"$f":"AA1210","v":1},1,1,1,1,1,1,"4.12 > Colombia",1196,45," "]
[{"$f":"INDEX(Country!$F$31:$G$76, MATCH(AI1211, Country!$O$31:$O$76, 0), 1)","v":4.1199999999999974},{"$f":"INDEX(Country!$F$31:$G$76, MATCH(AI1211, Country!$O$31:$O$76, 0), 2)","v":"Capacity building – env. business training"},{"$f":"INDEX(Country!$K$31:$K$76, MATCH(AI1211, Country!$O$31:$O$76, 0), 1)","v":"Organisations"},"Costa Rica",null,null,null,null,null,null,null,100,100,100,100,100,100,100,null,null,null,null,null,null,null,{"$f":"AA1211","v":1},1,1,1,1,1,1,"4.12 > Costa Rica",1197,45," "]
[{"$f":"INDEX(Country!$F$31:$G$76, MATCH(AI1212, Country!$O$31:$O$76, 0), 1)","v":4.1199999999999974},{"$f":"INDEX(Country!$F$31:$G$76, MATCH(AI1212, Country!$O$31:$O$76, 0), 2)","v":"Capacity building – env. business training"},{"$f":"INDEX(Country!$K$31:$K$76, MATCH(AI1212, Country!$O$31:$O$76, 0), 1)","v":"Organisations"},"Dominican Republic",null,null,null,null,null,null,null,{"$f":"(Z1212)*dbl_BenchmarkMax","v":100},{"$f":"(AA1212)*dbl_BenchmarkMax","v":100},{"$f":"(AB1212)*dbl_BenchmarkMax","v":100},{"$f":"(AC1212)*dbl_BenchmarkMax","v":100},{"$f":"(AD1212)*dbl_BenchmarkMax","v":100},{"$f":"(AE1212)*dbl_BenchmarkMax","v":100},{"$f":"(AF1212)*dbl_BenchmarkMax","v":100},null,null,null,null,null,null,null,{"$f":"AA1212","v":1},1,1,1,1,1,1,"4.12 > Dominican Republic",1198,45," "]
[{"$f":"INDEX(Country!$F$31:$G$76, MATCH(AI1213, Country!$O$31:$O$76, 0), 1)","v":4.1199999999999974},{"$f":"INDEX(Country!$F$31:$G$76, MATCH(AI1213, Country!$O$31:$O$76, 0), 2)","v":"Capacity building – env. business training"},{"$f":"INDEX(Country!$K$31:$K$76, MATCH(AI1213, Country!$O$31:$O$76, 0), 1)","v":"Organisations"},"Ecuador",null,null,null,null,null,null,null,100,100,100,100,100,100,100,null,null,null,null,null,null,null,{"$f":"AA1213","v":1},1,1,1,1,1,1,"4.12 > Ecuador",1199,45," "]
[{"$f":"INDEX(Country!$F$31:$G$76, MATCH(AI1214, Country!$O$31:$O$76, 0), 1)","v":4.1199999999999974},{"$f":"INDEX(Country!$F$31:$G$76, MATCH(AI1214, Country!$O$31:$O$76, 0), 2)","v":"Capacity building – env. business training"},{"$f":"INDEX(Country!$K$31:$K$76, MATCH(AI1214, Country!$O$31:$O$76, 0), 1)","v":"Organisations"},"El Salvador",null,null,null,null,null,null,null,100,100,100,100,100,100,100,null,null,null,null,null,null,null,{"$f":"AA1214","v":1},1,1,1,1,1,1,"4.12 > El Salvador",1200,45," "]
[{"$f":"INDEX(Country!$F$31:$G$76, MATCH(AI1215, Country!$O$31:$O$76, 0), 1)","v":4.1199999999999974},{"$f":"INDEX(Country!$F$31:$G$76, MATCH(AI1215, Country!$O$31:$O$76, 0), 2)","v":"Capacity building – env. business training"},{"$f":"INDEX(Country!$K$31:$K$76, MATCH(AI1215, Country!$O$31:$O$76, 0), 1)","v":"Organisations"},"Guatemala",null,null,null,null,null,null,null,100,100,100,100,100,100,100,null,null,null,null,null,null,null,{"$f":"AA1215","v":1},1,1,1,1,1,1,"4.12 > Guatemala",1201,45," "]
[{"$f":"INDEX(Country!$F$31:$G$76, MATCH(AI1216, Country!$O$31:$O$76, 0), 1)","v":4.1199999999999974},{"$f":"INDEX(Country!$F$31:$G$76, MATCH(AI1216, Country!$O$31:$O$76, 0), 2)","v":"Capacity building – env. business training"},{"$f":"INDEX(Country!$K$31:$K$76, MATCH(AI1216, Country!$O$31:$O$76, 0), 1)","v":"Organisations"},"Guyana",null,null,null,null,null,null,null,0,0,0,0,0,0,0,null,null,null,null,null,null,null,{"$f":"AA1216","v":0},0,0,0,0,0,0,"4.12 > Guyana",1202,45," "]
[{"$f":"INDEX(Country!$F$31:$G$76, MATCH(AI1217, Country!$O$31:$O$76, 0), 1)","v":4.1199999999999974},{"$f":"INDEX(Country!$F$31:$G$76, MATCH(AI1217, Country!$O$31:$O$76, 0), 2)","v":"Capacity building – env. business training"},{"$f":"INDEX(Country!$K$31:$K$76, MATCH(AI1217, Country!$O$31:$O$76, 0), 1)","v":"Organisations"},"Haiti",null,null,null,null,null,null,null,0,0,0,0,0,0,0,null,null,null,null,null,null,null,{"$f":"AA1217","v":0},0,0,0,0,0,0,"4.12 > Haiti",1203,45," "]
[{"$f":"INDEX(Country!$F$31:$G$76, MATCH(AI1218, Country!$O$31:$O$76, 0), 1)","v":4.1199999999999974},{"$f":"INDEX(Country!$F$31:$G$76, MATCH(AI1218, Country!$O$31:$O$76, 0), 2)","v":"Capacity building – env. business training"},{"$f":"INDEX(Country!$K$31:$K$76, MATCH(AI1218, Country!$O$31:$O$76, 0), 1)","v":"Organisations"},"Honduras",null,null,null,null,null,null,null,0,0,0,0,0,0,0,null,null,null,null,null,null,null,{"$f":"AA1218","v":0},0,0,0,0,0,0,"4.12 > Honduras",1204,45," "]
[{"$f":"INDEX(Country!$F$31:$G$76, MATCH(AI1219, Country!$O$31:$O$76, 0), 1)","v":4.1199999999999974},{"$f":"INDEX(Country!$F$31:$G$76, MATCH(AI1219, Country!$O$31:$O$76, 0), 2)","v":"Capacity building – env. business training"},{"$f":"INDEX(Country!$K$31:$K$76, MATCH(AI1219, Country!$O$31:$O$76, 0), 1)","v":"Organisations"},"Jamaica",null,null,null,null,null,null,null,0,0,0,0,0,0,0,null,null,null,null,null,null,null,{"$f":"AA1219","v":0},0,0,0,0,0,0,"4.12 > Jamaica",1205,45," "]
[{"$f":"INDEX(Country!$F$31:$G$76, MATCH(AI1220, Country!$O$31:$O$76, 0), 1)","v":4.1199999999999974},{"$f":"INDEX(Country!$F$31:$G$76, MATCH(AI1220, Country!$O$31:$O$76, 0), 2)","v":"Capacity building – env. business training"},{"$f":"INDEX(Country!$K$31:$K$76, MATCH(AI1220, Country!$O$31:$O$76, 0), 1)","v":"Organisations"},"Mexico",null,null,null,null,null,null,null,100,100,100,100,100,100,100,null,null,null,null,null,null,null,{"$f":"AA1220","v":1},1,1,1,1,1,1,"4.12 > Mexico",1206,45," "]
[{"$f":"INDEX(Country!$F$31:$G$76, MATCH(AI1221, Country!$O$31:$O$76, 0), 1)","v":4.1199999999999974},{"$f":"INDEX(Country!$F$31:$G$76, MATCH(AI1221, Country!$O$31:$O$76, 0), 2)","v":"Capacity building – env. business training"},{"$f":"INDEX(Country!$K$31:$K$76, MATCH(AI1221, Country!$O$31:$O$76, 0), 1)","v":"Organisations"},"Nicaragua",null,null,null,null,null,null,null,100,100,100,100,100,100,100,null,null,null,null,null,null,null,{"$f":"AA1221","v":1},1,1,1,1,1,1,"4.12 > Nicaragua",1207,45," "]
[{"$f":"INDEX(Country!$F$31:$G$76, MATCH(AI1222, Country!$O$31:$O$76, 0), 1)","v":4.1199999999999974},{"$f":"INDEX(Country!$F$31:$G$76, MATCH(AI1222, Country!$O$31:$O$76, 0), 2)","v":"Capacity building – env. business training"},{"$f":"INDEX(Country!$K$31:$K$76, MATCH(AI1222, Country!$O$31:$O$76, 0), 1)","v":"Organisations"},"Panama",null,null,null,null,null,null,null,100,100,100,100,100,100,100,null,null,null,null,null,null,null,{"$f":"AA1222","v":1},1,1,1,1,1,1,"4.12 > Panama",1208,45," "]
[{"$f":"INDEX(Country!$F$31:$G$76, MATCH(AI1223, Country!$O$31:$O$76, 0), 1)","v":4.1199999999999974},{"$f":"INDEX(Country!$F$31:$G$76, MATCH(AI1223, Country!$O$31:$O$76, 0), 2)","v":"Capacity building – env. business training"},{"$f":"INDEX(Country!$K$31:$K$76, MATCH(AI1223, Country!$O$31:$O$76, 0), 1)","v":"Organisations"},"Paraguay",null,null,null,null,null,null,null,100,100,100,100,100,100,100,null,null,null,null,null,null,null,{"$f":"AA1223","v":1},1,1,1,1,1,1,"4.12 > Paraguay",1209,45," "]
[{"$f":"INDEX(Country!$F$31:$G$76, MATCH(AI1224, Country!$O$31:$O$76, 0), 1)","v":4.1199999999999974},{"$f":"INDEX(Country!$F$31:$G$76, MATCH(AI1224, Country!$O$31:$O$76, 0), 2)","v":"Capacity building – env. business training"},{"$f":"INDEX(Country!$K$31:$K$76, MATCH(AI1224, Country!$O$31:$O$76, 0), 1)","v":"Organisations"},"Peru",null,null,null,null,null,null,null,100,100,100,100,100,100,100,null,null,null,null,null,null,null,{"$f":"AA1224","v":1},1,1,1,1,1,1,"4.12 > Peru",1210,45," "]
[{"$f":"INDEX(Country!$F$31:$G$76, MATCH(AI1225, Country!$O$31:$O$76, 0), 1)","v":4.1199999999999974},{"$f":"INDEX(Country!$F$31:$G$76, MATCH(AI1225, Country!$O$31:$O$76, 0), 2)","v":"Capacity building – env. business training"},{"$f":"INDEX(Country!$K$31:$K$76, MATCH(AI1225, Country!$O$31:$O$76, 0), 1)","v":"Organisations"},"Suriname",null,null,null,null,null,null,null,100,100,100,100,100,100,100,null,null,null,null,null,null,null,{"$f":"AA1225","v":1},1,1,1,1,1,1,"4.12 > Suriname",1211,45," "]
[{"$f":"INDEX(Country!$F$31:$G$76, MATCH(AI1226, Country!$O$31:$O$76, 0), 1)","v":4.1199999999999974},{"$f":"INDEX(Country!$F$31:$G$76, MATCH(AI1226, Country!$O$31:$O$76, 0), 2)","v":"Capacity building – env. business training"},{"$f":"INDEX(Country!$K$31:$K$76, MATCH(AI1226, Country!$O$31:$O$76, 0), 1)","v":"Organisations"},"Trinidad & Tobago",null,null,null,null,null,null,null,100,100,100,100,100,100,100,null,null,null,null,null,null,null,{"$f":"AA1226","v":1},1,1,1,1,1,1,"4.12 > Trinidad & Tobago",1212,45," "]
[{"$f":"INDEX(Country!$F$31:$G$76, MATCH(AI1227, Country!$O$31:$O$76, 0), 1)","v":4.1199999999999974},{"$f":"INDEX(Country!$F$31:$G$76, MATCH(AI1227, Country!$O$31:$O$76, 0), 2)","v":"Capacity building – env. business training"},{"$f":"INDEX(Country!$K$31:$K$76, MATCH(AI1227, Country!$O$31:$O$76, 0), 1)","v":"Organisations"},"Uruguay",null,null,null,null,null,null,null,100,100,100,100,100,100,100,null,null,null,null,null,null,null,{"$f":"AA1227","v":1},1,1,1,1,1,1,"4.12 > Uruguay",1213,45," "]
[{"$f":"INDEX(Country!$F$31:$G$76, MATCH(AI1228, Country!$O$31:$O$76, 0), 1)","v":4.1199999999999974},{"$f":"INDEX(Country!$F$31:$G$76, MATCH(AI1228, Country!$O$31:$O$76, 0), 2)","v":"Capacity building – env. business training"},{"$f":"INDEX(Country!$K$31:$K$76, MATCH(AI1228, Country!$O$31:$O$76, 0), 1)","v":"Organisations"},"Venezuela",null,null,null,null,null,null,null,100,100,100,100,100,100,100,null,null,null,null,null,null,null,{"$f":"AA1228","v":1},1,1,1,1,1,1,"4.12 > Venezuela",1214,45," "]
[{"$f":"INDEX(Country!$F$31:$G$76, MATCH(AI1229, Country!$O$31:$O$76, 0), 1)","v":4.1199999999999974},{"$f":"INDEX(Country!$F$31:$G$76, MATCH(AI1229, Country!$O$31:$O$76, 0), 2)","v":"Capacity building – env. business training"},{"$f":"INDEX(Country!$K$31:$K$76, MATCH(AI1229, Country!$O$31:$O$76, 0), 1)","v":"Organisations"},"Benchmark",{"$f":"IFERROR(MAX(E1203:E1228), 0)","v":0},0,0,0,0,0,0,100,100,100,100,100,100,100,null,null,null,null,null,null,null,{"$f":"IFERROR(MAX(Z1203:Z1228), 0)","v":1},1,1,1,1,1,{"$f":"IFERROR(MAX(AF1203:AF1228), 0)","v":1},"4.12 > Benchmark",1215,45," "]
[{"$f":"INDEX(Country!$F$31:$G$76, MATCH(AI1230, Country!$O$31:$O$76, 0), 1)","v":4.1299999999999972},{"$f":"INDEX(Country!$F$31:$G$76, MATCH(AI1230, Country!$O$31:$O$76, 0), 2)","v":"Capacity building – think tanks"},{"$f":"INDEX(Country!$K$31:$K$76, MATCH(AI1230, Country!$O$31:$O$76, 0), 1)","v":"Organisations"},{"$f":"D933","v":"Argentina"},null,null,null,null,null,null,null,100,100,100,100,100,100,100,null,null,null,null,null,null,null,{"$f":"AA1230","v":1},1,1,1,1,1,1,"4.13 > Argentina",1216,46," "]
[{"$f":"INDEX(Country!$F$31:$G$76, MATCH(AI1231, Country!$O$31:$O$76, 0), 1)","v":4.1299999999999972},{"$f":"INDEX(Country!$F$31:$G$76, MATCH(AI1231, Country!$O$31:$O$76, 0), 2)","v":"Capacity building – think tanks"},{"$f":"INDEX(Country!$K$31:$K$76, MATCH(AI1231, Country!$O$31:$O$76, 0), 1)","v":"Organisations"},"Bahamas",null,null,null,null,null,null,null,100,100,100,100,100,100,100,null,null,null,null,null,null,null,{"$f":"AA1231","v":1},1,1,1,1,1,1,{"$f":"A1231&\" > \" &D1231","v":"4.13 > Bahamas"},1217,46," "]
[{"$f":"INDEX(Country!$F$31:$G$76, MATCH(AI1232, Country!$O$31:$O$76, 0), 1)","v":4.1299999999999972},{"$f":"INDEX(Country!$F$31:$G$76, MATCH(AI1232, Country!$O$31:$O$76, 0), 2)","v":"Capacity building – think tanks"},{"$f":"INDEX(Country!$K$31:$K$76, MATCH(AI1232, Country!$O$31:$O$76, 0), 1)","v":"Organisations"},"Barbados",null,null,null,null,null,null,null,100,100,100,100,100,100,100,null,null,null,null,null,null,null,{"$f":"AA1232","v":1},1,1,1,1,1,1,"4.13 > Barbados",1218,46," "]
[{"$f":"INDEX(Country!$F$31:$G$76, MATCH(AI1233, Country!$O$31:$O$76, 0), 1)","v":4.1299999999999972},{"$f":"INDEX(Country!$F$31:$G$76, MATCH(AI1233, Country!$O$31:$O$76, 0), 2)","v":"Capacity building – think tanks"},{"$f":"INDEX(Country!$K$31:$K$76, MATCH(AI1233, Country!$O$31:$O$76, 0), 1)","v":"Organisations"},"Belize",null,null,null,null,null,null,null,0,0,0,0,0,0,0,null,null,null,null,null,null,null,{"$f":"AA1233","v":0},0,0,0,0,0,0,"4.13 > Belize",{"$f":"AH1232+1","v":1219},{"$f":"ROUNDUP(AH1233/COUNTA($D$15:$D$41),0)","v":46}," "]
[{"$f":"INDEX(Country!$F$31:$G$76, MATCH(AI1234, Country!$O$31:$O$76, 0), 1)","v":4.1299999999999972},{"$f":"INDEX(Country!$F$31:$G$76, MATCH(AI1234, Country!$O$31:$O$76, 0), 2)","v":"Capacity building – think tanks"},{"$f":"INDEX(Country!$K$31:$K$76, MATCH(AI1234, Country!$O$31:$O$76, 0), 1)","v":"Organisations"},"Bolivia",null,null,null,null,null,null,null,100,100,100,100,100,100,100,null,null,null,null,null,null,null,{"$f":"AA1234","v":1},1,1,1,1,1,1,"4.13 > Bolivia",1220,46," "]
[{"$f":"INDEX(Country!$F$31:$G$76, MATCH(AI1235, Country!$O$31:$O$76, 0), 1)","v":4.1299999999999972},{"$f":"INDEX(Country!$F$31:$G$76, MATCH(AI1235, Country!$O$31:$O$76, 0), 2)","v":"Capacity building – think tanks"},{"$f":"INDEX(Country!$K$31:$K$76, MATCH(AI1235, Country!$O$31:$O$76, 0), 1)","v":"Organisations"},"Brazil",null,null,null,null,null,null,null,100,100,100,100,100,100,100,null,null,null,null,null,null,null,{"$f":"AA1235","v":1},1,1,1,1,1,1,"4.13 > Brazil",1221,46," "]
[{"$f":"INDEX(Country!$F$31:$G$76, MATCH(AI1236, Country!$O$31:$O$76, 0), 1)","v":4.1299999999999972},{"$f":"INDEX(Country!$F$31:$G$76, MATCH(AI1236, Country!$O$31:$O$76, 0), 2)","v":"Capacity building – think tanks"},{"$f":"INDEX(Country!$K$31:$K$76, MATCH(AI1236, Country!$O$31:$O$76, 0), 1)","v":"Organisations"},"Chile",null,null,null,null,null,null,null,100,100,100,100,100,100,100,null,null,null,null,null,null,null,{"$f":"AA1236","v":1},1,1,1,1,1,1,"4.13 > Chile",1222,46," "]
[{"$f":"INDEX(Country!$F$31:$G$76, MATCH(AI1237, Country!$O$31:$O$76, 0), 1)","v":4.1299999999999972},{"$f":"INDEX(Country!$F$31:$G$76, MATCH(AI1237, Country!$O$31:$O$76, 0), 2)","v":"Capacity building – think tanks"},{"$f":"INDEX(Country!$K$31:$K$76, MATCH(AI1237, Country!$O$31:$O$76, 0), 1)","v":"Organisations"},"Colombia",null,null,null,null,null,null,null,100,100,100,100,100,100,100,null,null,null,null,null,null,null,{"$f":"AA1237","v":1},1,1,1,1,1,1,"4.13 > Colombia",1223,46," "]
[{"$f":"INDEX(Country!$F$31:$G$76, MATCH(AI1238, Country!$O$31:$O$76, 0), 1)","v":4.1299999999999972},{"$f":"INDEX(Country!$F$31:$G$76, MATCH(AI1238, Country!$O$31:$O$76, 0), 2)","v":"Capacity building – think tanks"},{"$f":"INDEX(Country!$K$31:$K$76, MATCH(AI1238, Country!$O$31:$O$76, 0), 1)","v":"Organisations"},"Costa Rica",null,null,null,null,null,null,null,100,100,100,100,100,100,100,null,null,null,null,null,null,null,{"$f":"AA1238","v":1},1,1,1,1,1,1,"4.13 > Costa Rica",1224,46," "]
[{"$f":"INDEX(Country!$F$31:$G$76, MATCH(AI1239, Country!$O$31:$O$76, 0), 1)","v":4.1299999999999972},{"$f":"INDEX(Country!$F$31:$G$76, MATCH(AI1239, Country!$O$31:$O$76, 0), 2)","v":"Capacity building – think tanks"},{"$f":"INDEX(Country!$K$31:$K$76, MATCH(AI1239, Country!$O$31:$O$76, 0), 1)","v":"Organisations"},"Dominican Republic",null,null,null,null,null,null,null,100,100,100,100,100,100,100,null,null,null,null,null,null,null,{"$f":"AA1239","v":1},1,1,1,1,1,1,"4.13 > Dominican Republic",1225,46," "]
[{"$f":"INDEX(Country!$F$31:$G$76, MATCH(AI1240, Country!$O$31:$O$76, 0), 1)","v":4.1299999999999972},{"$f":"INDEX(Country!$F$31:$G$76, MATCH(AI1240, Country!$O$31:$O$76, 0), 2)","v":"Capacity building – think tanks"},{"$f":"INDEX(Country!$K$31:$K$76, MATCH(AI1240, Country!$O$31:$O$76, 0), 1)","v":"Organisations"},"Ecuador",null,null,null,null,null,null,null,100,100,100,100,100,100,100,null,null,null,null,null,null,null,{"$f":"AA1240","v":1},1,1,1,1,1,1,"4.13 > Ecuador",1226,46," "]
[{"$f":"INDEX(Country!$F$31:$G$76, MATCH(AI1241, Country!$O$31:$O$76, 0), 1)","v":4.1299999999999972},{"$f":"INDEX(Country!$F$31:$G$76, MATCH(AI1241, Country!$O$31:$O$76, 0), 2)","v":"Capacity building – think tanks"},{"$f":"INDEX(Country!$K$31:$K$76, MATCH(AI1241, Country!$O$31:$O$76, 0), 1)","v":"Organisations"},"El Salvador",null,null,null,null,null,null,null,100,100,100,100,100,100,100,null,null,null,null,null,null,null,{"$f":"AA1241","v":1},1,1,1,1,1,1,"4.13 > El Salvador",1227,46," "]
[{"$f":"INDEX(Country!$F$31:$G$76, MATCH(AI1242, Country!$O$31:$O$76, 0), 1)","v":4.1299999999999972},{"$f":"INDEX(Country!$F$31:$G$76, MATCH(AI1242, Country!$O$31:$O$76, 0), 2)","v":"Capacity building – think tanks"},{"$f":"INDEX(Country!$K$31:$K$76, MATCH(AI1242, Country!$O$31:$O$76, 0), 1)","v":"Organisations"},"Guatemala",null,null,null,null,null,null,null,100,100,100,100,100,100,100,null,null,null,null,null,null,null,{"$f":"AA1242","v":1},1,1,1,1,1,1,"4.13 > Guatemala",1228,46," "]
[{"$f":"INDEX(Country!$F$31:$G$76, MATCH(AI1243, Country!$O$31:$O$76, 0), 1)","v":4.1299999999999972},{"$f":"INDEX(Country!$F$31:$G$76, MATCH(AI1243, Country!$O$31:$O$76, 0), 2)","v":"Capacity building – think tanks"},{"$f":"INDEX(Country!$K$31:$K$76, MATCH(AI1243, Country!$O$31:$O$76, 0), 1)","v":"Organisations"},"Guyana",null,null,null,null,null,null,null,100,100,100,100,100,100,100,null,null,null,null,null,null,null,{"$f":"AA1243","v":1},1,1,1,1,1,1,"4.13 > Guyana",1229,46," "]
[{"$f":"INDEX(Country!$F$31:$G$76, MATCH(AI1244, Country!$O$31:$O$76, 0), 1)","v":4.1299999999999972},{"$f":"INDEX(Country!$F$31:$G$76, MATCH(AI1244, Country!$O$31:$O$76, 0), 2)","v":"Capacity building – think tanks"},{"$f":"INDEX(Country!$K$31:$K$76, MATCH(AI1244, Country!$O$31:$O$76, 0), 1)","v":"Organisations"},"Haiti",null,null,null,null,null,null,null,{"$f":"(Z1244)*dbl_BenchmarkMax","v":0},{"$f":"(AA1244)*dbl_BenchmarkMax","v":0},{"$f":"(AB1244)*dbl_BenchmarkMax","v":0},{"$f":"(AC1244)*dbl_BenchmarkMax","v":0},{"$f":"(AD1244)*dbl_BenchmarkMax","v":0},{"$f":"(AE1244)*dbl_BenchmarkMax","v":0},{"$f":"(AF1244)*dbl_BenchmarkMax","v":0},null,null,null,null,null,null,null,{"$f":"AA1244","v":0},0,0,0,0,0,0,"4.13 > Haiti",1230,46," "]
[{"$f":"INDEX(Country!$F$31:$G$76, MATCH(AI1245, Country!$O$31:$O$76, 0), 1)","v":4.1299999999999972},{"$f":"INDEX(Country!$F$31:$G$76, MATCH(AI1245, Country!$O$31:$O$76, 0), 2)","v":"Capacity building – think tanks"},{"$f":"INDEX(Country!$K$31:$K$76, MATCH(AI1245, Country!$O$31:$O$76, 0), 1)","v":"Organisations"},"Honduras",null,null,null,null,null,null,null,100,100,100,100,100,100,100,null,null,null,null,null,null,null,{"$f":"AA1245","v":1},1,1,1,1,1,1,"4.13 > Honduras",1231,46," "]
[{"$f":"INDEX(Country!$F$31:$G$76, MATCH(AI1246, Country!$O$31:$O$76, 0), 1)","v":4.1299999999999972},{"$f":"INDEX(Country!$F$31:$G$76, MATCH(AI1246, Country!$O$31:$O$76, 0), 2)","v":"Capacity building – think tanks"},{"$f":"INDEX(Country!$K$31:$K$76, MATCH(AI1246, Country!$O$31:$O$76, 0), 1)","v":"Organisations"},"Jamaica",null,null,null,null,null,null,null,0,0,0,0,0,0,0,null,null,null,null,null,null,null,{"$f":"AA1246","v":0},0,0,0,0,0,0,"4.13 > Jamaica",1232,46," "]
[{"$f":"INDEX(Country!$F$31:$G$76, MATCH(AI1247, Country!$O$31:$O$76, 0), 1)","v":4.1299999999999972},{"$f":"INDEX(Country!$F$31:$G$76, MATCH(AI1247, Country!$O$31:$O$76, 0), 2)","v":"Capacity building – think tanks"},{"$f":"INDEX(Country!$K$31:$K$76, MATCH(AI1247, Country!$O$31:$O$76, 0), 1)","v":"Organisations"},"Mexico",null,null,null,null,null,null,null,100,100,100,100,100,100,100,null,null,null,null,null,null,null,{"$f":"AA1247","v":1},1,1,1,1,1,1,"4.13 > Mexico",1233,46," "]
[{"$f":"INDEX(Country!$F$31:$G$76, MATCH(AI1248, Country!$O$31:$O$76, 0), 1)","v":4.1299999999999972},{"$f":"INDEX(Country!$F$31:$G$76, MATCH(AI1248, Country!$O$31:$O$76, 0), 2)","v":"Capacity building – think tanks"},{"$f":"INDEX(Country!$K$31:$K$76, MATCH(AI1248, Country!$O$31:$O$76, 0), 1)","v":"Organisations"},"Nicaragua",null,null,null,null,null,null,null,100,100,100,100,100,100,100,null,null,null,null,null,null,null,{"$f":"AA1248","v":1},1,1,1,1,1,1,"4.13 > Nicaragua",1234,46," "]
[{"$f":"INDEX(Country!$F$31:$G$76, MATCH(AI1249, Country!$O$31:$O$76, 0), 1)","v":4.1299999999999972},{"$f":"INDEX(Country!$F$31:$G$76, MATCH(AI1249, Country!$O$31:$O$76, 0), 2)","v":"Capacity building – think tanks"},{"$f":"INDEX(Country!$K$31:$K$76, MATCH(AI1249, Country!$O$31:$O$76, 0), 1)","v":"Organisations"},"Panama",null,null,null,null,null,null,null,100,100,100,100,100,100,100,null,null,null,null,null,null,null,{"$f":"AA1249","v":1},1,1,1,1,1,1,"4.13 > Panama",1235,46," "]
[{"$f":"INDEX(Country!$F$31:$G$76, MATCH(AI1250, Country!$O$31:$O$76, 0), 1)","v":4.1299999999999972},{"$f":"INDEX(Country!$F$31:$G$76, MATCH(AI1250, Country!$O$31:$O$76, 0), 2)","v":"Capacity building – think tanks"},{"$f":"INDEX(Country!$K$31:$K$76, MATCH(AI1250, Country!$O$31:$O$76, 0), 1)","v":"Organisations"},"Paraguay",null,null,null,null,null,null,null,100,100,100,100,100,100,100,null,null,null,null,null,null,null,{"$f":"AA1250","v":1},1,1,1,1,1,1,"4.13 > Paraguay",1236,46," "]
[{"$f":"INDEX(Country!$F$31:$G$76, MATCH(AI1251, Country!$O$31:$O$76, 0), 1)","v":4.1299999999999972},{"$f":"INDEX(Country!$F$31:$G$76, MATCH(AI1251, Country!$O$31:$O$76, 0), 2)","v":"Capacity building – think tanks"},{"$f":"INDEX(Country!$K$31:$K$76, MATCH(AI1251, Country!$O$31:$O$76, 0), 1)","v":"Organisations"},"Peru",null,null,null,null,null,null,null,100,100,100,100,100,100,100,null,null,null,null,null,null,null,{"$f":"AA1251","v":1},1,1,1,1,1,1,"4.13 > Peru",1237,46," "]
[{"$f":"INDEX(Country!$F$31:$G$76, MATCH(AI1252, Country!$O$31:$O$76, 0), 1)","v":4.1299999999999972},{"$f":"INDEX(Country!$F$31:$G$76, MATCH(AI1252, Country!$O$31:$O$76, 0), 2)","v":"Capacity building – think tanks"},{"$f":"INDEX(Country!$K$31:$K$76, MATCH(AI1252, Country!$O$31:$O$76, 0), 1)","v":"Organisations"},"Suriname",null,null,null,null,null,null,null,0,0,0,0,0,0,0,null,null,null,null,null,null,null,{"$f":"AA1252","v":0},0,0,0,0,0,0,"4.13 > Suriname",1238,46," "]
[{"$f":"INDEX(Country!$F$31:$G$76, MATCH(AI1253, Country!$O$31:$O$76, 0), 1)","v":4.1299999999999972},{"$f":"INDEX(Country!$F$31:$G$76, MATCH(AI1253, Country!$O$31:$O$76, 0), 2)","v":"Capacity building – think tanks"},{"$f":"INDEX(Country!$K$31:$K$76, MATCH(AI1253, Country!$O$31:$O$76, 0), 1)","v":"Organisations"},"Trinidad & Tobago",null,null,null,null,null,null,null,0,0,0,0,0,0,0,null,null,null,null,null,null,null,{"$f":"AA1253","v":0},0,0,0,0,0,0,"4.13 > Trinidad & Tobago",1239,46," "]
[{"$f":"INDEX(Country!$F$31:$G$76, MATCH(AI1254, Country!$O$31:$O$76, 0), 1)","v":4.1299999999999972},{"$f":"INDEX(Country!$F$31:$G$76, MATCH(AI1254, Country!$O$31:$O$76, 0), 2)","v":"Capacity building – think tanks"},{"$f":"INDEX(Country!$K$31:$K$76, MATCH(AI1254, Country!$O$31:$O$76, 0), 1)","v":"Organisations"},"Uruguay",null,null,null,null,null,null,null,100,100,100,100,100,100,100,null,null,null,null,null,null,null,{"$f":"AA1254","v":1},1,1,1,1,1,1,"4.13 > Uruguay",1240,46," "]
[{"$f":"INDEX(Country!$F$31:$G$76, MATCH(AI1255, Country!$O$31:$O$76, 0), 1)","v":4.1299999999999972},{"$f":"INDEX(Country!$F$31:$G$76, MATCH(AI1255, Country!$O$31:$O$76, 0), 2)","v":"Capacity building – think tanks"},{"$f":"INDEX(Country!$K$31:$K$76, MATCH(AI1255, Country!$O$31:$O$76, 0), 1)","v":"Organisations"},"Venezuela",null,null,null,null,null,null,null,100,100,100,100,100,100,100,null,null,null,null,null,null,null,{"$f":"AA1255","v":1},1,1,1,1,1,1,"4.13 > Venezuela",1241,46," "]
[{"$f":"INDEX(Country!$F$31:$G$76, MATCH(AI1256, Country!$O$31:$O$76, 0), 1)","v":4.1299999999999972},{"$f":"INDEX(Country!$F$31:$G$76, MATCH(AI1256, Country!$O$31:$O$76, 0), 2)","v":"Capacity building – think tanks"},{"$f":"INDEX(Country!$K$31:$K$76, MATCH(AI1256, Country!$O$31:$O$76, 0), 1)","v":"Organisations"},"Benchmark",{"$f":"IFERROR(MAX(E1230:E1255), 0)","v":0},0,0,0,0,0,0,100,100,100,100,100,100,100,null,null,null,null,null,null,null,{"$f":"IFERROR(MAX(Z1230:Z1255), 0)","v":1},1,1,1,1,1,{"$f":"IFERROR(MAX(AF1230:AF1255), 0)","v":1},"4.13 > Benchmark",1242,46," "]

{"sheet":"Levelisation","index":3,"n_rows":2788,"n_cols":13,"rows_kept":2788,"cut":false,"hidden":true,"merged":[]}
["INSTALLED CAPACITY, GENERATION AND OTHER LEVELISING VARIABLES"]
[]
[]
["Levelisation Variables",null,null,null,null,null,null,null,null,null,null,null,"Source"]
["Type","Units","Sector","Clean Energy?","Country",2006,{"$f":"F5+1","v":2007},{"$f":"G5+1","v":2008},2009,2010,{"$f":"J5+1","v":2011},2012]
["Capacity (MW)"]
["Capacity",{"$f":"IF(A7=\"Capacity\", \"MW\", \"GWh\")","v":"MW"},"Large Hydro",{"$f":"IF(C7=\"\",\"\",IF(OR(C7=\"Wind\",C7=\"Solar\",C7=\"Geothermal\",C7=\"Small Hydro\",C7=\"Biofuels\",C7=\"Biomass & Waste\"), 1, 0))","v":0},"Argentina",9433.7000000000007,9471.1,9517.1,9550.5,9550.5,9550.5,9550.5]
["Capacity",{"$f":"IF(A8=\"Capacity\", \"MW\", \"GWh\")","v":"MW"},"Large Hydro",{"$f":"IF(C8=\"\",\"\",IF(OR(C8=\"Wind\",C8=\"Solar\",C8=\"Geothermal\",C8=\"Small Hydro\",C8=\"Biofuels\",C8=\"Biomass & Waste\"), 1, 0))","v":0},"Bahamas",0,0,0,0,0,0,0]
["Capacity","MW","Large Hydro",0,"Barbados",0,0,0,0,0,0,0]
["Capacity","MW","Large Hydro",0,"Belize",0,0,0,0,0,0,0]
["Capacity","MW","Large Hydro",0,"Bolivia",198.4,198.4,198.4,198.4,198.4,203,203]
["Capacity","MW","Large Hydro",0,"Brazil",72005,74937,74901,75484,77090,78142,79424]
["Capacity","MW","Large Hydro",0,"Chile",4682.0498500000003,4754.0982300000005,4809.0982300000005,4809.0982300000005,4809.0982300000005,5239.2654600000005,5299.2654600000005]
["Capacity","MW","Large Hydro",0,"Colombia",8511,8525,8525,8525,8525,9185,9185]
["Capacity","MW","Large Hydro",0,"Costa Rica",932.88824999999997,981.38480000000004,981.38480000000004,981.38480000000004,981.38480000000004,1096.1548,1096.1548]
["Capacity","MW","Large Hydro",0,"Dominican Republic",300,300,300,300,300,300,380]
["Capacity","MW","Large Hydro",0,"Ecuador",1524.17,1752.1699999999998,1751.4,1751.31,1934.88,1935.37,1925.67]
["Capacity","MW","Large Hydro",0,"El Salvador",440.50000000000006,452.20000000000005,452.20000000000005,452.20000000000005,452.20000000000005,452.20000000000005,452.20000000000005]
["Capacity","MW","Large Hydro",0,"Guatemala",518.1,518.1,518.1,518.1,612.1,612.1,697.1]
["Capacity","MW","Large Hydro",0,"Guyana",0,0,0,0,0,0,0]
["Capacity","MW","Large Hydro",0,"Haiti",0,0,0,0,0,0,0]
["Capacity","MW","Large Hydro",0,"Honduras",380,380,380,380,380,380,380]
["Capacity","MW","Large Hydro",0,"Jamaica",0,0,0,0,0,0,0]
["Capacity","MW","Large Hydro",0,"Mexico",10338.449999999999,11088.449999999999,11088.449999999999,11088.449999999999,11088.449999999999,11088.449999999999,11088.449999999999]
["Capacity","MW","Large Hydro",0,"Nicaragua",54.4,54.4,54.4,54.4,54.4,54.4,54.4]
["Capacity","MW","Large Hydro",0,"Panama",740,794.8,794.8,794.8,734.76,956.93,956.93]
["Capacity","MW","Large Hydro",0,"Paraguay",8810,8810,8810,8810,8810,8810,8810]
["Capacity","MW","Large Hydro",0,"Peru",2711.2520000000004,2726.6840000000002,2727.98,2728.0790000000002,2892.2619999999997,2892.2619999999997,2892.2619999999997]
["Capacity","MW","Large Hydro",0,"Suriname",189,189,189,189,189,189,189]
["Capacity","MW","Large Hydro",0,"Trinidad & Tobago",0,0,0,0,0,0,0]
["Capacity","MW","Large Hydro",0,"Uruguay",1538,1538,1538,1538,1538,1538,1538]
["Capacity","MW","Large Hydro",0,"Venezuela",14597,14597,14598,14598,14597,14597,14597]
["Capacity","MW","Natural Gas",0,"Argentina",4453.9759999999997,4968.085,4194.8980000000001,3374.0230000000001,4809.0330000000004,4832.7640000000001,4832.7640000000001]
["Capacity","MW","Natural Gas",0,"Bahamas",0,0,0,0,0,0,0]
["Capacity","MW","Natural Gas",0,"Barbados",0,0,0,0,0,0,0]
["Capacity","MW","Natural Gas",0,"Belize",0,0,0,0,0,0,0]
["Capacity","MW","Natural Gas",0,"Bolivia",688.80000000000007,754.7,754.8,754.8,861,887.2,887.2]
["Capacity","MW","Natural Gas",0,"Brazil",9990.7274999999991,10042.890000000001,10532.4,10809,12539.999999999998,11424,11550]
["Capacity","MW","Natural Gas",0,"Chile",3896.9312999999997,3896.9312999999997,4310.7592999999997,4317.1592999999993,4317.9592999999995,4317.9592999999995,4317.9592999999995]
["Capacity","MW","Natural Gas",0,"Colombia",3562,3598,2757,2757,2478,2653,2479]
["Capacity","MW","Natural Gas",0,"Costa Rica",347.7,347.7,347.7,347.7,347.7,347.7,347.7]
["Capacity","MW","Natural Gas",0,"Dominican Republic",555,555,555,555,555,688.6,688.6]
["Capacity","MW","Natural Gas",0,"Ecuador",151.9,154.5,154.5,181.87,181.87,168.05,304.85000000000002]
["Capacity","MW","Natural Gas",0,"El Salvador",0,0,0,0,0,0,0]
["Capacity","MW","Natural Gas",0,"Guatemala",0,0,0,0,0,0,0]
["Capacity","MW","Natural Gas",0,"Guyana",0,0,0,0,0,0,0]
["Capacity","MW","Natural Gas",0,"Haiti",0,0,0,0,0,0,0]
["Capacity","MW","Natural Gas",0,"Honduras",69.5,72.5,72.5,72.5,72.5,72.5,72.5]
["Capacity","MW","Natural Gas",0,"Jamaica",0,0,0,0,0,0,0]
["Capacity","MW","Natural Gas",0,"Mexico",22471.044431269536,25066.890415644499,25429.006406877623,26384.626448027269,26886.002246036878,26690.722885229774,27430.195022870772]
["Capacity","MW","Natural Gas",0,"Nicaragua",0,0,0,0,0,0,0]
["Capacity","MW","Natural Gas",0,"Panama",0,0,0,0,0,0,0]
["Capacity","MW","Natural Gas",0,"Paraguay",0,0,0,0,0,0,0]
["Capacity","MW","Natural Gas",0,"Peru",684.89,1048.4299999999998,1117.5339999999999,1582.1989999999998,2065.5029999999997,2065.5029999999997,2615.7029999999995]
["Capacity","MW","Natural Gas",0,"Suriname",0,0,0,0,0,0,0]
["Capacity","MW","Natural Gas",0,"Trinidad & Tobago",3439,3647,3647,3647,3575,3549.82,4232.3999999999996]
["Capacity","MW","Natural Gas",0,"Uruguay",0,0,0,0,0,0,0]
["Capacity","MW","Natural Gas",0,"Venezuela",3805.44,3805.44,4107.3599999999997,4368.4799999999996,4911.3599999999997,5319.84,6179.5199999999995]
["Capacity","MW","Oil & Diesel",0,"Argentina",324.22699999999998,376.08699999999999,666.60500000000002,732.73699999999997,881.577,1096.307,1096.307]
["Capacity","MW","Oil & Diesel",0,"Bahamas",0,0,0,450,450,575,575]
["Capacity","MW","Oil & Diesel",0,"Barbados",239.1,239.1,239.1,239.1,239.1,239.1,239.1]
["Capacity","MW","Oil & Diesel",0,"Belize",36.9,36.200000000000003,37,56.2,54.8,50.8,50.8]
["Capacity","MW","Oil & Diesel",0,"Bolivia",57.3,64.699999999999989,59.300000000000004,74.100000000000009,63.800000000000004,82.000000000000014,82.000000000000014]
["Capacity","MW","Oil & Diesel",0,"Brazil",4995.3637500000004,5021.4450000000006,5266.2,5902,7370,7267,10767.6]
["Capacity","MW","Oil & Diesel",0,"Chile",661.75740500000006,913.79740500000014,1105.4974050000001,2409.1432049999999,2555.020305,2596.6583049999999,2836.6583049999999]
["Capacity","MW","Oil & Diesel",0,"Colombia",0,0,619,621,621,972,1031]
["Capacity","MW","Oil & Diesel",0,"Costa Rica",65.16900000000004,65.16900000000004,244.21700000000004,244.21700000000004,446.61700000000002,264.90100000000001,274.089]
["Capacity","MW","Oil & Diesel",0,"Dominican Republic",2056.1999999999998,2056.1999999999998,1805.1,1798.9,1795.8000000000002,1799.87,1799.87]
["Capacity","MW","Oil & Diesel",0,"Ecuador",1884.75,2015.41,2037.3399999999997,2308.8500000000004,2418.8900000000003,2453.39,2564.94]
["Capacity","MW","Oil & Diesel",0,"El Salvador",603.50000000000011,635.40000000000009,642.20000000000005,691.2,691.2,696.7,696.7]
["Capacity","MW","Oil & Diesel",0,"Guatemala",1137.1179999999999,1152.8620000000001,1213.1619999999998,1213.1619999999998,1213.1619999999998,1213.1619999999998,1213.1619999999998]
["Capacity",{"$f":"IF(A72=\"Capacity\", \"MW\", \"GWh\")","v":"MW"},"Oil & Diesel",0,"Guyana",133.66,131.94999999999999,147.52000000000001,160.32,158.4,205.7,158.4]
["Capacity","MW","Oil & Diesel",0,"Haiti",0,0,0,0,0,71.2,186]
["Capacity","MW","Oil & Diesel",0,"Honduras",908.4,908.4,912.8,912,912,911.5,911.9]
["Capacity","MW","Oil & Diesel",{"$f":"IF(C75=\"\",\"\",IF(OR(C75=\"Wind\",C75=\"Solar\",C75=\"Geothermal\",C75=\"Small Hydro\",C75=\"Biofuels\",C75=\"Biomass & Waste\"), 1, 0))","v":0},"Jamaica",796.16,796.16,796.16,796.16,808.16,808.16,873.66]
["Capacity","MW","Oil & Diesel",0,"Mexico",16347.316818730462,16338.975834355502,16441.463843122379,16536.00880197273,17246.416979549063,17332.728364770228,16720.866227129223]
["Capacity","MW","Oil & Diesel",0,"Nicaragua",449.12,517.12,576.36,627.15,694.99,730.69,736.21]
["Capacity","MW","Oil & Diesel",0,"Panama",661.99300000000005,702.43200000000002,835.83199999999999,935.83199999999999,1051.81,1008.02,955.01]
["Capacity","MW","Oil & Diesel",0,"Paraguay",17,17,17,17,17,17,17]
["Capacity","MW","Oil & Diesel",0,"Peru",1343.9250000000002,1329.7670000000003,1362.9230000000002,1434.9220000000005,1417.9939999999999,1393.9939999999999,1374.194]
["Capacity","MW","Oil & Diesel",0,"Suriname",0,0,0,0,0,0,0]
["Capacity","MW","Oil & Diesel",0,"Trinidad & Tobago",22.1,22.1,22.1,86.1,86.1,86.1,86.1]
["Capacity","MW","Oil & Diesel",0,"Uruguay",693.25,692.25,795.45,876.2,874.2,874.2,1024.2]
["Capacity","MW","Oil & Diesel",0,"Venezuela",4122.5600000000004,4122.5600000000004,4449.6400000000003,4732.5200000000004,5320.64,5763.16,6694.4800000000005]
["Capacity","MW","Coal",0,"Argentina",0,0,0,0,0,0,0]
["Capacity","MW","Coal",0,"Bahamas",0,0,0,0,0,0,0]
["Capacity","MW","Coal",0,"Barbados",0,0,0,0,0,0,0]
["Capacity","MW","Coal",0,"Belize",0,0,0,0,0,0,0]
["Capacity","MW","Coal",0,"Bolivia",0,0,0,0,0,0,0]
["Capacity","MW","Coal",0,"Brazil",1665.1212499999999,1673.8150000000003,1755.4,1530,2090,1944,2304.1999999999998]
["Capacity","MW","Coal",0,"Chile",1573.0029999999997,1573.0029999999997,1573.0029999999997,1575.0029999999997,2380.6029999999996,3175.4059999999995,3795.4059999999995]
["Capacity","MW","Coal",0,"Colombia",722.8,776.7,1044.5999999999999,1067.4000000000001,1073.4000000000001,991,997]
["Capacity","MW","Coal",0,"Costa Rica",0,0,0,0,0,0,0]
["Capacity","MW","Coal",0,"Dominican Republic",313.60000000000002,313.60000000000002,313.60000000000002,313.63,313.63,313.63,313.60000000000002]
["Capacity","MW","Coal",0,"Ecuador",0,0,0,0,0,0,0]
["Capacity","MW","Coal",0,"El Salvador",0,0,0,0,0,0,0]
["Capacity","MW","Coal",0,"Guatemala",139,139,159,159,159,159,242]
["Capacity","MW","Coal",0,"Guyana",0,0,0,0,0,0,0]
["Capacity","MW","Coal",0,"Haiti",0,0,0,0,0,0,0]
["Capacity","MW","Coal",0,"Honduras",0,0,8,8,8,21,21]
["Capacity","MW","Coal",0,"Jamaica",0,0,0,0,0,0,0]
["Capacity","MW","Coal",0,"Mexico",2600,2665,2665,2665,2665,2665,2665]
["Capacity","MW","Coal",0,"Nicaragua",0,0,0,0,0,0,0]
["Capacity","MW","Coal",0,"Panama",0,0,0,0,0,0,0]
["Capacity","MW","Coal",0,"Paraguay",0,0,0,0,0,0,0]
["Capacity","MW","Coal",0,"Peru",156.82900000000001,156.82900000000001,156.87299999999999,156.87299999999999,150,150,150]
["Capacity","MW","Coal",0,"Suriname",0,0,0,0,0,0,0]
["Capacity","MW","Coal",0,"Trinidad & Tobago",0,0,0,0,0,0,0]
["Capacity","MW","Coal",0,"Uruguay",0,0,0,0,0,0,0]
["Capacity","MW","Coal",0,"Venezuela",0,0,0,0,0,0,0]
["Capacity","MW","Small Hydro",1,"Argentina",506.74200000000002,492.84300000000002,494.44299999999998,494.19400000000002,495.11700000000002,494.97300000000001,494.97300000000001]
["Capacity","MW","Small Hydro",1,"Bahamas",0,0,0,0,0,0,0]
["Capacity","MW","Small Hydro",1,"Barbados",0,0,0,0,0,0,0]
["Capacity","MW","Small Hydro",1,"Belize",32.200000000000003,35.300000000000004,35.300000000000004,35.300000000000004,54.300000000000004,54.300000000000004,54.300000000000004]
["Capacity","MW","Small Hydro",1,"Bolivia",282.60000000000002,282.60000000000002,285.40000000000003,285.40000000000003,285.40000000000003,286.30000000000007,286.30000000000007]
["Capacity","MW","Small Hydro",1,"Brazil",1673,1932,2644,3126,3613,3989,4247.8]
["Capacity","MW","Small Hydro",1,"Chile",474.34424999999999,525.50424999999996,558.31925000000001,578.77925000000005,605.93925000000002,654.82349999999997,687.82349999999997]
["Capacity","MW","Small Hydro",1,"Colombia",438.5,463.1,468.3,472,518.79999999999995,533,594]
["Capacity","MW","Small Hydro",1,"Costa Rica",478.54199999999997,512.57619999999997,530.07619999999997,550.92619999999988,550.92619999999988,551.43520000000001,588.41020000000003]
["Capacity","MW","Small Hydro",1,"Dominican Republic",169.3,169.3,172.3,223.15,223.15,219.7,227]
["Capacity","MW","Small Hydro",1,"Ecuador",277.28999999999996,305.24,305.02,307.65999999999997,307.53999999999991,299.03999999999991,338.21999999999991]
["Capacity","MW","Small Hydro",1,"El Salvador",12.3,33.5,33.5,33.5,34.299999999999997,34.299999999999997,34.299999999999997]
["Capacity","MW","Small Hydro",1,"Guatemala",208.32199999999997,234.32199999999997,234.48199999999997,237.98199999999997,242.51999999999995,284.40000000000003,288.86]
["Capacity","MW","Small Hydro",1,"Guyana",0,0,0,0,0,0,0]
["Capacity","MW","Small Hydro",1,"Haiti",0,0,0,0,0,48,55]
["Capacity","MW","Small Hydro",1,"Honduras",123,139.69999999999999,142,147,146.5,149.17999999999998,157.79]
["Capacity","MW","Small Hydro",1,"Jamaica",21.7,22.8,22.8,22.8,22.8,22.8,22.8]
["Capacity","MW","Small Hydro",1,"Mexico",289.8280000000002,316.8280000000002,323.98800000000028,391.97040000000027,515.51239827337372,519.5300000000002,567.91200000000003]
["Capacity","MW","Small Hydro",1,"Nicaragua",50.23,50.9,50.9,50.9,50.9,50.9,50.9]
["Capacity","MW","Small Hydro",1,"Panama",106.535,63.744999999999997,74.248999999999995,84.108999999999995,200.03,274.38,279.8]
["Capacity","MW","Small Hydro",1,"Paraguay",0,0,0,0,0,0,0]
["Capacity","MW","Small Hydro",1,"Peru",491.78700000000003,493.95,501.08200000000005,536.221,532.17600000000004,542.67599999999993,573.37599999999998]
["Capacity","MW","Small Hydro",1,"Suriname",0,0,0,0,0,0,0]
["Capacity","MW","Small Hydro",1,"Trinidad & Tobago",0,0,0,0,0,0,0]
["Capacity","MW","Small Hydro",1,"Uruguay",0,0,0,0,0,0,0]
["Capacity",{"$f":"IF(A136=\"Capacity\", \"MW\", \"GWh\")","v":"MW"},"Small Hydro",1,"Venezuela",0,0,0,26.33,26.33,26.33,26.33]
["Capacity","MW","Wind",1,"Argentina",27.831,27.827000000000002,27.831199999999999,27.831199999999999,29.831199999999999,61.579599999999992,61.579599999999992]
["Capacity","MW","Wind",1,"Bahamas",0,0,0,0,0,0,0]
["Capacity","MW","Wind",{"$f":"IF(C139=\"\",\"\",IF(OR(C139=\"Wind\",C139=\"Solar\",C139=\"Geothermal\",C139=\"Small Hydro\",C139=\"Biofuels\",C139=\"Biomass & Waste\"), 1, 0))","v":1},"Barbados",0,0,0,0,0,0,0]
["Capacity","MW","Wind",1,"Belize",0,0,0,0,0,0,0]
["Capacity","MW","Wind",1,"Bolivia",0,0,0,0,0,0,0]
["Capacity","MW","Wind",1,"Brazil",237,247,398,602,927,1250,1815.7]
["Capacity","MW","Wind",1,"Chile",1.98,19.948500000000003,19.948500000000003,85.82650000000001,178.88650000000001,198.68650000000002,198.68650000000002]
["Capacity","MW","Wind",1,"Colombia",18.399999999999999,18.399999999999999,18.399999999999999,18.399999999999999,18.399999999999999,18.399999999999999,18.399999999999999]
["Capacity","MW","Wind",1,"Costa Rica",66,66,66,91.2,91.2,132.78,143.55000000000001]
["Capacity","MW","Wind",1,"Dominican Republic",0,0,0,0,0,33.450000000000003,33.450000000000003]
["Capacity","MW","Wind",1,"Ecuador",0,2.4,2.4,2.4,2.4,2.4,2.4]
["Capacity","MW","Wind",1,"El Salvador",0,0,0,0,0,0,0]
["Capacity","MW","Wind",1,"Guatemala",0,0,0,0,0,0,0]
["Capacity","MW","Wind",1,"Guyana",0,0,0,0,0,0,0]
["Capacity","MW","Wind",1,"Haiti",0,0,0,0,0,0,0]
["Capacity","MW","Wind",1,"Honduras",0,0,0,0,0,102,102]
["Capacity","MW","Wind",1,"Jamaica",20.7,20.7,20.7,20.7,23.7,41.7,41.7]
["Capacity","MW","Wind",1,"Mexico",2.1749999999999998,85.474999999999994,85.25,494.7,593.54999999999995,675.05000000000007,1288.7]
["Capacity","MW","Wind",1,"Nicaragua",0,0,0,40,63,63,102.6]
["Capacity","MW","Wind",1,"Panama",0,0,0,0,0,0,0]
["Capacity","MW","Wind",1,"Paraguay",0,0,0,0,0,0,0]
["Capacity","MW","Wind",1,"Peru",0,0,0,0,0,0,0]
["Capacity","MW","Wind",1,"Suriname",0,0,0,0,0,0,0]
["Capacity","MW","Wind",1,"Trinidad & Tobago",0,0,0,0,0,0,0]
["Capacity","MW","Wind",1,"Uruguay",0,0,14.45,30.45,40.450000000000003,43.455000000000005,52.455000000000005]
["Capacity","MW","Wind",1,"Venezuela",0,0,0,0,0,0,6.3]
["Capacity","MW","Solar",1,"Argentina",2.5000000000000001E-2,2.5000000000000001E-2,2.5000000000000001E-2,2.5000000000000001E-2,2.5000000000000001E-2,1.2259,1.2259]
["Capacity","MW","Solar",1,"Bahamas",0,0,0,0,0,0,0]
["Capacity","MW","Solar",1,"Barbados",0,0,0,0,0,0,0]
["Capacity","MW","Solar",1,"Belize",0,0,0,0,0,0,0.48]
["Capacity","MW","Solar",1,"Bolivia",0,0,0,0,0,0,0]
["Capacity","MW","Solar",1,"Brazil",0,0,0,0,1,1.1000000000000001,1.5]
["Capacity","MW","Solar",1,"Chile",0,0,0,0,0,0,2.5999999999999996]
["Capacity","MW","Solar",1,"Colombia",0,0,0,0,0,0,0]
["Capacity","MW","Solar",1,"Costa Rica",0,0,0,0,0,0,1.01]
["Capacity","MW","Solar",1,"Dominican Republic",0,0,0,0,0,0,0]
["Capacity","MW","Solar",1,"Ecuador",0.02,0.02,0.02,0.02,0.02,0.05,0.09]
["Capacity","MW","Solar",1,"El Salvador",0,0,0,0,0,0,0]
["Capacity","MW","Solar",1,"Guatemala",0,0,0,0,0,0,0]
["Capacity","MW","Solar",1,"Guyana",0,0,0,0,0,0,0]
["Capacity","MW","Solar",1,"Haiti",0,0,0,0,0,0,0]
["Capacity","MW","Solar",1,"Honduras",0,0,0,0,0,0,0]
["Capacity","MW","Solar",1,"Jamaica",0,0,0,0,0,0,0]
["Capacity","MW","Solar",1,"Mexico",0,0,0,0,0,0,3.26]
["Capacity","MW","Solar",1,"Nicaragua",0,0,0,0,0,0,0]
["Capacity","MW","Solar",1,"Panama",0,0,0,0,0,0,0]
["Capacity","MW","Solar",1,"Paraguay",0,0,0,0,0,0,0]
["Capacity","MW","Solar",1,"Peru",0,0,0,0,0,0,80]
["Capacity","MW","Solar",1,"Suriname",0,0,0,0,0,0,0]
["Capacity","MW","Solar",1,"Trinidad & Tobago",0,0,0,0,0,0,0]
["Capacity","MW","Solar",1,"Uruguay",0,0,0,0,0,2.7850000000000003E-2,0.10797999999999999]
["Capacity","MW","Solar",1,"Venezuela",0,0,0,0,0,0,0]
["Capacity","MW","Geothermal",1,"Argentina",0.6,0.6,0.6,0,0,0,0]
["Capacity","MW","Geothermal",1,"Bahamas",0,0,0,0,0,0,0]
["Capacity","MW","Geothermal",1,"Barbados",0,0,0,0,0,0,0]
["Capacity","MW","Geothermal",1,"Belize",0,0,0,0,0,0,0]
["Capacity","MW","Geothermal",1,"Bolivia",0,0,0,0,0,0,0]
["Capacity","MW","Geothermal",1,"Brazil",0,0,0,0,0,0,0]
["Capacity","MW","Geothermal",1,"Chile",0,0,0,0,0,0,0]
["Capacity","MW","Geothermal",1,"Colombia",0,0,0,0,0,0,0]
["Capacity","MW","Geothermal",1,"Costa Rica",163.66,163.66,163.66,163.66,163.66,217.46,208.66]
["Capacity","MW","Geothermal",1,"Dominican Republic",0,0,0,0,0,0,0]
["Capacity","MW","Geothermal",1,"Ecuador",0,0,0,0,0,0,0]
["Capacity",{"$f":"IF(A200=\"Capacity\", \"MW\", \"GWh\")","v":"MW"},"Geothermal",1,"El Salvador",151.19999999999999,204.4,204.4,204.4,204.4,204.4,204.4]
["Capacity","MW","Geothermal",1,"Guatemala",24,49.2,49.2,49.2,49.2,49.2,49.2]
["Capacity","MW","Geothermal",1,"Guyana",0,0,0,0,0,0,0]
["Capacity","MW","Geothermal",{"$f":"IF(C203=\"\",\"\",IF(OR(C203=\"Wind\",C203=\"Solar\",C203=\"Geothermal\",C203=\"Small Hydro\",C203=\"Biofuels\",C203=\"Biomass & Waste\"), 1, 0))","v":1},"Haiti",0,0,0,0,0,0,0]
["Capacity","MW","Geothermal",1,"Honduras",0,0,0,0,0,0,0]
["Capacity","MW","Geothermal",1,"Jamaica",0,0,0,0,0,0,0]
["Capacity","MW","Geothermal",1,"Mexico",959.5,959.5,964.5,964.5,964.5,886.6,811.6]
["Capacity","MW","Geothermal",1,"Nicaragua",87.5,87.5,87.5,87.5,87.5,87.5,164.5]
["Capacity","MW","Geothermal",1,"Panama",0,0,0,0,0,0,0]
["Capacity","MW","Geothermal",1,"Paraguay",0,0,0,0,0,0,0]
["Capacity","MW","Geothermal",1,"Peru",0,0,0,0,0,0,0]
["Capacity","MW","Geothermal",1,"Suriname",0,0,0,0,0,0,0]
["Capacity","MW","Geothermal",1,"Trinidad & Tobago",0,0,0,0,0,0,0]
["Capacity","MW","Geothermal",1,"Uruguay",0,0,0,0,0,0,0]
["Capacity","MW","Geothermal",1,"Venezuela",0,0,0,0,0,0,0]
["Capacity","MW","Biomass & Waste",1,"Argentina",0,0,0,0.2,0.2,0.2,0.2]
["Capacity","MW","Biomass & Waste",1,"Bahamas",0,0,0,0,0,0,0]
["Capacity","MW","Biomass & Waste",1,"Barbados",0,0,0,0,0,0,0]
["Capacity","MW","Biomass & Waste",1,"Belize",0,0,0,31.5,31.5,31.5,31.5]
["Capacity","MW","Biomass & Waste",1,"Bolivia",25,25,25,25,25,25,25]
["Capacity","MW","Biomass & Waste",1,"Brazil",2909.4400000000005,3636.8,4546,5439,6703,8622,9815.9]
["Capacity","MW","Biomass & Waste",1,"Chile",130.1,152.1215,189.1215,206.7465,209.2465,230.86750000000001,322.26749999999998]
["Capacity","MW","Biomass & Waste",1,"Colombia",24.5,24.5,24.5,35,54.9,54.8,57.3]
["Capacity","MW","Biomass & Waste",1,"Costa Rica",19.5,19.5,32.5,32.5,32.5,40,30]
["Capacity","MW","Biomass & Waste",1,"Dominican Republic",0,0,0,0,0,0,0]
["Capacity","MW","Biomass & Waste",1,"Ecuador",73.8,73.8,106.8,106.8,101.3,101.3,101.3]
["Capacity","MW","Biomass & Waste",1,"El Salvador",85.5,113,109,109,99,109.5,109.5]
["Capacity","MW","Biomass & Waste",1,"Guatemala",246.75,246.75,246.75,256.75,256.75,287.75,298.25]
["Capacity","MW","Biomass & Waste",1,"Guyana",0,0,0,15,15,15,15]
["Capacity","MW","Biomass & Waste",1,"Haiti",0,0,0,0,0,0,0]
["Capacity","MW","Biomass & Waste",1,"Honduras",87.9,107.9,114.8,116.3,116.3,137.44999999999999,137.44999999999996]
["Capacity","MW","Biomass & Waste",1,"Jamaica",0,0,0,0,0,0,0]
["Capacity","MW","Biomass & Waste",1,"Mexico",155.76999999999998,155.76999999999998,155.76999999999998,156.57,157.619,208.95299999999997,259.73899999999998]
["Capacity","MW","Biomass & Waste",1,"Nicaragua",121.8,121.8,121.8,121.8,121.8,121.8,133.80000000000001]
["Capacity","MW","Biomass & Waste",1,"Panama",0,0,0,0,0,0,0]
["Capacity","MW","Biomass & Waste",1,"Paraguay",0,0,0,0,0,0,0]
["Capacity","MW","Biomass & Waste",1,"Peru",18.200000000000003,18.200000000000003,18.200000000000003,53.199999999999996,53.199999999999996,53.199999999999996,84.5]
["Capacity","MW","Biomass & Waste",1,"Suriname",0,0,0,0,0,0,0]
["Capacity","MW","Biomass & Waste",1,"Trinidad & Tobago",0,0,0,0,0,0,0]
["Capacity","MW","Biomass & Waste",1,"Uruguay",15.559999999999999,176.56,176.56,176.56,239.71,251.82,251.82]
["Capacity","MW","Biomass & Waste",1,"Venezuela",0,0,0,0,0,0,0]
["Capacity","MW","Nuclear",0,"Argentina",1018,1018,1018,1018,1018,1018,1018]
["Capacity","MW","Nuclear",0,"Bahamas",0,0,0,0,0,0,0]
["Capacity","MW","Nuclear",0,"Barbados",0,0,0,0,0,0,0]
["Capacity","MW","Nuclear",0,"Belize",0,0,0,0,0,0,0]
["Capacity","MW","Nuclear",0,"Bolivia",0,0,0,0,0,0,0]
["Capacity","MW","Nuclear",0,"Brazil",2007,2007,2007,2007,2007,2007,2007]
["Capacity","MW","Nuclear",0,"Chile",0,0,0,0,0,0,0]
["Capacity","MW","Nuclear",0,"Colombia",0,0,0,0,0,0,0]
["Capacity","MW","Nuclear",0,"Costa Rica",0,0,0,0,0,0,0]
["Capacity","MW","Nuclear",0,"Dominican Republic",0,0,0,0,0,0,0]
["Capacity","MW","Nuclear",0,"Ecuador",0,0,0,0,0,0,0]
["Capacity","MW","Nuclear",0,"El Salvador",0,0,0,0,0,0,0]
["Capacity","MW","Nuclear",0,"Guatemala",0,0,0,0,0,0,0]
["Capacity","MW","Nuclear",0,"Guyana",0,0,0,0,0,0,0]
["Capacity","MW","Nuclear",0,"Haiti",0,0,0,0,0,0,0]
["Capacity","MW","Nuclear",0,"Honduras",0,0,0,0,0,0,0]
["Capacity","MW","Nuclear",0,"Jamaica",0,0,0,0,0,0,0]
["Capacity","MW","Nuclear",0,"Mexico",1364.88,1364.88,1364.88,1364.88,1364.88,1364.88,1610]
["Capacity","MW","Nuclear",0,"Nicaragua",0,0,0,0,0,0,0]
["Capacity","MW","Nuclear",0,"Panama",0,0,0,0,0,0,0]
["Capacity","MW","Nuclear",0,"Paraguay",0,0,0,0,0,0,0]
["Capacity","MW","Nuclear",0,"Peru",0,0,0,0,0,0,0]
["Capacity","MW","Nuclear",0,"Suriname",0,0,0,0,0,0,0]
["Capacity",{"$f":"IF(A264=\"Capacity\", \"MW\", \"GWh\")","v":"MW"},"Nuclear",0,"Trinidad & Tobago",0,0,0,0,0,0,0]
["Capacity","MW","Nuclear",0,"Uruguay",0,0,0,0,0,0,0]
["Capacity","MW","Nuclear",0,"Venezuela",0,0,0,0,0,0,0]
["Capacity","MW","Other Fossil Fuels",0,"Argentina",12594.120999999999,12511.906000000001,15064.504999999999,16927.717000000001,16092.237999999999,16736.614000000001,16736.614000000001]
["Capacity","MW","Other Fossil Fuels",{"$f":"IF(C268=\"\",\"\",IF(OR(C268=\"Wind\",C268=\"Solar\",C268=\"Geothermal\",C268=\"Small Hydro\",C268=\"Biofuels\",C268=\"Biomass & Waste\"), 1, 0))","v":0},"Bahamas",0,0,0,0,0,0,0]
["Capacity","MW","Other Fossil Fuels",0,"Barbados",0,0,0,0,0,0,0]
["Capacity","MW","Other Fossil Fuels",0,"Belize",0,0,0,0,0,0,0]
["Capacity","MW","Other Fossil Fuels",0,"Bolivia",213.5,169.60000000000002,178,190.89999999999998,205.5,194.60000000000002,194.60000000000002]
["Capacity","MW","Other Fossil Fuels",0,"Brazil",811.34749999999997,854.05,899,964,986,1485,1511]
["Capacity","MW","Other Fossil Fuels",0,"Chile",66.5,66.5,66.5,66.5,66.5,66.5,93.02]
["Capacity","MW","Other Fossil Fuels",0,"Colombia",0,0,0,0,0,0,0]
["Capacity","MW","Other Fossil Fuels",0,"Costa Rica",0,0,0,0,0,0,0]
["Capacity","MW","Other Fossil Fuels",0,"Dominican Republic",0,0,0,0,0,0,0]
["Capacity","MW","Other Fossil Fuels",0,"Ecuador",85.839999999999989,185.51000000000002,198.88000000000002,179.79000000000002,195.79000000000002,272.31000000000006,272.31000000000006]
["Capacity","MW","Other Fossil Fuels",0,"El Salvador",0,0,0,0,0,0,0]
["Capacity","MW","Other Fossil Fuels",0,"Guatemala",1.5,1.5,1.5,1.5,1.5,1.5,1.5]
["Capacity","MW","Other Fossil Fuels",0,"Guyana",0,0,0,0,0,0,0]
["Capacity","MW","Other Fossil Fuels",0,"Haiti",0,0,0,0,0,0,0]
["Capacity","MW","Other Fossil Fuels",0,"Honduras",0,0,0,0,0,0,0]
["Capacity","MW","Other Fossil Fuels",0,"Jamaica",0,0,0,0,0,0,0]
["Capacity","MW","Other Fossil Fuels",0,"Mexico",0,0,0,0,0,0,0]
["Capacity","MW","Other Fossil Fuels",0,"Nicaragua",0,0,0,0,0,0,0]
["Capacity","MW","Other Fossil Fuels",0,"Panama",0,0,0,0,0,0,0]
["Capacity","MW","Other Fossil Fuels",0,"Paraguay",0,0,0,0,0,0,0]
["Capacity","MW","Other Fossil Fuels",0,"Peru",869.99400000000003,874.93,894.61599999999987,1114.81,1121.23,1121.23,1121.23]
["Capacity","MW","Other Fossil Fuels",0,"Suriname",148,159,146,159,197,190,190]
["Capacity","MW","Other Fossil Fuels",0,"Trinidad & Tobago",0,0,0,0,0,0,0]
["Capacity","MW","Other Fossil Fuels",0,"Uruguay",0,0,0,0,0,0,0]
["Capacity","MW","Other Fossil Fuels",0,"Venezuela",0,0,0,0,0,0,0]
["Capacity","MW","Clean Energy",1,"Argentina",{"$f":"SUMIFS(F$7:F$292, $E$7:$E$292, $E293, $D$7:$D$292, $D293)","v":535.19799999999998},521.29500000000007,522.89919999999995,522.25020000000006,{"$f":"SUMIFS(J$7:J$292, $E$7:$E$292, $E293, $D$7:$D$292, $D293)","v":525.17320000000007},557.97850000000005,557.97850000000005]
["Capacity","MW","Clean Energy",1,"Bahamas",0,0,0,0,0,0,0]
["Capacity","MW","Clean Energy",1,"Barbados",0,0,0,0,0,0,0]
["Capacity","MW","Clean Energy",1,"Belize",32.200000000000003,35.300000000000004,35.300000000000004,66.800000000000011,85.800000000000011,85.800000000000011,86.28]
["Capacity","MW","Clean Energy",1,"Bolivia",307.60000000000002,307.60000000000002,310.40000000000003,310.40000000000003,310.40000000000003,311.30000000000007,311.30000000000007]
["Capacity","MW","Clean Energy",1,"Brazil",4819.4400000000005,5815.8,7588,9167,11244,13862.1,15880.9]
["Capacity","MW","Clean Energy",1,"Chile",606.42425000000003,697.57424999999989,767.38924999999995,871.35225000000003,994.07224999999994,1084.3775000000001,1211.3775000000001]
["Capacity","MW","Clean Energy",1,"Colombia",481.4,506,511.2,525.4,592.09999999999991,606.19999999999993,669.69999999999993]
["Capacity","MW","Clean Energy",1,"Costa Rica",727.70199999999988,761.73619999999994,792.23619999999994,838.28619999999989,838.28619999999989,941.67520000000002,971.63019999999995]
["Capacity","MW","Clean Energy",1,"Dominican Republic",169.3,169.3,172.3,223.15,223.15,253.14999999999998,260.45]
["Capacity","MW","Clean Energy",1,"Ecuador",351.10999999999996,381.46,414.23999999999995,416.87999999999994,411.25999999999988,402.78999999999991,442.00999999999988]
["Capacity","MW","Clean Energy",1,"El Salvador",249,350.9,346.9,346.9,337.7,348.2,348.2]
["Capacity","MW","Clean Energy",1,"Guatemala",479.072,530.27199999999993,530.43200000000002,543.93200000000002,548.47,621.35,636.30999999999995]
["Capacity","MW","Clean Energy",1,"Guyana",0,0,0,15,15,15,15]
["Capacity","MW","Clean Energy",1,"Haiti",0,0,0,0,0,48,55]
["Capacity","MW","Clean Energy",1,"Honduras",210.9,247.6,256.8,263.3,262.8,388.63,397.2399999999999]
["Capacity","MW","Clean Energy",1,"Jamaica",42.4,43.5,43.5,43.5,46.5,64.5,64.5]
["Capacity","MW","Clean Energy",1,"Mexico",{"$f":"SUMIFS(F$7:F$292, $E$7:$E$292, $E310, $D$7:$D$292, $D310)","v":1407.2730000000001},1517.5730000000003,1529.5080000000003,2007.7404000000001,2231.1813982733738,2290.1330000000003,2931.2110000000002]
["Capacity","MW","Clean Energy",1,"Nicaragua",259.52999999999997,260.2,260.2,300.2,323.2,323.2,451.8]
["Capacity","MW","Clean Energy",1,"Panama",106.535,63.744999999999997,74.248999999999995,84.108999999999995,200.03,274.38,279.8]
["Capacity","MW","Clean Energy",1,"Paraguay",0,0,0,0,0,0,0]
["Capacity","MW","Clean Energy",1,"Peru",509.98700000000002,512.15,519.28200000000004,589.42100000000005,585.37600000000009,595.87599999999998,737.87599999999998]
["Capacity","MW","Clean Energy",1,"Suriname",0,0,0,0,0,0,0]
["Capacity","MW","Clean Energy",1,"Trinidad & Tobago",0,0,0,0,0,0,0]
["Capacity","MW","Clean Energy",1,"Uruguay",15.559999999999999,176.56,191.01,207.01,280.16000000000003,295.30284999999998,304.38297999999998]
["Capacity","MW","Clean Energy",1,"Venezuela",0,0,0,26.33,26.33,26.33,32.629999999999995]
["Capacity","MW","All Energy",0,"Argentina",{"$f":"SUMIFS(F$7:F$292, $E$7:$E$292, $E319)","v":28359.222000000002},{"$f":"SUMIFS(G$7:G$292, $E$7:$E$292, $E319)","v":28866.473000000002},30984.0072,32125.227200000001,32876.521199999996,{"$f":"SUMIFS(K$7:K$292, $E$7:$E$292, $E319)","v":33792.163500000002},{"$f":"SUMIFS(L$7:L$292, $E$7:$E$292, $E319)","v":33792.163500000002}]
["Capacity","MW","All Energy",0,"Bahamas",{"$f":"SUMIFS(F$7:F$292, $E$7:$E$292, $E320)","v":0},0,0,450,450,575,575]
["Capacity","MW","All Energy",0,"Barbados",239.1,239.1,239.1,239.1,239.1,239.1,239.1]
["Capacity","MW","All Energy",0,"Belize",69.099999999999994,71.5,72.300000000000011,123,140.6,136.6,137.07999999999998]
["Capacity","MW","All Energy",0,"Bolivia",1465.6,1495,1500.8999999999999,1528.6,1639.1000000000001,1678.1,1678.1]
["Capacity","MW","All Energy",0,"Brazil",96294,100352.00000000001,102948.99999999999,105863,113327,116131.1,123444.7]
["Capacity","MW","All Energy",0,"Chile",11486.665805000001,11901.904184999998,12632.247185,14048.255984999998,15123.253084999998,16480.166565,17553.686565]
["Capacity","MW","All Energy",0,"Colombia",13277.199999999999,13405.7,13456.8,13495.8,13289.499999999998,14407.199999999999,14361.699999999999]
["Capacity","MW","All Energy",0,"Costa Rica",2073.4592499999999,2155.9900000000002,2365.538,2411.5879999999997,2613.9879999999994,2650.4310000000005,2689.5740000000005]
["Capacity",{"$f":"IF(A328=\"Capacity\", \"MW\", \"GWh\")","v":"MW"},"All Energy",0,"Dominican Republic",3394.1,3394.1,3146,3190.6800000000003,3187.5800000000004,3355.2499999999995,3442.5199999999995]
["Capacity","MW","All Energy",0,"Ecuador",3997.7700000000004,4489.05,4556.3600000000006,4838.7000000000007,5142.6900000000005,5231.91,5509.7800000000007]
["Capacity","MW","All Energy",0,"El Salvador",1293.0000000000002,1438.5000000000002,1441.3000000000002,1490.3000000000002,1481.1000000000001,1497.1000000000001,1497.1000000000001]
["Capacity","MW","All Energy",0,"Guatemala",2274.79,2341.7339999999999,2422.1939999999995,2435.6939999999995,2534.2319999999995,2607.1119999999996,2790.0719999999997]
["Capacity","MW","All Energy",0,"Guyana",133.66,131.94999999999999,147.52000000000001,{"$f":"SUMIFS(I$7:I$292, $E$7:$E$292, $E332)","v":175.32},173.4,220.7,173.4]
["Capacity","MW","All Energy",0,"Haiti",0,0,0,0,0,119.2,241]
["Capacity","MW","All Energy",0,"Honduras",1568.8000000000002,1608.5000000000002,1630.1,1635.8,1635.3,1773.63,1782.64]
["Capacity","MW","All Energy",0,"Jamaica",838.56000000000006,839.66,839.66,839.66,854.66,872.66,938.16]
["Capacity","MW","All Energy",0,"Mexico",{"$f":"SUMIFS(F$7:F$292, $E$7:$E$292, $E336)","v":54528.964249999997},58041.76924999999,58518.308249999995,60046.705649999996,61481.930623859305,61431.914250000002,62445.722249999992]
["Capacity","MW","All Energy",0,"Nicaragua",763.05,831.71999999999991,890.95999999999992,981.74999999999989,1072.5899999999999,1108.29,1242.4100000000001]
["Capacity","MW","All Energy",0,"Panama",1508.528,1560.9769999999999,1704.8810000000001,1814.741,1986.6,2239.33,2191.7400000000002]
["Capacity","MW","All Energy",0,"Paraguay",8827,8827,8827,8827,8827,8827,8827]
["Capacity","MW","All Energy",0,"Peru",6276.8770000000004,6648.79,6779.2079999999996,7606.3040000000001,8232.3649999999998,8218.8649999999998,8891.2649999999994]
["Capacity","MW","All Energy",0,"Suriname",337,348,335,348,386,379,379]
["Capacity","MW","All Energy",0,"Trinidad & Tobago",3461.1,3669.1,3669.1,3733.1,3661.1,3635.92,4318.5]
["Capacity","MW","All Energy",0,"Uruguay",2246.81,2406.81,2524.4599999999996,2621.2099999999996,2692.3599999999997,2707.5028499999999,2866.5829800000001]
["Capacity","MW","All Energy",0,"Venezuela",22525,22525,23155,23725.33,24855.33,25706.33,27503.63]
["Generation (GWh)"]
["Generation","GWh","Large Hydro",{"$f":"IF(C346=\"\",\"\",IF(OR(C346=\"Wind\",C346=\"Solar\",C346=\"Geothermal\",C346=\"Small Hydro\",C346=\"Biofuels\",C346=\"Biomass & Waste\"), 1, 0))","v":0},"Argentina",36101.661999999997,29622.295999999998,29615.504279999997,33482.704000000005,32342.088992000001,30543.321349999995,30543.321349999995]
["Generation","GWh","Large Hydro",0,"Bahamas",0,0,0,0,0,0,0]
["Generation","GWh","Large Hydro",0,"Barbados",0,0,0,0,0,0,0]
["Generation","GWh","Large Hydro",0,"Belize",0,0,0,0,0,0,0]
["Generation","GWh","Large Hydro",0,"Bolivia",746.33100000000013,836.7349999999999,1059.6889999999999,1015.6344999999999,890.43200000000002,1001.4,1001.4]
["Generation","GWh","Large Hydro",0,"Brazil",348805,374015,369556,389858,403289,428333,428333]
["Generation","GWh","Large Hydro",0,"Chile",25282.142540000004,19686.131799999999,20558.45032,21422.626969999998,18345.871640000001,17700.749810000001,17016.404280000002]
["Generation","GWh","Large Hydro",0,"Colombia",40288.800000000003,41822.6,43520,38713.800000000003,38088.6,45583,44923]
["Generation","GWh","Large Hydro",0,"Costa Rica",4526.5739685783292,4377.4909431968008,4742.0519667839999,4709.7327741200006,4656.5389769887997,4698.8385558029277,4751.828570938027]
["Generation","GWh","Large Hydro",0,"Dominican Republic",1027.14266407584,1075.88266407584,675.40800000000002,675.40800000000002,522.82408999999996,686.30047153100008,930.82553522600006]
["Generation","GWh","Large Hydro",0,"Ecuador",5969.3060000000005,7567.7190699999992,9596.4829599999994,7500.6021500000006,7234.4702399999996,9283.0708300000006,10506.55999]
["Generation","GWh","Large Hydro",0,"El Salvador",1874.3890999999999,1657.345,1937.7820999999999,1453.5557999999999,1998.5263999999997,1904.5,1904.5]
["Generation","GWh","Large Hydro",0,"Guatemala",2401.6403999999998,2204.2604182895311,2630.3179132611185,2069.4542827862374,2855.2363405588521,3096.4243517192613,3268.30518160776]
["Generation","GWh","Large Hydro",0,"Guyana",0,0,0,0,0,0,0]
["Generation","GWh","Large Hydro",0,"Haiti",0,0,0,0,0,0,0]
["Generation","GWh","Large Hydro",0,"Honduras",1624.8999999999999,1756.9,1772.5,2280.6999999999998,2393.3000000000002,2140.6861090000002,2107.4023550000002]
["Generation","GWh","Large Hydro",0,"Jamaica",0,0,0,0,0,0,0]
["Generation","GWh","Large Hydro",0,"Mexico",29651.337867672744,26434.577188490563,38018.486477127,25760.150172610745,35413.763998127768,34517.187213315963,30015.490644401543]
["Generation","GWh","Large Hydro",0,"Nicaragua",114.98,132.07,231.86,108.59,226.94,210.91,191.69]
["Generation","GWh","Large Hydro",0,"Panama",3027.3,3375.1,3569.6,3495.0000000000005,3395.4900000000002,2939.6,2939.6]
["Generation","GWh","Large Hydro",0,"Paraguay",53661.733,53607.646000000001,55360.944000000003,54841.557999999997,53954.822999999997,57505.563999999998,60118.408000000003]
["Generation","GWh","Large Hydro",0,"Peru",19133.196186999998,17028.403226000002,16469.273109000002,16913.245118999999,17061.428116999999,18979.132259599919,19203.087014171531]
["Generation","GWh","Large Hydro",0,"Suriname",760.78803440000002,851.57315000000006,952.93455000000006,1001.4308000000001,930.63177800000005,1111.067413,1111.067413]
["Generation","GWh","Large Hydro",0,"Trinidad & Tobago",0,0,0,0,0,0,0]
["Generation","GWh","Large Hydro",0,"Uruguay",3593.9535000000001,8068.7449999999999,4500.0330000000004,5174.71,8666.3109999999997,6478.8995000000004,5420.8469999999998]
["Generation","GWh","Large Hydro",0,"Venezuela",81411,83163,86841,85846.674599999998,76660.674599999998,83144.674599999998,81892.674599999998]
["Generation","GWh","Natural Gas",0,"Argentina",21805.156999999999,24759.593000000001,23470.70264,14585.676300000001,20448.8776277,21488.407690999997,21488.407690999997]
["Generation","GWh","Natural Gas",0,"Bahamas",0,0,0,0,0,0,0]
["Generation","GWh","Natural Gas",0,"Barbados",0,0,0,0,0,0,0]
["Generation","GWh","Natural Gas",0,"Belize",0,0,0,0,0,0,0]
["Generation","GWh","Natural Gas",0,"Bolivia",2724.3729999999996,2945.2299999999996,3404.8940000000002,3672.79,4246.942,4068.8,4068.8]
["Generation","GWh","Natural Gas",0,"Brazil",18258,15696,28778,13182,36475,25095,25095]
["Generation","GWh","Natural Gas",0,"Chile",12446.425741039997,6056.7721930200005,3183.6999900799997,5189.6303230000012,11619.48805,14425.362625279999,12736.5009338]
["Generation","GWh","Natural Gas",0,"Colombia",0,0,0,0,0,8089,9276]
["Generation","GWh","Natural Gas",0,"Costa Rica",455.05770307516917,611.61245955436948,398.09559739798311,265.40446103304851,280.69503838113621,490.01526873516195,464.28836647158442]
["Generation","GWh","Natural Gas",0,"Dominican Republic",2232.5970000000002,2232.5970000000002,2232.5970000000002,2232.5970000000002,3343.3323,3380.4854392269999,4160.7072456449987]
["Generation","GWh","Natural Gas",0,"Ecuador",928.71504999999991,998.6176999999999,833.97919999999999,984.17648000000008,1077.0878599999999,778.37000000000012,1318.7703099999999]
["Generation","GWh","Natural Gas",0,"El Salvador",0,0,0,0,0,0,0]
["Generation","GWh","Natural Gas",0,"Guatemala",0,0,0,0,0,0,0]
["Generation","GWh","Natural Gas",0,"Guyana",0,0,0,0,0,0,0]
["Generation","GWh","Natural Gas",0,"Haiti",0,0,0,0,0,0,0]
["Generation","GWh","Natural Gas",0,"Honduras",147,4.0999999999999996,57,55.9,11.9,102.19106500000001,53.481790000000004]
["Generation","GWh","Natural Gas",0,"Jamaica",0,0,0,0,0,0,0]
["Generation","GWh","Natural Gas",0,"Mexico",156365.33093366443,181523.26507641177,185852.23143186336,195524.747383996,198275.61616539705,201136.86091364006,206796.17565558932]
["Generation","GWh","Natural Gas",0,"Nicaragua",0,0,0,0,0,0,0]
["Generation","GWh","Natural Gas",0,"Panama",0,0,0,0,0,0,0]
["Generation",{"$f":"IF(A392=\"Capacity\", \"MW\", \"GWh\")","v":"GWh"},"Natural Gas",0,"Paraguay",0,0,0,0,0,0,0]
["Generation","GWh","Natural Gas",0,"Peru",2279.571864,4395.0210450000004,5842.7257970000001,5833.0956550000001,7644.5873050000009,10448.357752451808,12494.532732835123]
["Generation","GWh","Natural Gas",0,"Suriname",0,0,0,0,0,0,0]
["Generation","GWh","Natural Gas",0,"Trinidad & Tobago",14331.531999999999,15387.151999999998,15442.9496,15120.642,16476.800499999998,16758.969999999998,16004.248]
["Generation","GWh","Natural Gas",0,"Uruguay",0,0,0,0,0,0,0]
["Generation","GWh","Natural Gas",0,"Venezuela",15731,17556,17495,19102,17823,17705,20322]
["Generation","GWh","Oil & Diesel",0,"Argentina",265.77699999999999,308.37700000000001,450.40139999999997,790.52397969999993,1160.9860430000701,1389.9648328999995,1389.9648328999995]
["Generation","GWh","Oil & Diesel",0,"Bahamas",0,0,0,0,0,0,0]
["Generation","GWh","Oil & Diesel",0,"Barbados",1020.4,1049.2,1053.7,1068.4000000000001,1078.3,1044,1024.2852809999999]
["Generation","GWh","Oil & Diesel",0,"Belize",30.136292380000015,36.078027967799954,10.704139186499987,67.540837797074971,12.069187368000001,6.9102292624999961,16.95536581799999]
["Generation","GWh","Oil & Diesel",0,"Bolivia",295.72700000000032,335.16900000000078,213.78799999999978,217.94000000000011,206.80199999999979,95.7,95.7]
["Generation","GWh","Oil & Diesel",0,"Brazil",12866,14738,19565,15672,15431,13440,13440]
["Generation","GWh","Oil & Diesel",0,"Chile",553.30302669990772,12423.5753408,13644.749422896561,10413.850720816883,6931.4470085247713,4479.0283530548013,3935.4306512078165]
["Generation","GWh","Oil & Diesel",0,"Colombia",0,0,0,0,0,110,292]
["Generation","GWh","Oil & Diesel",0,"Costa Rica",85.290927384830937,114.63380033563053,279.6137834620169,186.41438383695146,360.54983018886378,373.32624303483794,365.99463352841559]
["Generation","GWh","Oil & Diesel",0,"Dominican Republic",4810.3100000000004,5239.3100000000004,5934.116,6001.3680000000004,5719.5953753263066,5737.1740578941708,5384.1821843140197]
["Generation","GWh","Oil & Diesel",0,"Ecuador",6253.2038899999998,6048.0923000000003,5455.9207999999999,7138.6695799999989,8490.1363189999993,7265.09,7730.7865800000018]
["Generation","GWh","Oil & Diesel",0,"El Salvador",2359.7658999999999,2616.2665999999999,2228.4802999999997,2527.2932000000001,2088.0087999999996,2142.2199999999998,2142.2199999999998]
["Generation","GWh","Oil & Diesel",{"$f":"IF(C410=\"\",\"\",IF(OR(C410=\"Wind\",C410=\"Solar\",C410=\"Geothermal\",C410=\"Small Hydro\",C410=\"Biofuels\",C410=\"Biomass & Waste\"), 1, 0))","v":0},"Guatemala",2631.605,3181.9332575006233,2521.2058858024525,3527.1652215496706,2290.395309368465,2257.8580947633127,2242.3005870680277]
["Generation","GWh","Oil & Diesel",0,"Guyana",524.96058999999991,559.21352000000002,568.66514000000006,541.53064000000006,627.46473000000003,653.96765000000005,690.25085999999999]
["Generation","GWh","Oil & Diesel",0,"Haiti",0,0,0,0,0,0,0]
["Generation","GWh","Oil & Diesel",0,"Honduras",3760.6,3929.3,3951.5,3443.3999999999996,3441.1,3825.7140516999989,4036.5952564999998]
["Generation","GWh","Oil & Diesel",0,"Jamaica",3821.3860496659995,3863.7357465700002,3915.8706179999999,4015.3435743399996,3932.4736398999994,3893.5656172459999,3877.7645810200002]
["Generation","GWh","Oil & Diesel",0,"Mexico",60561.300889279992,58760.550329239988,47453.745420119994,54214.106784519994,54930.280435519991,62105.336747649992,68082.320652679991]
["Generation","GWh","Oil & Diesel",0,"Nicaragua",2195.63,2278.6799999999998,2166.54,2386.25,2305.77,2524.4699999999998,2274.63]
["Generation","GWh","Oil & Diesel",0,"Panama",2409.5,2725.0999999999995,2437.3000000000002,2995.4000000000005,3294.64,3689.8,3689.8]
["Generation","GWh","Oil & Diesel",0,"Paraguay",0.76600000000000001,0.63400000000000001,0.64200000000000002,0.73399999999999999,0.86699999999999999,0.90400000000000003,3.0720000000000001]
["Generation","GWh","Oil & Diesel",0,"Peru",1928.7559409999997,1126.0774899999983,1919.6190360000012,2262.0197900000003,2068.959780000001,7261.4594992887642,5429.3368918918923]
["Generation","GWh","Oil & Diesel",0,"Suriname",0,0,0,0,0,0,0]
["Generation","GWh","Oil & Diesel",0,"Trinidad & Tobago",17.821000000000002,34.625141999999997,37.811999999999998,92.668999999999997,243.96,102.91800000000001,258.44099999999997]
["Generation","GWh","Oil & Diesel",0,"Uruguay",1970.309,1214.2949999999998,3380.8874469999996,2618.0540899000002,1141.2786114,2566.4556969999999,3689.0337793999993]
["Generation","GWh","Oil & Diesel",0,"Venezuela",16629,14241,16350,19777,22077,21877,25279]
["Generation","GWh","Coal",0,"Argentina",0,0,0,0,0,0,0]
["Generation","GWh","Coal",0,"Bahamas",0,0,0,0,0,0,0]
["Generation","GWh","Coal",0,"Barbados",0,0,0,0,0,0,0]
["Generation","GWh","Coal",0,"Belize",0,0,0,0,0,0,0]
["Generation","GWh","Coal",0,"Bolivia",0,0,0,0,0,0,0]
["Generation","GWh","Coal",0,"Brazil",6730,6011,6497,5416,6991,6486,6486]
["Generation","GWh","Coal",0,"Chile",12095.650530000001,14716.212920000002,15285.559330000002,15735.775449999999,17571.281309999998,21483.550569999999,26857.565063000002]
["Generation","GWh","Coal",0,"Colombia",0,0,0,0,0,1632,2570]
["Generation","GWh","Coal",0,"Costa Rica",0,0,0,0,0,0,0]
["Generation","GWh","Coal",0,"Dominican Republic",1915.09,1915.09,1915.09,1915.09,1854.4807499999999,1836.0863844781402,1947.3753016455678]
["Generation","GWh","Coal",0,"Ecuador",0,0,0,0,0,0,0]
["Generation","GWh","Coal",0,"El Salvador",0,0,0,0,0,0,0]
["Generation","GWh","Coal",0,"Guatemala",1013.53,1037.5176960000001,1047.5580528,636.02396068539997,984.39590144751207,1084.7905687662856,1237.915154378135]
["Generation","GWh","Coal",0,"Guyana",0,0,0,0,0,0,0]
["Generation","GWh","Coal",0,"Haiti",0,0,0,0,0,0,0]
["Generation","GWh","Coal",0,"Honduras",0,0,6.9,45.2,46.5,97.838760759999985,96.422494269999987]
["Generation","GWh","Coal",0,"Jamaica",0,0,0,0,0,0,0]
["Generation","GWh","Coal",0,"Mexico",17931.203310999997,18165.720423999999,17854.140452,16951.209638,16550.075945000001,18223.430521000002,17789.103145000001]
["Generation","GWh","Coal",0,"Nicaragua",0,0,0,0,0,0,0]
["Generation","GWh","Coal",0,"Panama",0,0,0,0,0,0,0]
["Generation","GWh","Coal",0,"Paraguay",0,0,0,0,0,0,0]
["Generation","GWh","Coal",0,"Peru",880.97733900000003,840.136077,909.28338199999996,929.14913100000001,1111.0421980000001,156.41553855208949,108.42008573178202]
["Generation","GWh","Coal",0,"Suriname",0,0,0,0,0,0,0]
["Generation","GWh","Coal",0,"Trinidad & Tobago",0,0,0,0,0,0,0]
["Generation","GWh","Coal",0,"Uruguay",0,0,0,0,0,0,0]
["Generation","GWh","Coal",0,"Venezuela",0,0,0,0,0,0,0]
["Generation","GWh","Small Hydro",1,"Argentina",2054.0680000000002,2025.231,1929.1913399999996,1701.4802999999997,1555.8181430000004,1357.6077399999999,1357.6077399999999]
["Generation","GWh","Small Hydro",1,"Bahamas",0,0,0,0,0,0,0]
["Generation","GWh","Small Hydro",1,"Barbados",0,0,0,0,0,0,0]
["Generation","GWh","Small Hydro",1,"Belize",177.73267000000001,177.40299999999999,204.48727695566078,187.70943199999999,263.14998000000003,244.59941299999997,208.59143799999998]
["Generation","GWh","Small Hydro",1,"Bolivia",1218.9689999999998,1319.5650000000003,1249.9110000000001,1279.9655,1283.2679999999998,1345.3,1345.3]
["Generation","GWh","Small Hydro",1,"Brazil",7327.74,8462.16,11580.72,13691.88,15824.94,17471.82,17471.82]
["Generation",{"$f":"IF(A456=\"Capacity\", \"MW\", \"GWh\")","v":"GWh"},"Small Hydro",1,"Chile",2785.0914299999995,2540.6759099999999,3108.7223428734396,3238.3645420499997,3030.2514224999986,3076.3993315099988,3419.8789899499998]
["Generation","GWh","Small Hydro",1,"Colombia",1920.63,2028.3779999999999,2051.154,2067.36,2272.3440000000001,2848,2658]
["Generation","GWh","Small Hydro",1,"Costa Rica",2042.0133374766715,2333.0077811743322,2572.7695599305598,2477.8866032252427,2591.4205301819752,2417.1692573807104,2453.0794290619733]
["Generation","GWh","Small Hydro",1,"Dominican Republic",673.85733592416,673.85733592416,744.38099999999997,788.88800000000003,911.62865999999997,818.08453401639997,840.7548727267]
["Generation","GWh","Small Hydro",1,"Ecuador",1161.1039999999998,1469.9409300000002,1696.8470400000001,1721.8378499999999,1401.92976,1850.0191699999998,1743.2209600000003]
["Generation","GWh","Small Hydro",1,"El Salvador",140.64580000000001,135.19,161.041,118.0009,146.1507,176.1507,176.1507]
["Generation","GWh","Small Hydro",1,"Guatemala",843.81960000000026,781.33867271022302,997.54047073907714,828.29271614588185,913.18766191595273,997.74287548258519,1166.6190941188777]
["Generation","GWh","Small Hydro",1,"Guyana",0,0,0,0,0,0,0]
["Generation","GWh","Small Hydro",1,"Haiti",0,0,0,0,0,0,0]
["Generation","GWh","Small Hydro",1,"Honduras",445,457.3,517.79999999999995,516.1,687,669.13919296999995,678.99501590000011]
["Generation","GWh","Small Hydro",1,"Jamaica",169.63194499999997,159.82064600000001,158.18,140.07266700000002,151.15170600000002,149.52637003999999,148.447852119]
["Generation","GWh","Small Hydro",1,"Mexico",831.24529803905455,755.30973413552783,1110.8435711710326,910.60665532317967,1646.4189684367161,1617.2426509506788,1606.4294609114327]
["Generation","GWh","Small Hydro",1,"Nicaragua",193.06,174.51,302.58,188.13,276.22000000000003,232.79,236.6]
["Generation","GWh","Small Hydro",1,"Panama",552.6,330.9,402.1,401.79999999999995,794.6,1085.5899999999999,1085.5899999999999]
["Generation","GWh","Small Hydro",1,"Paraguay",0,0,0,0,0,0,0]
["Generation","GWh","Small Hydro",1,"Peru",1934.2011699999994,2480.1388579999998,2530.3621440000002,2950.2913489999996,2950.4612279999997,3561.0603666302181,3806.9127969172969]
["Generation","GWh","Small Hydro",1,"Suriname",0,0,0,0,0,0,0]
["Generation","GWh","Small Hydro",1,"Trinidad & Tobago",0,0,0,0,0,0,0]
["Generation","GWh","Small Hydro",{"$f":"IF(C474=\"\",\"\",IF(OR(C474=\"Wind\",C474=\"Solar\",C474=\"Geothermal\",C474=\"Small Hydro\",C474=\"Biofuels\",C474=\"Biomass & Waste\"), 1, 0))","v":1},"Uruguay",0,0,0,0,0,0,0]
["Generation","GWh","Small Hydro",1,"Venezuela",0,0,0,115.32539999999999,115.32539999999999,115.32539999999999,115.32539999999999]
["Generation","GWh","Wind",1,"Argentina",69.64,61.594000000000001,41.950810000000004,36.848707600000004,25.320591200000003,27.029177830000002,27.029177830000002]
["Generation","GWh","Wind",1,"Bahamas",0,0,0,0,0,0,0]
["Generation","GWh","Wind",1,"Barbados",0,0,0,0,0,0,0]
["Generation","GWh","Wind",1,"Belize",0,0,0,0,0,0,0]
["Generation","GWh","Wind",1,"Bolivia",0,0,0,0,0,0,0]
["Generation","GWh","Wind",1,"Brazil",237,559,1183,1446,2248,2705,2705]
["Generation","GWh","Wind",1,"Chile",0,2.8125799999999996,38.11510599999999,78.206867000000003,332.13580699999983,331.63300500000014,390.12681199999997]
["Generation","GWh","Wind",1,"Colombia",63,49.9,48.355199999999996,48.355199999999996,48.355199999999996,41.27,54.85]
["Generation","GWh","Wind",1,"Costa Rica",272.16262180000001,240.39669513000001,198.07720509999996,309.38656215000003,358.48279583000004,414.3971317700001,522.99199999999996]
["Generation","GWh","Wind",1,"Dominican Republic",0,0,0,0,0,13.745418690000001,94.134360891000028]
["Generation","GWh","Wind",1,"Ecuador",0,0.96,2.6824599999999998,3.2044299999999999,3.43,3.34,2.4]
["Generation","GWh","Wind",1,"El Salvador",0,0,0,0,0,0,0]
["Generation","GWh","Wind",1,"Guatemala",0,0,0,0,0,0,0]
["Generation","GWh","Wind",1,"Guyana",0,0,0,0,0,0,0]
["Generation","GWh","Wind",1,"Haiti",0,0,0,0,0,0,0]
["Generation","GWh","Wind",1,"Honduras",0,0,0,0,0,116.67103881,336.81004478]
["Generation","GWh","Wind",1,"Jamaica",55.4114,51.926349999999999,49.238382000000009,58.565187230000006,53.726278999999998,93.787163335320869,109.70566835000001]
["Generation","GWh","Wind",1,"Mexico",44.802795000000003,248.43227200000001,254.613257,1446.3623980615837,1158.4980265249267,1073.9631742628242,4348.3515656494874]
["Generation","GWh","Wind",1,"Nicaragua",0,0,0,112,163.38999999999999,210.66,264.07]
["Generation","GWh","Wind",1,"Panama",0,0,0,0,0,0,0]
["Generation","GWh","Wind",1,"Paraguay",0,0,0,0,0,0,0]
["Generation","GWh","Wind",1,"Peru",0,0,0,0,0,0,0]
["Generation","GWh","Wind",1,"Suriname",0,0,0,0,0,0,0]
["Generation","GWh","Wind",1,"Trinidad & Tobago",0,0,0,0,0,0,0]
["Generation","GWh","Wind",1,"Uruguay",0,0,0,41.631292099999996,68.004009999999994,111.32516,110.87209]
["Generation","GWh","Wind",1,"Venezuela",0,0,0,0,0,0,0]
["Generation","GWh","Solar",1,"Argentina",9.0999999999999998E-2,0.109,0.14294000000000001,4.1000000000000002E-2,8.588999999999998E-2,1.6135550000000001,1.6135550000000001]
["Generation","GWh","Solar",1,"Bahamas",0,0,0,0,0,0,0]
["Generation","GWh","Solar",1,"Barbados",0,0,0,0,0,0,0]
["Generation","GWh","Solar",1,"Belize",0,0,0,0,0,0,0.25495509999999999]
["Generation","GWh","Solar",1,"Bolivia",0,0,0,0,0,0,0]
["Generation","GWh","Solar",1,"Brazil",0,0,0,0,0,0,0]
["Generation","GWh","Solar",1,"Chile",0,0,0,0,0,0,0.34039000000000008]
["Generation","GWh","Solar",1,"Colombia",0,0,0,0,0,0,0]
["Generation","GWh","Solar",1,"Costa Rica",0,0,0,0,0,0,0.26700000000000002]
["Generation","GWh","Solar",1,"Dominican Republic",0,0,0,0,0,0,0]
["Generation","GWh","Solar",1,"Ecuador",1.4880000000000001E-2,0.02,2.6690000000000002E-2,7.8700000000000003E-3,0,0.01,0.33]
["Generation","GWh","Solar",1,"El Salvador",0,0,0,0,0,0,0]
["Generation","GWh","Solar",1,"Guatemala",0,0,0,0,0,0,0]
["Generation","GWh","Solar",1,"Guyana",0,0,0,0,0,0,0]
["Generation","GWh","Solar",1,"Haiti",0,0,0,0,0,0,0]
["Generation","GWh","Solar",1,"Honduras",0,0,0,0,0,0,0]
["Generation","GWh","Solar",1,"Jamaica",0,0,0,0,0,0,0]
["Generation","GWh","Solar",1,"Mexico",0,0,0,0,0,0,2.0158579999999997]
["Generation",{"$f":"IF(A520=\"Capacity\", \"MW\", \"GWh\")","v":"GWh"},"Solar",1,"Nicaragua",0,0,0,0,0,0,0]
["Generation","GWh","Solar",1,"Panama",0,0,0,0,0,0,0]
["Generation","GWh","Solar",1,"Paraguay",0,0,0,0,0,0,0]
["Generation","GWh","Solar",1,"Peru",0,0,0,0,0,0,59.7]
["Generation","GWh","Solar",1,"Suriname",0,0,0,0,0,0,0]
["Generation","GWh","Solar",1,"Trinidad & Tobago",0,0,0,0,0,0,0]
["Generation","GWh","Solar",1,"Uruguay",0,0,0,0,0,0,0]
["Generation","GWh","Solar",1,"Venezuela",0,0,0,0,0,0,0]
["Generation","GWh","Geothermal",1,"Argentina",0,0,0,0,0,0,0]
["Generation","GWh","Geothermal",1,"Bahamas",0,0,0,0,0,0,0]
["Generation","GWh","Geothermal",1,"Barbados",0,0,0,0,0,0,0]
["Generation","GWh","Geothermal",1,"Belize",0,0,0,0,0,0,0]
["Generation","GWh","Geothermal",1,"Bolivia",0,0,0,0,0,0,0]
["Generation","GWh","Geothermal",1,"Brazil",0,0,0,0,0,0,0]
["Generation","GWh","Geothermal",1,"Chile",0,0,0,0,0,0,0]
["Generation","GWh","Geothermal",1,"Colombia",0,0,0,0,0,0,0]
["Generation","GWh","Geothermal",1,"Costa Rica",1219.5635999636363,1228.69947667,1130.02638288,1172.7318634635626,1176.0161220799998,1286.6247714200001,1403.1969999999999]
["Generation","GWh","Geothermal",1,"Dominican Republic",0,0,0,0,0,0,0]
["Generation","GWh","Geothermal",{"$f":"IF(C538=\"\",\"\",IF(OR(C538=\"Wind\",C538=\"Solar\",C538=\"Geothermal\",C538=\"Small Hydro\",C538=\"Biofuels\",C538=\"Biomass & Waste\"), 1, 0))","v":1},"Ecuador",0,0,0,0,0,0,0]
["Generation","GWh","Geothermal",1,"El Salvador",1140.44,1381.66,1519.14,1523.94,1525.13,1430,1430]
["Generation","GWh","Geothermal",1,"Guatemala",142.53,232.89521710299098,271.65189904213497,279.93954291863497,259.30763693087499,237.07968057763199,245.62771775782198]
["Generation","GWh","Geothermal",1,"Guyana",0,0,0,0,0,0,0]
["Generation","GWh","Geothermal",1,"Haiti",0,0,0,0,0,0,0]
["Generation","GWh","Geothermal",1,"Honduras",0,0,0,0,0,0,0]
["Generation","GWh","Geothermal",1,"Jamaica",0,0,0,0,0,0,0]
["Generation","GWh","Geothermal",1,"Mexico",6685.3866810000009,7403.8540429999994,7055.7596799999983,6739.6659400000008,6618.4601590000002,6506.614329,5816.7243679999992]
["Generation","GWh","Geothermal",1,"Nicaragua",310.99,243.24,322.14,296.52,302.11,272.85000000000002,525]
["Generation","GWh","Geothermal",1,"Panama",0,0,0,0,0,0,0]
["Generation","GWh","Geothermal",1,"Paraguay",0,0,0,0,0,0,0]
["Generation","GWh","Geothermal",1,"Peru",0,0,0,0,0,0,0]
["Generation","GWh","Geothermal",1,"Suriname",0,0,0,0,0,0,0]
["Generation","GWh","Geothermal",1,"Trinidad & Tobago",0,0,0,0,0,0,0]
["Generation","GWh","Geothermal",1,"Uruguay",0,0,0,0,0,0,0]
["Generation","GWh","Geothermal",1,"Venezuela",0,0,0,0,0,0,0]
["Generation","GWh","Biomass & Waste",1,"Argentina",0,0,0,0.26600000000000001,0.16,0.18,0.18]
["Generation","GWh","Biomass & Waste",1,"Bahamas",0,0,0,0,0,0,0]
["Generation","GWh","Biomass & Waste",1,"Barbados",0,0,0,0,0,0,0]
["Generation","GWh","Biomass & Waste",1,"Belize",0,0,0,1.33,48.174999999999997,70.719974999999963,64.506361999999982]
["Generation","GWh","Biomass & Waste",1,"Bolivia",0,14.201000000000001,39.317999999999998,59.67,85.456000000000003,64,64]
["Generation","GWh","Biomass & Waste",1,"Brazil",18687,21675,23339,24447,34880,37223,37223]
["Generation","GWh","Biomass & Waste",1,"Chile",570.18692999999985,744.39233000000013,884.06703999999968,966.30650000000014,841.37641000000008,834.8806800000001,1618.33062]
["Generation","GWh","Biomass & Waste",1,"Colombia",94.1,72.599999999999994,51.9,106.2,222.7,317,347]
["Generation","GWh","Biomass & Waste",1,"Costa Rica",12.232297500000001,12.911433499999999,22.401400120000002,46.726824659999998,65.28369232,67.395174589999996,81.614999999999995]
["Generation","GWh","Biomass & Waste",1,"Dominican Republic",0,0,0,0,0,0,0]
["Generation","GWh","Biomass & Waste",1,"Ecuador",145.55572999999998,218.75,208.33,216.52008000000001,235.56188,278.2,296.35324000000003]
["Generation","GWh","Biomass & Waste",1,"El Salvador",175.86859999999999,220.89240000000001,241.34950000000001,231.98450000000003,282.73389999999995,169.6,169.6]
["Generation","GWh","Biomass & Waste",1,"Guatemala",403.48500000000001,488.31052415647349,447.66825250514523,547.67393952853934,507.91530247700643,472.67514689416214,542.79738793934348]
["Generation","GWh","Biomass & Waste",1,"Guyana",0,0,0,0,0,0,0]
["Generation","GWh","Biomass & Waste",1,"Haiti",0,0,0,0,0,0,0]
["Generation","GWh","Biomass & Waste",1,"Honduras",99.9,114,184.8,156.30000000000001,142.1,174.89840940300002,180.29948425999999]
["Generation","GWh","Biomass & Waste",1,"Jamaica",0,0,0,0,0,0,0]
["Generation","GWh","Biomass & Waste",1,"Mexico",264.78985960547999,264.78985960547999,264.78985960547999,266.14976130467994,267.93293240775597,355.19442469117195,441.52438431063592]
["Generation","GWh","Biomass & Waste",1,"Nicaragua",322.77999999999997,380.67,337.83,362.57,384.64,372.74,420.49]
["Generation","GWh","Biomass & Waste",1,"Panama",0,0,0,0,0,0,0]
["Generation","GWh","Biomass & Waste",1,"Paraguay",0,0,0,0,0,0,0]
["Generation","GWh","Biomass & Waste",1,"Peru",50.530273000000001,58.136980000000001,55.935949999999998,63.835748999999993,250.36338800000001,200.18793103448277,252.41467889908256]
["Generation","GWh","Biomass & Waste",1,"Suriname",0,0,0,0,0,0,0]
["Generation","GWh","Biomass & Waste",1,"Trinidad & Tobago",0,0,0,0,0,0,0]
["Generation","GWh","Biomass & Waste",1,"Uruguay",0,23.189,136.904,189.54778080000003,284.48027000000002,367.63799,505.45562999999999]
["Generation","GWh","Biomass & Waste",1,"Venezuela",0,0,0,0,0,0,0]
["Generation","GWh","Nuclear",0,"Argentina",7690.9089999999997,7217.2280000000001,7331.0950000000003,8161.6689999999999,7170.8850000000002,6370.9040000000005,6370.9040000000005]
["Generation","GWh","Nuclear",0,"Bahamas",0,0,0,0,0,0,0]
["Generation","GWh","Nuclear",0,"Barbados",0,0,0,0,0,0,0]
["Generation","GWh","Nuclear",0,"Belize",0,0,0,0,0,0,0]
["Generation",{"$f":"IF(A584=\"Capacity\", \"MW\", \"GWh\")","v":"GWh"},"Nuclear",0,"Bolivia",0,0,0,0,0,0,0]
["Generation","GWh","Nuclear",0,"Brazil",13754,12350,13969,12957,14523,15659,15659]
["Generation","GWh","Nuclear",0,"Chile",0,0,0,0,0,0,0]
["Generation","GWh","Nuclear",0,"Colombia",0,0,0,0,0,0,0]
["Generation","GWh","Nuclear",0,"Costa Rica",0,0,0,0,0,0,0]
["Generation","GWh","Nuclear",0,"Dominican Republic",0,0,0,0,0,0,0]
["Generation","GWh","Nuclear",0,"Ecuador",0,0,0,0,0,0,0]
["Generation","GWh","Nuclear",0,"El Salvador",0,0,0,0,0,0,0]
["Generation","GWh","Nuclear",0,"Guatemala",0,0,0,0,0,0,0]
["Generation","GWh","Nuclear",0,"Guyana",0,0,0,0,0,0,0]
["Generation","GWh","Nuclear",0,"Haiti",0,0,0,0,0,0,0]
["Generation","GWh","Nuclear",0,"Honduras",0,0,0,0,0,0,0]
["Generation","GWh","Nuclear",0,"Jamaica",0,0,0,0,0,0,0]
["Generation","GWh","Nuclear",0,"Mexico",10866.241104000001,10420.725025,9803.976279999999,10501.078928000001,5879.2406389999996,10089.195025999999,8769.5988160000015]
["Generation","GWh","Nuclear",0,"Nicaragua",0,0,0,0,0,0,0]
["Generation","GWh","Nuclear",0,"Panama",0,0,0,0,0,0,0]
["Generation","GWh","Nuclear",0,"Paraguay",0,0,0,0,0,0,0]
["Generation","GWh","Nuclear",0,"Peru",0,0,0,0,0,0,0]
["Generation","GWh","Nuclear",{"$f":"IF(C602=\"\",\"\",IF(OR(C602=\"Wind\",C602=\"Solar\",C602=\"Geothermal\",C602=\"Small Hydro\",C602=\"Biofuels\",C602=\"Biomass & Waste\"), 1, 0))","v":0},"Suriname",0,0,0,0,0,0,0]
["Generation","GWh","Nuclear",0,"Trinidad & Tobago",0,0,0,0,0,0,0]
["Generation","GWh","Nuclear",0,"Uruguay",0,0,0,0,0,0,0]
["Generation","GWh","Nuclear",0,"Venezuela",0,0,0,0,0,0,0]
["Generation","GWh","Other Fossil Fuels",{"$f":"IF(C606=\"\",\"\",IF(OR(C606=\"Wind\",C606=\"Solar\",C606=\"Geothermal\",C606=\"Small Hydro\",C606=\"Biofuels\",C606=\"Biomass & Waste\"), 1, 0))","v":0},"Argentina",45436.252,49358.694000000003,59066.258880000001,63566.800596000008,63287.637206999992,68306.279532399989,68306.279532399989]
["Generation","GWh","Other Fossil Fuels",0,"Bahamas",0,0,0,0,0,0,0]
["Generation","GWh","Other Fossil Fuels",0,"Barbados",0,0,0,0,0,0,0]
["Generation","GWh","Other Fossil Fuels",0,"Belize",0,0,0,0,0,0,0]
["Generation","GWh","Other Fossil Fuels",0,"Bolivia",107.9,119.69999999999999,264.20000000000005,287.89999999999998,256.8,644.30000000000007,644.30000000000007]
["Generation","GWh","Other Fossil Fuels",0,"Brazil",1655,1412,2043,1932,1899,2818,2818]
["Generation","GWh","Other Fossil Fuels",0,"Chile",0,0,0,0,0,37.856999999999999,25.026140000000002]
["Generation","GWh","Other Fossil Fuels",0,"Colombia",9974,9651,8724,15030,16256,0,0]
["Generation","GWh","Other Fossil Fuels",{"$f":"IF(C614=\"\",\"\",IF(OR(C614=\"Wind\",C614=\"Solar\",C614=\"Geothermal\",C614=\"Small Hydro\",C614=\"Biofuels\",C614=\"Biomass & Waste\"), 1, 0))","v":0},"Costa Rica",0,0,0,0,0,0,0]
["Generation","GWh","Other Fossil Fuels",0,"Dominican Republic",0,0,0,0,0,0,0]
["Generation","GWh","Other Fossil Fuels",0,"Ecuador",356.14533,1032.56,814.26,1004.0339399999999,1067.235821,1085.99,1171.4618599999999]
["Generation","GWh","Other Fossil Fuels",0,"El Salvador",0,0,0,0,0,0,0]
["Generation","GWh","Other Fossil Fuels",0,"Guatemala",0,0,0,0,0,0,0]
["Generation","GWh","Other Fossil Fuels",0,"Guyana",0,0,0,0,0,0,0]
["Generation","GWh","Other Fossil Fuels",0,"Haiti",0,0,0,0,0,0,0]
["Generation","GWh","Other Fossil Fuels",0,"Honduras",0,0,0,0,0,0,0]
["Generation","GWh","Other Fossil Fuels",0,"Jamaica",0,0,0,0,0,0,0]
["Generation","GWh","Other Fossil Fuels",0,"Mexico",0,0,0,0,0,0,0]
["Generation","GWh","Other Fossil Fuels",0,"Nicaragua",0,0,0,0,0,0,0]
["Generation","GWh","Other Fossil Fuels",0,"Panama",0,0,0,0,0,0,0]
["Generation","GWh","Other Fossil Fuels",0,"Paraguay",0,0,0,0,0,0,0]
["Generation","GWh","Other Fossil Fuels",0,"Peru",2211.6120030000002,3555.3294660000001,4256.3603050000002,3872.4842449999996,4361.3619259999987,4227.1788756076403,3532.0482987080045]
["Generation","GWh","Other Fossil Fuels",0,"Suriname",160.19999999999999,57.44,34.950000000000003,173.54,361.7,247.79,247.79]
["Generation","GWh","Other Fossil Fuels",0,"Trinidad & Tobago",0,0,0,0,0,0,0]
["Generation","GWh","Other Fossil Fuels",0,"Uruguay",0,0,0,0,0,0,0]
["Generation","GWh","Other Fossil Fuels",0,"Venezuela",0,0,0,0,0,0,0]
["Generation","GWh","Clean Energy",1,"Argentina",{"$f":"SUMIFS(F$346:F$631, $E$346:$E$631, $E632, $D$346:$D$631, $D632)","v":2123.799},{"$f":"SUMIFS(G$346:G$631, $E$346:$E$631, $E632, $D$346:$D$631, $D632)","v":2086.9339999999997},1971.2850899999996,1738.6360075999996,1581.3846242000006,1386.4304728299999,1386.4304728299999]
["Generation","GWh","Clean Energy",1,"Bahamas",{"$f":"SUMIFS(F$346:F$631, $E$346:$E$631, $E633, $D$346:$D$631, $D633)","v":0},0,0,0,0,0,0]
["Generation","GWh","Clean Energy",1,"Barbados",0,0,0,0,0,0,0]
["Generation","GWh","Clean Energy",1,"Belize",177.73267000000001,177.40299999999999,204.48727695566078,189.03943200000001,311.32498000000004,315.31938799999995,273.35275509999997]
["Generation","GWh","Clean Energy",1,"Bolivia",1218.9689999999998,1333.7660000000003,1289.229,1339.6355000000001,1368.7239999999997,1409.3,1409.3]
["Generation","GWh","Clean Energy",1,"Brazil",26251.739999999998,30696.16,36102.720000000001,39584.879999999997,52952.94,57399.82,57399.82]
["Generation","GWh","Clean Energy",1,"Chile",3355.2783599999993,3287.8808199999999,4030.9044888734397,4282.8779090499993,4203.7636394999981,4242.9130165099987,5428.6768119499993]
["Generation","GWh","Clean Energy",1,"Colombia",2077.73,2150.8779999999997,2151.4092000000001,2221.9151999999999,2543.3991999999998,3206.27,3059.85]
["Generation","GWh","Clean Energy",1,"Costa Rica",3545.9718567403083,3815.015386474332,3923.2745480305598,4006.7318534988053,4191.2031404119753,4185.5863351607113,4461.1504290619732]
["Generation","GWh","Clean Energy",1,"Dominican Republic",673.85733592416,673.85733592416,744.38099999999997,788.88800000000003,911.62865999999997,831.82995270639992,{"$f":"SUMIFS(L$346:L$631, $E$346:$E$631, $E641, $D$346:$D$631, $D641)","v":934.88923361770003}]
["Generation","GWh","Clean Energy",1,"Ecuador",1306.6746099999998,1689.6709300000002,1907.8861899999999,1941.5702299999998,1640.92164,{"$f":"SUMIFS(K$346:K$631, $E$346:$E$631, $E642, $D$346:$D$631, $D642)","v":2131.5691699999998},2042.3042000000005]
["Generation","GWh","Clean Energy",1,"El Salvador",1456.9544000000001,1737.7424000000001,1921.5305000000001,1873.9254000000001,1954.0146,1775.7506999999998,1775.7506999999998]
["Generation","GWh","Clean Energy",1,"Guatemala",1389.8346000000001,1502.5444139696874,1716.8606222863573,1655.9061985930562,1680.410601323834,1707.4977029543793,1955.0441998160431]
["Generation","GWh","Clean Energy",1,"Guyana",0,0,0,0,0,0,0]
["Generation","GWh","Clean Energy",1,"Haiti",0,0,0,0,0,0,0]
["Generation","GWh","Clean Energy",1,"Honduras",544.9,571.29999999999995,702.59999999999991,672.40000000000009,829.1,960.70864118300005,1196.1045449400001]
["Generation",{"$f":"IF(A648=\"Capacity\", \"MW\", \"GWh\")","v":"GWh"},"Clean Energy",1,"Jamaica",225.04334499999999,211.74699600000002,207.41838200000001,198.63785423000002,204.87798500000002,243.31353337532084,258.153520469]
["Generation","GWh","Clean Energy",1,"Mexico",{"$f":"SUMIFS(F$346:F$631, $E$346:$E$631, $E649, $D$346:$D$631, $D649)","v":7826.2246336445351},8672.3859087410074,8686.0063677765102,9362.7847546894427,9691.3100863693981,9553.0145789046746,12215.045636871557]
["Generation","GWh","Clean Energy",1,"Nicaragua",826.82999999999993,798.42000000000007,962.55,959.22,1126.3600000000001,1089.04,1446.16]
["Generation","GWh","Clean Energy",1,"Panama",552.6,330.9,402.1,401.79999999999995,794.6,1085.5899999999999,1085.5899999999999]
["Generation","GWh","Clean Energy",1,"Paraguay",0,0,0,0,0,0,0]
["Generation","GWh","Clean Energy",1,"Peru",1984.7314429999994,2538.275838,2586.2980940000002,3014.1270979999995,3200.8246159999999,3761.2482976647011,4119.0274758163796]
["Generation","GWh","Clean Energy",1,"Suriname",0,0,0,0,0,0,0]
["Generation","GWh","Clean Energy",1,"Trinidad & Tobago",0,0,0,0,0,0,0]
["Generation","GWh","Clean Energy",1,"Uruguay",0,23.189,136.904,231.17907290000002,352.48428000000001,478.96314999999998,616.32772]
["Generation","GWh","Clean Energy",1,"Venezuela",0,0,0,115.32539999999999,115.32539999999999,115.32539999999999,115.32539999999999]
["Generation","GWh","All Energy",0,"Argentina",{"$f":"SUMIFS(F$346:F$631, $E$346:$E$631, $E658)","v":113423.55600000001},{"$f":"SUMIFS(G$346:G$631, $E$346:$E$631, $E658)","v":113353.122},121905.24729,122326.00988330002,125991.85949390006,129485.30787912998,129485.30787912998]
["Generation","GWh","All Energy",0,"Bahamas",{"$f":"SUMIFS(F$346:F$631, $E$346:$E$631, $E659)","v":0},0,0,0,0,0,0]
["Generation","GWh","All Energy",0,"Barbados",1020.4,1049.2,1053.7,1068.4000000000001,1078.3,1044,1024.2852809999999]
["Generation","GWh","All Energy",0,"Belize",207.86896238000003,213.48102796779995,215.19141614216076,256.58026979707495,323.39416736800007,322.22961726249991,290.30812091799993]
["Generation","GWh","All Energy",0,"Bolivia",5093.2999999999993,5570.6,6231.8,6533.9000000000005,6969.7,7219.5,7219.5]
["Generation","GWh","All Energy",0,"Brazil",428319.74,454918.16,476510.71999999997,478601.88,531560.93999999994,549230.82000000007,549230.82000000007]
["Generation","GWh","All Energy",0,"Chile",53732.800197739911,56170.57307382,56703.363551850001,57044.761372866888,58671.851648024764,62369.46137484481,65999.603879957824]
["Generation","GWh","All Energy",0,"Colombia",52340.53,53624.477999999996,54395.409200000002,55965.715199999999,56887.999199999991,58620.27,60120.85]
["Generation","GWh","All Energy",0,"Costa Rica",8612.8944557786381,8918.7525895611325,9343.0358956745604,9168.2834724888053,9488.9869859707742,9747.7664027336377,10043.262000000001]
["Generation","GWh","All Energy",0,"Dominican Republic",10658.997000000001,11136.737000000001,11501.591999999999,11613.351000000001,12351.861175326307,12471.876305836709,13357.979500448288]
["Generation","GWh","All Energy",0,"Ecuador",14814.044879999999,17336.66,18608.529149999998,18569.052380000001,19509.851879999998,20544.090000000004,22769.882940000003]
["Generation","GWh","All Energy",0,"El Salvador",5691.1093999999994,6011.3539999999994,6087.7929000000004,5854.7744000000002,6040.5497999999998,5822.4706999999999,5822.4706999999999]
["Generation","GWh","All Energy",0,"Guatemala",7436.6099999999988,7926.2557857598431,7915.9424741499279,7888.5496636143644,7810.4381526986635,8146.5707182032384,8703.5651228699662]
["Generation","GWh","All Energy",0,"Guyana",524.96058999999991,559.21352000000002,568.66514000000006,541.53064000000006,627.46473000000003,653.96765000000005,690.25085999999999]
["Generation","GWh","All Energy",0,"Haiti",0,0,0,0,0,0,0]
["Generation","GWh","All Energy",0,"Honduras",6077.4,6261.6,6490.5,6497.6,6721.9000000000005,7127.1386276429994,7490.0064407099999]
["Generation","GWh","All Energy",0,"Jamaica",4046.4293946659996,4075.4827425700005,4123.2889999999998,4213.9814285700004,4137.3516248999995,4136.8791506213211,4135.918101489]
["Generation","GWh","All Energy",0,"Mexico",{"$f":"SUMIFS(F$346:F$631, $E$346:$E$631, $E675)","v":283201.63873926178},303977.22395188332,307668.58642888692,312314.07766181615,{"$f":"SUMIFS(J$346:J$631, $E$346:$E$631, $E675)","v":320740.28726941423},335625.02500051068,343667.73455054243]
["Generation","GWh","All Energy",0,"Nicaragua",3137.4399999999996,3209.17,3360.95,3454.0600000000004,3659.07,3824.4199999999992,3912.4800000000005]
["Generation","GWh","All Energy",0,"Panama",5989.4000000000005,6431.0999999999985,6409,6892.2000000000016,7484.7300000000005,7714.99,7714.99]
["Generation","GWh","All Energy",0,"Paraguay",53662.499000000003,53608.28,55361.586000000003,54842.291999999994,53955.689999999995,57506.468000000001,60121.48]
["Generation","GWh","All Energy",0,"Peru",28418.844776999998,29483.243141999999,31983.559722999998,32824.121037999997,35448.203942,44833.792223164921,44886.452499154715]
["Generation","GWh","All Energy",0,"Suriname",920.98803440000006,909.01315,987.8845500000001,1174.9708000000001,1292.331778,1358.857413,1358.857413]
["Generation","GWh","All Energy",0,"Trinidad & Tobago",14349.352999999999,15421.777141999999,15480.7616,15213.311,16720.760499999997,16861.887999999999,16262.689]
["Generation","GWh","All Energy",0,"Uruguay",5564.2624999999998,9306.2289999999994,8017.8244470000009,8023.9431627999993,10160.073891399999,9524.3183470000004,9726.2084993999997]
["Generation","GWh","All Energy",0,"Venezuela",113771,114960,120686,124841,116676,122842,127609]
["Financial Institutions in Clean Energy"]
["Financial Institutions in Clean Energy","Binary","Banks",0,"Argentina",1,1,1,1,1,1,1]
["Financial Institutions in Clean Energy","Binary","Banks",0,"Bahamas",0,0,0,0,0,0,0]
["Financial Institutions in Clean Energy","Binary","Banks",0,"Barbados",0,0,0,0,0,0,0]
["Financial Institutions in Clean Energy","Binary","Banks",0,"Belize",1,1,1,1,1,null,1]
["Financial Institutions in Clean Energy","Binary","Banks",0,"Bolivia",0,0,0,0,0,0,0]
["Financial Institutions in Clean Energy","Binary","Banks",0,"Brazil",1,1,1,1,1,1,1]
["Financial Institutions in Clean Energy","Binary","Banks",0,"Chile",1,1,1,1,1,1,1]
["Financial Institutions in Clean Energy","Binary","Banks",0,"Colombia",1,1,1,1,1,1,1]
["Financial Institutions in Clean Energy","Binary","Banks",0,"Costa Rica",1,1,1,1,1,1,1]
["Financial Institutions in Clean Energy","Binary","Banks",0,"Dominican Republic",1,1,1,1,1,1,1]
["Financial Institutions in Clean Energy","Binary","Banks",0,"Ecuador",0,0,0,0,0,0,0]
["Financial Institutions in Clean Energy","Binary","Banks",0,"El Salvador",1,1,1,1,1,1,1]
["Financial Institutions in Clean Energy","Binary","Banks",0,"Guatemala",1,1,1,1,1,1,1]
["Financial Institutions in Clean Energy","Binary","Banks",0,"Guyana",0,0,0,0,0,0,0]
["Financial Institutions in Clean Energy","Binary","Banks",0,"Haiti",0,0,0,0,0,0,0]
["Financial Institutions in Clean Energy","Binary","Banks",0,"Honduras",1,1,1,1,1,1,1]
["Financial Institutions in Clean Energy","Binary","Banks",0,"Jamaica",1,1,1,1,1,1,1]
["Financial Institutions in Clean Energy","Binary","Banks",0,"Mexico",1,1,1,1,1,1,1]
["Financial Institutions in Clean Energy","Binary","Banks",0,"Nicaragua",1,1,1,1,1,1,1]
["Financial Institutions in Clean Energy","Binary","Banks",0,"Panama",1,1,1,1,1,1,1]
["Financial Institutions in Clean Energy","Binary","Banks",{"$f":"IF(C705=\"\",\"\",IF(OR(C705=\"Wind\",C705=\"Solar\",C705=\"Geothermal\",C705=\"Small Hydro\",C705=\"Biofuels\",C705=\"Biomass & Waste\"), 1, 0))","v":0},"Paraguay",0,0,0,0,0,1,0]
["Financial Institutions in Clean Energy","Binary","Banks",0,"Peru",1,1,1,1,1,1,1]
["Financial Institutions in Clean Energy","Binary","Banks",0,"Suriname",0,0,0,0,0,0,0]
["Financial Institutions in Clean Energy","Binary","Banks",0,"Trinidad & Tobago",1,1,1,1,1,1,1]
["Financial Institutions in Clean Energy","Binary","Banks",0,"Uruguay",1,1,1,1,1,1,1]
["Financial Institutions in Clean Energy","Binary","Banks",0,"Venezuela",1,1,1,1,1,1,1]
["Financial Institutions in Clean Energy","Binary","Private Equity/Venture Capital",0,"Argentina",1,1,1,1,1,0,1]
["Financial Institutions in Clean Energy","Binary","Private Equity/Venture Capital",0,"Bahamas",0,0,0,0,0,0,0]
["Financial Institutions in Clean Energy","Binary","Private Equity/Venture Capital",0,"Barbados",0,0,0,0,0,0,0]
["Financial Institutions in Clean Energy","Binary","Private Equity/Venture Capital",0,"Belize",0,0,0,0,0,null,0]
["Financial Institutions in Clean Energy","Binary","Private Equity/Venture Capital",0,"Bolivia",0,0,0,0,0,0,0]
["Financial Institutions in Clean Energy","Binary","Private Equity/Venture Capital",0,"Brazil",1,1,1,1,1,1,1]
["Financial Institutions in Clean Energy","Binary","Private Equity/Venture Capital",0,"Chile",1,1,1,1,1,1,1]
["Financial Institutions in Clean Energy","Binary","Private Equity/Venture Capital",0,"Colombia",0,0,0,0,0,0,0]
["Financial Institutions in Clean Energy","Binary","Private Equity/Venture Capital",0,"Costa Rica",0,0,0,0,0,1,0]
["Financial Institutions in Clean Energy","Binary","Private Equity/Venture Capital",0,"Dominican Republic",0,0,0,0,0,0,0]
["Financial Institutions in Clean Energy","Binary","Private Equity/Venture Capital",0,"Ecuador",0,0,0,0,0,0,0]
["Financial Institutions in Clean Energy","Binary","Private Equity/Venture Capital",0,"El Salvador",0,0,0,0,0,0,0]
["Financial Institutions in Clean Energy","Binary","Private Equity/Venture Capital",0,"Guatemala",0,0,0,0,0,0,0]
["Financial Institutions in Clean Energy","Binary","Private Equity/Venture Capital",0,"Guyana",0,0,0,0,0,0,0]
["Financial Institutions in Clean Energy","Binary","Private Equity/Venture Capital",0,"Haiti",0,0,0,0,0,0,0]
["Financial Institutions in Clean Energy","Binary","Private Equity/Venture Capital",0,"Honduras",0,0,0,0,0,0,0]
["Financial Institutions in Clean Energy","Binary","Private Equity/Venture Capital",0,"Jamaica",0,0,0,0,0,0,0]
["Financial Institutions in Clean Energy","Binary","Private Equity/Venture Capital",0,"Mexico",0,0,0,0,0,0,0]
["Financial Institutions in Clean Energy","Binary","Private Equity/Venture Capital",0,"Nicaragua",0,0,0,0,0,0,0]
["Financial Institutions in Clean Energy","Binary","Private Equity/Venture Capital",0,"Panama",1,1,1,1,1,1,1]
["Financial Institutions in Clean Energy","Binary","Private Equity/Venture Capital",0,"Paraguay",0,0,0,0,0,0,0]
["Financial Institutions in Clean Energy","Binary","Private Equity/Venture Capital",0,"Peru",0,0,0,0,0,0,0]
["Financial Institutions in Clean Energy","Binary","Private Equity/Venture Capital",0,"Suriname",0,0,0,0,0,0,0]
["Financial Institutions in Clean Energy","Binary","Private Equity/Venture Capital",0,"Trinidad & Tobago",0,0,0,0,0,0,0]
["Financial Institutions in Clean Energy","Binary","Private Equity/Venture Capital",0,"Uruguay",0,0,0,0,0,1,0]
["Financial Institutions in Clean Energy","Binary","Private Equity/Venture Capital",0,"Venezuela",0,0,0,0,0,0,0]
["Financial Institutions in Clean Energy","Binary","Corporate Finance",0,"Argentina",0,0,0,0,0,0,0]
["Financial Institutions in Clean Energy","Binary","Corporate Finance",0,"Bahamas",0,0,0,0,0,0,0]
["Financial Institutions in Clean Energy","Binary","Corporate Finance",0,"Barbados",0,0,0,0,0,0,0]
["Financial Institutions in Clean Energy","Binary","Corporate Finance",0,"Belize",0,0,0,0,0,null,0]
["Financial Institutions in Clean Energy","Binary","Corporate Finance",0,"Bolivia",0,0,0,0,0,0,0]
["Financial Institutions in Clean Energy","Binary","Corporate Finance",0,"Brazil",1,1,1,1,1,1,1]
["Financial Institutions in Clean Energy","Binary","Corporate Finance",0,"Chile",0,0,0,0,0,0,0]
["Financial Institutions in Clean Energy","Binary","Corporate Finance",0,"Colombia",0,0,0,0,0,1,0]
["Financial Institutions in Clean Energy","Binary","Corporate Finance",0,"Costa Rica",0,0,0,0,0,0,0]
["Financial Institutions in Clean Energy","Binary","Corporate Finance",0,"Dominican Republic",0,0,0,0,0,0,0]
["Financial Institutions in Clean Energy","Binary","Corporate Finance",0,"Ecuador",0,0,0,0,0,0,0]
["Financial Institutions in Clean Energy","Binary","Corporate Finance",0,"El Salvador",0,0,0,0,0,0,0]
["Financial Institutions in Clean Energy","Binary","Corporate Finance",0,"Guatemala",0,0,0,0,0,0,0]
["Financial Institutions in Clean Energy","Binary","Corporate Finance",0,"Guyana",0,0,0,0,0,0,0]
["Financial Institutions in Clean Energy","Binary","Corporate Finance",0,"Haiti",0,0,0,0,0,0,0]
["Financial Institutions in Clean Energy","Binary","Corporate Finance",0,"Honduras",0,0,0,0,0,0,0]
["Financial Institutions in Clean Energy","Binary","Corporate Finance",0,"Jamaica",0,0,0,0,0,0,0]
["Financial Institutions in Clean Energy","Binary","Corporate Finance",0,"Mexico",0,0,0,0,0,0,0]
["Financial Institutions in Clean Energy","Binary","Corporate Finance",0,"Nicaragua",0,0,0,0,0,0,0]
["Financial Institutions in Clean Energy","Binary","Corporate Finance",0,"Panama",0,0,0,0,0,0,0]
["Financial Institutions in Clean Energy","Binary","Corporate Finance",0,"Paraguay",0,0,0,0,0,0,0]
["Financial Institutions in Clean Energy","Binary","Corporate Finance",0,"Peru",0,0,0,0,0,1,0]
["Financial Institutions in Clean Energy","Binary","Corporate Finance",0,"Suriname",0,0,0,0,0,0,0]
["Financial Institutions in Clean Energy","Binary","Corporate Finance",0,"Trinidad & Tobago",0,0,0,0,0,0,0]
["Financial Institutions in Clean Energy","Binary","Corporate Finance",0,"Uruguay",0,0,0,0,0,0,0]
["Financial Institutions in Clean Energy","Binary","Corporate Finance",0,"Venezuela",1,1,1,1,1,0,1]
["Financial Institutions in Clean Energy","Binary","Funds",0,"Argentina",1,1,1,1,1,0,1]
["Financial Institutions in Clean Energy","Binary","Funds",0,"Bahamas",0,0,0,0,0,0,0]
["Financial Institutions in Clean Energy","Binary","Funds",0,"Barbados",0,0,0,0,0,0,0]
["Financial Institutions in Clean Energy","Binary","Funds",0,"Belize",0,0,0,0,0,null,0]
["Financial Institutions in Clean Energy","Binary","Funds",0,"Bolivia",0,0,0,0,0,0,0]
["Financial Institutions in Clean Energy","Binary","Funds",0,"Brazil",1,1,1,1,1,1,1]
["Financial Institutions in Clean Energy","Binary","Funds",{"$f":"IF(C769=\"\",\"\",IF(OR(C769=\"Wind\",C769=\"Solar\",C769=\"Geothermal\",C769=\"Small Hydro\",C769=\"Biofuels\",C769=\"Biomass & Waste\"), 1, 0))","v":0},"Chile",1,1,1,1,1,1,1]
["Financial Institutions in Clean Energy","Binary","Funds",0,"Colombia",0,0,0,0,0,0,0]
["Financial Institutions in Clean Energy","Binary","Funds",0,"Costa Rica",0,0,0,0,0,0,0]
["Financial Institutions in Clean Energy","Binary","Funds",0,"Dominican Republic",0,0,0,0,0,0,0]
["Financial Institutions in Clean Energy","Binary","Funds",0,"Ecuador",0,0,0,0,0,0,0]
["Financial Institutions in Clean Energy","Binary","Funds",0,"El Salvador",0,0,0,0,0,0,0]
["Financial Institutions in Clean Energy","Binary","Funds",0,"Guatemala",0,0,0,0,0,0,0]
["Financial Institutions in Clean Energy","Binary","Funds",0,"Guyana",0,0,0,0,0,0,0]
["Financial Institutions in Clean Energy","Binary","Funds",0,"Haiti",0,0,0,0,0,0,0]
["Financial Institutions in Clean Energy","Binary","Funds",0,"Honduras",0,0,0,0,0,0,0]
["Financial Institutions in Clean Energy","Binary","Funds",0,"Jamaica",0,0,0,0,0,0,0]
["Financial Institutions in Clean Energy","Binary","Funds",0,"Mexico",0,0,0,0,0,1,0]
["Financial Institutions in Clean Energy","Binary","Funds",0,"Nicaragua",0,0,0,0,0,0,0]
["Financial Institutions in Clean Energy","Binary","Funds",0,"Panama",0,0,0,0,0,0,0]
["Financial Institutions in Clean Energy","Binary","Funds",0,"Paraguay",0,0,0,0,0,0,0]
["Financial Institutions in Clean Energy","Binary","Funds",0,"Peru",0,0,0,0,0,0,0]
["Financial Institutions in Clean Energy","Binary","Funds",0,"Suriname",0,0,0,0,0,0,0]
["Financial Institutions in Clean Energy","Binary","Funds",0,"Trinidad & Tobago",0,0,0,0,0,0,0]
["Financial Institutions in Clean Energy","Binary","Funds",0,"Uruguay",0,0,0,0,0,0,0]
["Financial Institutions in Clean Energy","Binary","Funds",0,"Venezuela",1,1,1,1,1,0,1]
["Financial Institutions in Clean Energy","Count","Clean Energy",0,"Argentina",{"$f":"F685+F711+F737+F763","v":3},3,3,3,3,{"$f":"K685+K711+K737+K763","v":1},3]
["Financial Institutions in Clean Energy","Count","Clean Energy",0,"Bahamas",0,0,0,0,0,{"$f":"K686+K712+K738+K764","v":0},0]
["Financial Institutions in Clean Energy","Count","Clean Energy",0,"Barbados",0,0,0,0,0,{"$f":"K687+K713+K739+K765","v":0},0]
["Financial Institutions in Clean Energy","Count","Clean Energy",0,"Belize",{"$f":"F688+F714+F740+F766","v":1},1,1,1,1,{"$f":"K688+K714+K740+K766","v":0},1]
["Financial Institutions in Clean Energy","Count","Clean Energy",0,"Bolivia",{"$f":"F689+F715+F741+F767","v":0},0,0,0,0,{"$f":"K689+K715+K741+K767","v":0},0]
["Financial Institutions in Clean Energy","Count","Clean Energy",0,"Brazil",{"$f":"F690+F716+F742+F768","v":4},4,4,4,4,{"$f":"K690+K716+K742+K768","v":4},4]
["Financial Institutions in Clean Energy","Count","Clean Energy",0,"Chile",{"$f":"F691+F717+F743+F769","v":3},3,3,3,3,{"$f":"K691+K717+K743+K769","v":3},3]
["Financial Institutions in Clean Energy","Count","Clean Energy",0,"Colombia",{"$f":"F692+F718+F744+F770","v":1},1,1,1,1,{"$f":"K692+K718+K744+K770","v":2},1]
["Financial Institutions in Clean Energy","Count","Clean Energy",0,"Costa Rica",{"$f":"F693+F719+F745+F771","v":1},1,1,1,1,{"$f":"K693+K719+K745+K771","v":2},1]
["Financial Institutions in Clean Energy","Count","Clean Energy",0,"Dominican Republic",{"$f":"F694+F720+F746+F772","v":1},1,1,1,1,{"$f":"K694+K720+K746+K772","v":1},1]
["Financial Institutions in Clean Energy","Count","Clean Energy",0,"Ecuador",{"$f":"F695+F721+F747+F773","v":0},0,0,0,0,{"$f":"K695+K721+K747+K773","v":0},0]
["Financial Institutions in Clean Energy","Count","Clean Energy",0,"El Salvador",{"$f":"F696+F722+F748+F774","v":1},1,1,1,1,{"$f":"K696+K722+K748+K774","v":1},1]
["Financial Institutions in Clean Energy","Count","Clean Energy",0,"Guatemala",{"$f":"F697+F723+F749+F775","v":1},1,1,1,1,{"$f":"K697+K723+K749+K775","v":1},1]
["Financial Institutions in Clean Energy","Count","Clean Energy",0,"Guyana",{"$f":"F698+F724+F750+F776","v":0},0,0,0,0,{"$f":"K698+K724+K750+K776","v":0},0]
["Financial Institutions in Clean Energy","Count","Clean Energy",0,"Haiti",{"$f":"F699+F725+F751+F777","v":0},0,0,0,0,{"$f":"K699+K725+K751+K777","v":0},0]
["Financial Institutions in Clean Energy","Count","Clean Energy",0,"Honduras",{"$f":"F700+F726+F752+F778","v":1},1,1,1,1,{"$f":"K700+K726+K752+K778","v":1},1]
["Financial Institutions in Clean Energy","Count","Clean Energy",0,"Jamaica",{"$f":"F701+F727+F753+F779","v":1},1,1,1,1,{"$f":"K701+K727+K753+K779","v":1},1]
["Financial Institutions in Clean Energy","Count","Clean Energy",0,"Mexico",{"$f":"F702+F728+F754+F780","v":1},1,1,1,1,{"$f":"K702+K728+K754+K780","v":2},1]
["Financial Institutions in Clean Energy","Count","Clean Energy",0,"Nicaragua",{"$f":"F703+F729+F755+F781","v":1},1,1,1,1,{"$f":"K703+K729+K755+K781","v":1},1]
["Financial Institutions in Clean Energy","Count","Clean Energy",0,"Panama",{"$f":"F704+F730+F756+F782","v":2},2,2,2,2,{"$f":"K704+K730+K756+K782","v":2},2]
["Financial Institutions in Clean Energy","Count","Clean Energy",0,"Paraguay",{"$f":"F705+F731+F757+F783","v":0},0,0,0,0,{"$f":"K705+K731+K757+K783","v":1},0]
["Financial Institutions in Clean Energy","Count","Clean Energy",0,"Peru",{"$f":"F706+F732+F758+F784","v":1},1,1,1,1,{"$f":"K706+K732+K758+K784","v":2},1]
["Financial Institutions in Clean Energy","Count","Clean Energy",0,"Suriname",{"$f":"F707+F733+F759+F785","v":0},0,0,0,0,{"$f":"K707+K733+K759+K785","v":0},0]
["Financial Institutions in Clean Energy","Count","Clean Energy",0,"Trinidad & Tobago",{"$f":"F708+F734+F760+F786","v":1},1,1,1,1,{"$f":"K708+K734+K760+K786","v":1},1]
["Financial Institutions in Clean Energy","Count","Clean Energy",0,"Uruguay",{"$f":"F709+F735+F761+F787","v":1},1,1,1,1,{"$f":"K709+K735+K761+K787","v":2},1]
["Financial Institutions in Clean Energy","Count","Clean Energy",0,"Venezuela",{"$f":"F710+F736+F762+F788","v":3},3,3,3,3,{"$f":"K710+K736+K762+K788","v":1},3]
["Clean Energy Service Providers"]
["Clean Energy Service Providers","Binary","Ancillary products & services - Consultancy - O&M",1,"Argentina",{"$f":"G816","v":0},{"$f":"H816","v":0},{"$f":"I816","v":0},{"$f":"J816","v":0},{"$f":"K816","v":0},0,0]
["Clean Energy Service Providers","Binary","Ancillary products & services - Consultancy - O&M",1,"Bahamas",{"$f":"G817","v":0},0,0,0,0,0,0]
["Clean Energy Service Providers","Binary","Ancillary products & services - Consultancy - O&M",1,"Barbados",0,0,0,0,0,0,0]
["Clean Energy Service Providers","Binary","Ancillary products & services - Consultancy - O&M",1,"Belize",0,0,0,0,0,0,0]
["Clean Energy Service Providers","Binary","Ancillary products & services - Consultancy - O&M",1,"Bolivia",0,0,0,0,0,0,0]
["Clean Energy Service Providers","Binary","Ancillary products & services - Consultancy - O&M",1,"Brazil",0,0,0,0,0,0,1]
["Clean Energy Service Providers","Binary","Ancillary products & services - Consultancy - O&M",1,"Chile",0,0,0,0,0,0,1]
["Clean Energy Service Providers","Binary","Ancillary products & services - Consultancy - O&M",1,"Colombia",0,0,0,0,0,0,0]
["Clean Energy Service Providers","Binary","Ancillary products & services - Consultancy - O&M",1,"Costa Rica",0,0,0,0,0,0,0]
["Clean Energy Service Providers","Binary","Ancillary products & services - Consultancy - O&M",1,"Dominican Republic",0,0,0,0,0,0,0]
["Clean Energy Service Providers","Binary","Ancillary products & services - Consultancy - O&M",1,"Ecuador",0,0,0,0,0,0,0]
["Clean Energy Service Providers","Binary","Ancillary products & services - Consultancy - O&M",1,"El Salvador",0,0,0,0,0,0,0]
["Clean Energy Service Providers","Binary","Ancillary products & services - Consultancy - O&M",1,"Guatemala",0,0,0,0,0,0,0]
["Clean Energy Service Providers","Binary","Ancillary products & services - Consultancy - O&M",1,"Guyana",0,0,0,0,0,0,0]
["Clean Energy Service Providers","Binary","Ancillary products & services - Consultancy - O&M",1,"Haiti",0,0,0,0,0,0,0]
["Clean Energy Service Providers","Binary","Ancillary products & services - Consultancy - O&M",1,"Honduras",0,0,0,0,0,0,0]
["Clean Energy Service Providers","Binary","Ancillary products & services - Consultancy - O&M",1,"Jamaica",0,0,0,0,0,0,0]
["Clean Energy Service Providers","Binary","Ancillary products & services - Consultancy - O&M",1,"Mexico",0,0,0,0,0,0,1]
["Clean Energy Service Providers","Binary","Ancillary products & services - Consultancy - O&M",1,"Nicaragua",0,0,0,0,0,0,0]
["Clean Energy Service Providers","Binary","Ancillary products & services - Consultancy - O&M",1,"Panama",0,0,0,0,0,0,0]
["Clean Energy Service Providers","Binary","Ancillary products & services - Consultancy - O&M",1,"Paraguay",0,0,0,0,0,0,0]
["Clean Energy Service Providers","Binary","Ancillary products & services - Consultancy - O&M",1,"Peru",0,0,0,0,0,0,0]
["Clean Energy Service Providers","Binary","Ancillary products & services - Consultancy - O&M",1,"Suriname",0,0,0,0,0,0,0]
["Clean Energy Service Providers","Binary","Ancillary products & services - Consultancy - O&M",1,"Trinidad & Tobago",0,0,0,0,0,0,0]
["Clean Energy Service Providers","Binary","Ancillary products & services - Consultancy - O&M",1,"Uruguay",0,0,0,0,0,0,0]
["Clean Energy Service Providers","Binary","Ancillary products & services - Consultancy - O&M",1,"Venezuela",0,0,0,0,0,0,0]
["Clean Energy Service Providers","Binary","Ancillary products & services - Consultancy - technical",1,"Argentina",1,1,1,1,1,1,1]
["Clean Energy Service Providers","Binary","Ancillary products & services - Consultancy - technical",1,"Bahamas",1,1,1,1,1,1,1]
["Clean Energy Service Providers","Binary","Ancillary products & services - Consultancy - technical",1,"Barbados",1,1,1,1,1,1,1]
["Clean Energy Service Providers","Binary","Ancillary products & services - Consultancy - technical",1,"Belize",0,0,0,0,0,0,1]
["Clean Energy Service Providers","Binary","Ancillary products & services - Consultancy - technical",1,"Bolivia",0,0,0,0,0,0,0]
["Clean Energy Service Providers","Binary","Ancillary products & services - Consultancy - technical",1,"Brazil",1,1,1,1,1,1,1]
["Clean Energy Service Providers","Binary","Ancillary products & services - Consultancy - technical",1,"Chile",1,1,1,1,1,1,1]
["Clean Energy Service Providers","Binary","Ancillary products & services - Consultancy - technical",1,"Colombia",1,1,1,1,1,1,1]
["Clean Energy Service Providers","Binary","Ancillary products & services - Consultancy - technical",1,"Costa Rica",1,1,1,1,1,1,1]
["Clean Energy Service Providers","Binary","Ancillary products & services - Consultancy - technical",1,"Dominican Republic",0,0,0,0,0,0,1]
["Clean Energy Service Providers","Binary","Ancillary products & services - Consultancy - technical",1,"Ecuador",0,0,0,0,0,0,1]
["Clean Energy Service Providers","Binary","Ancillary products & services - Consultancy - technical",1,"El Salvador",0,0,0,0,0,0,0]
["Clean Energy Service Providers","Binary","Ancillary products & services - Consultancy - technical",1,"Guatemala",0,0,0,0,0,0,1]
["Clean Energy Service Providers","Binary","Ancillary products & services - Consultancy - technical",1,"Guyana",0,0,0,0,0,0,0]
["Clean Energy Service Providers","Binary","Ancillary products & services - Consultancy - technical",1,"Haiti",0,0,0,0,0,0,0]
["Clean Energy Service Providers","Binary","Ancillary products & services - Consultancy - technical",1,"Honduras",0,0,0,0,0,0,1]
["Clean Energy Service Providers","Binary","Ancillary products & services - Consultancy - technical",1,"Jamaica",1,1,1,1,1,1,1]
["Clean Energy Service Providers","Binary","Ancillary products & services - Consultancy - technical",1,"Mexico",1,1,1,1,1,1,1]
["Clean Energy Service Providers","Binary","Ancillary products & services - Consultancy - technical",1,"Nicaragua",0,0,0,0,0,0,0]
["Clean Energy Service Providers","Binary","Ancillary products & services - Consultancy - technical",1,"Panama",1,1,1,1,1,1,1]
["Clean Energy Service Providers","Binary","Ancillary products & services - Consultancy - technical",1,"Paraguay",0,0,0,0,0,0,0]
["Clean Energy Service Providers","Binary","Ancillary products & services - Consultancy - technical",1,"Peru",1,1,1,1,1,1,1]
["Clean Energy Service Providers","Binary","Ancillary products & services - Consultancy - technical",1,"Suriname",0,0,0,0,{"$f":"K864","v":0},0,0]
["Clean Energy Service Providers","Binary","Ancillary products & services - Consultancy - technical",1,"Trinidad & Tobago",0,{"$f":"H865","v":0},0,0,0,0,1]
["Clean Energy Service Providers","Binary","Ancillary products & services - Consultancy - technical",1,"Uruguay",1,{"$f":"H866","v":1},1,1,1,1,1]
["Clean Energy Service Providers","Binary","Ancillary products & services - Consultancy - technical",1,"Venezuela",0,{"$f":"H867","v":0},0,0,0,0,0]
["Clean Energy Service Providers","Binary","Ancillary products & services - Contract maintenance",1,"Argentina",0,{"$f":"H868","v":0},0,0,0,0,0]
["Clean Energy Service Providers","Binary","Ancillary products & services - Contract maintenance",1,"Bahamas",0,{"$f":"H869","v":0},0,0,0,0,0]
["Clean Energy Service Providers","Binary","Ancillary products & services - Contract maintenance",1,"Barbados",0,{"$f":"H870","v":0},0,0,0,0,0]
["Clean Energy Service Providers","Binary","Ancillary products & services - Contract maintenance",1,"Belize",0,{"$f":"H871","v":0},0,0,0,0,0]
["Clean Energy Service Providers","Binary","Ancillary products & services - Contract maintenance",1,"Bolivia",0,{"$f":"H872","v":0},0,0,0,0,0]
["Clean Energy Service Providers","Binary","Ancillary products & services - Contract maintenance",1,"Brazil",1,{"$f":"H873","v":1},1,1,1,1,1]
["Clean Energy Service Providers","Binary","Ancillary products & services - Contract maintenance",1,"Chile",1,{"$f":"H874","v":1},1,1,1,1,1]
["Clean Energy Service Providers","Binary","Ancillary products & services - Contract maintenance",1,"Colombia",0,{"$f":"H875","v":0},0,0,0,0,0]
["Clean Energy Service Providers","Binary","Ancillary products & services - Contract maintenance",1,"Costa Rica",0,{"$f":"H876","v":0},0,0,0,0,0]
["Clean Energy Service Providers","Binary","Ancillary products & services - Contract maintenance",1,"Dominican Republic",0,{"$f":"H877","v":0},0,0,0,0,0]
["Clean Energy Service Providers","Binary","Ancillary products & services - Contract maintenance",1,"Ecuador",0,{"$f":"H878","v":0},0,0,0,0,0]
["Clean Energy Service Providers","Binary","Ancillary products & services - Contract maintenance",1,"El Salvador",0,{"$f":"H879","v":0},0,0,0,0,0]
["Clean Energy Service Providers","Binary","Ancillary products & services - Contract maintenance",1,"Guatemala",0,{"$f":"H880","v":0},0,0,0,0,0]
["Clean Energy Service Providers","Binary","Ancillary products & services - Contract maintenance",1,"Guyana",{"$f":"G881","v":0},0,0,0,0,0,0]
["Clean Energy Service Providers","Binary","Ancillary products & services - Contract maintenance",1,"Haiti",0,0,0,0,0,0,0]
["Clean Energy Service Providers","Binary","Ancillary products & services - Contract maintenance",1,"Honduras",0,0,0,0,0,0,0]
["Clean Energy Service Providers","Binary","Ancillary products & services - Contract maintenance",1,"Jamaica",0,0,0,0,0,0,0]
["Clean Energy Service Providers","Binary","Ancillary products & services - Contract maintenance",1,"Mexico",1,1,1,1,1,1,1]
["Clean Energy Service Providers","Binary","Ancillary products & services - Contract maintenance",1,"Nicaragua",0,0,0,0,0,0,0]
["Clean Energy Service Providers","Binary","Ancillary products & services - Contract maintenance",1,"Panama",0,0,0,0,0,0,0]
["Clean Energy Service Providers","Binary","Ancillary products & services - Contract maintenance",1,"Paraguay",0,0,0,0,0,0,0]
["Clean Energy Service Providers","Binary","Ancillary products & services - Contract maintenance",1,"Peru",0,0,0,0,0,0,0]
["Clean Energy Service Providers","Binary","Ancillary products & services - Contract maintenance",1,"Suriname",0,0,0,0,0,0,0]
["Clean Energy Service Providers","Binary","Ancillary products & services - Contract maintenance",1,"Trinidad & Tobago",0,0,0,0,0,0,1]
["Clean Energy Service Providers","Binary","Ancillary products & services - Contract maintenance",1,"Uruguay",0,0,0,0,0,0,0]
["Clean Energy Service Providers","Binary","Ancillary products & services - Contract maintenance",1,"Venezuela",0,0,0,0,0,0,0]
["Clean Energy Service Providers","Binary","Ancillary products & services - Contract manufacturing",1,"Argentina",0,0,0,0,0,0,0]
["Clean Energy Service Providers","Binary","Ancillary products & services - Contract manufacturing",1,"Bahamas",0,0,0,0,0,0,0]
["Clean Energy Service Providers","Binary","Ancillary products & services - Contract manufacturing",1,"Barbados",0,0,0,0,0,0,0]
["Clean Energy Service Providers","Binary","Ancillary products & services - Contract manufacturing",1,"Belize",0,0,0,0,0,0,0]
["Clean Energy Service Providers","Binary","Ancillary products & services - Contract manufacturing",1,"Bolivia",0,0,0,0,0,0,0]
["Clean Energy Service Providers","Binary","Ancillary products & services - Contract manufacturing",1,"Brazil",1,1,1,1,1,1,1]
["Clean Energy Service Providers","Binary","Ancillary products & services - Contract manufacturing",1,"Chile",0,0,0,0,0,0,0]
["Clean Energy Service Providers","Binary","Ancillary products & services - Contract manufacturing",1,"Colombia",0,0,0,0,0,0,0]
["Clean Energy Service Providers","Binary","Ancillary products & services - Contract manufacturing",1,"Costa Rica",0,0,0,0,0,0,0]
["Clean Energy Service Providers","Binary","Ancillary products & services - Contract manufacturing",1,"Dominican Republic",0,0,0,0,0,0,0]
["Clean Energy Service Providers","Binary","Ancillary products & services - Contract manufacturing",1,"Ecuador",0,0,0,0,0,0,0]
["Clean Energy Service Providers","Binary","Ancillary products & services - Contract manufacturing",1,"El Salvador",0,0,0,0,0,0,0]
["Clean Energy Service Providers","Binary","Ancillary products & services - Contract manufacturing",1,"Guatemala",0,0,0,0,0,0,0]
["Clean Energy Service Providers","Binary","Ancillary products & services - Contract manufacturing",1,"Guyana",0,0,0,0,0,0,0]
["Clean Energy Service Providers","Binary","Ancillary products & services - Contract manufacturing",1,"Haiti",0,0,0,0,0,0,0]
["Clean Energy Service Providers","Binary","Ancillary products & services - Contract manufacturing",1,"Honduras",0,0,0,0,0,0,0]
["Clean Energy Service Providers","Binary","Ancillary products & services - Contract manufacturing",1,"Jamaica",0,0,0,0,0,0,0]
["Clean Energy Service Providers","Binary","Ancillary products & services - Contract manufacturing",1,"Mexico",1,1,1,1,1,1,1]
["Clean Energy Service Providers","Binary","Ancillary products & services - Contract manufacturing",1,"Nicaragua",0,0,0,0,0,0,0]
["Clean Energy Service Providers","Binary","Ancillary products & services - Contract manufacturing",1,"Panama",0,0,0,0,0,0,0]
["Clean Energy Service Providers","Binary","Ancillary products & services - Contract manufacturing",1,"Paraguay",0,0,0,0,0,0,0]
["Clean Energy Service Providers","Binary","Ancillary products & services - Contract manufacturing",1,"Peru",0,0,0,0,0,0,0]
["Clean Energy Service Providers","Binary","Ancillary products & services - Contract manufacturing",1,"Suriname",0,0,0,0,0,0,0]
["Clean Energy Service Providers","Binary","Ancillary products & services - Contract manufacturing",1,"Trinidad & Tobago",0,0,0,0,0,0,0]
["Clean Energy Service Providers","Binary","Ancillary products & services - Contract manufacturing",1,"Uruguay",0,0,0,0,0,0,0]
["Clean Energy Service Providers","Binary","Ancillary products & services - Contract manufacturing",1,"Venezuela",0,0,0,0,0,0,0]
["Clean Energy Service Providers","Binary","Ancillary products & services - Control room systems",1,"Argentina",0,0,0,0,0,0,0]
["Clean Energy Service Providers","Binary","Ancillary products & services - Control room systems",1,"Bahamas",0,0,0,0,0,0,0]
["Clean Energy Service Providers","Binary","Ancillary products & services - Control room systems",1,"Barbados",0,0,0,0,0,0,0]
["Clean Energy Service Providers","Binary","Ancillary products & services - Control room systems",1,"Belize",0,0,0,0,0,0,0]
["Clean Energy Service Providers","Binary","Ancillary products & services - Control room systems",1,"Bolivia",0,0,0,0,0,0,0]
["Clean Energy Service Providers","Binary","Ancillary products & services - Control room systems",1,"Brazil",0,0,0,0,0,0,1]
["Clean Energy Service Providers","Binary","Ancillary products & services - Control room systems",1,"Chile",0,0,0,0,0,0,1]
["Clean Energy Service Providers","Binary","Ancillary products & services - Control room systems",1,"Colombia",0,0,0,0,0,0,0]
["Clean Energy Service Providers","Binary","Ancillary products & services - Control room systems",1,"Costa Rica",0,0,0,0,0,0,0]
["Clean Energy Service Providers","Binary","Ancillary products & services - Control room systems",1,"Dominican Republic",0,0,0,0,0,0,0]
["Clean Energy Service Providers","Binary","Ancillary products & services - Control room systems",1,"Ecuador",0,0,0,0,0,0,0]
["Clean Energy Service Providers","Binary","Ancillary products & services - Control room systems",1,"El Salvador",0,0,0,0,0,0,0]
["Clean Energy Service Providers","Binary","Ancillary products & services - Control room systems",1,"Guatemala",0,0,0,0,0,0,0]
["Clean Energy Service Providers","Binary","Ancillary products & services - Control room systems",1,"Guyana",0,0,0,0,0,0,0]
["Clean Energy Service Providers","Binary","Ancillary products & services - Control room systems",1,"Haiti",0,0,0,0,0,0,0]
["Clean Energy Service Providers","Binary","Ancillary products & services - Control room systems",1,"Honduras",0,0,0,0,0,0,0]
["Clean Energy Service Providers","Binary","Ancillary products & services - Control room systems",1,"Jamaica",0,0,0,0,0,0,0]
["Clean Energy Service Providers","Binary","Ancillary products & services - Control room systems",1,"Mexico",0,0,0,0,0,0,0]
["Clean Energy Service Providers","Binary","Ancillary products & services - Control room systems",1,"Nicaragua",0,0,0,0,0,0,0]
["Clean Energy Service Providers","Binary","Ancillary products & services - Control room systems",1,"Panama",0,0,0,0,0,0,0]
["Clean Energy Service Providers","Binary","Ancillary products & services - Control room systems",1,"Paraguay",0,0,0,{"$f":"J940","v":0},0,0,0]
["Clean Energy Service Providers","Binary","Ancillary products & services - Control room systems",1,"Peru",0,{"$f":"H941","v":0},0,0,0,0,0]
["Clean Energy Service Providers","Binary","Ancillary products & services - Control room systems",1,"Suriname",0,{"$f":"H942","v":0},0,0,0,0,0]
["Clean Energy Service Providers","Binary","Ancillary products & services - Control room systems",1,"Trinidad & Tobago",0,{"$f":"H943","v":0},0,0,0,0,0]
["Clean Energy Service Providers","Binary","Ancillary products & services - Control room systems",1,"Uruguay",0,{"$f":"H944","v":0},0,0,0,0,0]
["Clean Energy Service Providers","Binary","Ancillary products & services - Control room systems",1,"Venezuela",{"$f":"G945","v":0},0,0,0,0,0,0]
["Clean Energy Service Providers","Binary","Ancillary products & services - Education & training",1,"Argentina",0,0,0,0,0,0,1]
["Clean Energy Service Providers","Binary","Ancillary products & services - Education & training",1,"Bahamas",0,0,0,0,0,0,0]
["Clean Energy Service Providers","Binary","Ancillary products & services - Education & training",1,"Barbados",1,1,1,1,1,1,1]
["Clean Energy Service Providers","Binary","Ancillary products & services - Education & training",1,"Belize",0,0,0,0,0,0,0]
["Clean Energy Service Providers","Binary","Ancillary products & services - Education & training",1,"Bolivia",0,0,0,0,0,0,0]
["Clean Energy Service Providers","Binary","Ancillary products & services - Education & training",1,"Brazil",1,1,1,1,1,1,1]
["Clean Energy Service Providers","Binary","Ancillary products & services - Education & training",1,"Chile",0,0,0,0,0,0,0]
["Clean Energy Service Providers","Binary","Ancillary products & services - Education & training",1,"Colombia",0,0,0,0,0,0,0]
["Clean Energy Service Providers","Binary","Ancillary products & services - Education & training",1,"Costa Rica",0,0,0,0,0,0,0]
["Clean Energy Service Providers","Binary","Ancillary products & services - Education & training",1,"Dominican Republic",0,0,0,0,0,0,0]
["Clean Energy Service Providers","Binary","Ancillary products & services - Education & training",1,"Ecuador",0,0,0,0,0,0,0]
["Clean Energy Service Providers","Binary","Ancillary products & services - Education & training",1,"El Salvador",0,0,0,0,0,0,0]
["Clean Energy Service Providers","Binary","Ancillary products & services - Education & training",1,"Guatemala",0,0,0,0,0,0,0]
["Clean Energy Service Providers","Binary","Ancillary products & services - Education & training",1,"Guyana",1,1,1,1,1,1,1]
["Clean Energy Service Providers","Binary","Ancillary products & services - Education & training",1,"Haiti",0,0,0,0,0,0,0]
["Clean Energy Service Providers","Binary","Ancillary products & services - Education & training",1,"Honduras",0,0,0,0,0,0,0]
["Clean Energy Service Providers","Binary","Ancillary products & services - Education & training",1,"Jamaica",0,0,0,0,0,0,0]
["Clean Energy Service Providers","Binary","Ancillary products & services - Education & training",1,"Mexico",1,1,1,1,1,1,1]
["Clean Energy Service Providers","Binary","Ancillary products & services - Education & training",1,"Nicaragua",0,0,0,0,0,0,0]
["Clean Energy Service Providers","Binary","Ancillary products & services - Education & training",1,"Panama",0,0,0,0,0,0,0]
["Clean Energy Service Providers","Binary","Ancillary products & services - Education & training",1,"Paraguay",0,0,0,0,0,0,0]
["Clean Energy Service Providers","Binary","Ancillary products & services - Education & training",1,"Peru",0,0,0,0,0,0,0]
["Clean Energy Service Providers","Binary","Ancillary products & services - Education & training",1,"Suriname",0,0,0,0,0,0,0]
["Clean Energy Service Providers","Binary","Ancillary products & services - Education & training",1,"Trinidad & Tobago",0,0,0,0,0,0,0]
["Clean Energy Service Providers","Binary","Ancillary products & services - Education & training",1,"Uruguay",0,0,0,0,0,0,0]
["Clean Energy Service Providers","Binary","Ancillary products & services - Education & training",1,"Venezuela",0,0,0,0,0,0,0]
["Clean Energy Service Providers","Binary","Ancillary products & services - Inspection & maintenance",1,"Argentina",0,0,0,0,0,0,0]
["Clean Energy Service Providers","Binary","Ancillary products & services - Inspection & maintenance",1,"Bahamas",0,0,0,0,0,0,0]
["Clean Energy Service Providers","Binary","Ancillary products & services - Inspection & maintenance",1,"Barbados",0,0,0,0,0,0,0]
["Clean Energy Service Providers","Binary","Ancillary products & services - Inspection & maintenance",1,"Belize",0,0,0,0,0,0,0]
["Clean Energy Service Providers","Binary","Ancillary products & services - Inspection & maintenance",1,"Bolivia",0,0,0,0,0,0,0]
["Clean Energy Service Providers","Binary","Ancillary products & services - Inspection & maintenance",1,"Brazil",1,1,1,1,1,1,1]
["Clean Energy Service Providers","Binary","Ancillary products & services - Inspection & maintenance",1,"Chile",0,0,0,0,0,0,0]
["Clean Energy Service Providers","Binary","Ancillary products & services - Inspection & maintenance",1,"Colombia",0,0,0,0,0,0,0]
["Clean Energy Service Providers","Binary","Ancillary products & services - Inspection & maintenance",1,"Costa Rica",0,0,0,0,0,0,0]
["Clean Energy Service Providers","Binary","Ancillary products & services - Inspection & maintenance",1,"Dominican Republic",0,0,0,0,0,0,0]
["Clean Energy Service Providers","Binary","Ancillary products & services - Inspection & maintenance",1,"Ecuador",0,0,0,0,0,0,0]
["Clean Energy Service Providers","Binary","Ancillary products & services - Inspection & maintenance",1,"El Salvador",0,0,0,0,0,0,0]
["Clean Energy Service Providers","Binary","Ancillary products & services - Inspection & maintenance",1,"Guatemala",0,0,0,0,0,0,0]
["Clean Energy Service Providers","Binary","Ancillary products & services - Inspection & maintenance",1,"Guyana",0,0,0,0,0,0,0]
["Clean Energy Service Providers","Binary","Ancillary products & services - Inspection & maintenance",1,"Haiti",0,0,0,0,0,0,0]
["Clean Energy Service Providers","Binary","Ancillary products & services - Inspection & maintenance",1,"Honduras",0,0,0,0,0,0,0]
["Clean Energy Service Providers","Binary","Ancillary products & services - Inspection & maintenance",1,"Jamaica",0,0,0,0,0,0,0]
["Clean Energy Service Providers","Binary","Ancillary products & services - Inspection & maintenance",1,"Mexico",0,0,0,0,0,0,0]
["Clean Energy Service Providers","Binary","Ancillary products & services - Inspection & maintenance",1,"Nicaragua",0,0,0,0,0,0,0]
["Clean Energy Service Providers","Binary","Ancillary products & services - Inspection & maintenance",1,"Panama",0,0,0,0,0,0,0]
["Clean Energy Service Providers","Binary","Ancillary products & services - Inspection & maintenance",1,"Paraguay",0,0,0,0,{"$f":"K992","v":0},0,0]
["Clean Energy Service Providers","Binary","Ancillary products & services - Inspection & maintenance",1,"Peru",0,{"$f":"H993","v":0},0,0,0,0,1]
["Clean Energy Service Providers","Binary","Ancillary products & services - Inspection & maintenance",1,"Suriname",0,{"$f":"H994","v":0},0,0,0,0,0]
["Clean Energy Service Providers","Binary","Ancillary products & services - Inspection & maintenance",1,"Trinidad & Tobago",0,{"$f":"H995","v":0},0,0,0,0,0]
["Clean Energy Service Providers","Binary","Ancillary products & services - Inspection & maintenance",1,"Uruguay",0,{"$f":"H996","v":0},0,0,0,0,0]
["Clean Energy Service Providers","Binary","Ancillary products & services - Inspection & maintenance",1,"Venezuela",0,{"$f":"H997","v":0},0,0,0,0,0]
["Clean Energy Service Providers","Binary","Ancillary products & services - Specialist services",1,"Argentina",0,{"$f":"H998","v":0},0,0,0,0,0]
["Clean Energy Service Providers","Binary","Ancillary products & services - Specialist services",1,"Bahamas",0,{"$f":"H999","v":0},0,0,0,0,0]
["Clean Energy Service Providers","Binary","Ancillary products & services - Specialist services",1,"Barbados",0,{"$f":"H1000","v":0},0,0,0,0,0]
["Clean Energy Service Providers","Binary","Ancillary products & services - Specialist services",1,"Belize",0,{"$f":"H1001","v":0},0,0,0,0,0]
["Clean Energy Service Providers","Binary","Ancillary products & services - Specialist services",1,"Bolivia",0,{"$f":"H1002","v":0},0,0,0,0,0]
["Clean Energy Service Providers","Binary","Ancillary products & services - Specialist services",1,"Brazil",1,{"$f":"H1003","v":1},1,1,1,1,1]
["Clean Energy Service Providers","Binary","Ancillary products & services - Specialist services",1,"Chile",0,{"$f":"H1004","v":0},0,0,0,0,1]
["Clean Energy Service Providers","Binary","Ancillary products & services - Specialist services",1,"Colombia",0,{"$f":"H1005","v":0},0,0,0,0,1]
["Clean Energy Service Providers","Binary","Ancillary products & services - Specialist services",1,"Costa Rica",1,{"$f":"H1006","v":1},1,1,1,1,1]
["Clean Energy Service Providers","Binary","Ancillary products & services - Specialist services",1,"Dominican Republic",0,{"$f":"H1007","v":0},0,0,0,0,0]
["Clean Energy Service Providers","Binary","Ancillary products & services - Specialist services",1,"Ecuador",0,{"$f":"H1008","v":0},0,0,0,0,0]
["Clean Energy Service Providers","Binary","Ancillary products & services - Specialist services",1,"El Salvador",{"$f":"G1009","v":0},0,0,0,0,0,0]
["Clean Energy Service Providers","Binary","Ancillary products & services - Specialist services",1,"Guatemala",1,1,1,1,1,1,1]
["Clean Energy Service Providers","Binary","Ancillary products & services - Specialist services",1,"Guyana",0,0,0,0,0,0,0]
["Clean Energy Service Providers","Binary","Ancillary products & services - Specialist services",1,"Haiti",0,0,0,0,0,0,0]
["Clean Energy Service Providers","Binary","Ancillary products & services - Specialist services",1,"Honduras",0,0,0,0,0,0,0]
["Clean Energy Service Providers","Binary","Ancillary products & services - Specialist services",1,"Jamaica",0,0,0,0,0,0,0]
["Clean Energy Service Providers","Binary","Ancillary products & services - Specialist services",1,"Mexico",0,0,0,0,0,0,1]
["Clean Energy Service Providers","Binary","Ancillary products & services - Specialist services",1,"Nicaragua",0,0,0,0,0,0,0]
["Clean Energy Service Providers","Binary","Ancillary products & services - Specialist services",1,"Panama",0,0,0,0,0,0,0]
["Clean Energy Service Providers","Binary","Ancillary products & services - Specialist services",1,"Paraguay",0,0,0,0,0,0,0]
["Clean Energy Service Providers","Binary","Ancillary products & services - Specialist services",1,"Peru",0,0,0,0,0,0,1]
["Clean Energy Service Providers","Binary","Ancillary products & services - Specialist services",1,"Suriname",0,0,0,0,0,0,0]
["Clean Energy Service Providers","Binary","Ancillary products & services - Specialist services",1,"Trinidad & Tobago",0,0,0,0,0,0,0]
["Clean Energy Service Providers","Binary","Ancillary products & services - Specialist services",1,"Uruguay",0,0,0,0,0,0,0]
["Clean Energy Service Providers","Binary","Ancillary products & services - Specialist services",1,"Venezuela",0,0,0,0,0,0,0]
["Clean Energy Service Providers","Binary","Ancillary products & services - Testing & certification services",1,"Argentina",0,0,0,0,0,0,0]
["Clean Energy Service Providers","Binary","Ancillary products & services - Testing & certification services",1,"Bahamas",0,0,0,0,0,0,0]
["Clean Energy Service Providers","Binary","Ancillary products & services - Testing & certification services",1,"Barbados",0,0,0,0,0,0,0]
["Clean Energy Service Providers","Binary","Ancillary products & services - Testing & certification services",1,"Belize",0,0,0,0,0,0,0]
["Clean Energy Service Providers","Binary","Ancillary products & services - Testing & certification services",1,"Bolivia",0,0,0,0,0,0,0]
["Clean Energy Service Providers","Binary","Ancillary products & services - Testing & certification services",1,"Brazil",1,1,1,1,1,1,1]
["Clean Energy Service Providers","Binary","Ancillary products & services - Testing & certification services",1,"Chile",0,0,0,0,0,0,0]
["Clean Energy Service Providers","Binary","Ancillary products & services - Testing & certification services",1,"Colombia",0,0,0,0,0,0,0]
["Clean Energy Service Providers","Binary","Ancillary products & services - Testing & certification services",1,"Costa Rica",0,0,0,0,0,0,0]
["Clean Energy Service Providers","Binary","Ancillary products & services - Testing & certification services",1,"Dominican Republic",0,0,0,0,0,0,0]
["Clean Energy Service Providers","Binary","Ancillary products & services - Testing & certification services",1,"Ecuador",0,0,0,0,0,0,0]
["Clean Energy Service Providers","Binary","Ancillary products & services - Testing & certification services",1,"El Salvador",0,0,0,0,0,0,0]
["Clean Energy Service Providers","Binary","Ancillary products & services - Testing & certification services",1,"Guatemala",0,0,0,0,0,0,0]
["Clean Energy Service Providers","Binary","Ancillary products & services - Testing & certification services",1,"Guyana",0,0,0,0,0,0,0]
["Clean Energy Service Providers","Binary","Ancillary products & services - Testing & certification services",1,"Haiti",0,0,0,0,0,0,0]
["Clean Energy Service Providers","Binary","Ancillary products & services - Testing & certification services",1,"Honduras",0,0,0,0,0,0,0]
["Clean Energy Service Providers","Binary","Ancillary products & services - Testing & certification services",1,"Jamaica",0,0,0,0,0,0,0]
["Clean Energy Service Providers","Binary","Ancillary products & services - Testing & certification services",1,"Mexico",0,0,0,0,0,0,0]
["Clean Energy Service Providers","Binary","Ancillary products & services - Testing & certification services",1,"Nicaragua",0,0,0,0,0,0,0]
["Clean Energy Service Providers","Binary","Ancillary products & services - Testing & certification services",1,"Panama",0,0,0,0,0,0,0]
["Clean Energy Service Providers","Binary","Ancillary products & services - Testing & certification services",1,"Paraguay",0,0,0,0,0,0,0]
["Clean Energy Service Providers","Binary","Ancillary products & services - Testing & certification services",1,"Peru",0,0,0,0,0,0,0]
["Clean Energy Service Providers","Binary","Ancillary products & services - Testing & certification services",1,"Suriname",0,0,0,0,0,0,0]
["Clean Energy Service Providers","Binary","Ancillary products & services - Testing & certification services",1,"Trinidad & Tobago",0,0,0,0,0,0,0]
["Clean Energy Service Providers","Binary","Ancillary products & services - Testing & certification services",1,"Uruguay",0,0,0,0,0,0,0]
["Clean Energy Service Providers","Binary","Ancillary products & services - Testing & certification services",1,"Venezuela",0,0,0,0,0,0,0]
["Clean Energy Service Providers","Binary","Developers & utilities - Integrated service provider",1,"Argentina",0,0,0,0,0,0,1]
["Clean Energy Service Providers","Binary","Developers & utilities - Integrated service provider",1,"Bahamas",0,0,0,0,0,0,0]
["Clean Energy Service Providers","Binary","Developers & utilities - Integrated service provider",1,"Barbados",0,0,0,0,0,0,0]
["Clean Energy Service Providers","Binary","Developers & utilities - Integrated service provider",1,"Belize",0,0,0,0,0,0,0]
["Clean Energy Service Providers","Binary","Developers & utilities - Integrated service provider",1,"Bolivia",0,0,0,0,0,0,0]
["Clean Energy Service Providers","Binary","Developers & utilities - Integrated service provider",1,"Brazil",0,0,0,0,0,0,0]
["Clean Energy Service Providers","Binary","Developers & utilities - Integrated service provider",1,"Chile",0,0,0,0,0,0,1]
["Clean Energy Service Providers","Binary","Developers & utilities - Integrated service provider",1,"Colombia",0,0,0,0,0,0,0]
["Clean Energy Service Providers","Binary","Developers & utilities - Integrated service provider",1,"Costa Rica",0,0,0,0,0,0,0]
["Clean Energy Service Providers","Binary","Developers & utilities - Integrated service provider",1,"Dominican Republic",0,0,0,0,0,0,0]
["Clean Energy Service Providers","Binary","Developers & utilities - Integrated service provider",1,"Ecuador",0,0,0,0,0,0,0]
["Clean Energy Service Providers","Binary","Developers & utilities - Integrated service provider",1,"El Salvador",0,0,0,0,0,0,0]
["Clean Energy Service Providers","Binary","Developers & utilities - Integrated service provider",1,"Guatemala",0,0,0,0,0,0,0]
["Clean Energy Service Providers","Binary","Developers & utilities - Integrated service provider",1,"Guyana",0,0,0,0,0,0,0]
["Clean Energy Service Providers","Binary","Developers & utilities - Integrated service provider",1,"Haiti",0,0,0,0,0,0,0]
["Clean Energy Service Providers","Binary","Developers & utilities - Integrated service provider",1,"Honduras",0,0,0,0,0,0,0]
["Clean Energy Service Providers","Binary","Developers & utilities - Integrated service provider",1,"Jamaica",0,0,0,0,0,0,0]
["Clean Energy Service Providers","Binary","Developers & utilities - Integrated service provider",1,"Mexico",0,0,0,0,0,0,0]
["Clean Energy Service Providers","Binary","Developers & utilities - Integrated service provider",1,"Nicaragua",0,0,0,{"$f":"J1068","v":0},0,0,0]
["Clean Energy Service Providers","Binary","Developers & utilities - Integrated service provider",1,"Panama",0,{"$f":"H1069","v":0},0,0,0,0,0]
["Clean Energy Service Providers","Binary","Developers & utilities - Integrated service provider",1,"Paraguay",0,{"$f":"H1070","v":0},0,0,0,0,0]
["Clean Energy Service Providers","Binary","Developers & utilities - Integrated service provider",1,"Peru",0,{"$f":"H1071","v":0},0,0,0,0,0]
["Clean Energy Service Providers","Binary","Developers & utilities - Integrated service provider",1,"Suriname",0,{"$f":"H1072","v":0},0,0,0,0,0]
["Clean Energy Service Providers","Binary","Developers & utilities - Integrated service provider",1,"Trinidad & Tobago",{"$f":"G1073","v":0},0,0,0,0,0,0]
["Clean Energy Service Providers","Binary","Developers & utilities - Integrated service provider",1,"Uruguay",0,0,0,0,0,0,0]
["Clean Energy Service Providers","Binary","Developers & utilities - Integrated service provider",1,"Venezuela",0,0,0,0,0,0,0]
["Clean Energy Service Providers","Binary","Marketing services - Distributor",1,"Argentina",1,1,1,1,1,1,1]
["Clean Energy Service Providers","Binary","Marketing services - Distributor",1,"Bahamas",0,0,0,0,0,0,0]
["Clean Energy Service Providers","Binary","Marketing services - Distributor",1,"Barbados",0,0,0,0,0,0,0]
["Clean Energy Service Providers","Binary","Marketing services - Distributor",1,"Belize",0,0,0,0,0,0,0]
["Clean Energy Service Providers","Binary","Marketing services - Distributor",1,"Bolivia",1,1,1,1,1,1,1]
["Clean Energy Service Providers","Binary","Marketing services - Distributor",1,"Brazil",1,1,1,1,1,1,1]
["Clean Energy Service Providers","Binary","Marketing services - Distributor",1,"Chile",1,1,1,1,1,1,1]
["Clean Energy Service Providers","Binary","Marketing services - Distributor",1,"Colombia",1,1,1,1,1,1,1]
["Clean Energy Service Providers","Binary","Marketing services - Distributor",1,"Costa Rica",0,0,0,0,0,0,0]
["Clean Energy Service Providers","Binary","Marketing services - Distributor",1,"Dominican Republic",0,0,0,0,0,0,0]
["Clean Energy Service Providers","Binary","Marketing services - Distributor",1,"Ecuador",0,0,0,0,0,0,1]
["Clean Energy Service Providers","Binary","Marketing services - Distributor",1,"El Salvador",1,1,1,1,1,1,1]
["Clean Energy Service Providers","Binary","Marketing services - Distributor",1,"Guatemala",0,0,0,0,0,0,0]
["Clean Energy Service Providers","Binary","Marketing services - Distributor",1,"Guyana",0,0,0,0,0,0,0]
["Clean Energy Service Providers","Binary","Marketing services - Distributor",1,"Haiti",1,1,1,1,1,1,1]
["Clean Energy Service Providers","Binary","Marketing services - Distributor",1,"Honduras",0,0,0,0,0,0,0]
["Clean Energy Service Providers","Binary","Marketing services - Distributor",1,"Jamaica",0,0,0,0,0,0,0]
["Clean Energy Service Providers","Binary","Marketing services - Distributor",1,"Mexico",1,1,1,1,1,1,1]
["Clean Energy Service Providers","Binary","Marketing services - Distributor",1,"Nicaragua",0,0,0,0,0,0,0]
["Clean Energy Service Providers","Binary","Marketing services - Distributor",1,"Panama",1,1,1,1,1,1,1]
["Clean Energy Service Providers","Binary","Marketing services - Distributor",1,"Paraguay",0,0,0,0,0,0,0]
["Clean Energy Service Providers","Binary","Marketing services - Distributor",1,"Peru",1,1,1,1,1,1,1]
["Clean Energy Service Providers","Binary","Marketing services - Distributor",1,"Suriname",0,0,0,0,0,0,0]
["Clean Energy Service Providers","Binary","Marketing services - Distributor",1,"Trinidad & Tobago",0,0,0,0,0,0,1]
["Clean Energy Service Providers","Binary","Marketing services - Distributor",1,"Uruguay",0,0,0,0,0,0,0]
["Clean Energy Service Providers","Binary","Marketing services - Distributor",1,"Venezuela",0,0,0,0,0,0,0]
["Clean Energy Service Providers","Binary","Marketing services - Market research",1,"Argentina",0,0,0,0,0,0,0]
["Clean Energy Service Providers","Binary","Marketing services - Market research",1,"Bahamas",0,0,0,0,0,0,0]
["Clean Energy Service Providers","Binary","Marketing services - Market research",1,"Barbados",0,0,0,0,0,0,0]
["Clean Energy Service Providers","Binary","Marketing services - Market research",1,"Belize",0,0,0,0,0,0,0]
["Clean Energy Service Providers","Binary","Marketing services - Market research",1,"Bolivia",0,0,0,0,0,0,0]
["Clean Energy Service Providers","Binary","Marketing services - Market research",1,"Brazil",1,1,1,1,1,1,1]
["Clean Energy Service Providers","Binary","Marketing services - Market research",1,"Chile",0,0,0,0,0,0,0]
["Clean Energy Service Providers","Binary","Marketing services - Market research",1,"Colombia",0,0,0,0,0,0,0]
["Clean Energy Service Providers","Binary","Marketing services - Market research",1,"Costa Rica",1,1,1,1,1,1,1]
["Clean Energy Service Providers","Binary","Marketing services - Market research",1,"Dominican Republic",0,0,0,0,0,0,0]
["Clean Energy Service Providers","Binary","Marketing services - Market research",1,"Ecuador",0,0,0,0,0,0,0]
["Clean Energy Service Providers","Binary","Marketing services - Market research",1,"El Salvador",0,0,0,0,0,0,0]
["Clean Energy Service Providers","Binary","Marketing services - Market research",1,"Guatemala",0,0,0,0,0,0,0]
["Clean Energy Service Providers","Binary","Marketing services - Market research",1,"Guyana",0,0,0,0,0,0,0]
["Clean Energy Service Providers","Binary","Marketing services - Market research",1,"Haiti",0,0,0,0,0,0,0]
["Clean Energy Service Providers","Binary","Marketing services - Market research",1,"Honduras",0,0,0,0,0,0,0]
["Clean Energy Service Providers","Binary","Marketing services - Market research",1,"Jamaica",0,0,0,0,0,0,0]
["Clean Energy Service Providers","Binary","Marketing services - Market research",1,"Mexico",0,0,0,0,0,0,0]
["Clean Energy Service Providers","Binary","Marketing services - Market research",1,"Nicaragua",0,0,0,0,{"$f":"K1120","v":0},0,0]
["Clean Energy Service Providers","Binary","Marketing services - Market research",1,"Panama",0,{"$f":"H1121","v":0},0,0,0,0,0]
["Clean Energy Service Providers","Binary","Marketing services - Market research",1,"Paraguay",0,{"$f":"H1122","v":0},0,0,0,0,0]
["Clean Energy Service Providers","Binary","Marketing services - Market research",1,"Peru",0,{"$f":"H1123","v":0},0,0,0,0,0]
["Clean Energy Service Providers","Binary","Marketing services - Market research",1,"Suriname",0,{"$f":"H1124","v":0},0,0,0,0,0]
["Clean Energy Service Providers","Binary","Marketing services - Market research",1,"Trinidad & Tobago",0,{"$f":"H1125","v":0},0,0,0,0,0]
["Clean Energy Service Providers","Binary","Marketing services - Market research",1,"Uruguay",0,{"$f":"H1126","v":0},0,0,0,0,0]
["Clean Energy Service Providers","Binary","Marketing services - Market research",1,"Venezuela",0,{"$f":"H1127","v":0},0,0,0,0,0]
["Clean Energy Service Providers","Binary","Marketing services - PR company ",1,"Argentina",0,{"$f":"H1128","v":0},0,0,0,0,0]
["Clean Energy Service Providers","Binary","Marketing services - PR company ",1,"Bahamas",0,{"$f":"H1129","v":0},0,0,0,0,0]
["Clean Energy Service Providers","Binary","Marketing services - PR company ",1,"Barbados",0,{"$f":"H1130","v":0},0,0,0,0,0]
["Clean Energy Service Providers","Binary","Marketing services - PR company ",1,"Belize",0,{"$f":"H1131","v":0},0,0,0,0,0]
["Clean Energy Service Providers","Binary","Marketing services - PR company ",1,"Bolivia",0,{"$f":"H1132","v":0},0,0,0,0,0]
["Clean Energy Service Providers","Binary","Marketing services - PR company ",1,"Brazil",1,{"$f":"H1133","v":1},1,1,1,1,1]
["Clean Energy Service Providers","Binary","Marketing services - PR company ",1,"Chile",0,{"$f":"H1134","v":0},0,0,0,0,0]
["Clean Energy Service Providers","Binary","Marketing services - PR company ",1,"Colombia",0,{"$f":"H1135","v":0},0,0,0,0,0]
["Clean Energy Service Providers","Binary","Marketing services - PR company ",1,"Costa Rica",0,{"$f":"H1136","v":0},0,0,0,0,0]
["Clean Energy Service Providers","Binary","Marketing services - PR company ",1,"Dominican Republic",{"$f":"G1137","v":0},0,0,0,0,0,0]
["Clean Energy Service Providers","Binary","Marketing services - PR company ",1,"Ecuador",0,0,0,0,0,0,0]
["Clean Energy Service Providers","Binary","Marketing services - PR company ",1,"El Salvador",0,0,0,0,0,0,0]
["Clean Energy Service Providers","Binary","Marketing services - PR company ",1,"Guatemala",0,0,0,0,0,0,0]
["Clean Energy Service Providers","Binary","Marketing services - PR company ",1,"Guyana",0,0,0,0,0,0,0]
["Clean Energy Service Providers","Binary","Marketing services - PR company ",1,"Haiti",0,0,0,0,0,0,0]
["Clean Energy Service Providers","Binary","Marketing services - PR company ",1,"Honduras",0,0,0,0,0,0,0]
["Clean Energy Service Providers","Binary","Marketing services - PR company ",1,"Jamaica",0,0,0,0,0,0,0]
["Clean Energy Service Providers","Binary","Marketing services - PR company ",1,"Mexico",0,0,0,0,0,0,0]
["Clean Energy Service Providers","Binary","Marketing services - PR company ",1,"Nicaragua",0,0,0,0,0,0,0]
["Clean Energy Service Providers","Binary","Marketing services - PR company ",1,"Panama",0,0,0,0,0,0,0]
["Clean Energy Service Providers","Binary","Marketing services - PR company ",1,"Paraguay",0,0,0,0,0,0,0]
["Clean Energy Service Providers","Binary","Marketing services - PR company ",1,"Peru",0,0,0,0,0,0,0]
["Clean Energy Service Providers","Binary","Marketing services - PR company ",1,"Suriname",0,0,0,0,0,0,0]
["Clean Energy Service Providers","Binary","Marketing services - PR company ",1,"Trinidad & Tobago",0,0,0,0,0,0,0]
["Clean Energy Service Providers","Binary","Marketing services - PR company ",1,"Uruguay",0,0,0,0,0,0,0]
["Clean Energy Service Providers","Binary","Marketing services - PR company ",1,"Venezuela",0,0,0,0,0,0,0]
["Clean Energy Service Providers","Binary","Financial & legal services - Banking - corporate",1,"Argentina",1,1,1,1,1,1,1]
["Clean Energy Service Providers","Binary","Financial & legal services - Banking - corporate",1,"Bahamas",1,1,1,1,1,1,1]
["Clean Energy Service Providers","Binary","Financial & legal services - Banking - corporate",1,"Barbados",1,1,1,1,1,1,1]
["Clean Energy Service Providers","Binary","Financial & legal services - Banking - corporate",1,"Belize",0,0,0,0,0,0,0]
["Clean Energy Service Providers","Binary","Financial & legal services - Banking - corporate",1,"Bolivia",0,0,0,0,0,0,0]
["Clean Energy Service Providers","Binary","Financial & legal services - Banking - corporate",1,"Brazil",1,1,1,1,1,1,1]
["Clean Energy Service Providers","Binary","Financial & legal services - Banking - corporate",1,"Chile",1,1,1,1,1,1,1]
["Clean Energy Service Providers","Binary","Financial & legal services - Banking - corporate",1,"Colombia",1,1,1,1,1,1,1]
["Clean Energy Service Providers","Binary","Financial & legal services - Banking - corporate",1,"Costa Rica",1,1,1,1,1,1,1]
["Clean Energy Service Providers","Binary","Financial & legal services - Banking - corporate",1,"Dominican Republic",0,0,0,0,0,0,0]
["Clean Energy Service Providers","Binary","Financial & legal services - Banking - corporate",1,"Ecuador",0,0,0,0,0,0,0]
["Clean Energy Service Providers","Binary","Financial & legal services - Banking - corporate",1,"El Salvador",1,1,1,1,1,1,1]
["Clean Energy Service Providers","Binary","Financial & legal services - Banking - corporate",1,"Guatemala",0,0,0,0,0,0,0]
["Clean Energy Service Providers","Binary","Financial & legal services - Banking - corporate",1,"Guyana",0,0,0,0,0,0,0]
["Clean Energy Service Providers","Binary","Financial & legal services - Banking - corporate",1,"Haiti",0,0,0,0,0,0,0]
["Clean Energy Service Providers","Binary","Financial & legal services - Banking - corporate",1,"Honduras",0,0,0,0,0,0,0]
["Clean Energy Service Providers","Binary","Financial & legal services - Banking - corporate",1,"Jamaica",0,0,0,0,0,0,0]
["Clean Energy Service Providers","Binary","Financial & legal services - Banking - corporate",1,"Mexico",1,1,1,1,1,1,1]
["Clean Energy Service Providers","Binary","Financial & legal services - Banking - corporate",1,"Nicaragua",0,0,0,0,0,0,0]
["Clean Energy Service Providers","Binary","Financial & legal services - Banking - corporate",1,"Panama",1,1,1,1,1,1,1]
["Clean Energy Service Providers","Binary","Financial & legal services - Banking - corporate",1,"Paraguay",0,0,0,0,0,0,0]
["Clean Energy Service Providers","Binary","Financial & legal services - Banking - corporate",1,"Peru",1,1,1,1,1,1,1]
["Clean Energy Service Providers","Binary","Financial & legal services - Banking - corporate",1,"Suriname",0,0,0,0,0,0,0]
["Clean Energy Service Providers","Binary","Financial & legal services - Banking - corporate",1,"Trinidad & Tobago",0,0,0,0,0,0,1]
["Clean Energy Service Providers","Binary","Financial & legal services - Banking - corporate",1,"Uruguay",1,1,1,1,1,1,1]
["Clean Energy Service Providers","Binary","Financial & legal services - Banking - corporate",1,"Venezuela",1,1,1,1,1,1,1]
["Clean Energy Service Providers","Binary","Financial & legal services - Banking - custody, trust & deposit",1,"Argentina",0,0,0,0,0,0,0]
["Clean Energy Service Providers","Binary","Financial & legal services - Banking - custody, trust & deposit",1,"Bahamas",0,0,0,0,0,0,0]
["Clean Energy Service Providers","Binary","Financial & legal services - Banking - custody, trust & deposit",1,"Barbados",0,0,0,0,0,0,0]
["Clean Energy Service Providers","Binary","Financial & legal services - Banking - custody, trust & deposit",1,"Belize",0,0,0,0,0,0,0]
["Clean Energy Service Providers","Binary","Financial & legal services - Banking - custody, trust & deposit",1,"Bolivia",0,0,0,0,0,0,0]
["Clean Energy Service Providers","Binary","Financial & legal services - Banking - custody, trust & deposit",1,"Brazil",1,1,1,1,1,1,1]
["Clean Energy Service Providers","Binary","Financial & legal services - Banking - custody, trust & deposit",1,"Chile",0,0,0,0,0,0,0]
["Clean Energy Service Providers","Binary","Financial & legal services - Banking - custody, trust & deposit",1,"Colombia",0,0,0,0,0,0,0]
["Clean Energy Service Providers","Binary","Financial & legal services - Banking - custody, trust & deposit",1,"Costa Rica",1,1,1,1,1,1,1]
["Clean Energy Service Providers","Binary","Financial & legal services - Banking - custody, trust & deposit",1,"Dominican Republic",0,0,0,0,0,0,0]
["Clean Energy Service Providers","Binary","Financial & legal services - Banking - custody, trust & deposit",1,"Ecuador",0,0,0,0,0,0,0]
["Clean Energy Service Providers","Binary","Financial & legal services - Banking - custody, trust & deposit",1,"El Salvador",0,0,0,0,0,0,0]
["Clean Energy Service Providers","Binary","Financial & legal services - Banking - custody, trust & deposit",1,"Guatemala",0,0,0,0,0,0,0]
["Clean Energy Service Providers","Binary","Financial & legal services - Banking - custody, trust & deposit",1,"Guyana",0,0,0,0,0,0,0]
["Clean Energy Service Providers","Binary","Financial & legal services - Banking - custody, trust & deposit",1,"Haiti",0,0,0,0,0,0,0]
["Clean Energy Service Providers","Binary","Financial & legal services - Banking - custody, trust & deposit",1,"Honduras",0,0,0,0,0,0,0]
["Clean Energy Service Providers","Binary","Financial & legal services - Banking - custody, trust & deposit",1,"Jamaica",0,0,0,{"$f":"J1196","v":0},0,0,0]
["Clean Energy Service Providers","Binary","Financial & legal services - Banking - custody, trust & deposit",1,"Mexico",0,{"$f":"H1197","v":0},0,0,0,0,0]
["Clean Energy Service Providers","Binary","Financial & legal services - Banking - custody, trust & deposit",1,"Nicaragua",0,{"$f":"H1198","v":0},0,0,0,0,0]
["Clean Energy Service Providers","Binary","Financial & legal services - Banking - custody, trust & deposit",1,"Panama",0,{"$f":"H1199","v":0},0,0,0,0,0]
["Clean Energy Service Providers","Binary","Financial & legal services - Banking - custody, trust & deposit",1,"Paraguay",0,{"$f":"H1200","v":0},0,0,0,0,0]
["Clean Energy Service Providers","Binary","Financial & legal services - Banking - custody, trust & deposit",1,"Peru",{"$f":"G1201","v":0},0,0,0,0,0,0]
["Clean Energy Service Providers","Binary","Financial & legal services - Banking - custody, trust & deposit",1,"Suriname",0,0,0,0,0,0,0]
["Clean Energy Service Providers","Binary","Financial & legal services - Banking - custody, trust & deposit",1,"Trinidad & Tobago",0,0,0,0,0,0,1]
["Clean Energy Service Providers","Binary","Financial & legal services - Banking - custody, trust & deposit",1,"Uruguay",0,0,0,0,0,0,0]
["Clean Energy Service Providers","Binary","Financial & legal services - Banking - custody, trust & deposit",1,"Venezuela",1,1,1,1,1,1,1]
["Clean Energy Service Providers","Binary","Financial & legal services - Insurance provider",1,"Argentina",0,0,0,0,0,0,0]
["Clean Energy Service Providers","Binary","Financial & legal services - Insurance provider",1,"Bahamas",0,0,0,0,0,0,0]
["Clean Energy Service Providers","Binary","Financial & legal services - Insurance provider",1,"Barbados",0,0,0,0,0,0,0]
["Clean Energy Service Providers","Binary","Financial & legal services - Insurance provider",1,"Belize",0,0,0,0,0,0,0]
["Clean Energy Service Providers","Binary","Financial & legal services - Insurance provider",1,"Bolivia",0,0,0,0,0,0,0]
["Clean Energy Service Providers","Binary","Financial & legal services - Insurance provider",1,"Brazil",1,1,1,1,1,1,1]
["Clean Energy Service Providers","Binary","Financial & legal services - Insurance provider",1,"Chile",1,1,1,1,1,1,1]
["Clean Energy Service Providers","Binary","Financial & legal services - Insurance provider",1,"Colombia",0,0,0,0,0,0,0]
["Clean Energy Service Providers","Binary","Financial & legal services - Insurance provider",1,"Costa Rica",0,0,0,0,0,0,0]
["Clean Energy Service Providers","Binary","Financial & legal services - Insurance provider",1,"Dominican Republic",0,0,0,0,0,0,0]
["Clean Energy Service Providers","Binary","Financial & legal services - Insurance provider",1,"Ecuador",0,0,0,0,0,0,0]
["Clean Energy Service Providers","Binary","Financial & legal services - Insurance provider",1,"El Salvador",0,0,0,0,0,0,0]
["Clean Energy Service Providers","Binary","Financial & legal services - Insurance provider",1,"Guatemala",0,0,0,0,0,0,0]
["Clean Energy Service Providers","Binary","Financial & legal services - Insurance provider",1,"Guyana",0,0,0,0,0,0,0]
["Clean Energy Service Providers","Binary","Financial & legal services - Insurance provider",1,"Haiti",0,0,0,0,0,0,0]
["Clean Energy Service Providers","Binary","Financial & legal services - Insurance provider",1,"Honduras",0,0,0,0,0,0,0]
["Clean Energy Service Providers","Binary","Financial & legal services - Insurance provider",1,"Jamaica",0,0,0,0,0,0,0]
["Clean Energy Service Providers","Binary","Financial & legal services - Insurance provider",1,"Mexico",0,0,0,0,0,0,1]
["Clean Energy Service Providers","Binary","Financial & legal services - Insurance provider",1,"Nicaragua",0,0,0,0,0,0,0]
["Clean Energy Service Providers","Binary","Financial & legal services - Insurance provider",1,"Panama",0,0,0,0,0,0,0]
["Clean Energy Service Providers","Binary","Financial & legal services - Insurance provider",1,"Paraguay",0,0,0,0,0,0,0]
["Clean Energy Service Providers","Binary","Financial & legal services - Insurance provider",1,"Peru",1,1,1,1,1,1,1]
["Clean Energy Service Providers","Binary","Financial & legal services - Insurance provider",1,"Suriname",0,0,0,0,0,0,0]
["Clean Energy Service Providers","Binary","Financial & legal services - Insurance provider",1,"Trinidad & Tobago",0,0,0,0,0,0,0]
["Clean Energy Service Providers","Binary","Financial & legal services - Insurance provider",1,"Uruguay",1,1,1,1,1,1,1]
["Clean Energy Service Providers","Binary","Financial & legal services - Insurance provider",1,"Venezuela",0,0,0,0,0,0,0]
["Clean Energy Service Providers","Binary","Financial & legal services - Lawyer - commercial",1,"Argentina",1,1,1,1,1,1,1]
["Clean Energy Service Providers","Binary","Financial & legal services - Lawyer - commercial",1,"Bahamas",0,0,0,0,0,0,0]
["Clean Energy Service Providers","Binary","Financial & legal services - Lawyer - commercial",1,"Barbados",0,0,0,0,0,0,0]
["Clean Energy Service Providers","Binary","Financial & legal services - Lawyer - commercial",1,"Belize",0,0,0,0,0,0,0]
["Clean Energy Service Providers","Binary","Financial & legal services - Lawyer - commercial",1,"Bolivia",0,0,0,0,0,0,0]
["Clean Energy Service Providers","Binary","Financial & legal services - Lawyer - commercial",1,"Brazil",1,1,1,1,1,1,1]
["Clean Energy Service Providers","Binary","Financial & legal services - Lawyer - commercial",1,"Chile",1,1,1,1,1,1,1]
["Clean Energy Service Providers","Binary","Financial & legal services - Lawyer - commercial",1,"Colombia",0,0,0,0,0,0,0]
["Clean Energy Service Providers","Binary","Financial & legal services - Lawyer - commercial",1,"Costa Rica",0,0,0,0,0,0,0]
["Clean Energy Service Providers","Binary","Financial & legal services - Lawyer - commercial",1,"Dominican Republic",0,0,0,0,0,0,0]
["Clean Energy Service Providers","Binary","Financial & legal services - Lawyer - commercial",1,"Ecuador",0,0,0,0,0,0,0]
["Clean Energy Service Providers","Binary","Financial & legal services - Lawyer - commercial",1,"El Salvador",0,0,0,0,0,0,0]
["Clean Energy Service Providers","Binary","Financial & legal services - Lawyer - commercial",1,"Guatemala",0,0,0,0,0,0,0]
["Clean Energy Service Providers","Binary","Financial & legal services - Lawyer - commercial",1,"Guyana",0,0,0,0,0,0,0]
["Clean Energy Service Providers","Binary","Financial & legal services - Lawyer - commercial",1,"Haiti",0,0,0,0,0,0,0]
["Clean Energy Service Providers","Binary","Financial & legal services - Lawyer - commercial",1,"Honduras",0,0,0,0,0,0,0]
["Clean Energy Service Providers","Binary","Financial & legal services - Lawyer - commercial",1,"Jamaica",0,0,0,0,{"$f":"K1248","v":0},0,0]
["Clean Energy Service Providers","Binary","Financial & legal services - Lawyer - commercial",1,"Mexico",1,{"$f":"H1249","v":1},1,1,1,1,1]
["Clean Energy Service Providers","Binary","Financial & legal services - Lawyer - commercial",1,"Nicaragua",0,{"$f":"H1250","v":0},0,0,0,0,0]
["Clean Energy Service Providers","Binary","Financial & legal services - Lawyer - commercial",1,"Panama",0,{"$f":"H1251","v":0},0,0,0,0,0]
["Clean Energy Service Providers","Binary","Financial & legal services - Lawyer - commercial",1,"Paraguay",0,{"$f":"H1252","v":0},0,0,0,0,0]
["Clean Energy Service Providers","Binary","Financial & legal services - Lawyer - commercial",1,"Peru",1,{"$f":"H1253","v":1},1,1,1,1,1]
["Clean Energy Service Providers","Binary","Financial & legal services - Lawyer - commercial",1,"Suriname",0,{"$f":"H1254","v":0},0,0,0,0,0]
["Clean Energy Service Providers","Binary","Financial & legal services - Lawyer - commercial",1,"Trinidad & Tobago",0,{"$f":"H1255","v":0},0,0,0,0,0]
["Clean Energy Service Providers","Binary","Financial & legal services - Lawyer - commercial",1,"Uruguay",0,{"$f":"H1256","v":0},0,0,0,0,0]
["Clean Energy Service Providers","Binary","Financial & legal services - Lawyer - commercial",1,"Venezuela",0,{"$f":"H1257","v":0},0,0,0,0,0]
["Clean Energy Service Providers","Binary","Financial & legal services - Lawyer - financial markets",1,"Argentina",1,{"$f":"H1258","v":1},1,1,1,1,1]
["Clean Energy Service Providers","Binary","Financial & legal services - Lawyer - financial markets",1,"Bahamas",0,{"$f":"H1259","v":0},0,0,0,0,0]
["Clean Energy Service Providers","Binary","Financial & legal services - Lawyer - financial markets",1,"Barbados",0,{"$f":"H1260","v":0},0,0,0,0,0]
["Clean Energy Service Providers","Binary","Financial & legal services - Lawyer - financial markets",1,"Belize",0,{"$f":"H1261","v":0},0,0,0,0,0]
["Clean Energy Service Providers","Binary","Financial & legal services - Lawyer - financial markets",1,"Bolivia",0,{"$f":"H1262","v":0},0,0,0,0,0]
["Clean Energy Service Providers","Binary","Financial & legal services - Lawyer - financial markets",1,"Brazil",1,{"$f":"H1263","v":1},1,1,1,1,1]
["Clean Energy Service Providers","Binary","Financial & legal services - Lawyer - financial markets",1,"Chile",1,{"$f":"H1264","v":1},1,1,1,1,1]
["Clean Energy Service Providers","Binary","Financial & legal services - Lawyer - financial markets",1,"Colombia",{"$f":"G1265","v":0},0,0,0,0,0,0]
["Clean Energy Service Providers","Binary","Financial & legal services - Lawyer - financial markets",1,"Costa Rica",0,0,0,0,0,0,0]
["Clean Energy Service Providers","Binary","Financial & legal services - Lawyer - financial markets",1,"Dominican Republic",0,0,0,0,0,0,0]
["Clean Energy Service Providers","Binary","Financial & legal services - Lawyer - financial markets",1,"Ecuador",0,0,0,0,0,0,0]
["Clean Energy Service Providers","Binary","Financial & legal services - Lawyer - financial markets",1,"El Salvador",0,0,0,0,0,0,0]
["Clean Energy Service Providers","Binary","Financial & legal services - Lawyer - financial markets",1,"Guatemala",0,0,0,0,0,0,0]
["Clean Energy Service Providers","Binary","Financial & legal services - Lawyer - financial markets",1,"Guyana",0,0,0,0,0,0,0]
["Clean Energy Service Providers","Binary","Financial & legal services - Lawyer - financial markets",1,"Haiti",0,0,0,0,0,0,0]
["Clean Energy Service Providers","Binary","Financial & legal services - Lawyer - financial markets",1,"Honduras",0,0,0,0,0,0,0]
["Clean Energy Service Providers","Binary","Financial & legal services - Lawyer - financial markets",1,"Jamaica",0,0,0,0,0,0,0]
["Clean Energy Service Providers","Binary","Financial & legal services - Lawyer - financial markets",1,"Mexico",0,0,0,0,0,0,1]
["Clean Energy Service Providers","Binary","Financial & legal services - Lawyer - financial markets",1,"Nicaragua",0,0,0,0,0,0,0]
["Clean Energy Service Providers","Binary","Financial & legal services - Lawyer - financial markets",1,"Panama",0,0,0,0,0,0,0]
["Clean Energy Service Providers","Binary","Financial & legal services - Lawyer - financial markets",1,"Paraguay",0,0,0,0,0,0,0]
["Clean Energy Service Providers","Binary","Financial & legal services - Lawyer - financial markets",1,"Peru",0,0,0,0,0,0,1]
["Clean Energy Service Providers","Binary","Financial & legal services - Lawyer - financial markets",1,"Suriname",0,0,0,0,0,0,0]
["Clean Energy Service Providers","Binary","Financial & legal services - Lawyer - financial markets",1,"Trinidad & Tobago",0,0,0,0,0,0,0]
["Clean Energy Service Providers","Binary","Financial & legal services - Lawyer - financial markets",1,"Uruguay",0,0,0,0,0,0,0]
["Clean Energy Service Providers","Binary","Financial & legal services - Lawyer - financial markets",1,"Venezuela",0,0,0,0,0,0,0]
["Clean Energy Service Providers","Binary","Financial & legal services - Lawyer - project finance",1,"Argentina",1,1,1,1,1,1,1]
["Clean Energy Service Providers","Binary","Financial & legal services - Lawyer - project finance",1,"Bahamas",0,0,0,0,0,0,0]
["Clean Energy Service Providers","Binary","Financial & legal services - Lawyer - project finance",1,"Barbados",0,0,0,0,0,0,0]
["Clean Energy Service Providers","Binary","Financial & legal services - Lawyer - project finance",1,"Belize",0,0,0,0,0,0,0]
["Clean Energy Service Providers","Binary","Financial & legal services - Lawyer - project finance",1,"Bolivia",0,0,0,0,0,0,0]
["Clean Energy Service Providers","Binary","Financial & legal services - Lawyer - project finance",1,"Brazil",1,1,1,1,1,1,1]
["Clean Energy Service Providers","Binary","Financial & legal services - Lawyer - project finance",1,"Chile",1,1,1,1,1,1,1]
["Clean Energy Service Providers","Binary","Financial & legal services - Lawyer - project finance",1,"Colombia",1,1,1,1,1,1,1]
["Clean Energy Service Providers","Binary","Financial & legal services - Lawyer - project finance",1,"Costa Rica",0,0,0,0,0,0,0]
["Clean Energy Service Providers","Binary","Financial & legal services - Lawyer - project finance",1,"Dominican Republic",0,0,0,0,0,0,0]
["Clean Energy Service Providers","Binary","Financial & legal services - Lawyer - project finance",1,"Ecuador",0,0,0,0,0,0,0]
["Clean Energy Service Providers","Binary","Financial & legal services - Lawyer - project finance",1,"El Salvador",0,0,0,0,0,0,0]
["Clean Energy Service Providers","Binary","Financial & legal services - Lawyer - project finance",1,"Guatemala",0,0,0,0,0,0,0]
["Clean Energy Service Providers","Binary","Financial & legal services - Lawyer - project finance",1,"Guyana",0,0,0,0,0,0,0]
["Clean Energy Service Providers","Binary","Financial & legal services - Lawyer - project finance",1,"Haiti",0,0,0,0,0,0,0]
["Clean Energy Service Providers","Binary","Financial & legal services - Lawyer - project finance",1,"Honduras",0,0,0,0,0,0,0]
["Clean Energy Service Providers","Binary","Financial & legal services - Lawyer - project finance",1,"Jamaica",0,0,0,0,0,0,0]
["Clean Energy Service Providers","Binary","Financial & legal services - Lawyer - project finance",1,"Mexico",0,0,0,0,0,0,1]
["Clean Energy Service Providers","Binary","Financial & legal services - Lawyer - project finance",1,"Nicaragua",0,0,0,0,0,0,0]
["Clean Energy Service Providers","Binary","Financial & legal services - Lawyer - project finance",1,"Panama",0,0,0,0,0,0,0]
["Clean Energy Service Providers","Binary","Financial & legal services - Lawyer - project finance",1,"Paraguay",0,0,0,0,0,0,0]
["Clean Energy Service Providers","Binary","Financial & legal services - Lawyer - project finance",1,"Peru",0,0,0,0,0,0,1]
["Clean Energy Service Providers","Binary","Financial & legal services - Lawyer - project finance",1,"Suriname",0,0,0,0,0,0,0]
["Clean Energy Service Providers","Binary","Financial & legal services - Lawyer - project finance",1,"Trinidad & Tobago",0,0,0,0,0,0,0]
["Clean Energy Service Providers","Binary","Financial & legal services - Lawyer - project finance",1,"Uruguay",0,0,0,0,0,0,1]
["Clean Energy Service Providers","Binary","Financial & legal services - Lawyer - project finance",1,"Venezuela",0,0,0,0,0,0,0]
["Clean Energy Service Providers","Binary","Financial & legal services - Recruitment / search",1,"Argentina",0,0,0,0,0,0,0]
["Clean Energy Service Providers","Binary","Financial & legal services - Recruitment / search",1,"Bahamas",0,0,0,0,0,0,0]
["Clean Energy Service Providers","Binary","Financial & legal services - Recruitment / search",1,"Barbados",0,0,0,0,0,0,0]
["Clean Energy Service Providers","Binary","Financial & legal services - Recruitment / search",1,"Belize",0,0,0,0,0,0,0]
["Clean Energy Service Providers","Binary","Financial & legal services - Recruitment / search",1,"Bolivia",0,0,0,0,0,0,0]
["Clean Energy Service Providers","Binary","Financial & legal services - Recruitment / search",1,"Brazil",0,0,0,0,0,0,0]
["Clean Energy Service Providers","Binary","Financial & legal services - Recruitment / search",1,"Chile",0,0,0,0,0,0,0]
["Clean Energy Service Providers","Binary","Financial & legal services - Recruitment / search",1,"Colombia",0,0,0,0,0,0,0]
["Clean Energy Service Providers","Binary","Financial & legal services - Recruitment / search",1,"Costa Rica",0,0,0,0,0,0,0]
["Clean Energy Service Providers","Binary","Financial & legal services - Recruitment / search",1,"Dominican Republic",0,0,0,0,0,0,0]
["Clean Energy Service Providers","Binary","Financial & legal services - Recruitment / search",1,"Ecuador",0,0,0,0,0,0,0]
["Clean Energy Service Providers","Binary","Financial & legal services - Recruitment / search",1,"El Salvador",0,0,0,0,0,0,0]
["Clean Energy Service Providers","Binary","Financial & legal services - Recruitment / search",1,"Guatemala",0,0,0,0,0,0,0]
["Clean Energy Service Providers","Binary","Financial & legal services - Recruitment / search",1,"Guyana",0,0,0,0,0,0,0]
["Clean Energy Service Providers","Binary","Financial & legal services - Recruitment / search",1,"Haiti",0,0,0,{"$f":"J1324","v":0},0,0,0]
["Clean Energy Service Providers","Binary","Financial & legal services - Recruitment / search",1,"Honduras",0,{"$f":"H1325","v":0},0,0,0,0,0]
["Clean Energy Service Providers","Binary","Financial & legal services - Recruitment / search",1,"Jamaica",0,{"$f":"H1326","v":0},0,0,0,0,0]
["Clean Energy Service Providers","Binary","Financial & legal services - Recruitment / search",1,"Mexico",0,{"$f":"H1327","v":0},0,0,0,0,0]
["Clean Energy Service Providers","Binary","Financial & legal services - Recruitment / search",1,"Nicaragua",0,{"$f":"H1328","v":0},0,0,0,0,0]
["Clean Energy Service Providers","Binary","Financial & legal services - Recruitment / search",1,"Panama",{"$f":"G1329","v":0},0,0,0,0,0,0]
["Clean Energy Service Providers","Binary","Financial & legal services - Recruitment / search",1,"Paraguay",0,0,0,0,0,0,0]
["Clean Energy Service Providers","Binary","Financial & legal services - Recruitment / search",1,"Peru",0,0,0,0,0,0,0]
["Clean Energy Service Providers","Binary","Financial & legal services - Recruitment / search",1,"Suriname",0,0,0,0,0,0,0]
["Clean Energy Service Providers","Binary","Financial & legal services - Recruitment / search",1,"Trinidad & Tobago",0,0,0,0,0,0,0]
["Clean Energy Service Providers","Binary","Financial & legal services - Recruitment / search",1,"Uruguay",0,0,0,0,0,0,0]
["Clean Energy Service Providers","Binary","Financial & legal services - Recruitment / search",1,"Venezuela",0,0,0,0,0,0,0]
["Clean Energy Service Providers","Count","Clean Energy",1,"Argentina",{"$f":"SUMIFS(F$816:F$1335, $E$816:$E$1335, $E1336)","v":6},{"$f":"SUMIFS(G$816:G$1335, $E$816:$E$1335, $E1336)","v":6},6,6,6,6,8]
["Clean Energy Service Providers","Count","Clean Energy",1,"Bahamas",{"$f":"SUMIFS(F$816:F$1335, $E$816:$E$1335, $E1337)","v":2},2,2,2,2,2,2]
["Clean Energy Service Providers","Count","Clean Energy",1,"Barbados",3,3,3,3,3,3,3]
["Clean Energy Service Providers","Count","Clean Energy",1,"Belize",0,0,0,0,0,0,1]
["Clean Energy Service Providers","Count","Clean Energy",1,"Bolivia",1,1,1,1,1,1,1]
["Clean Energy Service Providers","Count","Clean Energy",1,"Brazil",16,16,16,16,16,16,18]
["Clean Energy Service Providers","Count","Clean Energy",1,"Chile",8,8,8,8,8,8,12]
["Clean Energy Service Providers","Count","Clean Energy",1,"Colombia",4,4,4,4,4,4,5]
["Clean Energy Service Providers","Count","Clean Energy",1,"Costa Rica",5,5,5,5,5,5,5]
["Clean Energy Service Providers","Count","Clean Energy",1,"Dominican Republic",0,0,0,0,0,0,1]
["Clean Energy Service Providers","Count","Clean Energy",1,"Ecuador",0,0,0,0,0,0,2]
["Clean Energy Service Providers","Count","Clean Energy",1,"El Salvador",2,2,2,2,2,2,2]
["Clean Energy Service Providers","Count","Clean Energy",1,"Guatemala",1,1,1,1,1,1,2]
["Clean Energy Service Providers","Count","Clean Energy",1,"Guyana",1,1,1,1,1,1,1]
["Clean Energy Service Providers","Count","Clean Energy",1,"Haiti",1,1,1,1,1,1,1]
["Clean Energy Service Providers","Count","Clean Energy",1,"Honduras",0,0,0,0,0,0,1]
["Clean Energy Service Providers","Count","Clean Energy",1,"Jamaica",1,1,1,1,1,1,1]
["Clean Energy Service Providers","Count","Clean Energy",1,"Mexico",{"$f":"SUMIFS(F$816:F$1335, $E$816:$E$1335, $E1353)","v":7},7,7,7,7,7,12]
["Clean Energy Service Providers","Count","Clean Energy",1,"Nicaragua",0,0,0,0,0,0,0]
["Clean Energy Service Providers","Count","Clean Energy",1,"Panama",3,3,3,3,3,3,3]
["Clean Energy Service Providers","Count","Clean Energy",1,"Paraguay",0,0,0,0,0,0,0]
["Clean Energy Service Providers","Count","Clean Energy",1,"Peru",5,5,5,5,5,5,9]
["Clean Energy Service Providers","Count","Clean Energy",1,"Suriname",0,0,0,0,0,0,0]
["Clean Energy Service Providers","Count","Clean Energy",1,"Trinidad & Tobago",0,0,0,0,0,0,5]
["Clean Energy Service Providers","Count","Clean Energy",1,"Uruguay",3,3,3,3,3,3,4]
["Clean Energy Service Providers","Count","Clean Energy",1,"Venezuela",2,2,2,2,2,2,2]
["Levilisation Data"]
["Levilisation Data","Companies","Micro Finance Penetration",{"$f":"IF(C1363=\"\",\"\",IF(OR(C1363=\"Wind\",C1363=\"Solar\",C1363=\"Geothermal\",C1363=\"Small Hydro\",C1363=\"Biofuels\",C1363=\"Biomass & Waste\"), 1, 0))","v":0},"Argentina",{"$f":"G1363","v":0.8},0.8,0.8,0.8,{"$f":"L1363","v":0.8},0.8,0.8]
["Levilisation Data","Companies","Micro Finance Penetration",0,"Bahamas",{"$f":"G1364","v":0},0,0,0,0,0,0]
["Levilisation Data","Companies","Micro Finance Penetration",0,"Barbados",{"$f":"G1365","v":0},0,0,0,0,0,0]
["Levilisation Data","Companies","Micro Finance Penetration",0,"Belize",{"$f":"G1366","v":0},0,0,0,0,0,0]
["Levilisation Data","Companies","Micro Finance Penetration",0,"Bolivia",{"$f":"G1367","v":43.5},43.5,43.5,43.5,43.5,43.5,43.5]
["Levilisation Data","Companies","Micro Finance Penetration",0,"Brazil",{"$f":"G1368","v":8.1},8.1,8.1,8.1,8.1,8.1,8.1]
["Levilisation Data","Companies","Micro Finance Penetration",0,"Chile",{"$f":"G1369","v":18},18,18,18,18,18,18]
["Levilisation Data","Companies","Micro Finance Penetration",0,"Colombia",{"$f":"G1370","v":19.399999999999999},19.399999999999999,19.399999999999999,19.399999999999999,19.399999999999999,19.399999999999999,19.399999999999999]
["Levilisation Data","Companies","Micro Finance Penetration",0,"Costa Rica",{"$f":"G1371","v":11.1},11.1,11.1,11.1,11.1,11.1,11.1]
["Levilisation Data","Companies","Micro Finance Penetration",0,"Dominican Republic",{"$f":"G1372","v":15.2},15.2,15.2,15.2,15.2,15.2,15.2]
["Levilisation Data","Companies","Micro Finance Penetration",0,"Ecuador",{"$f":"G1373","v":24.5},24.5,24.5,24.5,24.5,24.5,24.5]
["Levilisation Data","Companies","Micro Finance Penetration",0,"El Salvador",{"$f":"G1374","v":26.4},26.4,26.4,26.4,26.4,26.4,26.4]
["Levilisation Data","Companies","Micro Finance Penetration",0,"Guatemala",{"$f":"G1375","v":24.9},24.9,24.9,24.9,24.9,24.9,24.9]
["Levilisation Data","Companies","Micro Finance Penetration",0,"Guyana",{"$f":"G1376","v":0},0,0,0,0,0,0]
["Levilisation Data","Companies","Micro Finance Penetration",0,"Haiti",{"$f":"G1377","v":29},29,29,29,29,29,29]
["Levilisation Data","Companies","Micro Finance Penetration",0,"Honduras",{"$f":"G1378","v":12.4},12.4,12.4,12.4,12.4,12.4,12.4]
["Levilisation Data","Companies","Micro Finance Penetration",0,"Jamaica",{"$f":"G1379","v":0},0,0,0,0,0,0]
["Levilisation Data","Companies","Micro Finance Penetration",0,"Mexico",{"$f":"G1380","v":30.1},30.1,30.1,30.1,30.1,30.1,30.1]
["Levilisation Data","Companies","Micro Finance Penetration",0,"Nicaragua",{"$f":"G1381","v":37.5},37.5,37.5,37.5,37.5,37.5,37.5]
["Levilisation Data","Companies","Micro Finance Penetration",0,"Panama",{"$f":"G1382","v":4.9000000000000004},4.9000000000000004,4.9000000000000004,4.9000000000000004,4.9000000000000004,4.9000000000000004,4.9000000000000004]
["Levilisation Data","Companies","Micro Finance Penetration",0,"Paraguay",{"$f":"G1383","v":9.6},9.6,9.6,9.6,9.6,9.6,9.6]
["Levilisation Data","Companies","Micro Finance Penetration",0,"Peru",{"$f":"G1384","v":33.9},33.9,33.9,33.9,33.9,33.9,33.9]
["Levilisation Data","Companies","Micro Finance Penetration",0,"Suriname",{"$f":"G1385","v":0},0,0,0,0,0,0]
["Levilisation Data","Companies","Micro Finance Penetration",0,"Trinidad & Tobago",{"$f":"G1386","v":0},0,0,0,0,0,0]
["Levilisation Data","Companies","Micro Finance Penetration",0,"Uruguay",{"$f":"G1387","v":2.6},2.6,2.6,2.6,2.6,2.6,2.6]
["Levilisation Data","Companies","Micro Finance Penetration",0,"Venezuela",{"$f":"G1388","v":0.5},0.5,0.5,0.5,0.5,0.5,0.5]
["Levilisation Data","USD","Total Micro Finance Institutions",0,"Argentina",{"$f":"G1389","v":107114931},107114931,107114931,107114931,107114931,107114931,107114931]
["Levilisation Data","USD","Total Micro Finance Institutions",0,"Bahamas",{"$f":"G1390","v":0},0,0,0,0]
["Levilisation Data","USD","Total Micro Finance Institutions",0,"Barbados",{"$f":"G1391","v":0},0,0,0,0]
["Levilisation Data","USD","Total Micro Finance Institutions",0,"Belize",{"$f":"G1392","v":0},0,0,0,0]
["Levilisation Data","USD","Total Micro Finance Institutions",0,"Bolivia",{"$f":"G1393","v":7731838923},7731838923,7731838923,7731838923,7731838923,7731838923,7731838923]
["Levilisation Data","USD","Total Micro Finance Institutions",0,"Brazil",{"$f":"G1394","v":3657993552},3657993552,3657993552,3657993552,3657993552,3657993552,3657993552]
["Levilisation Data","USD","Total Micro Finance Institutions",0,"Chile",{"$f":"G1395","v":5494148081},5494148081,5494148081,5494148081,{"$f":"L1395","v":5494148081},5494148081,5494148081]
["Levilisation Data","USD","Total Micro Finance Institutions",0,"Colombia",{"$f":"G1396","v":17221534138},17221534138,17221534138,17221534138,17221534138,17221534138,17221534138]
["Levilisation Data","USD","Total Micro Finance Institutions",0,"Costa Rica",{"$f":"G1397","v":273758291},273758291,273758291,273758291,273758291,273758291,273758291]
["Levilisation Data","USD","Total Micro Finance Institutions",0,"Dominican Republic",{"$f":"G1398","v":1585452258},1585452258,1585452258,1585452258,1585452258,1585452258,1585452258]
["Levilisation Data","USD","Total Micro Finance Institutions",0,"Ecuador",{"$f":"G1399","v":6053105971},6053105971,6053105971,6053105971,6053105971,6053105971,6053105971]
["Levilisation Data","USD","Total Micro Finance Institutions",0,"El Salvador",{"$f":"G1400","v":1630757789},1630757789,1630757789,1630757789,1630757789,1630757789,1630757789]
["Levilisation Data","USD","Total Micro Finance Institutions",0,"Guatemala",{"$f":"G1401","v":681857402},681857402,681857402,681857402,681857402,681857402,681857402]
["Levilisation Data","USD","Total Micro Finance Institutions",0,"Guyana",{"$f":"G1402","v":0},0,0,0,0]
["Levilisation Data","USD","Total Micro Finance Institutions",0,"Haiti",{"$f":"G1403","v":245047014},245047014,245047014,245047014,245047014,245047014,245047014]
["Levilisation Data","USD","Total Micro Finance Institutions",0,"Honduras",{"$f":"G1404","v":917441696},917441696,917441696,917441696,917441696,917441696,917441696]
["Levilisation Data","USD","Total Micro Finance Institutions",0,"Jamaica",{"$f":"G1405","v":35253507},35253507,35253507,35253507,35253507,35253507,35253507]
["Levilisation Data","USD","Total Micro Finance Institutions",0,"Mexico",{"$f":"G1406","v":11449128084},11449128084,11449128084,11449128084,11449128084,11449128084,11449128084]
["Levilisation Data","USD","Total Micro Finance Institutions",0,"Nicaragua",{"$f":"G1407","v":2234655424},2234655424,2234655424,2234655424,2234655424,2234655424,2234655424]
["Levilisation Data","USD","Total Micro Finance Institutions",0,"Panama",{"$f":"G1408","v":75801697},75801697,75801697,75801697,75801697,75801697,75801697]
["Levilisation Data","USD","Total Micro Finance Institutions",0,"Paraguay",{"$f":"G1409","v":2272570083},2272570083,2272570083,2272570083,2272570083,2272570083,2272570083]
["Levilisation Data","USD","Total Micro Finance Institutions",0,"Peru",{"$f":"G1410","v":21178616245},21178616245,21178616245,21178616245,21178616245,21178616245,21178616245]
["Levilisation Data","USD","Total Micro Finance Institutions",0,"Suriname",{"$f":"G1411","v":1673948},1673948,1673948,1673948,1673948,1673948,1673948]
["Levilisation Data","USD","Total Micro Finance Institutions",0,"Trinidad & Tobago",{"$f":"G1412","v":4765808},4765808,4765808,4765808,4765808,4765808,4765808]
["Levilisation Data","USD","Total Micro Finance Institutions",0,"Uruguay",{"$f":"G1413","v":0},0,0,0,0]
["Levilisation Data","USD","Total Micro Finance Institutions",0,"Venezuela",{"$f":"G1414","v":34537903},34537903,34537903,34537903,34537903,34537903,34537903]
["Levilisation Data","USDbn","Gross Domestic Product",0,"Argentina",212.50700000000001,260.07100000000003,324.40499999999997,305.76299999999998,367.565,444.61200000000002,474.95400000000001]
["Levilisation Data","USDbn","Gross Domestic Product",0,"Bahamas",7.9660000000000002,8.3190000000000008,8.2469999999999999,7.7169999999999996,7.7709999999999999,7.7880000000000003,8.0429999999999993]
["Levilisation Data","USDbn","Gross Domestic Product",0,"Barbados",4.1970000000000001,4.4829999999999997,4.3440000000000003,4.3959999999999999,4.2450000000000001,4.3129999999999997,4.49]
["Levilisation Data","USDbn","Gross Domestic Product",0,"Belize",1.2130000000000001,1.282,1.3640000000000001,1.349,1.401,1.4550000000000001,1.554]
["Levilisation Data","USDbn","Gross Domestic Product",0,"Bolivia",11.52,13.215999999999999,16.792000000000002,17.463999999999999,19.786000000000001,24.120999999999999,27.428999999999998]
["Levilisation Data","USDbn","Gross Domestic Product",0,"Brazil",1089.1569999999999,1366.22,1650.3920000000001,1622.3109999999999,2142.9259999999999,2492.9070000000002,2395.9679999999998]
["Levilisation Data","USDbn","Gross Domestic Product",0,"Chile",154.708,173.06399999999999,179.524,172.10900000000001,217.31200000000001,250.994,268.17700000000002]
["Levilisation Data","USDbn","Gross Domestic Product",0,"Colombia",160.691,210.565,235.255,231.59700000000001,284.87700000000001,327.62599999999998,366.02]
["Levilisation Data","USDbn","Gross Domestic Product",0,"Costa Rica",22.526,26.321999999999999,29.838000000000001,29.382999999999999,36.218000000000004,40.869999999999997,45.134]
["Levilisation Data","USDbn","Gross Domestic Product",0,"Dominican Republic",35.667999999999999,40.985999999999997,45.515999999999998,46.713999999999999,51.671999999999997,55.636000000000003,58.996000000000002]
["Levilisation Data","USDbn","Gross Domestic Product",0,"Ecuador",46.798999999999999,51.008000000000003,60.747999999999998,57.859000000000002,63.753999999999998,73.040999999999997,80.927000000000007]
["Levilisation Data","USDbn","Gross Domestic Product",0,"El Salvador",18.550999999999998,20.105,21.431000000000001,20.661000000000001,21.417999999999999,23.094999999999999,23.815999999999999]
["Levilisation Data","USDbn","Gross Domestic Product",0,"Guatemala",30.231000000000002,34.113,39.137,37.734000000000002,41.341000000000001,46.98,49.88]
["Levilisation Data","USDbn","Gross Domestic Product",{"$f":"IF(C1428=\"\",\"\",IF(OR(C1428=\"Wind\",C1428=\"Solar\",C1428=\"Geothermal\",C1428=\"Small Hydro\",C1428=\"Biofuels\",C1428=\"Biomass & Waste\"), 1, 0))","v":0},"Guyana",1.458,1.7390000000000001,1.923,2.024,2.2589999999999999,2.577,2.7879999999999998]
["Levilisation Data","USDbn","Gross Domestic Product",0,"Haiti",4.7560000000000002,5.8849999999999998,6.55,6.5519999999999996,6.5510000000000002,7.3879999999999999,7.9020000000000001]
["Levilisation Data","USDbn","Gross Domestic Product",0,"Honduras",10.879,12.318,13.837999999999999,14.537000000000001,15.784000000000001,17.616,18.388000000000002]
["Levilisation Data","USDbn","Gross Domestic Product",0,"Jamaica",11.943,12.877000000000001,13.853,12.276,13.492000000000001,14.778,15.249000000000001]
["Levilisation Data","USDbn","Gross Domestic Product",0,"Mexico",951.68,1035.0319999999999,1093.7439999999999,882.83399999999995,1034.146,1158.3019999999999,1177.116]
["Levilisation Data","USDbn","Gross Domestic Product",0,"Nicaragua",6.7859999999999996,7.4470000000000001,8.2539999999999996,8.1549999999999994,8.5869999999999997,9.6359999999999992,10.506]
["Levilisation Data","USDbn","Gross Domestic Product",0,"Panama",17.137,19.794,23.001999999999999,24.163,27.053000000000001,31.315999999999999,36.253]
["Levilisation Data","USDbn","Gross Domestic Product",0,"Paraguay",10.712,13.907999999999999,18.620999999999999,15.926,20.733000000000001,24.08,25.998999999999999]
["Levilisation Data","USDbn","Gross Domestic Product",0,"Peru",92.323999999999998,107.251,126.869,126.953,153.88399999999999,178.48500000000001,199.00299999999999]
["Levilisation Data","USDbn","Gross Domestic Product",0,"Suriname",2.6259999999999999,2.9359999999999999,3.5329999999999999,3.8759999999999999,4.367,4.3040000000000003,4.7380000000000004]
["Levilisation Data","USDbn","Gross Domestic Product",0,"Trinidad & Tobago",18.369,21.641999999999999,27.87,19.175000000000001,20.593,23.585999999999999,25.277000000000001]
["Levilisation Data","USDbn","Gross Domestic Product",0,"Uruguay",19.579000000000001,23.411000000000001,30.366,30.497,39.411999999999999,46.71,49.404000000000003]
["Levilisation Data","USDbn","Gross Domestic Product",0,"Venezuela",183.47800000000001,230.364,315.60000000000002,329.41899999999998,393.80700000000002,316.48200000000003,382.42399999999998]
["Levilisation Data","Millions","Population",0,"Argentina",38.354999999999997,38.787999999999997,39.225999999999999,39.668999999999997,40.116999999999997,40.57,41.027999999999999]
["Levilisation Data","Millions","Population",0,"Bahamas",0.32900000000000001,0.33300000000000002,0.33700000000000002,0.34100000000000003,0.34499999999999997,0.34799999999999998,0.35199999999999998]
["Levilisation Data","Millions","Population",0,"Barbados",0.27400000000000002,0.27500000000000002,0.27500000000000002,0.27600000000000002,0.27700000000000002,0.27700000000000002,0.27800000000000002]
["Levilisation Data","Millions","Population",0,"Belize",0.3,0.314,0.32200000000000001,0.32700000000000001,0.33200000000000002,0.33700000000000002,0.34300000000000003]
["Levilisation Data","Millions","Population",0,"Bolivia",9.6270000000000007,9.8279999999999994,10.028,10.227,10.426,10.629,10.831]
["Levilisation Data","Millions","Population",0,"Brazil",187.958,189.798,191.54300000000001,193.24700000000001,194.947,196.655,198.36099999999999]
["Levilisation Data","Millions","Population",0,"Chile",16.433,16.597999999999999,16.763000000000002,16.928999999999998,17.094000000000001,17.248000000000001,17.402999999999999]
["Levilisation Data","Millions","Population",0,"Colombia",43.405000000000001,43.926000000000002,44.45,44.978000000000002,45.512,46.052,46.597999999999999]
["Levilisation Data","Millions","Population",0,"Costa Rica",4.3540000000000001,4.4429999999999996,4.5330000000000004,4.62,4.5620000000000003,4.6139999999999999,4.6660000000000004]
["Levilisation Data","Millions","Population",0,"Dominican Republic",9.1950000000000003,9.3610000000000007,9.5299999999999994,9.702,9.8770000000000007,10.055999999999999,10.237]
["Levilisation Data","Millions","Population",0,"Ecuador",13.94,14.148,14.359,14.573,14.792,15.013999999999999,15.239000000000001]
["Levilisation Data","Millions","Population",0,"El Salvador",6.07,6.1,6.13,6.1539999999999999,6.1779999999999999,6.2030000000000003,6.2290000000000001]
["Levilisation Data","Millions","Population",0,"Guatemala",13.029,13.353999999999999,13.686,14.026999999999999,14.377000000000001,14.736000000000001,15.105]
["Levilisation Data","Millions","Population",0,"Guyana",0.76200000000000001,0.76400000000000001,0.76700000000000002,0.76800000000000002,0.77100000000000002,0.77300000000000002,0.77500000000000002]
["Levilisation Data","Millions","Population",0,"Haiti",9.4450000000000003,9.6020000000000003,9.7620000000000005,9.923,9.8550000000000004,10.013,10.413]
["Levilisation Data","Millions","Population",0,"Honduras",7.2460000000000004,7.3970000000000002,7.5510000000000002,7.7080000000000002,7.8689999999999998,8.0329999999999995,8.2010000000000005]
["Levilisation Data","Millions","Population",0,"Jamaica",2.6829999999999998,2.6960000000000002,2.7080000000000002,2.7189999999999999,2.73,2.7410000000000001,2.7519999999999998]
["Levilisation Data","Millions","Population",0,"Mexico",105.363,107.09399999999999,108.854,110.642,112.31699999999999,113.735,114.872]
["Levilisation Data","Millions","Population",0,"Nicaragua",5.5590000000000002,5.601,5.6749999999999998,5.7480000000000002,5.8170000000000002,5.8890000000000002,5.9809999999999999]
["Levilisation Data","Millions","Population",0,"Panama",3.2839999999999998,3.343,3.403,3.4649999999999999,3.5270000000000001,3.59,3.6549999999999998]
["Levilisation Data","Millions","Population",0,"Paraguay",5.915,6.0330000000000004,6.1539999999999999,6.2770000000000001,6.4020000000000001,6.53,6.6609999999999996]
["Levilisation Data","Millions","Population",0,"Peru",27.64,28.221,28.657,29.100999999999999,29.552,30.009,30.474]
["Levilisation Data","Millions","Population",0,"Suriname",0.504,0.51,0.51700000000000002,0.52400000000000002,0.53100000000000003,0.53800000000000003,0.54600000000000004]
["Levilisation Data","Millions","Population",0,"Trinidad & Tobago",1.298,1.3029999999999999,1.3089999999999999,1.31,1.3180000000000001,1.323,1.329]
["Levilisation Data","Millions","Population",0,"Uruguay",3.3140000000000001,3.3239999999999998,3.3340000000000001,3.3450000000000002,3.3570000000000002,3.3690000000000002,3.3809999999999998]
["Levilisation Data","Millions","Population",0,"Venezuela",26.835000000000001,27.283999999999999,27.733000000000001,28.181999999999999,28.631,29.071999999999999,29.516999999999999]
["Value Chains by Energy Sector"]
["Value Chains by Energy Sector","Binary","Wind - Bearings",1,"Argentina",{"$f":"G1468","v":0},{"$f":"H1468","v":0},0,0,{"$f":"K1468","v":0},0,0]
["Value Chains by Energy Sector","Binary","Wind - Bearings",1,"Bahamas",{"$f":"G1469","v":0},{"$f":"H1469","v":0},0,0,{"$f":"K1469","v":0},0,0]
["Value Chains by Energy Sector","Binary","Wind - Bearings",1,"Barbados",{"$f":"G1470","v":0},0,0,0,0,0,0]
["Value Chains by Energy Sector","Binary","Wind - Bearings",1,"Belize",{"$f":"G1471","v":0},0,0,0,0,0,0]
["Value Chains by Energy Sector","Binary","Wind - Bearings",1,"Bolivia",{"$f":"G1472","v":0},0,0,0,0,0,0]
["Value Chains by Energy Sector","Binary","Wind - Bearings",1,"Brazil",{"$f":"G1473","v":0},0,0,0,0,0,0]
["Value Chains by Energy Sector","Binary","Wind - Bearings",1,"Chile",{"$f":"G1474","v":0},0,0,0,0,0,0]
["Value Chains by Energy Sector","Binary","Wind - Bearings",1,"Colombia",{"$f":"G1475","v":0},0,0,0,0,0,0]
["Value Chains by Energy Sector","Binary","Wind - Bearings",1,"Costa Rica",{"$f":"G1476","v":0},0,0,0,0,0,0]
["Value Chains by Energy Sector","Binary","Wind - Bearings",1,"Dominican Republic",{"$f":"G1477","v":0},0,0,0,0,0,0]
["Value Chains by Energy Sector","Binary","Wind - Bearings",1,"Ecuador",{"$f":"G1478","v":0},0,0,0,0,0,0]
["Value Chains by Energy Sector","Binary","Wind - Bearings",1,"El Salvador",{"$f":"G1479","v":0},0,0,0,0,0,0]
["Value Chains by Energy Sector","Binary","Wind - Bearings",1,"Guatemala",{"$f":"G1480","v":0},0,0,0,0,0,0]
["Value Chains by Energy Sector","Binary","Wind - Bearings",1,"Guyana",{"$f":"G1481","v":0},0,0,0,0,0,0]
["Value Chains by Energy Sector","Binary","Wind - Bearings",1,"Haiti",{"$f":"G1482","v":0},0,0,0,0,0,0]
["Value Chains by Energy Sector","Binary","Wind - Bearings",1,"Honduras",{"$f":"G1483","v":0},0,0,0,0,0,0]
["Value Chains by Energy Sector","Binary","Wind - Bearings",1,"Jamaica",{"$f":"G1484","v":0},0,0,0,0,0,0]
["Value Chains by Energy Sector","Binary","Wind - Bearings",1,"Mexico",{"$f":"G1485","v":0},0,0,0,0,0,0]
["Value Chains by Energy Sector","Binary","Wind - Bearings",1,"Nicaragua",{"$f":"G1486","v":0},0,0,0,0,0,0]
["Value Chains by Energy Sector","Binary","Wind - Bearings",1,"Panama",{"$f":"G1487","v":0},0,0,0,0,0,0]
["Value Chains by Energy Sector","Binary","Wind - Bearings",1,"Paraguay",{"$f":"G1488","v":0},0,0,0,0,0,0]
["Value Chains by Energy Sector","Binary","Wind - Bearings",1,"Peru",{"$f":"G1489","v":0},0,0,0,0,0,0]
["Value Chains by Energy Sector","Binary","Wind - Bearings",1,"Suriname",{"$f":"G1490","v":0},0,0,0,0,0,0]
["Value Chains by Energy Sector","Binary","Wind - Bearings",1,"Trinidad & Tobago",{"$f":"G1491","v":0},0,0,0,0,0,0]
["Value Chains by Energy Sector","Binary","Wind - Bearings",1,"Uruguay",{"$f":"G1492","v":0},0,0,0,0,0,0]
["Value Chains by Energy Sector","Binary","Wind - Bearings",1,"Venezuela",{"$f":"G1493","v":0},0,0,0,0,0,0]
["Value Chains by Energy Sector","Binary","Wind - Gearboxes",1,"Argentina",{"$f":"G1494","v":0},0,0,0,0,0,0]
["Value Chains by Energy Sector","Binary","Wind - Gearboxes",1,"Bahamas",{"$f":"G1495","v":0},0,0,0,0,0,0]
["Value Chains by Energy Sector","Binary","Wind - Gearboxes",1,"Barbados",{"$f":"G1496","v":0},0,0,0,0,0,0]
["Value Chains by Energy Sector","Binary","Wind - Gearboxes",1,"Belize",{"$f":"G1497","v":0},0,0,0,0,0,0]
["Value Chains by Energy Sector","Binary","Wind - Gearboxes",1,"Bolivia",{"$f":"G1498","v":0},0,0,0,0,0,0]
["Value Chains by Energy Sector","Binary","Wind - Gearboxes",1,"Brazil",{"$f":"G1499","v":1},1,1,1,1,1,1]
["Value Chains by Energy Sector","Binary","Wind - Gearboxes",1,"Chile",{"$f":"G1500","v":0},0,0,0,0,0,0]
["Value Chains by Energy Sector","Binary","Wind - Gearboxes",1,"Colombia",{"$f":"G1501","v":0},0,0,0,0,0,0]
["Value Chains by Energy Sector","Binary","Wind - Gearboxes",1,"Costa Rica",{"$f":"G1502","v":0},0,0,0,0,0,0]
["Value Chains by Energy Sector","Binary","Wind - Gearboxes",1,"Dominican Republic",{"$f":"G1503","v":0},0,0,0,0,0,0]
["Value Chains by Energy Sector","Binary","Wind - Gearboxes",1,"Ecuador",{"$f":"G1504","v":0},0,0,0,0,0,0]
["Value Chains by Energy Sector","Binary","Wind - Gearboxes",1,"El Salvador",{"$f":"G1505","v":0},0,0,0,0,0,0]
["Value Chains by Energy Sector","Binary","Wind - Gearboxes",1,"Guatemala",{"$f":"G1506","v":0},0,0,0,0,0,0]
["Value Chains by Energy Sector","Binary","Wind - Gearboxes",1,"Guyana",{"$f":"G1507","v":0},0,0,0,0,0,0]
["Value Chains by Energy Sector","Binary","Wind - Gearboxes",1,"Haiti",{"$f":"G1508","v":0},0,0,0,0,0,0]
["Value Chains by Energy Sector","Binary","Wind - Gearboxes",1,"Honduras",{"$f":"G1509","v":0},0,0,0,0,0,0]
["Value Chains by Energy Sector","Binary","Wind - Gearboxes",1,"Jamaica",{"$f":"G1510","v":0},0,0,0,0,0,0]
["Value Chains by Energy Sector","Binary","Wind - Gearboxes",1,"Mexico",{"$f":"G1511","v":0},0,0,0,0,0,0]
["Value Chains by Energy Sector","Binary","Wind - Gearboxes",1,"Nicaragua",{"$f":"G1512","v":0},0,0,0,0,0,0]
["Value Chains by Energy Sector","Binary","Wind - Gearboxes",1,"Panama",{"$f":"G1513","v":0},0,0,0,0,0,0]
["Value Chains by Energy Sector","Binary","Wind - Gearboxes",1,"Paraguay",{"$f":"G1514","v":0},0,0,0,0,0,0]
["Value Chains by Energy Sector","Binary","Wind - Gearboxes",1,"Peru",{"$f":"G1515","v":0},0,0,0,0,0,0]
["Value Chains by Energy Sector","Binary","Wind - Gearboxes",1,"Suriname",{"$f":"G1516","v":0},0,0,0,0,0,0]
["Value Chains by Energy Sector","Binary","Wind - Gearboxes",1,"Trinidad & Tobago",{"$f":"G1517","v":0},0,0,0,0,0,0]
["Value Chains by Energy Sector","Binary","Wind - Gearboxes",1,"Uruguay",{"$f":"G1518","v":0},0,0,0,0,0,0]
["Value Chains by Energy Sector","Binary","Wind - Gearboxes",1,"Venezuela",{"$f":"G1519","v":0},0,0,0,0,0,0]
["Value Chains by Energy Sector","Binary","Wind - Generators",1,"Argentina",{"$f":"G1520","v":1},1,1,1,1,1,1]
["Value Chains by Energy Sector","Binary","Wind - Generators",1,"Bahamas",{"$f":"G1521","v":0},0,0,0,0,0,0]
["Value Chains by Energy Sector","Binary","Wind - Generators",1,"Barbados",{"$f":"G1522","v":0},0,0,0,0,0,0]
["Value Chains by Energy Sector","Binary","Wind - Generators",1,"Belize",{"$f":"G1523","v":0},0,0,0,0,0,0]
["Value Chains by Energy Sector","Binary","Wind - Generators",1,"Bolivia",{"$f":"G1524","v":0},0,0,0,0,0,0]
["Value Chains by Energy Sector","Binary","Wind - Generators",1,"Brazil",{"$f":"G1525","v":1},1,1,1,1,1,1]
["Value Chains by Energy Sector","Binary","Wind - Generators",1,"Chile",{"$f":"G1526","v":0},0,0,0,0,0,0]
["Value Chains by Energy Sector","Binary","Wind - Generators",1,"Colombia",{"$f":"G1527","v":0},0,0,0,0,0,0]
["Value Chains by Energy Sector","Binary","Wind - Generators",1,"Costa Rica",{"$f":"G1528","v":0},0,0,0,0,0,0]
["Value Chains by Energy Sector","Binary","Wind - Generators",1,"Dominican Republic",{"$f":"G1529","v":0},0,0,0,0,0,0]
["Value Chains by Energy Sector","Binary","Wind - Generators",1,"Ecuador",{"$f":"G1530","v":0},0,0,0,0,0,0]
["Value Chains by Energy Sector","Binary","Wind - Generators",1,"El Salvador",{"$f":"G1531","v":0},0,0,0,0,0,0]
["Value Chains by Energy Sector","Binary","Wind - Generators",1,"Guatemala",{"$f":"G1532","v":0},0,0,0,0,0,0]
["Value Chains by Energy Sector","Binary","Wind - Generators",1,"Guyana",{"$f":"G1533","v":0},0,0,0,{"$f":"K1533","v":0},0,0]
["Value Chains by Energy Sector","Binary","Wind - Generators",1,"Haiti",{"$f":"G1534","v":0},0,0,0,0,0,0]
["Value Chains by Energy Sector","Binary","Wind - Generators",1,"Honduras",{"$f":"G1535","v":0},0,0,0,0,0,0]
["Value Chains by Energy Sector","Binary","Wind - Generators",1,"Jamaica",{"$f":"G1536","v":0},0,0,0,0,0,0]
["Value Chains by Energy Sector","Binary","Wind - Generators",1,"Mexico",{"$f":"G1537","v":1},1,1,1,1,1,1]
["Value Chains by Energy Sector","Binary","Wind - Generators",1,"Nicaragua",{"$f":"G1538","v":0},0,0,0,0,0,0]
["Value Chains by Energy Sector","Binary","Wind - Generators",1,"Panama",{"$f":"G1539","v":1},1,1,1,1,1,1]
["Value Chains by Energy Sector","Binary","Wind - Generators",1,"Paraguay",{"$f":"G1540","v":0},0,0,0,0,0,0]
["Value Chains by Energy Sector","Binary","Wind - Generators",1,"Peru",{"$f":"G1541","v":0},0,0,0,0,0,0]
["Value Chains by Energy Sector","Binary","Wind - Generators",1,"Suriname",{"$f":"G1542","v":0},0,0,0,0,0,0]
["Value Chains by Energy Sector","Binary","Wind - Generators",1,"Trinidad & Tobago",{"$f":"G1543","v":0},0,0,0,0,0,0]
["Value Chains by Energy Sector","Binary","Wind - Generators",1,"Uruguay",{"$f":"G1544","v":0},0,0,0,0,0,0]
["Value Chains by Energy Sector","Binary","Wind - Generators",1,"Venezuela",{"$f":"G1545","v":0},0,0,0,0,0,0]
["Value Chains by Energy Sector","Binary","Wind - Blades",1,"Argentina",{"$f":"G1546","v":0},0,0,0,0,0,0]
["Value Chains by Energy Sector","Binary","Wind - Blades",1,"Bahamas",{"$f":"G1547","v":0},0,0,0,0,0,0]
["Value Chains by Energy Sector","Binary","Wind - Blades",1,"Barbados",{"$f":"G1548","v":0},0,0,0,0,0,0]
["Value Chains by Energy Sector","Binary","Wind - Blades",1,"Belize",{"$f":"G1549","v":0},0,0,0,0,0,0]
["Value Chains by Energy Sector","Binary","Wind - Blades",1,"Bolivia",{"$f":"G1550","v":0},0,0,0,0,0,0]
["Value Chains by Energy Sector","Binary","Wind - Blades",1,"Brazil",{"$f":"G1551","v":1},1,1,1,1,1,1]
["Value Chains by Energy Sector","Binary","Wind - Blades",1,"Chile",{"$f":"G1552","v":1},1,1,1,1,1,1]
["Value Chains by Energy Sector","Binary","Wind - Blades",1,"Colombia",{"$f":"G1553","v":0},0,0,0,0,0,0]
["Value Chains by Energy Sector","Binary","Wind - Blades",1,"Costa Rica",{"$f":"G1554","v":0},0,0,0,0,0,0]
["Value Chains by Energy Sector","Binary","Wind - Blades",1,"Dominican Republic",{"$f":"G1555","v":0},0,0,0,0,0,0]
["Value Chains by Energy Sector","Binary","Wind - Blades",1,"Ecuador",{"$f":"G1556","v":0},0,0,0,0,0,0]
["Value Chains by Energy Sector","Binary","Wind - Blades",1,"El Salvador",{"$f":"G1557","v":0},0,0,0,0,0,0]
["Value Chains by Energy Sector","Binary","Wind - Blades",1,"Guatemala",{"$f":"G1558","v":0},0,0,0,0,0,0]
["Value Chains by Energy Sector","Binary","Wind - Blades",1,"Guyana",{"$f":"G1559","v":0},0,0,0,0,0,0]
["Value Chains by Energy Sector","Binary","Wind - Blades",1,"Haiti",{"$f":"G1560","v":0},0,0,0,0,0,0]
["Value Chains by Energy Sector","Binary","Wind - Blades",1,"Honduras",{"$f":"G1561","v":0},0,0,0,0,0,0]
["Value Chains by Energy Sector","Binary","Wind - Blades",1,"Jamaica",{"$f":"G1562","v":0},0,0,0,0,0,0]
["Value Chains by Energy Sector","Binary","Wind - Blades",1,"Mexico",{"$f":"G1563","v":1},1,1,1,1,1,1]
["Value Chains by Energy Sector","Binary","Wind - Blades",1,"Nicaragua",{"$f":"G1564","v":0},0,0,0,0,0,0]
["Value Chains by Energy Sector","Binary","Wind - Blades",1,"Panama",{"$f":"G1565","v":0},0,0,0,0,0,0]
["Value Chains by Energy Sector","Binary","Wind - Blades",1,"Paraguay",{"$f":"G1566","v":0},0,0,0,0,0,0]
["Value Chains by Energy Sector","Binary","Wind - Blades",1,"Peru",{"$f":"G1567","v":0},0,0,0,0,0,0]
["Value Chains by Energy Sector","Binary","Wind - Blades",1,"Suriname",{"$f":"G1568","v":0},0,0,0,0,0,0]
["Value Chains by Energy Sector","Binary","Wind - Blades",1,"Trinidad & Tobago",{"$f":"G1569","v":0},0,0,0,0,0,0]
["Value Chains by Energy Sector","Binary","Wind - Blades",1,"Uruguay",{"$f":"G1570","v":0},0,0,0,0,0,0]
["Value Chains by Energy Sector","Binary","Wind - Blades",1,"Venezuela",{"$f":"G1571","v":0},0,0,0,0,0,0]
["Value Chains by Energy Sector","Binary","Wind - Turbines",1,"Argentina",{"$f":"G1572","v":1},1,1,1,1,1,1]
["Value Chains by Energy Sector","Binary","Wind - Turbines",1,"Bahamas",{"$f":"G1573","v":0},0,0,0,0,0,0]
["Value Chains by Energy Sector","Binary","Wind - Turbines",1,"Barbados",{"$f":"G1574","v":0},0,0,0,0,0,0]
["Value Chains by Energy Sector","Binary","Wind - Turbines",1,"Belize",{"$f":"G1575","v":0},0,0,0,0,0,0]
["Value Chains by Energy Sector","Binary","Wind - Turbines",1,"Bolivia",{"$f":"G1576","v":0},0,0,0,0,0,0]
["Value Chains by Energy Sector","Binary","Wind - Turbines",1,"Brazil",{"$f":"G1577","v":1},1,1,1,1,1,1]
["Value Chains by Energy Sector","Binary","Wind - Turbines",1,"Chile",{"$f":"G1578","v":1},1,1,1,1,1,1]
["Value Chains by Energy Sector","Binary","Wind - Turbines",1,"Colombia",{"$f":"G1579","v":0},0,0,0,0,0,0]
["Value Chains by Energy Sector","Binary","Wind - Turbines",1,"Costa Rica",{"$f":"G1580","v":0},0,0,0,0,0,0]
["Value Chains by Energy Sector","Binary","Wind - Turbines",1,"Dominican Republic",{"$f":"G1581","v":0},0,0,0,0,0,0]
["Value Chains by Energy Sector","Binary","Wind - Turbines",1,"Ecuador",{"$f":"G1582","v":1},1,1,1,1,1,1]
["Value Chains by Energy Sector","Binary","Wind - Turbines",1,"El Salvador",{"$f":"G1583","v":0},0,0,0,0,0,0]
["Value Chains by Energy Sector","Binary","Wind - Turbines",1,"Guatemala",{"$f":"G1584","v":0},0,0,0,0,0,0]
["Value Chains by Energy Sector","Binary","Wind - Turbines",1,"Guyana",{"$f":"G1585","v":0},0,0,0,0,0,0]
["Value Chains by Energy Sector","Binary","Wind - Turbines",1,"Haiti",{"$f":"G1586","v":0},0,0,0,0,0,0]
["Value Chains by Energy Sector","Binary","Wind - Turbines",1,"Honduras",{"$f":"G1587","v":0},0,0,0,0,0,0]
["Value Chains by Energy Sector","Binary","Wind - Turbines",1,"Jamaica",{"$f":"G1588","v":0},0,0,0,0,0,0]
["Value Chains by Energy Sector","Binary","Wind - Turbines",1,"Mexico",{"$f":"G1589","v":1},1,1,1,1,1,0]
["Value Chains by Energy Sector","Binary","Wind - Turbines",1,"Nicaragua",{"$f":"G1590","v":0},0,0,0,0,0,0]
["Value Chains by Energy Sector","Binary","Wind - Turbines",1,"Panama",{"$f":"G1591","v":0},0,0,0,0,0,0]
["Value Chains by Energy Sector","Binary","Wind - Turbines",1,"Paraguay",{"$f":"G1592","v":0},0,0,0,0,0,0]
["Value Chains by Energy Sector","Binary","Wind - Turbines",1,"Peru",{"$f":"G1593","v":0},0,0,0,0,0,0]
["Value Chains by Energy Sector","Binary","Wind - Turbines",1,"Suriname",{"$f":"G1594","v":0},0,0,0,0,0,0]
["Value Chains by Energy Sector","Binary","Wind - Turbines",1,"Trinidad & Tobago",{"$f":"G1595","v":0},0,0,0,0,0,0]
["Value Chains by Energy Sector","Binary","Wind - Turbines",1,"Uruguay",{"$f":"G1596","v":0},0,0,0,0,0,0]
["Value Chains by Energy Sector","Binary","Wind - Turbines",1,"Venezuela",{"$f":"G1597","v":0},0,0,0,{"$f":"K1597","v":0},0,0]
["Value Chains by Energy Sector","Binary","Wind - Project Development",1,"Argentina",{"$f":"G1598","v":1},1,1,1,1,1,1]
["Value Chains by Energy Sector","Binary","Wind - Project Development",1,"Bahamas",{"$f":"G1599","v":1},1,1,1,1,1,1]
["Value Chains by Energy Sector","Binary","Wind - Project Development",1,"Barbados",{"$f":"G1600","v":0},0,0,0,0,0,0]
["Value Chains by Energy Sector","Binary","Wind - Project Development",1,"Belize",{"$f":"G1601","v":0},0,0,0,0,0,0]
["Value Chains by Energy Sector","Binary","Wind - Project Development",1,"Bolivia",{"$f":"G1602","v":0},0,0,0,0,0,0]
["Value Chains by Energy Sector","Binary","Wind - Project Development",1,"Brazil",{"$f":"G1603","v":1},1,1,1,1,1,1]
["Value Chains by Energy Sector","Binary","Wind - Project Development",1,"Chile",{"$f":"G1604","v":1},1,1,1,1,1,1]
["Value Chains by Energy Sector","Binary","Wind - Project Development",1,"Colombia",{"$f":"G1605","v":1},1,1,1,1,1,1]
["Value Chains by Energy Sector","Binary","Wind - Project Development",1,"Costa Rica",{"$f":"G1606","v":1},1,1,1,1,1,1]
["Value Chains by Energy Sector","Binary","Wind - Project Development",1,"Dominican Republic",{"$f":"G1607","v":1},1,1,1,1,1,1]
["Value Chains by Energy Sector","Binary","Wind - Project Development",1,"Ecuador",{"$f":"G1608","v":1},1,1,1,1,1,1]
["Value Chains by Energy Sector","Binary","Wind - Project Development",1,"El Salvador",{"$f":"G1609","v":1},1,1,1,1,1,1]
["Value Chains by Energy Sector","Binary","Wind - Project Development",1,"Guatemala",{"$f":"G1610","v":1},1,1,1,1,1,1]
["Value Chains by Energy Sector","Binary","Wind - Project Development",1,"Guyana",{"$f":"G1611","v":0},0,0,0,0,0,0]
["Value Chains by Energy Sector","Binary","Wind - Project Development",1,"Haiti",{"$f":"G1612","v":0},0,0,0,0,0,0]
["Value Chains by Energy Sector","Binary","Wind - Project Development",1,"Honduras",{"$f":"G1613","v":1},1,1,1,1,1,1]
["Value Chains by Energy Sector","Binary","Wind - Project Development",1,"Jamaica",{"$f":"G1614","v":1},1,1,1,1,1,1]
["Value Chains by Energy Sector","Binary","Wind - Project Development",1,"Mexico",{"$f":"G1615","v":1},1,1,1,1,1,1]
["Value Chains by Energy Sector","Binary","Wind - Project Development",1,"Nicaragua",{"$f":"G1616","v":1},1,1,1,1,1,1]
["Value Chains by Energy Sector","Binary","Wind - Project Development",1,"Panama",{"$f":"G1617","v":1},1,1,1,1,1,1]
["Value Chains by Energy Sector","Binary","Wind - Project Development",1,"Paraguay",{"$f":"G1618","v":0},0,0,0,0,0,0]
["Value Chains by Energy Sector","Binary","Wind - Project Development",1,"Peru",{"$f":"G1619","v":1},1,1,1,1,1,1]
["Value Chains by Energy Sector","Binary","Wind - Project Development",1,"Suriname",{"$f":"G1620","v":0},0,0,0,0,0,0]
["Value Chains by Energy Sector","Binary","Wind - Project Development",1,"Trinidad & Tobago",{"$f":"G1621","v":0},0,0,0,0,0,0]
["Value Chains by Energy Sector","Binary","Wind - Project Development",1,"Uruguay",{"$f":"G1622","v":1},1,1,1,1,1,1]
["Value Chains by Energy Sector","Binary","Wind - Project Development",1,"Venezuela",{"$f":"G1623","v":1},1,1,1,1,1,1]
["Value Chains by Energy Sector","Binary","Wind - Construction/Installation",1,"Argentina",{"$f":"G1624","v":0},0,0,0,0,0,1]
["Value Chains by Energy Sector","Binary","Wind - Construction/Installation",1,"Bahamas",{"$f":"G1625","v":0},0,0,0,0,0,0]
["Value Chains by Energy Sector","Binary","Wind - Construction/Installation",1,"Barbados",{"$f":"G1626","v":0},0,0,0,0,0,0]
["Value Chains by Energy Sector","Binary","Wind - Construction/Installation",1,"Belize",{"$f":"G1627","v":0},0,0,0,0,0,0]
["Value Chains by Energy Sector","Binary","Wind - Construction/Installation",1,"Bolivia",{"$f":"G1628","v":0},0,0,0,0,0,0]
["Value Chains by Energy Sector","Binary","Wind - Construction/Installation",1,"Brazil",{"$f":"G1629","v":1},1,1,1,1,1,1]
["Value Chains by Energy Sector","Binary","Wind - Construction/Installation",1,"Chile",{"$f":"G1630","v":1},1,1,1,1,1,1]
["Value Chains by Energy Sector","Binary","Wind - Construction/Installation",1,"Colombia",{"$f":"G1631","v":1},1,1,1,1,1,1]
["Value Chains by Energy Sector","Binary","Wind - Construction/Installation",1,"Costa Rica",{"$f":"G1632","v":1},1,1,1,1,1,1]
["Value Chains by Energy Sector","Binary","Wind - Construction/Installation",1,"Dominican Republic",{"$f":"G1633","v":0},0,0,0,0,0,0]
["Value Chains by Energy Sector","Binary","Wind - Construction/Installation",1,"Ecuador",{"$f":"G1634","v":0},0,0,0,0,0,0]
["Value Chains by Energy Sector","Binary","Wind - Construction/Installation",1,"El Salvador",{"$f":"G1635","v":0},0,0,0,0,0,0]
["Value Chains by Energy Sector","Binary","Wind - Construction/Installation",1,"Guatemala",{"$f":"G1636","v":0},0,0,0,0,0,0]
["Value Chains by Energy Sector","Binary","Wind - Construction/Installation",1,"Guyana",{"$f":"G1637","v":0},0,0,0,0,0,0]
["Value Chains by Energy Sector","Binary","Wind - Construction/Installation",1,"Haiti",{"$f":"G1638","v":0},0,0,0,0,0,0]
["Value Chains by Energy Sector","Binary","Wind - Construction/Installation",1,"Honduras",{"$f":"G1639","v":0},0,0,0,0,0,0]
["Value Chains by Energy Sector","Binary","Wind - Construction/Installation",1,"Jamaica",{"$f":"G1640","v":0},0,0,0,0,0,0]
["Value Chains by Energy Sector","Binary","Wind - Construction/Installation",1,"Mexico",{"$f":"G1641","v":1},1,1,1,1,1,1]
["Value Chains by Energy Sector","Binary","Wind - Construction/Installation",1,"Nicaragua",{"$f":"G1642","v":0},0,0,0,0,0,1]
["Value Chains by Energy Sector","Binary","Wind - Construction/Installation",1,"Panama",{"$f":"G1643","v":0},0,0,0,0,0,0]
["Value Chains by Energy Sector","Binary","Wind - Construction/Installation",1,"Paraguay",{"$f":"G1644","v":0},0,0,0,0,0,0]
["Value Chains by Energy Sector","Binary","Wind - Construction/Installation",1,"Peru",{"$f":"G1645","v":0},0,0,0,0,0,1]
["Value Chains by Energy Sector","Binary","Wind - Construction/Installation",1,"Suriname",{"$f":"G1646","v":0},0,0,0,0,0,0]
["Value Chains by Energy Sector","Binary","Wind - Construction/Installation",1,"Trinidad & Tobago",{"$f":"G1647","v":0},0,0,0,0,0,0]
["Value Chains by Energy Sector","Binary","Wind - Construction/Installation",1,"Uruguay",{"$f":"G1648","v":1},1,1,1,1,1,1]
["Value Chains by Energy Sector","Binary","Wind - Construction/Installation",1,"Venezuela",{"$f":"G1649","v":0},0,0,0,0,0,0]
["Value Chains by Energy Sector","Binary","Wind - Power Generator",1,"Argentina",{"$f":"G1650","v":1},1,1,1,1,1,1]
["Value Chains by Energy Sector","Binary","Wind - Power Generator",1,"Bahamas",{"$f":"G1651","v":0},0,0,0,0,0,0]
["Value Chains by Energy Sector","Binary","Wind - Power Generator",1,"Barbados",{"$f":"G1652","v":0},0,0,0,0,0,0]
["Value Chains by Energy Sector","Binary","Wind - Power Generator",1,"Belize",{"$f":"G1653","v":0},0,0,0,0,0,0]
["Value Chains by Energy Sector","Binary","Wind - Power Generator",1,"Bolivia",{"$f":"G1654","v":0},0,0,0,0,0,0]
["Value Chains by Energy Sector","Binary","Wind - Power Generator",1,"Brazil",{"$f":"G1655","v":1},1,1,1,1,1,1]
["Value Chains by Energy Sector","Binary","Wind - Power Generator",1,"Chile",{"$f":"G1656","v":1},1,1,1,1,1,1]
["Value Chains by Energy Sector","Binary","Wind - Power Generator",1,"Colombia",{"$f":"G1657","v":1},1,1,1,1,1,1]
["Value Chains by Energy Sector","Binary","Wind - Power Generator",1,"Costa Rica",{"$f":"G1658","v":1},1,1,1,1,1,1]
["Value Chains by Energy Sector","Binary","Wind - Power Generator",1,"Dominican Republic",{"$f":"G1659","v":0},0,0,0,0,0,1]
["Value Chains by Energy Sector","Binary","Wind - Power Generator",1,"Ecuador",{"$f":"G1660","v":1},1,1,1,1,1,1]
["Value Chains by Energy Sector","Binary","Wind - Power Generator",1,"El Salvador",{"$f":"G1661","v":1},1,1,1,{"$f":"K1661","v":1},1,1]
["Value Chains by Energy Sector","Binary","Wind - Power Generator",1,"Guatemala",{"$f":"G1662","v":1},1,1,1,1,1,1]
["Value Chains by Energy Sector","Binary","Wind - Power Generator",1,"Guyana",{"$f":"G1663","v":0},0,0,0,0,0,0]
["Value Chains by Energy Sector","Binary","Wind - Power Generator",1,"Haiti",{"$f":"G1664","v":0},0,0,0,0,0,0]
["Value Chains by Energy Sector","Binary","Wind - Power Generator",1,"Honduras",{"$f":"G1665","v":1},1,1,1,1,1,1]
["Value Chains by Energy Sector","Binary","Wind - Power Generator",1,"Jamaica",{"$f":"G1666","v":1},1,1,1,1,1,1]
["Value Chains by Energy Sector","Binary","Wind - Power Generator",1,"Mexico",{"$f":"G1667","v":1},1,1,1,1,1,1]
["Value Chains by Energy Sector","Binary","Wind - Power Generator",1,"Nicaragua",{"$f":"G1668","v":0},0,0,0,0,0,1]
["Value Chains by Energy Sector","Binary","Wind - Power Generator",1,"Panama",{"$f":"G1669","v":0},0,0,0,0,0,0]
["Value Chains by Energy Sector","Binary","Wind - Power Generator",1,"Paraguay",{"$f":"G1670","v":0},0,0,0,0,0,0]
["Value Chains by Energy Sector","Binary","Wind - Power Generator",1,"Peru",{"$f":"G1671","v":1},1,1,1,1,1,1]
["Value Chains by Energy Sector","Binary","Wind - Power Generator",1,"Suriname",{"$f":"G1672","v":0},0,0,0,0,0,0]
["Value Chains by Energy Sector","Binary","Wind - Power Generator",1,"Trinidad & Tobago",{"$f":"G1673","v":0},0,0,0,0,0,0]
["Value Chains by Energy Sector","Binary","Wind - Power Generator",1,"Uruguay",{"$f":"G1674","v":1},1,1,1,1,1,1]
["Value Chains by Energy Sector","Binary","Wind - Power Generator",1,"Venezuela",{"$f":"G1675","v":0},0,0,0,0,0,1]
["Value Chains by Energy Sector","Binary","Wind - Operation & Maintenance",1,"Argentina",{"$f":"G1676","v":1},1,1,1,1,1,1]
["Value Chains by Energy Sector","Binary","Wind - Operation & Maintenance",1,"Bahamas",{"$f":"G1677","v":0},0,0,0,0,0,0]
["Value Chains by Energy Sector","Binary","Wind - Operation & Maintenance",1,"Barbados",{"$f":"G1678","v":0},0,0,0,0,0,0]
["Value Chains by Energy Sector","Binary","Wind - Operation & Maintenance",1,"Belize",{"$f":"G1679","v":0},0,0,0,0,0,0]
["Value Chains by Energy Sector","Binary","Wind - Operation & Maintenance",1,"Bolivia",{"$f":"G1680","v":0},0,0,0,0,0,0]
["Value Chains by Energy Sector","Binary","Wind - Operation & Maintenance",1,"Brazil",{"$f":"G1681","v":1},1,1,1,1,1,1]
["Value Chains by Energy Sector","Binary","Wind - Operation & Maintenance",1,"Chile",{"$f":"G1682","v":1},1,1,1,1,1,1]
["Value Chains by Energy Sector","Binary","Wind - Operation & Maintenance",1,"Colombia",{"$f":"G1683","v":0},0,0,0,0,0,1]
["Value Chains by Energy Sector","Binary","Wind - Operation & Maintenance",1,"Costa Rica",{"$f":"G1684","v":1},1,1,1,1,1,1]
["Value Chains by Energy Sector","Binary","Wind - Operation & Maintenance",1,"Dominican Republic",{"$f":"G1685","v":0},0,0,0,0,0,0]
["Value Chains by Energy Sector","Binary","Wind - Operation & Maintenance",1,"Ecuador",{"$f":"G1686","v":0},0,0,0,0,0,0]
["Value Chains by Energy Sector","Binary","Wind - Operation & Maintenance",1,"El Salvador",{"$f":"G1687","v":0},0,0,0,0,0,0]
["Value Chains by Energy Sector","Binary","Wind - Operation & Maintenance",1,"Guatemala",{"$f":"G1688","v":0},0,0,0,0,0,0]
["Value Chains by Energy Sector","Binary","Wind - Operation & Maintenance",1,"Guyana",{"$f":"G1689","v":0},0,0,0,0,0,0]
["Value Chains by Energy Sector","Binary","Wind - Operation & Maintenance",1,"Haiti",{"$f":"G1690","v":0},0,0,0,0,0,0]
["Value Chains by Energy Sector","Binary","Wind - Operation & Maintenance",1,"Honduras",{"$f":"G1691","v":0},0,0,0,0,0,0]
["Value Chains by Energy Sector","Binary","Wind - Operation & Maintenance",1,"Jamaica",{"$f":"G1692","v":0},0,0,0,0,0,0]
["Value Chains by Energy Sector","Binary","Wind - Operation & Maintenance",1,"Mexico",{"$f":"G1693","v":1},1,1,1,1,1,1]
["Value Chains by Energy Sector","Binary","Wind - Operation & Maintenance",1,"Nicaragua",{"$f":"G1694","v":0},0,0,0,0,0,1]
["Value Chains by Energy Sector","Binary","Wind - Operation & Maintenance",1,"Panama",{"$f":"G1695","v":0},0,0,0,0,0,0]
["Value Chains by Energy Sector","Binary","Wind - Operation & Maintenance",1,"Paraguay",{"$f":"G1696","v":0},0,0,0,0,0,0]
["Value Chains by Energy Sector","Binary","Wind - Operation & Maintenance",1,"Peru",{"$f":"G1697","v":0},0,0,0,0,0,0]
["Value Chains by Energy Sector","Binary","Wind - Operation & Maintenance",1,"Suriname",{"$f":"G1698","v":0},0,0,0,0,0,0]
["Value Chains by Energy Sector","Binary","Wind - Operation & Maintenance",1,"Trinidad & Tobago",{"$f":"G1699","v":0},0,0,0,0,0,0]
["Value Chains by Energy Sector","Binary","Wind - Operation & Maintenance",1,"Uruguay",{"$f":"G1700","v":0},0,0,0,0,0,0]
["Value Chains by Energy Sector","Binary","Wind - Operation & Maintenance",1,"Venezuela",{"$f":"G1701","v":0},0,0,0,0,0,0]
["Value Chains by Energy Sector","Binary","Solar - Polysilicon/ingots",1,"Argentina",{"$f":"G1702","v":0},0,0,0,0,0,0]
["Value Chains by Energy Sector","Binary","Solar - Polysilicon/ingots",1,"Bahamas",{"$f":"G1703","v":0},0,0,0,0,0,0]
["Value Chains by Energy Sector","Binary","Solar - Polysilicon/ingots",1,"Barbados",{"$f":"G1704","v":0},0,0,0,0,0,0]
["Value Chains by Energy Sector","Binary","Solar - Polysilicon/ingots",1,"Belize",{"$f":"G1705","v":0},0,0,0,0,0,0]
["Value Chains by Energy Sector","Binary","Solar - Polysilicon/ingots",1,"Bolivia",{"$f":"G1706","v":0},0,0,0,0,0,0]
["Value Chains by Energy Sector","Binary","Solar - Polysilicon/ingots",1,"Brazil",{"$f":"G1707","v":0},0,0,0,0,0,1]
["Value Chains by Energy Sector","Binary","Solar - Polysilicon/ingots",1,"Chile",{"$f":"G1708","v":0},0,0,0,0,0,0]
["Value Chains by Energy Sector","Binary","Solar - Polysilicon/ingots",1,"Colombia",{"$f":"G1709","v":0},0,0,0,0,0,0]
["Value Chains by Energy Sector","Binary","Solar - Polysilicon/ingots",1,"Costa Rica",{"$f":"G1710","v":0},0,0,0,0,0,0]
["Value Chains by Energy Sector","Binary","Solar - Polysilicon/ingots",1,"Dominican Republic",{"$f":"G1711","v":0},0,0,0,0,0,0]
["Value Chains by Energy Sector","Binary","Solar - Polysilicon/ingots",1,"Ecuador",{"$f":"G1712","v":0},0,0,0,0,0,0]
["Value Chains by Energy Sector","Binary","Solar - Polysilicon/ingots",1,"El Salvador",{"$f":"G1713","v":0},0,0,0,0,0,0]
["Value Chains by Energy Sector","Binary","Solar - Polysilicon/ingots",1,"Guatemala",{"$f":"G1714","v":0},0,0,0,0,0,0]
["Value Chains by Energy Sector","Binary","Solar - Polysilicon/ingots",1,"Guyana",{"$f":"G1715","v":0},0,0,0,0,0,0]
["Value Chains by Energy Sector","Binary","Solar - Polysilicon/ingots",1,"Haiti",{"$f":"G1716","v":0},0,0,0,0,0,0]
["Value Chains by Energy Sector","Binary","Solar - Polysilicon/ingots",1,"Honduras",{"$f":"G1717","v":0},0,0,0,0,0,0]
["Value Chains by Energy Sector","Binary","Solar - Polysilicon/ingots",1,"Jamaica",{"$f":"G1718","v":0},0,0,0,0,0,0]
["Value Chains by Energy Sector","Binary","Solar - Polysilicon/ingots",1,"Mexico",{"$f":"G1719","v":0},0,0,0,0,0,0]
["Value Chains by Energy Sector","Binary","Solar - Polysilicon/ingots",1,"Nicaragua",{"$f":"G1720","v":0},0,0,0,0,0,0]
["Value Chains by Energy Sector","Binary","Solar - Polysilicon/ingots",1,"Panama",{"$f":"G1721","v":0},0,0,0,0,0,0]
["Value Chains by Energy Sector","Binary","Solar - Polysilicon/ingots",1,"Paraguay",{"$f":"G1722","v":0},0,0,0,0,0,0]
["Value Chains by Energy Sector","Binary","Solar - Polysilicon/ingots",1,"Peru",{"$f":"G1723","v":0},0,0,0,0,0,0]
["Value Chains by Energy Sector","Binary","Solar - Polysilicon/ingots",1,"Suriname",{"$f":"G1724","v":0},0,0,0,0,0,0]
["Value Chains by Energy Sector","Binary","Solar - Polysilicon/ingots",1,"Trinidad & Tobago",{"$f":"G1725","v":0},0,0,0,{"$f":"K1725","v":0},0,0]
["Value Chains by Energy Sector","Binary","Solar - Polysilicon/ingots",1,"Uruguay",{"$f":"G1726","v":0},0,0,0,0,0,0]
["Value Chains by Energy Sector","Binary","Solar - Polysilicon/ingots",1,"Venezuela",{"$f":"G1727","v":0},0,0,0,0,0,0]
["Value Chains by Energy Sector","Binary","Solar - Wafers",1,"Argentina",{"$f":"G1728","v":0},0,0,0,0,0,0]
["Value Chains by Energy Sector","Binary","Solar - Wafers",1,"Bahamas",{"$f":"G1729","v":0},0,0,0,0,0,0]
["Value Chains by Energy Sector","Binary","Solar - Wafers",1,"Barbados",{"$f":"G1730","v":0},0,0,0,0,0,0]
["Value Chains by Energy Sector","Binary","Solar - Wafers",1,"Belize",{"$f":"G1731","v":0},0,0,0,0,0,0]
["Value Chains by Energy Sector","Binary","Solar - Wafers",1,"Bolivia",{"$f":"G1732","v":0},0,0,0,0,0,0]
["Value Chains by Energy Sector","Binary","Solar - Wafers",1,"Brazil",1,1,1,1,1,1,1]
["Value Chains by Energy Sector","Binary","Solar - Wafers",1,"Chile",{"$f":"G1734","v":0},0,0,0,0,0,0]
["Value Chains by Energy Sector","Binary","Solar - Wafers",1,"Colombia",{"$f":"G1735","v":0},0,0,0,0,0,0]
["Value Chains by Energy Sector","Binary","Solar - Wafers",1,"Costa Rica",{"$f":"G1736","v":0},0,0,0,0,0,0]
["Value Chains by Energy Sector","Binary","Solar - Wafers",1,"Dominican Republic",{"$f":"G1737","v":0},0,0,0,0,0,0]
["Value Chains by Energy Sector","Binary","Solar - Wafers",1,"Ecuador",{"$f":"G1738","v":0},0,0,0,0,0,0]
["Value Chains by Energy Sector","Binary","Solar - Wafers",1,"El Salvador",{"$f":"G1739","v":0},0,0,0,0,0,0]
["Value Chains by Energy Sector","Binary","Solar - Wafers",1,"Guatemala",{"$f":"G1740","v":0},0,0,0,0,0,0]
["Value Chains by Energy Sector","Binary","Solar - Wafers",1,"Guyana",{"$f":"G1741","v":0},0,0,0,0,0,0]
["Value Chains by Energy Sector","Binary","Solar - Wafers",1,"Haiti",{"$f":"G1742","v":0},0,0,0,0,0,0]
["Value Chains by Energy Sector","Binary","Solar - Wafers",1,"Honduras",{"$f":"G1743","v":0},0,0,0,0,0,0]
["Value Chains by Energy Sector","Binary","Solar - Wafers",1,"Jamaica",{"$f":"G1744","v":0},0,0,0,0,0,0]
["Value Chains by Energy Sector","Binary","Solar - Wafers",1,"Mexico",{"$f":"G1745","v":0},0,0,0,0,0,0]
["Value Chains by Energy Sector","Binary","Solar - Wafers",1,"Nicaragua",{"$f":"G1746","v":0},0,0,0,0,0,0]
["Value Chains by Energy Sector","Binary","Solar - Wafers",1,"Panama",{"$f":"G1747","v":0},0,0,0,0,0,0]
["Value Chains by Energy Sector","Binary","Solar - Wafers",1,"Paraguay",{"$f":"G1748","v":0},0,0,0,0,0,0]
["Value Chains by Energy Sector","Binary","Solar - Wafers",1,"Peru",{"$f":"G1749","v":0},0,0,0,0,0,0]
["Value Chains by Energy Sector","Binary","Solar - Wafers",1,"Suriname",{"$f":"G1750","v":0},0,0,0,0,0,0]
["Value Chains by Energy Sector","Binary","Solar - Wafers",1,"Trinidad & Tobago",{"$f":"G1751","v":0},0,0,0,0,0,0]
["Value Chains by Energy Sector","Binary","Solar - Wafers",1,"Uruguay",{"$f":"G1752","v":0},0,0,0,0,0,0]
["Value Chains by Energy Sector","Binary","Solar - Wafers",1,"Venezuela",{"$f":"G1753","v":0},0,0,0,0,0,0]
["Value Chains by Energy Sector","Binary","Solar - Cells",1,"Argentina",0,0,0,0,0,0,0]
["Value Chains by Energy Sector","Binary","Solar - Cells",1,"Bahamas",0,0,0,0,0,0,0]
["Value Chains by Energy Sector","Binary","Solar - Cells",1,"Barbados",0,0,0,0,0,0,0]
["Value Chains by Energy Sector","Binary","Solar - Cells",1,"Belize",0,0,0,0,0,0,0]
["Value Chains by Energy Sector","Binary","Solar - Cells",1,"Bolivia",0,0,0,0,0,0,0]
["Value Chains by Energy Sector","Binary","Solar - Cells",1,"Brazil",1,1,1,1,1,1,1]
["Value Chains by Energy Sector","Binary","Solar - Cells",1,"Chile",0,0,0,0,0,0,0]
["Value Chains by Energy Sector","Binary","Solar - Cells",1,"Colombia",0,0,0,0,0,0,0]
["Value Chains by Energy Sector","Binary","Solar - Cells",1,"Costa Rica",0,0,0,0,0,0,0]
["Value Chains by Energy Sector","Binary","Solar - Cells",1,"Dominican Republic",0,0,0,0,0,0,0]
["Value Chains by Energy Sector","Binary","Solar - Cells",1,"Ecuador",0,0,0,0,0,0,0]
["Value Chains by Energy Sector","Binary","Solar - Cells",1,"El Salvador",0,0,0,0,0,0,0]
["Value Chains by Energy Sector","Binary","Solar - Cells",1,"Guatemala",0,0,0,0,0,0,0]
["Value Chains by Energy Sector","Binary","Solar - Cells",1,"Guyana",0,0,0,0,0,0,0]
["Value Chains by Energy Sector","Binary","Solar - Cells",1,"Haiti",0,0,0,0,0,0,0]
["Value Chains by Energy Sector","Binary","Solar - Cells",1,"Honduras",0,0,0,0,0,0,0]
["Value Chains by Energy Sector","Binary","Solar - Cells",1,"Jamaica",0,0,0,0,0,0,0]
["Value Chains by Energy Sector","Binary","Solar - Cells",1,"Mexico",1,1,1,1,1,1,0]
["Value Chains by Energy Sector","Binary","Solar - Cells",1,"Nicaragua",0,0,0,0,0,0,0]
["Value Chains by Energy Sector","Binary","Solar - Cells",1,"Panama",0,0,0,0,0,0,0]
["Value Chains by Energy Sector","Binary","Solar - Cells",1,"Paraguay",0,0,0,0,0,0,0]
["Value Chains by Energy Sector","Binary","Solar - Cells",1,"Peru",0,0,0,0,0,0,0]
["Value Chains by Energy Sector","Binary","Solar - Cells",1,"Suriname",0,0,0,0,0,0,0]
["Value Chains by Energy Sector","Binary","Solar - Cells",1,"Trinidad & Tobago",0,0,0,0,0,0,0]
["Value Chains by Energy Sector","Binary","Solar - Cells",1,"Uruguay",0,0,0,0,0,0,0]
["Value Chains by Energy Sector","Binary","Solar - Cells",1,"Venezuela",0,0,0,0,0,0,0]
["Value Chains by Energy Sector","Binary","Solar - Modules",1,"Argentina",0,0,0,0,0,0,0]
["Value Chains by Energy Sector","Binary","Solar - Modules",1,"Bahamas",0,0,0,0,0,0,0]
["Value Chains by Energy Sector","Binary","Solar - Modules",1,"Barbados",0,0,0,0,0,0,0]
["Value Chains by Energy Sector","Binary","Solar - Modules",1,"Belize",0,0,0,0,0,0,0]
["Value Chains by Energy Sector","Binary","Solar - Modules",1,"Bolivia",0,0,0,0,0,0,0]
["Value Chains by Energy Sector","Binary","Solar - Modules",1,"Brazil",1,1,1,1,1,1,1]
["Value Chains by Energy Sector","Binary","Solar - Modules",1,"Chile",0,0,0,0,0,0,0]
["Value Chains by Energy Sector","Binary","Solar - Modules",1,"Colombia",0,0,0,0,0,0,0]
["Value Chains by Energy Sector","Binary","Solar - Modules",1,"Costa Rica",0,0,0,0,0,0,0]
["Value Chains by Energy Sector","Binary","Solar - Modules",1,"Dominican Republic",0,0,0,0,{"$f":"K1789","v":0},0,0]
["Value Chains by Energy Sector","Binary","Solar - Modules",1,"Ecuador",0,0,0,0,0,0,0]
["Value Chains by Energy Sector","Binary","Solar - Modules",1,"El Salvador",0,0,0,0,0,0,0]
["Value Chains by Energy Sector","Binary","Solar - Modules",1,"Guatemala",0,0,0,0,0,0,0]
["Value Chains by Energy Sector","Binary","Solar - Modules",1,"Guyana",0,0,0,0,0,0,0]
["Value Chains by Energy Sector","Binary","Solar - Modules",1,"Haiti",1,1,1,1,1,1,1]
["Value Chains by Energy Sector","Binary","Solar - Modules",1,"Honduras",0,0,0,0,0,0,0]
["Value Chains by Energy Sector","Binary","Solar - Modules",1,"Jamaica",0,0,0,0,0,0,0]
["Value Chains by Energy Sector","Binary","Solar - Modules",1,"Mexico",1,1,1,1,1,1,1]
["Value Chains by Energy Sector","Binary","Solar - Modules",1,"Nicaragua",0,0,0,0,0,0,0]
["Value Chains by Energy Sector","Binary","Solar - Modules",1,"Panama",0,0,0,0,0,0,0]
["Value Chains by Energy Sector","Binary","Solar - Modules",1,"Paraguay",0,0,0,0,0,0,0]
["Value Chains by Energy Sector","Binary","Solar - Modules",1,"Peru",0,0,0,0,0,0,0]
["Value Chains by Energy Sector","Binary","Solar - Modules",1,"Suriname",0,0,0,0,0,0,0]
["Value Chains by Energy Sector","Binary","Solar - Modules",1,"Trinidad & Tobago",0,0,0,0,0,0,0]
["Value Chains by Energy Sector","Binary","Solar - Modules",1,"Uruguay",0,0,0,0,0,0,0]
["Value Chains by Energy Sector","Binary","Solar - Modules",1,"Venezuela",0,0,0,0,0,0,0]
["Value Chains by Energy Sector","Binary","Solar - Balance of Plant",1,"Argentina",1,1,1,1,1,1,0]
["Value Chains by Energy Sector","Binary","Solar - Balance of Plant",1,"Bahamas",0,0,0,0,0,0,0]
["Value Chains by Energy Sector","Binary","Solar - Balance of Plant",1,"Barbados",0,0,0,0,0,0,0]
["Value Chains by Energy Sector","Binary","Solar - Balance of Plant",1,"Belize",0,0,0,0,0,0,0]
["Value Chains by Energy Sector","Binary","Solar - Balance of Plant",1,"Bolivia",0,0,0,0,0,0,0]
["Value Chains by Energy Sector","Binary","Solar - Balance of Plant",1,"Brazil",1,1,1,1,1,1,0]
["Value Chains by Energy Sector","Binary","Solar - Balance of Plant",1,"Chile",0,0,0,0,0,0,0]
["Value Chains by Energy Sector","Binary","Solar - Balance of Plant",1,"Colombia",0,0,0,0,0,0,0]
["Value Chains by Energy Sector","Binary","Solar - Balance of Plant",1,"Costa Rica",0,0,0,0,0,0,0]
["Value Chains by Energy Sector","Binary","Solar - Balance of Plant",1,"Dominican Republic",0,0,0,0,0,0,0]
["Value Chains by Energy Sector","Binary","Solar - Balance of Plant",1,"Ecuador",0,0,0,0,0,0,0]
["Value Chains by Energy Sector","Binary","Solar - Balance of Plant",1,"El Salvador",0,0,0,0,0,0,0]
["Value Chains by Energy Sector","Binary","Solar - Balance of Plant",1,"Guatemala",1,1,1,1,1,1,0]
["Value Chains by Energy Sector","Binary","Solar - Balance of Plant",1,"Guyana",0,0,0,0,0,0,0]
["Value Chains by Energy Sector","Binary","Solar - Balance of Plant",1,"Haiti",1,1,1,1,1,1,0]
["Value Chains by Energy Sector","Binary","Solar - Balance of Plant",1,"Honduras",0,0,0,0,0,0,0]
["Value Chains by Energy Sector","Binary","Solar - Balance of Plant",1,"Jamaica",0,0,0,0,0,0,0]
["Value Chains by Energy Sector","Binary","Solar - Balance of Plant",1,"Mexico",1,1,1,1,1,1,1]
["Value Chains by Energy Sector","Binary","Solar - Balance of Plant",1,"Nicaragua",0,0,0,0,0,0,0]
["Value Chains by Energy Sector","Binary","Solar - Balance of Plant",1,"Panama",0,0,0,0,0,0,0]
["Value Chains by Energy Sector","Binary","Solar - Balance of Plant",1,"Paraguay",0,0,0,0,0,0,0]
["Value Chains by Energy Sector","Binary","Solar - Balance of Plant",1,"Peru",1,1,1,1,1,1,0]
["Value Chains by Energy Sector","Binary","Solar - Balance of Plant",1,"Suriname",0,0,0,0,0,0,0]
["Value Chains by Energy Sector","Binary","Solar - Balance of Plant",1,"Trinidad & Tobago",0,0,0,0,0,0,0]
["Value Chains by Energy Sector","Binary","Solar - Balance of Plant",1,"Uruguay",0,0,0,0,0,0,0]
["Value Chains by Energy Sector","Binary","Solar - Balance of Plant",1,"Venezuela",0,0,0,0,0,0,0]
["Value Chains by Energy Sector","Binary","Solar - Project Development",1,"Argentina",1,1,1,1,1,1,1]
["Value Chains by Energy Sector","Binary","Solar - Project Development",1,"Bahamas",0,0,0,0,0,0,0]
["Value Chains by Energy Sector","Binary","Solar - Project Development",1,"Barbados",0,0,0,0,0,0,0]
["Value Chains by Energy Sector","Binary","Solar - Project Development",1,"Belize",0,0,0,0,0,0,0]
["Value Chains by Energy Sector","Binary","Solar - Project Development",1,"Bolivia",0,0,0,0,0,0,0]
["Value Chains by Energy Sector","Binary","Solar - Project Development",1,"Brazil",1,1,1,1,1,1,1]
["Value Chains by Energy Sector","Binary","Solar - Project Development",1,"Chile",1,1,1,1,1,1,1]
["Value Chains by Energy Sector","Binary","Solar - Project Development",1,"Colombia",1,1,1,1,1,1,1]
["Value Chains by Energy Sector","Binary","Solar - Project Development",1,"Costa Rica",0,0,0,0,0,0,1]
["Value Chains by Energy Sector","Binary","Solar - Project Development",1,"Dominican Republic",0,0,0,0,0,0,1]
["Value Chains by Energy Sector","Binary","Solar - Project Development",1,"Ecuador",1,1,1,1,1,1,1]
["Value Chains by Energy Sector","Binary","Solar - Project Development",1,"El Salvador",1,1,1,1,1,1,1]
["Value Chains by Energy Sector","Binary","Solar - Project Development",1,"Guatemala",1,1,1,1,1,1,1]
["Value Chains by Energy Sector","Binary","Solar - Project Development",1,"Guyana",0,0,0,0,0,0,0]
["Value Chains by Energy Sector","Binary","Solar - Project Development",1,"Haiti",0,0,0,0,0,0,0]
["Value Chains by Energy Sector","Binary","Solar - Project Development",1,"Honduras",0,0,0,0,0,0,0]
["Value Chains by Energy Sector","Binary","Solar - Project Development",1,"Jamaica",1,1,1,1,1,1,1]
["Value Chains by Energy Sector","Binary","Solar - Project Development",1,"Mexico",1,1,1,1,1,1,1]
["Value Chains by Energy Sector","Binary","Solar - Project Development",1,"Nicaragua",0,0,0,0,0,0,0]
["Value Chains by Energy Sector","Binary","Solar - Project Development",1,"Panama",0,0,0,0,0,0,1]
["Value Chains by Energy Sector","Binary","Solar - Project Development",1,"Paraguay",1,1,1,1,1,1,1]
["Value Chains by Energy Sector","Binary","Solar - Project Development",1,"Peru",0,0,0,0,{"$f":"K1853","v":0},0,1]
["Value Chains by Energy Sector","Binary","Solar - Project Development",1,"Suriname",0,0,0,0,0,0,0]
["Value Chains by Energy Sector","Binary","Solar - Project Development",1,"Trinidad & Tobago",0,0,0,0,0,0,1]
["Value Chains by Energy Sector","Binary","Solar - Project Development",1,"Uruguay",1,1,1,1,1,1,1]
["Value Chains by Energy Sector","Binary","Solar - Project Development",1,"Venezuela",0,0,0,0,0,0,0]
["Value Chains by Energy Sector","Binary","Solar - EPC",1,"Argentina",0,0,0,0,0,0,1]
["Value Chains by Energy Sector","Binary","Solar - EPC",1,"Bahamas",0,0,0,0,0,0,1]
["Value Chains by Energy Sector","Binary","Solar - EPC",1,"Barbados",0,0,0,0,0,0,0]
["Value Chains by Energy Sector","Binary","Solar - EPC",1,"Belize",0,0,0,0,0,0,1]
["Value Chains by Energy Sector","Binary","Solar - EPC",1,"Bolivia",0,0,0,0,0,0,0]
["Value Chains by Energy Sector","Binary","Solar - EPC",1,"Brazil",0,0,0,0,0,0,1]
["Value Chains by Energy Sector","Binary","Solar - EPC",1,"Chile",0,0,0,0,0,0,1]
["Value Chains by Energy Sector","Binary","Solar - EPC",1,"Colombia",0,0,0,0,0,0,1]
["Value Chains by Energy Sector","Binary","Solar - EPC",1,"Costa Rica",0,0,0,0,0,0,1]
["Value Chains by Energy Sector","Binary","Solar - EPC",1,"Dominican Republic",0,0,0,0,0,0,1]
["Value Chains by Energy Sector","Binary","Solar - EPC",1,"Ecuador",0,0,0,0,0,0,0]
["Value Chains by Energy Sector","Binary","Solar - EPC",1,"El Salvador",0,0,0,0,0,0,1]
["Value Chains by Energy Sector","Binary","Solar - EPC",1,"Guatemala",0,0,0,0,0,0,1]
["Value Chains by Energy Sector","Binary","Solar - EPC",1,"Guyana",0,0,0,0,0,0,0]
["Value Chains by Energy Sector","Binary","Solar - EPC",1,"Haiti",0,0,0,0,0,0,0]
["Value Chains by Energy Sector","Binary","Solar - EPC",1,"Honduras",0,0,0,0,0,0,1]
["Value Chains by Energy Sector","Binary","Solar - EPC",1,"Jamaica",0,0,0,0,0,0,1]
["Value Chains by Energy Sector","Binary","Solar - EPC",1,"Mexico",0,0,0,0,0,0,1]
["Value Chains by Energy Sector","Binary","Solar - EPC",1,"Nicaragua",0,0,0,0,0,0,1]
["Value Chains by Energy Sector","Binary","Solar - EPC",1,"Panama",0,0,0,0,0,0,0]
["Value Chains by Energy Sector","Binary","Solar - EPC",1,"Paraguay",0,0,0,0,0,0,0]
["Value Chains by Energy Sector","Binary","Solar - EPC",1,"Peru",0,0,0,0,0,0,1]
["Value Chains by Energy Sector","Binary","Solar - EPC",1,"Suriname",0,0,0,0,0,0,0]
["Value Chains by Energy Sector","Binary","Solar - EPC",1,"Trinidad & Tobago",0,0,0,0,0,0,0]
["Value Chains by Energy Sector","Binary","Solar - EPC",1,"Uruguay",0,0,0,0,0,0,1]
["Value Chains by Energy Sector","Binary","Solar - EPC",1,"Venezuela",0,0,0,0,0,0,0]
["Value Chains by Energy Sector","Binary","Solar - Owner/Operator",1,"Argentina",0,0,0,0,0,0,0]
["Value Chains by Energy Sector","Binary","Solar - Owner/Operator",1,"Bahamas",0,0,0,0,0,0,0]
["Value Chains by Energy Sector","Binary","Solar - Owner/Operator",1,"Barbados",0,0,0,0,0,0,0]
["Value Chains by Energy Sector","Binary","Solar - Owner/Operator",1,"Belize",0,0,0,0,0,0,0]
["Value Chains by Energy Sector","Binary","Solar - Owner/Operator",1,"Bolivia",0,0,0,0,0,0,0]
["Value Chains by Energy Sector","Binary","Solar - Owner/Operator",1,"Brazil",0,0,0,0,0,0,0]
["Value Chains by Energy Sector","Binary","Solar - Owner/Operator",1,"Chile",0,0,0,0,0,0,1]
["Value Chains by Energy Sector","Binary","Solar - Owner/Operator",1,"Colombia",0,0,0,0,0,0,0]
["Value Chains by Energy Sector","Binary","Solar - Owner/Operator",1,"Costa Rica",0,0,0,0,0,0,0]
["Value Chains by Energy Sector","Binary","Solar - Owner/Operator",1,"Dominican Republic",0,0,0,0,0,0,0]
["Value Chains by Energy Sector","Binary","Solar - Owner/Operator",1,"Ecuador",0,0,0,0,0,0,0]
["Value Chains by Energy Sector","Binary","Solar - Owner/Operator",1,"El Salvador",0,0,0,0,0,0,0]
["Value Chains by Energy Sector","Binary","Solar - Owner/Operator",1,"Guatemala",0,0,0,0,0,0,0]
["Value Chains by Energy Sector","Binary","Solar - Owner/Operator",1,"Guyana",0,0,0,0,0,0,0]
["Value Chains by Energy Sector","Binary","Solar - Owner/Operator",1,"Haiti",0,0,0,0,0,0,0]
["Value Chains by Energy Sector","Binary","Solar - Owner/Operator",1,"Honduras",0,0,0,0,0,0,0]
["Value Chains by Energy Sector","Binary","Solar - Owner/Operator",1,"Jamaica",0,0,0,0,0,0,0]
["Value Chains by Energy Sector","Binary","Solar - Owner/Operator",1,"Mexico",0,0,0,0,0,0,1]
["Value Chains by Energy Sector","Binary","Solar - Owner/Operator",1,"Nicaragua",0,0,0,0,0,0,0]
["Value Chains by Energy Sector","Binary","Solar - Owner/Operator",1,"Panama",0,0,0,0,0,0,0]
["Value Chains by Energy Sector","Binary","Solar - Owner/Operator",1,"Paraguay",0,0,0,0,0,0,0]
["Value Chains by Energy Sector","Binary","Solar - Owner/Operator",1,"Peru",0,0,0,0,0,0,0]
["Value Chains by Energy Sector","Binary","Solar - Owner/Operator",1,"Suriname",0,0,0,0,0,0,0]
["Value Chains by Energy Sector","Binary","Solar - Owner/Operator",1,"Trinidad & Tobago",0,0,0,0,0,0,0]
["Value Chains by Energy Sector","Binary","Solar - Owner/Operator",1,"Uruguay",0,0,0,0,0,0,0]
["Value Chains by Energy Sector","Binary","Solar - Owner/Operator",1,"Venezuela",0,0,0,0,0,0,0]
["Value Chains by Energy Sector","Binary","Biomass & Waste - Feedstock Supply",1,"Argentina",{"$f":"G1910","v":1},1,1,1,1,1,1]
["Value Chains by Energy Sector","Binary","Biomass & Waste - Feedstock Supply",1,"Bahamas",{"$f":"G1911","v":1},1,1,1,1,1,1]
["Value Chains by Energy Sector","Binary","Biomass & Waste - Feedstock Supply",1,"Barbados",{"$f":"G1912","v":0},0,0,0,0,0,0]
["Value Chains by Energy Sector","Binary","Biomass & Waste - Feedstock Supply",1,"Belize",{"$f":"G1913","v":0},0,0,0,0,0,0]
["Value Chains by Energy Sector","Binary","Biomass & Waste - Feedstock Supply",1,"Bolivia",{"$f":"G1914","v":0},0,0,0,0,0,0]
["Value Chains by Energy Sector","Binary","Biomass & Waste - Feedstock Supply",1,"Brazil",{"$f":"G1915","v":1},1,1,1,1,1,1]
["Value Chains by Energy Sector","Binary","Biomass & Waste - Feedstock Supply",1,"Chile",{"$f":"G1916","v":1},1,1,1,1,1,1]
["Value Chains by Energy Sector","Binary","Biomass & Waste - Feedstock Supply",1,"Colombia",{"$f":"G1917","v":1},1,1,1,1,1,1]
["Value Chains by Energy Sector","Binary","Biomass & Waste - Feedstock Supply",1,"Costa Rica",{"$f":"G1918","v":0},0,0,0,0,0,0]
["Value Chains by Energy Sector","Binary","Biomass & Waste - Feedstock Supply",1,"Dominican Republic",{"$f":"G1919","v":0},0,0,0,0,0,0]
["Value Chains by Energy Sector","Binary","Biomass & Waste - Feedstock Supply",1,"Ecuador",{"$f":"G1920","v":0},0,0,0,0,0,0]
["Value Chains by Energy Sector","Binary","Biomass & Waste - Feedstock Supply",1,"El Salvador",{"$f":"G1921","v":0},0,0,0,0,0,0]
["Value Chains by Energy Sector","Binary","Biomass & Waste - Feedstock Supply",1,"Guatemala",{"$f":"G1922","v":1},1,1,1,1,1,1]
["Value Chains by Energy Sector","Binary","Biomass & Waste - Feedstock Supply",1,"Guyana",{"$f":"G1923","v":0},0,0,0,0,0,0]
["Value Chains by Energy Sector","Binary","Biomass & Waste - Feedstock Supply",1,"Haiti",{"$f":"G1924","v":0},0,0,0,0,0,0]
["Value Chains by Energy Sector","Binary","Biomass & Waste - Feedstock Supply",1,"Honduras",{"$f":"G1925","v":0},0,0,0,0,0,0]
["Value Chains by Energy Sector","Binary","Biomass & Waste - Feedstock Supply",1,"Jamaica",{"$f":"G1926","v":0},0,0,0,0,0,0]
["Value Chains by Energy Sector","Binary","Biomass & Waste - Feedstock Supply",1,"Mexico",{"$f":"G1927","v":1},1,1,1,1,1,1]
["Value Chains by Energy Sector","Binary","Biomass & Waste - Feedstock Supply",1,"Nicaragua",{"$f":"G1928","v":0},0,0,0,0,0,0]
["Value Chains by Energy Sector","Binary","Biomass & Waste - Feedstock Supply",1,"Panama",{"$f":"G1929","v":0},0,0,0,0,0,0]
["Value Chains by Energy Sector","Binary","Biomass & Waste - Feedstock Supply",1,"Paraguay",{"$f":"G1930","v":0},0,0,0,0,0,0]
["Value Chains by Energy Sector","Binary","Biomass & Waste - Feedstock Supply",1,"Peru",{"$f":"G1931","v":1},1,1,1,1,1,1]
["Value Chains by Energy Sector","Binary","Biomass & Waste - Feedstock Supply",1,"Suriname",{"$f":"G1932","v":0},0,0,0,0,0,0]
["Value Chains by Energy Sector","Binary","Biomass & Waste - Feedstock Supply",1,"Trinidad & Tobago",{"$f":"G1933","v":0},0,0,0,0,0,0]
["Value Chains by Energy Sector","Binary","Biomass & Waste - Feedstock Supply",1,"Uruguay",{"$f":"G1934","v":1},1,1,1,1,1,1]
["Value Chains by Energy Sector","Binary","Biomass & Waste - Feedstock Supply",1,"Venezuela",{"$f":"G1935","v":0},0,0,0,0,0,0]
["Value Chains by Energy Sector","Binary","Biomass & Waste - Manufacturing Equipment",1,"Argentina",{"$f":"G1936","v":0},0,0,0,0,0,1]
["Value Chains by Energy Sector","Binary","Biomass & Waste - Manufacturing Equipment",1,"Bahamas",{"$f":"G1937","v":0},0,0,0,0,0,0]
["Value Chains by Energy Sector","Binary","Biomass & Waste - Manufacturing Equipment",1,"Barbados",{"$f":"G1938","v":0},0,0,0,0,0,0]
["Value Chains by Energy Sector","Binary","Biomass & Waste - Manufacturing Equipment",1,"Belize",{"$f":"G1939","v":0},0,0,0,0,0,0]
["Value Chains by Energy Sector","Binary","Biomass & Waste - Manufacturing Equipment",1,"Bolivia",{"$f":"G1940","v":0},0,0,0,0,0,0]
["Value Chains by Energy Sector","Binary","Biomass & Waste - Manufacturing Equipment",1,"Brazil",{"$f":"G1941","v":1},1,1,1,1,1,1]
["Value Chains by Energy Sector","Binary","Biomass & Waste - Manufacturing Equipment",1,"Chile",{"$f":"G1942","v":1},1,1,1,1,1,1]
["Value Chains by Energy Sector","Binary","Biomass & Waste - Manufacturing Equipment",1,"Colombia",{"$f":"G1943","v":0},0,0,0,0,0,0]
["Value Chains by Energy Sector","Binary","Biomass & Waste - Manufacturing Equipment",1,"Costa Rica",{"$f":"G1944","v":0},0,0,0,0,0,0]
["Value Chains by Energy Sector","Binary","Biomass & Waste - Manufacturing Equipment",1,"Dominican Republic",{"$f":"G1945","v":0},0,0,0,0,0,0]
["Value Chains by Energy Sector","Binary","Biomass & Waste - Manufacturing Equipment",1,"Ecuador",{"$f":"G1946","v":0},0,0,0,0,0,0]
["Value Chains by Energy Sector","Binary","Biomass & Waste - Manufacturing Equipment",1,"El Salvador",{"$f":"G1947","v":0},0,0,0,0,0,0]
["Value Chains by Energy Sector","Binary","Biomass & Waste - Manufacturing Equipment",1,"Guatemala",{"$f":"G1948","v":0},0,0,0,0,0,0]
["Value Chains by Energy Sector","Binary","Biomass & Waste - Manufacturing Equipment",1,"Guyana",{"$f":"G1949","v":0},0,0,0,{"$f":"K1949","v":0},0,0]
["Value Chains by Energy Sector","Binary","Biomass & Waste - Manufacturing Equipment",1,"Haiti",{"$f":"G1950","v":0},0,0,0,0,0,0]
["Value Chains by Energy Sector","Binary","Biomass & Waste - Manufacturing Equipment",1,"Honduras",{"$f":"G1951","v":0},0,0,0,0,0,0]
["Value Chains by Energy Sector","Binary","Biomass & Waste - Manufacturing Equipment",1,"Jamaica",{"$f":"G1952","v":0},0,0,0,0,0,0]
["Value Chains by Energy Sector","Binary","Biomass & Waste - Manufacturing Equipment",1,"Mexico",{"$f":"G1953","v":1},1,1,1,1,1,1]
["Value Chains by Energy Sector","Binary","Biomass & Waste - Manufacturing Equipment",1,"Nicaragua",{"$f":"G1954","v":0},0,0,0,0,0,0]
["Value Chains by Energy Sector","Binary","Biomass & Waste - Manufacturing Equipment",1,"Panama",{"$f":"G1955","v":0},0,0,0,0,0,0]
["Value Chains by Energy Sector","Binary","Biomass & Waste - Manufacturing Equipment",1,"Paraguay",{"$f":"G1956","v":0},0,0,0,0,0,0]
["Value Chains by Energy Sector","Binary","Biomass & Waste - Manufacturing Equipment",1,"Peru",{"$f":"G1957","v":0},0,0,0,0,0,0]
["Value Chains by Energy Sector","Binary","Biomass & Waste - Manufacturing Equipment",1,"Suriname",{"$f":"G1958","v":0},0,0,0,0,0,0]
["Value Chains by Energy Sector","Binary","Biomass & Waste - Manufacturing Equipment",1,"Trinidad & Tobago",{"$f":"G1959","v":0},0,0,0,0,0,0]
["Value Chains by Energy Sector","Binary","Biomass & Waste - Manufacturing Equipment",1,"Uruguay",{"$f":"G1960","v":1},1,1,1,1,1,1]
["Value Chains by Energy Sector","Binary","Biomass & Waste - Manufacturing Equipment",1,"Venezuela",{"$f":"G1961","v":0},0,0,0,0,0,0]
["Value Chains by Energy Sector","Binary","Biomass & Waste - System Integration",1,"Argentina",{"$f":"G1962","v":0},0,0,0,0,0,1]
["Value Chains by Energy Sector","Binary","Biomass & Waste - System Integration",1,"Bahamas",{"$f":"G1963","v":0},0,0,0,0,0,0]
["Value Chains by Energy Sector","Binary","Biomass & Waste - System Integration",1,"Barbados",{"$f":"G1964","v":0},0,0,0,0,0,0]
["Value Chains by Energy Sector","Binary","Biomass & Waste - System Integration",1,"Belize",{"$f":"G1965","v":0},0,0,0,0,0,0]
["Value Chains by Energy Sector","Binary","Biomass & Waste - System Integration",1,"Bolivia",{"$f":"G1966","v":0},0,0,0,0,0,0]
["Value Chains by Energy Sector","Binary","Biomass & Waste - System Integration",1,"Brazil",{"$f":"G1967","v":1},1,1,1,1,1,1]
["Value Chains by Energy Sector","Binary","Biomass & Waste - System Integration",1,"Chile",{"$f":"G1968","v":0},0,0,0,0,0,1]
["Value Chains by Energy Sector","Binary","Biomass & Waste - System Integration",1,"Colombia",{"$f":"G1969","v":0},0,0,0,0,0,1]
["Value Chains by Energy Sector","Binary","Biomass & Waste - System Integration",1,"Costa Rica",{"$f":"G1970","v":0},0,0,0,0,0,1]
["Value Chains by Energy Sector","Binary","Biomass & Waste - System Integration",1,"Dominican Republic",{"$f":"G1971","v":0},0,0,0,0,0,0]
["Value Chains by Energy Sector","Binary","Biomass & Waste - System Integration",1,"Ecuador",{"$f":"G1972","v":0},0,0,0,0,0,0]
["Value Chains by Energy Sector","Binary","Biomass & Waste - System Integration",1,"El Salvador",{"$f":"G1973","v":0},0,0,0,0,0,0]
["Value Chains by Energy Sector","Binary","Biomass & Waste - System Integration",1,"Guatemala",{"$f":"G1974","v":0},0,0,0,0,0,0]
["Value Chains by Energy Sector","Binary","Biomass & Waste - System Integration",1,"Guyana",{"$f":"G1975","v":0},0,0,0,0,0,0]
["Value Chains by Energy Sector","Binary","Biomass & Waste - System Integration",1,"Haiti",{"$f":"G1976","v":0},0,0,0,0,0,0]
["Value Chains by Energy Sector","Binary","Biomass & Waste - System Integration",1,"Honduras",{"$f":"G1977","v":0},0,0,0,0,0,0]
["Value Chains by Energy Sector","Binary","Biomass & Waste - System Integration",1,"Jamaica",{"$f":"G1978","v":0},0,0,0,0,0,0]
["Value Chains by Energy Sector","Binary","Biomass & Waste - System Integration",1,"Mexico",{"$f":"G1979","v":0},0,0,0,0,0,1]
["Value Chains by Energy Sector","Binary","Biomass & Waste - System Integration",1,"Nicaragua",{"$f":"G1980","v":0},0,0,0,0,0,0]
["Value Chains by Energy Sector","Binary","Biomass & Waste - System Integration",1,"Panama",{"$f":"G1981","v":0},0,0,0,0,0,0]
["Value Chains by Energy Sector","Binary","Biomass & Waste - System Integration",1,"Paraguay",{"$f":"G1982","v":0},0,0,0,0,0,0]
["Value Chains by Energy Sector","Binary","Biomass & Waste - System Integration",1,"Peru",{"$f":"G1983","v":0},0,0,0,0,0,0]
["Value Chains by Energy Sector","Binary","Biomass & Waste - System Integration",1,"Suriname",{"$f":"G1984","v":0},0,0,0,0,0,0]
["Value Chains by Energy Sector","Binary","Biomass & Waste - System Integration",1,"Trinidad & Tobago",{"$f":"G1985","v":0},0,0,0,0,0,0]
["Value Chains by Energy Sector","Binary","Biomass & Waste - System Integration",1,"Uruguay",{"$f":"G1986","v":0},0,0,0,0,0,1]
["Value Chains by Energy Sector","Binary","Biomass & Waste - System Integration",1,"Venezuela",{"$f":"G1987","v":0},0,0,0,0,0,0]
["Value Chains by Energy Sector","Binary","Biomass & Waste - Project Development",1,"Argentina",{"$f":"G1988","v":1},1,1,1,1,1,1]
["Value Chains by Energy Sector","Binary","Biomass & Waste - Project Development",1,"Bahamas",{"$f":"G1989","v":0},0,0,0,0,0,0]
["Value Chains by Energy Sector","Binary","Biomass & Waste - Project Development",1,"Barbados",{"$f":"G1990","v":0},0,0,0,0,0,0]
["Value Chains by Energy Sector","Binary","Biomass & Waste - Project Development",1,"Belize",{"$f":"G1991","v":1},1,1,1,1,1,1]
["Value Chains by Energy Sector","Binary","Biomass & Waste - Project Development",1,"Bolivia",{"$f":"G1992","v":1},1,1,1,1,1,1]
["Value Chains by Energy Sector","Binary","Biomass & Waste - Project Development",1,"Brazil",{"$f":"G1993","v":1},1,1,1,1,1,1]
["Value Chains by Energy Sector","Binary","Biomass & Waste - Project Development",1,"Chile",{"$f":"G1994","v":1},1,1,1,1,1,1]
["Value Chains by Energy Sector","Binary","Biomass & Waste - Project Development",1,"Colombia",{"$f":"G1995","v":1},1,1,1,1,1,1]
["Value Chains by Energy Sector","Binary","Biomass & Waste - Project Development",1,"Costa Rica",{"$f":"G1996","v":1},1,1,1,1,1,1]
["Value Chains by Energy Sector","Binary","Biomass & Waste - Project Development",1,"Dominican Republic",{"$f":"G1997","v":0},0,0,0,0,0,0]
["Value Chains by Energy Sector","Binary","Biomass & Waste - Project Development",1,"Ecuador",{"$f":"G1998","v":1},1,1,1,1,1,1]
["Value Chains by Energy Sector","Binary","Biomass & Waste - Project Development",1,"El Salvador",{"$f":"G1999","v":1},1,1,1,1,1,1]
["Value Chains by Energy Sector","Binary","Biomass & Waste - Project Development",1,"Guatemala",{"$f":"G2000","v":1},1,1,1,1,1,1]
["Value Chains by Energy Sector","Binary","Biomass & Waste - Project Development",1,"Guyana",{"$f":"G2001","v":1},1,1,1,1,1,1]
["Value Chains by Energy Sector","Binary","Biomass & Waste - Project Development",1,"Haiti",{"$f":"G2002","v":0},0,0,0,0,0,0]
["Value Chains by Energy Sector","Binary","Biomass & Waste - Project Development",1,"Honduras",{"$f":"G2003","v":1},1,1,1,1,1,1]
["Value Chains by Energy Sector","Binary","Biomass & Waste - Project Development",1,"Jamaica",{"$f":"G2004","v":0},0,0,0,0,0,1]
["Value Chains by Energy Sector","Binary","Biomass & Waste - Project Development",1,"Mexico",{"$f":"G2005","v":1},1,1,1,1,1,1]
["Value Chains by Energy Sector","Binary","Biomass & Waste - Project Development",1,"Nicaragua",{"$f":"G2006","v":1},1,1,1,1,1,1]
["Value Chains by Energy Sector","Binary","Biomass & Waste - Project Development",1,"Panama",{"$f":"G2007","v":1},1,1,1,1,1,1]
["Value Chains by Energy Sector","Binary","Biomass & Waste - Project Development",1,"Paraguay",{"$f":"G2008","v":0},0,0,0,0,0,1]
["Value Chains by Energy Sector","Binary","Biomass & Waste - Project Development",1,"Peru",{"$f":"G2009","v":1},1,1,1,1,1,1]
["Value Chains by Energy Sector","Binary","Biomass & Waste - Project Development",1,"Suriname",{"$f":"G2010","v":0},0,0,0,0,0,0]
["Value Chains by Energy Sector","Binary","Biomass & Waste - Project Development",1,"Trinidad & Tobago",{"$f":"G2011","v":0},0,0,0,0,0,0]
["Value Chains by Energy Sector","Binary","Biomass & Waste - Project Development",1,"Uruguay",{"$f":"G2012","v":1},1,1,1,1,1,1]
["Value Chains by Energy Sector","Binary","Biomass & Waste - Project Development",1,"Venezuela",{"$f":"G2013","v":0},0,0,0,{"$f":"K2013","v":0},0,0]
["Value Chains by Energy Sector","Binary","Biomass & Waste - Power Generation",1,"Argentina",{"$f":"G2014","v":1},1,1,1,1,1,1]
["Value Chains by Energy Sector","Binary","Biomass & Waste - Power Generation",1,"Bahamas",{"$f":"G2015","v":0},0,0,0,0,0,0]
["Value Chains by Energy Sector","Binary","Biomass & Waste - Power Generation",1,"Barbados",{"$f":"G2016","v":0},0,0,0,0,0,0]
["Value Chains by Energy Sector","Binary","Biomass & Waste - Power Generation",1,"Belize",{"$f":"G2017","v":1},1,1,1,1,1,1]
["Value Chains by Energy Sector","Binary","Biomass & Waste - Power Generation",1,"Bolivia",{"$f":"G2018","v":1},1,1,1,1,1,1]
["Value Chains by Energy Sector","Binary","Biomass & Waste - Power Generation",1,"Brazil",{"$f":"G2019","v":1},1,1,1,1,1,1]
["Value Chains by Energy Sector","Binary","Biomass & Waste - Power Generation",1,"Chile",{"$f":"G2020","v":1},1,1,1,1,1,1]
["Value Chains by Energy Sector","Binary","Biomass & Waste - Power Generation",1,"Colombia",{"$f":"G2021","v":1},1,1,1,1,1,1]
["Value Chains by Energy Sector","Binary","Biomass & Waste - Power Generation",1,"Costa Rica",{"$f":"G2022","v":1},1,1,1,1,1,1]
["Value Chains by Energy Sector","Binary","Biomass & Waste - Power Generation",1,"Dominican Republic",{"$f":"G2023","v":0},0,0,0,0,0,0]
["Value Chains by Energy Sector","Binary","Biomass & Waste - Power Generation",1,"Ecuador",{"$f":"G2024","v":0},0,0,0,0,0,0]
["Value Chains by Energy Sector","Binary","Biomass & Waste - Power Generation",1,"El Salvador",{"$f":"G2025","v":1},1,1,1,1,1,1]
["Value Chains by Energy Sector","Binary","Biomass & Waste - Power Generation",1,"Guatemala",{"$f":"G2026","v":1},1,1,1,1,1,1]
["Value Chains by Energy Sector","Binary","Biomass & Waste - Power Generation",1,"Guyana",{"$f":"G2027","v":0},0,0,0,0,0,0]
["Value Chains by Energy Sector","Binary","Biomass & Waste - Power Generation",1,"Haiti",{"$f":"G2028","v":0},0,0,0,0,0,0]
["Value Chains by Energy Sector","Binary","Biomass & Waste - Power Generation",1,"Honduras",{"$f":"G2029","v":1},1,1,1,1,1,1]
["Value Chains by Energy Sector","Binary","Biomass & Waste - Power Generation",1,"Jamaica",{"$f":"G2030","v":0},0,0,0,0,0,1]
["Value Chains by Energy Sector","Binary","Biomass & Waste - Power Generation",1,"Mexico",{"$f":"G2031","v":1},1,1,1,1,1,1]
["Value Chains by Energy Sector","Binary","Biomass & Waste - Power Generation",1,"Nicaragua",{"$f":"G2032","v":0},0,0,0,0,0,0]
["Value Chains by Energy Sector","Binary","Biomass & Waste - Power Generation",1,"Panama",{"$f":"G2033","v":0},0,0,0,0,0,1]
["Value Chains by Energy Sector","Binary","Biomass & Waste - Power Generation",1,"Paraguay",{"$f":"G2034","v":0},0,0,0,0,0,1]
["Value Chains by Energy Sector","Binary","Biomass & Waste - Power Generation",1,"Peru",{"$f":"G2035","v":1},1,1,1,1,1,1]
["Value Chains by Energy Sector","Binary","Biomass & Waste - Power Generation",1,"Suriname",{"$f":"G2036","v":0},0,0,0,0,0,0]
["Value Chains by Energy Sector","Binary","Biomass & Waste - Power Generation",1,"Trinidad & Tobago",{"$f":"G2037","v":0},0,0,0,0,0,0]
["Value Chains by Energy Sector","Binary","Biomass & Waste - Power Generation",1,"Uruguay",{"$f":"G2038","v":1},1,1,1,1,1,1]
["Value Chains by Energy Sector","Binary","Biomass & Waste - Power Generation",1,"Venezuela",{"$f":"G2039","v":0},0,0,0,0,0,0]
["Value Chains by Energy Sector","Binary","Biofuels - Engineering Companies",1,"Argentina",{"$f":"G2040","v":0},0,0,0,0,0,1]
["Value Chains by Energy Sector","Binary","Biofuels - Engineering Companies",1,"Bahamas",{"$f":"G2041","v":0},0,0,0,0,0,0]
["Value Chains by Energy Sector","Binary","Biofuels - Engineering Companies",1,"Barbados",{"$f":"G2042","v":0},0,0,0,0,0,0]
["Value Chains by Energy Sector","Binary","Biofuels - Engineering Companies",1,"Belize",{"$f":"G2043","v":0},0,0,0,0,0,0]
["Value Chains by Energy Sector","Binary","Biofuels - Engineering Companies",1,"Bolivia",{"$f":"G2044","v":0},0,0,0,0,0,0]
["Value Chains by Energy Sector","Binary","Biofuels - Engineering Companies",1,"Brazil",{"$f":"G2045","v":1},1,1,1,1,1,1]
["Value Chains by Energy Sector","Binary","Biofuels - Engineering Companies",1,"Chile",{"$f":"G2046","v":0},0,0,0,0,0,0]
["Value Chains by Energy Sector","Binary","Biofuels - Engineering Companies",1,"Colombia",{"$f":"G2047","v":0},0,0,0,0,0,0]
["Value Chains by Energy Sector","Binary","Biofuels - Engineering Companies",1,"Costa Rica",{"$f":"G2048","v":0},0,0,0,0,0,0]
["Value Chains by Energy Sector","Binary","Biofuels - Engineering Companies",1,"Dominican Republic",{"$f":"G2049","v":0},0,0,0,0,0,0]
["Value Chains by Energy Sector","Binary","Biofuels - Engineering Companies",1,"Ecuador",{"$f":"G2050","v":1},1,1,1,1,1,1]
["Value Chains by Energy Sector","Binary","Biofuels - Engineering Companies",1,"El Salvador",{"$f":"G2051","v":0},0,0,0,0,0,0]
["Value Chains by Energy Sector","Binary","Biofuels - Engineering Companies",1,"Guatemala",{"$f":"G2052","v":0},0,0,0,0,0,0]
["Value Chains by Energy Sector","Binary","Biofuels - Engineering Companies",1,"Guyana",{"$f":"G2053","v":0},0,0,0,0,0,0]
["Value Chains by Energy Sector","Binary","Biofuels - Engineering Companies",1,"Haiti",{"$f":"G2054","v":0},0,0,0,0,0,0]
["Value Chains by Energy Sector","Binary","Biofuels - Engineering Companies",1,"Honduras",{"$f":"G2055","v":0},0,0,0,0,0,0]
["Value Chains by Energy Sector","Binary","Biofuels - Engineering Companies",1,"Jamaica",{"$f":"G2056","v":0},0,0,0,0,0,0]
["Value Chains by Energy Sector","Binary","Biofuels - Engineering Companies",1,"Mexico",{"$f":"G2057","v":0},0,0,0,0,0,0]
["Value Chains by Energy Sector","Binary","Biofuels - Engineering Companies",1,"Nicaragua",{"$f":"G2058","v":0},0,0,0,0,0,0]
["Value Chains by Energy Sector","Binary","Biofuels - Engineering Companies",1,"Panama",{"$f":"G2059","v":0},0,0,0,0,0,0]
["Value Chains by Energy Sector","Binary","Biofuels - Engineering Companies",1,"Paraguay",{"$f":"G2060","v":1},1,1,1,1,1,1]
["Value Chains by Energy Sector","Binary","Biofuels - Engineering Companies",1,"Peru",{"$f":"G2061","v":1},1,1,1,1,1,1]
["Value Chains by Energy Sector","Binary","Biofuels - Engineering Companies",1,"Suriname",{"$f":"G2062","v":0},0,0,0,0,0,0]
["Value Chains by Energy Sector","Binary","Biofuels - Engineering Companies",1,"Trinidad & Tobago",{"$f":"G2063","v":1},1,1,1,1,1,1]
["Value Chains by Energy Sector","Binary","Biofuels - Engineering Companies",1,"Uruguay",{"$f":"G2064","v":0},0,0,0,0,0,0]
["Value Chains by Energy Sector","Binary","Biofuels - Engineering Companies",1,"Venezuela",{"$f":"G2065","v":0},0,0,0,0,0,0]
["Value Chains by Energy Sector","Binary","Biofuels - Producers",1,"Argentina",{"$f":"G2066","v":1},1,1,1,1,1,1]
["Value Chains by Energy Sector","Binary","Biofuels - Producers",1,"Bahamas",{"$f":"G2067","v":0},0,0,0,0,0,1]
["Value Chains by Energy Sector","Binary","Biofuels - Producers",1,"Barbados",{"$f":"G2068","v":0},0,0,0,0,0,0]
["Value Chains by Energy Sector","Binary","Biofuels - Producers",1,"Belize",{"$f":"G2069","v":0},0,0,0,0,0,0]
["Value Chains by Energy Sector","Binary","Biofuels - Producers",1,"Bolivia",{"$f":"G2070","v":0},0,0,0,0,0,0]
["Value Chains by Energy Sector","Binary","Biofuels - Producers",1,"Brazil",{"$f":"G2071","v":1},1,1,1,1,1,1]
["Value Chains by Energy Sector","Binary","Biofuels - Producers",1,"Chile",{"$f":"G2072","v":0},0,0,0,0,0,1]
["Value Chains by Energy Sector","Binary","Biofuels - Producers",1,"Colombia",{"$f":"G2073","v":1},1,1,1,1,1,1]
["Value Chains by Energy Sector","Binary","Biofuels - Producers",1,"Costa Rica",{"$f":"G2074","v":1},1,1,1,1,1,1]
["Value Chains by Energy Sector","Binary","Biofuels - Producers",1,"Dominican Republic",{"$f":"G2075","v":1},1,1,1,1,1,1]
["Value Chains by Energy Sector","Binary","Biofuels - Producers",1,"Ecuador",{"$f":"G2076","v":0},0,0,0,0,0,1]
["Value Chains by Energy Sector","Binary","Biofuels - Producers",1,"El Salvador",{"$f":"G2077","v":1},1,1,1,{"$f":"K2077","v":1},1,1]
["Value Chains by Energy Sector","Binary","Biofuels - Producers",1,"Guatemala",{"$f":"G2078","v":1},1,1,1,1,1,1]
["Value Chains by Energy Sector","Binary","Biofuels - Producers",1,"Guyana",{"$f":"G2079","v":0},0,0,0,0,0,0]
["Value Chains by Energy Sector","Binary","Biofuels - Producers",1,"Haiti",{"$f":"G2080","v":0},0,0,0,0,0,0]
["Value Chains by Energy Sector","Binary","Biofuels - Producers",1,"Honduras",{"$f":"G2081","v":0},0,0,0,0,0,0]
["Value Chains by Energy Sector","Binary","Biofuels - Producers",1,"Jamaica",{"$f":"G2082","v":1},1,1,1,1,1,1]
["Value Chains by Energy Sector","Binary","Biofuels - Producers",1,"Mexico",{"$f":"G2083","v":1},1,1,1,1,1,1]
["Value Chains by Energy Sector","Binary","Biofuels - Producers",1,"Nicaragua",{"$f":"G2084","v":0},0,0,0,0,0,0]
["Value Chains by Energy Sector","Binary","Biofuels - Producers",1,"Panama",{"$f":"G2085","v":0},0,0,0,0,0,0]
["Value Chains by Energy Sector","Binary","Biofuels - Producers",1,"Paraguay",{"$f":"G2086","v":1},1,1,1,1,1,1]
["Value Chains by Energy Sector","Binary","Biofuels - Producers",1,"Peru",{"$f":"G2087","v":1},1,1,1,1,1,1]
["Value Chains by Energy Sector","Binary","Biofuels - Producers",1,"Suriname",{"$f":"G2088","v":0},0,0,0,0,0,1]
["Value Chains by Energy Sector","Binary","Biofuels - Producers",1,"Trinidad & Tobago",{"$f":"G2089","v":1},1,1,1,1,1,0]
["Value Chains by Energy Sector","Binary","Biofuels - Producers",1,"Uruguay",{"$f":"G2090","v":1},1,1,1,1,1,1]
["Value Chains by Energy Sector","Binary","Biofuels - Producers",1,"Venezuela",{"$f":"G2091","v":1},1,1,1,1,1,1]
["Value Chains by Energy Sector","Binary","Biofuels - Distribution and Blending",1,"Argentina",{"$f":"G2092","v":1},1,1,1,1,1,1]
["Value Chains by Energy Sector","Binary","Biofuels - Distribution and Blending",1,"Bahamas",{"$f":"G2093","v":0},0,0,0,0,0,0]
["Value Chains by Energy Sector","Binary","Biofuels - Distribution and Blending",1,"Barbados",{"$f":"G2094","v":0},0,0,0,0,0,0]
["Value Chains by Energy Sector","Binary","Biofuels - Distribution and Blending",1,"Belize",{"$f":"G2095","v":0},0,0,0,0,0,0]
["Value Chains by Energy Sector","Binary","Biofuels - Distribution and Blending",1,"Bolivia",{"$f":"G2096","v":0},0,0,0,0,0,0]
["Value Chains by Energy Sector","Binary","Biofuels - Distribution and Blending",1,"Brazil",{"$f":"G2097","v":1},1,1,1,1,1,1]
["Value Chains by Energy Sector","Binary","Biofuels - Distribution and Blending",1,"Chile",{"$f":"G2098","v":0},0,0,0,0,0,0]
["Value Chains by Energy Sector","Binary","Biofuels - Distribution and Blending",1,"Colombia",{"$f":"G2099","v":0},0,0,0,0,0,0]
["Value Chains by Energy Sector","Binary","Biofuels - Distribution and Blending",1,"Costa Rica",{"$f":"G2100","v":0},0,0,0,0,0,0]
["Value Chains by Energy Sector","Binary","Biofuels - Distribution and Blending",1,"Dominican Republic",{"$f":"G2101","v":0},0,0,0,0,0,0]
["Value Chains by Energy Sector","Binary","Biofuels - Distribution and Blending",1,"Ecuador",{"$f":"G2102","v":0},0,0,0,0,0,0]
["Value Chains by Energy Sector","Binary","Biofuels - Distribution and Blending",1,"El Salvador",{"$f":"G2103","v":0},0,0,0,0,0,0]
["Value Chains by Energy Sector","Binary","Biofuels - Distribution and Blending",1,"Guatemala",{"$f":"G2104","v":0},0,0,0,0,0,0]
["Value Chains by Energy Sector","Binary","Biofuels - Distribution and Blending",1,"Guyana",{"$f":"G2105","v":0},0,0,0,0,0,0]
["Value Chains by Energy Sector","Binary","Biofuels - Distribution and Blending",1,"Haiti",{"$f":"G2106","v":0},0,0,0,0,0,0]
["Value Chains by Energy Sector","Binary","Biofuels - Distribution and Blending",1,"Honduras",{"$f":"G2107","v":0},0,0,0,0,0,0]
["Value Chains by Energy Sector","Binary","Biofuels - Distribution and Blending",1,"Jamaica",{"$f":"G2108","v":0},0,0,0,0,0,0]
["Value Chains by Energy Sector","Binary","Biofuels - Distribution and Blending",1,"Mexico",{"$f":"G2109","v":1},1,1,1,1,1,0]
["Value Chains by Energy Sector","Binary","Biofuels - Distribution and Blending",1,"Nicaragua",{"$f":"G2110","v":0},0,0,0,0,0,0]
["Value Chains by Energy Sector","Binary","Biofuels - Distribution and Blending",1,"Panama",{"$f":"G2111","v":0},0,0,0,0,0,0]
["Value Chains by Energy Sector","Binary","Biofuels - Distribution and Blending",1,"Paraguay",{"$f":"G2112","v":0},0,0,0,0,0,0]
["Value Chains by Energy Sector","Binary","Biofuels - Distribution and Blending",1,"Peru",{"$f":"G2113","v":1},1,1,1,1,1,0]
["Value Chains by Energy Sector","Binary","Biofuels - Distribution and Blending",1,"Suriname",{"$f":"G2114","v":0},0,0,0,0,0,0]
["Value Chains by Energy Sector","Binary","Biofuels - Distribution and Blending",1,"Trinidad & Tobago",{"$f":"G2115","v":0},0,0,0,0,0,0]
["Value Chains by Energy Sector","Binary","Biofuels - Distribution and Blending",1,"Uruguay",{"$f":"G2116","v":0},0,0,0,0,0,1]
["Value Chains by Energy Sector","Binary","Biofuels - Distribution and Blending",1,"Venezuela",{"$f":"G2117","v":0},0,0,0,0,0,0]
["Value Chains by Energy Sector","Binary","Geothermal - Project Development",1,"Argentina",{"$f":"G2118","v":1},1,1,1,1,1,1]
["Value Chains by Energy Sector","Binary","Geothermal - Project Development",1,"Bahamas",{"$f":"G2119","v":0},0,0,0,0,0,0]
["Value Chains by Energy Sector","Binary","Geothermal - Project Development",1,"Barbados",{"$f":"G2120","v":0},0,0,0,0,0,0]
["Value Chains by Energy Sector","Binary","Geothermal - Project Development",1,"Belize",{"$f":"G2121","v":0},0,0,0,0,0,0]
["Value Chains by Energy Sector","Binary","Geothermal - Project Development",1,"Bolivia",{"$f":"G2122","v":0},0,0,0,0,0,0]
["Value Chains by Energy Sector","Binary","Geothermal - Project Development",1,"Brazil",{"$f":"G2123","v":0},0,0,0,0,0,1]
["Value Chains by Energy Sector","Binary","Geothermal - Project Development",1,"Chile",{"$f":"G2124","v":1},1,1,1,1,1,1]
["Value Chains by Energy Sector","Binary","Geothermal - Project Development",1,"Colombia",{"$f":"G2125","v":0},0,0,0,0,0,0]
["Value Chains by Energy Sector","Binary","Geothermal - Project Development",1,"Costa Rica",{"$f":"G2126","v":1},1,1,1,1,1,1]
["Value Chains by Energy Sector","Binary","Geothermal - Project Development",1,"Dominican Republic",{"$f":"G2127","v":0},0,0,0,0,0,0]
["Value Chains by Energy Sector","Binary","Geothermal - Project Development",1,"Ecuador",{"$f":"G2128","v":0},0,0,0,0,0,0]
["Value Chains by Energy Sector","Binary","Geothermal - Project Development",1,"El Salvador",{"$f":"G2129","v":1},1,1,1,1,1,1]
["Value Chains by Energy Sector","Binary","Geothermal - Project Development",1,"Guatemala",{"$f":"G2130","v":1},1,1,1,1,1,1]
["Value Chains by Energy Sector","Binary","Geothermal - Project Development",1,"Guyana",{"$f":"G2131","v":0},0,0,0,0,0,0]
["Value Chains by Energy Sector","Binary","Geothermal - Project Development",1,"Haiti",{"$f":"G2132","v":0},0,0,0,0,0,0]
["Value Chains by Energy Sector","Binary","Geothermal - Project Development",1,"Honduras",{"$f":"G2133","v":1},1,1,1,1,1,1]
["Value Chains by Energy Sector","Binary","Geothermal - Project Development",1,"Jamaica",{"$f":"G2134","v":0},0,0,0,0,0,0]
["Value Chains by Energy Sector","Binary","Geothermal - Project Development",1,"Mexico",{"$f":"G2135","v":1},1,1,1,1,1,1]
["Value Chains by Energy Sector","Binary","Geothermal - Project Development",1,"Nicaragua",{"$f":"G2136","v":1},1,1,1,1,1,1]
["Value Chains by Energy Sector","Binary","Geothermal - Project Development",1,"Panama",{"$f":"G2137","v":1},1,1,1,1,1,1]
["Value Chains by Energy Sector","Binary","Geothermal - Project Development",1,"Paraguay",{"$f":"G2138","v":0},0,0,0,0,0,0]
["Value Chains by Energy Sector","Binary","Geothermal - Project Development",1,"Peru",{"$f":"G2139","v":1},1,1,1,1,1,1]
["Value Chains by Energy Sector","Binary","Geothermal - Project Development",1,"Suriname",{"$f":"G2140","v":0},0,0,0,0,0,0]
["Value Chains by Energy Sector","Binary","Geothermal - Project Development",1,"Trinidad & Tobago",{"$f":"G2141","v":0},0,0,0,{"$f":"K2141","v":0},0,0]
["Value Chains by Energy Sector","Binary","Geothermal - Project Development",1,"Uruguay",{"$f":"G2142","v":0},0,0,0,0,0,0]
["Value Chains by Energy Sector","Binary","Geothermal - Project Development",1,"Venezuela",{"$f":"G2143","v":0},0,0,0,0,0,0]
["Value Chains by Energy Sector","Binary","Geothermal - Pre-Drilling Exploration",1,"Argentina",{"$f":"G2144","v":1},1,1,1,1,1,1]
["Value Chains by Energy Sector","Binary","Geothermal - Pre-Drilling Exploration",1,"Bahamas",{"$f":"G2145","v":0},0,0,0,0,0,0]
["Value Chains by Energy Sector","Binary","Geothermal - Pre-Drilling Exploration",1,"Barbados",{"$f":"G2146","v":0},0,0,0,0,0,0]
["Value Chains by Energy Sector","Binary","Geothermal - Pre-Drilling Exploration",1,"Belize",{"$f":"G2147","v":0},0,0,0,0,0,0]
["Value Chains by Energy Sector","Binary","Geothermal - Pre-Drilling Exploration",1,"Bolivia",{"$f":"G2148","v":0},0,0,0,0,0,0]
["Value Chains by Energy Sector","Binary","Geothermal - Pre-Drilling Exploration",1,"Brazil",{"$f":"G2149","v":0},0,0,0,0,0,0]
["Value Chains by Energy Sector","Binary","Geothermal - Pre-Drilling Exploration",1,"Chile",{"$f":"G2150","v":0},0,0,0,0,0,1]
["Value Chains by Energy Sector","Binary","Geothermal - Pre-Drilling Exploration",1,"Colombia",{"$f":"G2151","v":0},0,0,0,0,0,0]
["Value Chains by Energy Sector","Binary","Geothermal - Pre-Drilling Exploration",1,"Costa Rica",{"$f":"G2152","v":0},0,0,0,0,0,0]
["Value Chains by Energy Sector","Binary","Geothermal - Pre-Drilling Exploration",1,"Dominican Republic",{"$f":"G2153","v":0},0,0,0,0,0,0]
["Value Chains by Energy Sector","Binary","Geothermal - Pre-Drilling Exploration",1,"Ecuador",{"$f":"G2154","v":0},0,0,0,0,0,0]
["Value Chains by Energy Sector","Binary","Geothermal - Pre-Drilling Exploration",1,"El Salvador",{"$f":"G2155","v":0},0,0,0,0,0,0]
["Value Chains by Energy Sector","Binary","Geothermal - Pre-Drilling Exploration",1,"Guatemala",{"$f":"G2156","v":0},0,0,0,0,0,0]
["Value Chains by Energy Sector","Binary","Geothermal - Pre-Drilling Exploration",1,"Guyana",{"$f":"G2157","v":0},0,0,0,0,0,0]
["Value Chains by Energy Sector","Binary","Geothermal - Pre-Drilling Exploration",1,"Haiti",{"$f":"G2158","v":0},0,0,0,0,0,0]
["Value Chains by Energy Sector","Binary","Geothermal - Pre-Drilling Exploration",1,"Honduras",{"$f":"G2159","v":0},0,0,0,0,0,0]
["Value Chains by Energy Sector","Binary","Geothermal - Pre-Drilling Exploration",1,"Jamaica",{"$f":"G2160","v":0},0,0,0,0,0,0]
["Value Chains by Energy Sector","Binary","Geothermal - Pre-Drilling Exploration",1,"Mexico",{"$f":"G2161","v":0},0,0,0,0,0,1]
["Value Chains by Energy Sector","Binary","Geothermal - Pre-Drilling Exploration",1,"Nicaragua",{"$f":"G2162","v":0},0,0,0,0,0,0]
["Value Chains by Energy Sector","Binary","Geothermal - Pre-Drilling Exploration",1,"Panama",{"$f":"G2163","v":0},0,0,0,0,0,0]
["Value Chains by Energy Sector","Binary","Geothermal - Pre-Drilling Exploration",1,"Paraguay",{"$f":"G2164","v":0},0,0,0,0,0,0]
["Value Chains by Energy Sector","Binary","Geothermal - Pre-Drilling Exploration",1,"Peru",{"$f":"G2165","v":0},0,0,0,0,0,0]
["Value Chains by Energy Sector","Binary","Geothermal - Pre-Drilling Exploration",1,"Suriname",{"$f":"G2166","v":0},0,0,0,0,0,0]
["Value Chains by Energy Sector","Binary","Geothermal - Pre-Drilling Exploration",1,"Trinidad & Tobago",{"$f":"G2167","v":0},0,0,0,0,0,0]
["Value Chains by Energy Sector","Binary","Geothermal - Pre-Drilling Exploration",1,"Uruguay",{"$f":"G2168","v":0},0,0,0,0,0,0]
["Value Chains by Energy Sector","Binary","Geothermal - Pre-Drilling Exploration",1,"Venezuela",{"$f":"G2169","v":0},0,0,0,0,0,0]
["Value Chains by Energy Sector","Binary","Geothermal - Exploration/Production Drilling",1,"Argentina",{"$f":"G2170","v":0},0,0,0,0,0,1]
["Value Chains by Energy Sector","Binary","Geothermal - Exploration/Production Drilling",1,"Bahamas",{"$f":"G2171","v":0},0,0,0,0,0,0]
["Value Chains by Energy Sector","Binary","Geothermal - Exploration/Production Drilling",1,"Barbados",{"$f":"G2172","v":0},0,0,0,0,0,0]
["Value Chains by Energy Sector","Binary","Geothermal - Exploration/Production Drilling",1,"Belize",{"$f":"G2173","v":0},0,0,0,0,0,0]
["Value Chains by Energy Sector","Binary","Geothermal - Exploration/Production Drilling",1,"Bolivia",{"$f":"G2174","v":0},0,0,0,0,0,0]
["Value Chains by Energy Sector","Binary","Geothermal - Exploration/Production Drilling",1,"Brazil",{"$f":"G2175","v":0},0,0,0,0,0,0]
["Value Chains by Energy Sector","Binary","Geothermal - Exploration/Production Drilling",1,"Chile",{"$f":"G2176","v":1},1,1,1,1,1,1]
["Value Chains by Energy Sector","Binary","Geothermal - Exploration/Production Drilling",1,"Colombia",{"$f":"G2177","v":0},0,0,0,0,0,0]
["Value Chains by Energy Sector","Binary","Geothermal - Exploration/Production Drilling",1,"Costa Rica",{"$f":"G2178","v":0},0,0,0,0,0,0]
["Value Chains by Energy Sector","Binary","Geothermal - Exploration/Production Drilling",1,"Dominican Republic",{"$f":"G2179","v":0},0,0,0,0,0,0]
["Value Chains by Energy Sector","Binary","Geothermal - Exploration/Production Drilling",1,"Ecuador",{"$f":"G2180","v":0},0,0,0,0,0,0]
["Value Chains by Energy Sector","Binary","Geothermal - Exploration/Production Drilling",1,"El Salvador",{"$f":"G2181","v":1},1,1,1,1,1,1]
["Value Chains by Energy Sector","Binary","Geothermal - Exploration/Production Drilling",1,"Guatemala",{"$f":"G2182","v":0},0,0,0,0,0,0]
["Value Chains by Energy Sector","Binary","Geothermal - Exploration/Production Drilling",1,"Guyana",{"$f":"G2183","v":0},0,0,0,0,0,0]
["Value Chains by Energy Sector","Binary","Geothermal - Exploration/Production Drilling",1,"Haiti",{"$f":"G2184","v":0},0,0,0,0,0,0]
["Value Chains by Energy Sector","Binary","Geothermal - Exploration/Production Drilling",1,"Honduras",{"$f":"G2185","v":0},0,0,0,0,0,0]
["Value Chains by Energy Sector","Binary","Geothermal - Exploration/Production Drilling",1,"Jamaica",{"$f":"G2186","v":0},0,0,0,0,0,0]
["Value Chains by Energy Sector","Binary","Geothermal - Exploration/Production Drilling",1,"Mexico",{"$f":"G2187","v":1},1,1,1,1,1,1]
["Value Chains by Energy Sector","Binary","Geothermal - Exploration/Production Drilling",1,"Nicaragua",{"$f":"G2188","v":0},0,0,0,0,0,0]
["Value Chains by Energy Sector","Binary","Geothermal - Exploration/Production Drilling",1,"Panama",{"$f":"G2189","v":0},0,0,0,0,0,0]
["Value Chains by Energy Sector","Binary","Geothermal - Exploration/Production Drilling",1,"Paraguay",{"$f":"G2190","v":0},0,0,0,0,0,0]
["Value Chains by Energy Sector","Binary","Geothermal - Exploration/Production Drilling",1,"Peru",{"$f":"G2191","v":0},0,0,0,0,0,0]
["Value Chains by Energy Sector","Binary","Geothermal - Exploration/Production Drilling",1,"Suriname",{"$f":"G2192","v":0},0,0,0,0,0,0]
["Value Chains by Energy Sector","Binary","Geothermal - Exploration/Production Drilling",1,"Trinidad & Tobago",{"$f":"G2193","v":0},0,0,0,0,0,0]
["Value Chains by Energy Sector","Binary","Geothermal - Exploration/Production Drilling",1,"Uruguay",{"$f":"G2194","v":0},0,0,0,0,0,0]
["Value Chains by Energy Sector","Binary","Geothermal - Exploration/Production Drilling",1,"Venezuela",{"$f":"G2195","v":0},0,0,0,0,0,0]
["Value Chains by Energy Sector","Binary","Geothermal - Well Completion & Resource Confirmation",1,"Argentina",{"$f":"G2196","v":0},0,0,0,0,0,1]
["Value Chains by Energy Sector","Binary","Geothermal - Well Completion & Resource Confirmation",1,"Bahamas",{"$f":"G2197","v":0},0,0,0,0,0,0]
["Value Chains by Energy Sector","Binary","Geothermal - Well Completion & Resource Confirmation",1,"Barbados",{"$f":"G2198","v":0},0,0,0,0,0,0]
["Value Chains by Energy Sector","Binary","Geothermal - Well Completion & Resource Confirmation",1,"Belize",{"$f":"G2199","v":0},0,0,0,0,0,0]
["Value Chains by Energy Sector","Binary","Geothermal - Well Completion & Resource Confirmation",1,"Bolivia",{"$f":"G2200","v":0},0,0,0,0,0,0]
["Value Chains by Energy Sector","Binary","Geothermal - Well Completion & Resource Confirmation",1,"Brazil",{"$f":"G2201","v":0},0,0,0,0,0,0]
["Value Chains by Energy Sector","Binary","Geothermal - Well Completion & Resource Confirmation",1,"Chile",{"$f":"G2202","v":0},0,0,0,0,0,0]
["Value Chains by Energy Sector","Binary","Geothermal - Well Completion & Resource Confirmation",1,"Colombia",{"$f":"G2203","v":0},0,0,0,0,0,0]
["Value Chains by Energy Sector","Binary","Geothermal - Well Completion & Resource Confirmation",1,"Costa Rica",{"$f":"G2204","v":0},0,0,0,0,0,0]
["Value Chains by Energy Sector","Binary","Geothermal - Well Completion & Resource Confirmation",1,"Dominican Republic",{"$f":"G2205","v":0},0,0,0,{"$f":"K2205","v":0},0,0]
["Value Chains by Energy Sector","Binary","Geothermal - Well Completion & Resource Confirmation",1,"Ecuador",{"$f":"G2206","v":0},0,0,0,0,0,0]
["Value Chains by Energy Sector","Binary","Geothermal - Well Completion & Resource Confirmation",1,"El Salvador",{"$f":"G2207","v":0},0,0,0,0,0,0]
["Value Chains by Energy Sector","Binary","Geothermal - Well Completion & Resource Confirmation",1,"Guatemala",{"$f":"G2208","v":0},0,0,0,0,0,0]
["Value Chains by Energy Sector","Binary","Geothermal - Well Completion & Resource Confirmation",1,"Guyana",{"$f":"G2209","v":0},0,0,0,0,0,0]
["Value Chains by Energy Sector","Binary","Geothermal - Well Completion & Resource Confirmation",1,"Haiti",{"$f":"G2210","v":0},0,0,0,0,0,0]
["Value Chains by Energy Sector","Binary","Geothermal - Well Completion & Resource Confirmation",1,"Honduras",{"$f":"G2211","v":0},0,0,0,0,0,0]
["Value Chains by Energy Sector","Binary","Geothermal - Well Completion & Resource Confirmation",1,"Jamaica",{"$f":"G2212","v":0},0,0,0,0,0,0]
["Value Chains by Energy Sector","Binary","Geothermal - Well Completion & Resource Confirmation",1,"Mexico",{"$f":"G2213","v":0},0,0,0,0,0,0]
["Value Chains by Energy Sector","Binary","Geothermal - Well Completion & Resource Confirmation",1,"Nicaragua",{"$f":"G2214","v":0},0,0,0,0,0,0]
["Value Chains by Energy Sector","Binary","Geothermal - Well Completion & Resource Confirmation",1,"Panama",{"$f":"G2215","v":0},0,0,0,0,0,0]
["Value Chains by Energy Sector","Binary","Geothermal - Well Completion & Resource Confirmation",1,"Paraguay",{"$f":"G2216","v":0},0,0,0,0,0,0]
["Value Chains by Energy Sector","Binary","Geothermal - Well Completion & Resource Confirmation",1,"Peru",{"$f":"G2217","v":0},0,0,0,0,0,0]
["Value Chains by Energy Sector","Binary","Geothermal - Well Completion & Resource Confirmation",1,"Suriname",{"$f":"G2218","v":0},0,0,0,0,0,0]
["Value Chains by Energy Sector","Binary","Geothermal - Well Completion & Resource Confirmation",1,"Trinidad & Tobago",{"$f":"G2219","v":0},0,0,0,0,0,0]
["Value Chains by Energy Sector","Binary","Geothermal - Well Completion & Resource Confirmation",1,"Uruguay",{"$f":"G2220","v":0},0,0,0,0,0,0]
["Value Chains by Energy Sector","Binary","Geothermal - Well Completion & Resource Confirmation",1,"Venezuela",{"$f":"G2221","v":0},0,0,0,0,0,0]
["Value Chains by Energy Sector","Binary","Geothermal - Turbine & Power Block",1,"Argentina",{"$f":"G2222","v":0},0,0,0,0,0,0]
["Value Chains by Energy Sector","Binary","Geothermal - Turbine & Power Block",1,"Bahamas",{"$f":"G2223","v":0},0,0,0,0,0,0]
["Value Chains by Energy Sector","Binary","Geothermal - Turbine & Power Block",1,"Barbados",{"$f":"G2224","v":0},0,0,0,0,0,0]
["Value Chains by Energy Sector","Binary","Geothermal - Turbine & Power Block",1,"Belize",{"$f":"G2225","v":0},0,0,0,0,0,0]
["Value Chains by Energy Sector","Binary","Geothermal - Turbine & Power Block",1,"Bolivia",{"$f":"G2226","v":0},0,0,0,0,0,0]
["Value Chains by Energy Sector","Binary","Geothermal - Turbine & Power Block",1,"Brazil",{"$f":"G2227","v":0},0,0,0,0,0,0]
["Value Chains by Energy Sector","Binary","Geothermal - Turbine & Power Block",1,"Chile",{"$f":"G2228","v":0},0,0,0,0,0,0]
["Value Chains by Energy Sector","Binary","Geothermal - Turbine & Power Block",1,"Colombia",{"$f":"G2229","v":0},0,0,0,0,0,0]
["Value Chains by Energy Sector","Binary","Geothermal - Turbine & Power Block",1,"Costa Rica",{"$f":"G2230","v":0},0,0,0,0,0,0]
["Value Chains by Energy Sector","Binary","Geothermal - Turbine & Power Block",1,"Dominican Republic",{"$f":"G2231","v":0},0,0,0,0,0,0]
["Value Chains by Energy Sector","Binary","Geothermal - Turbine & Power Block",1,"Ecuador",{"$f":"G2232","v":0},0,0,0,0,0,0]
["Value Chains by Energy Sector","Binary","Geothermal - Turbine & Power Block",1,"El Salvador",{"$f":"G2233","v":1},1,1,1,1,1,1]
["Value Chains by Energy Sector","Binary","Geothermal - Turbine & Power Block",1,"Guatemala",{"$f":"G2234","v":0},0,0,0,0,0,0]
["Value Chains by Energy Sector","Binary","Geothermal - Turbine & Power Block",1,"Guyana",{"$f":"G2235","v":0},0,0,0,0,0,0]
["Value Chains by Energy Sector","Binary","Geothermal - Turbine & Power Block",1,"Haiti",{"$f":"G2236","v":0},0,0,0,0,0,0]
["Value Chains by Energy Sector","Binary","Geothermal - Turbine & Power Block",1,"Honduras",{"$f":"G2237","v":0},0,0,0,0,0,0]
["Value Chains by Energy Sector","Binary","Geothermal - Turbine & Power Block",1,"Jamaica",{"$f":"G2238","v":0},0,0,0,0,0,0]
["Value Chains by Energy Sector","Binary","Geothermal - Turbine & Power Block",1,"Mexico",{"$f":"G2239","v":0},0,0,0,0,0,0]
["Value Chains by Energy Sector","Binary","Geothermal - Turbine & Power Block",1,"Nicaragua",{"$f":"G2240","v":0},0,0,0,0,0,0]
["Value Chains by Energy Sector","Binary","Geothermal - Turbine & Power Block",1,"Panama",{"$f":"G2241","v":0},0,0,0,0,0,0]
["Value Chains by Energy Sector","Binary","Geothermal - Turbine & Power Block",1,"Paraguay",{"$f":"G2242","v":0},0,0,0,0,0,0]
["Value Chains by Energy Sector","Binary","Geothermal - Turbine & Power Block",1,"Peru",{"$f":"G2243","v":0},0,0,0,0,0,0]
["Value Chains by Energy Sector","Binary","Geothermal - Turbine & Power Block",1,"Suriname",{"$f":"G2244","v":0},0,0,0,0,0,0]
["Value Chains by Energy Sector","Binary","Geothermal - Turbine & Power Block",1,"Trinidad & Tobago",{"$f":"G2245","v":0},0,0,0,0,0,0]
["Value Chains by Energy Sector","Binary","Geothermal - Turbine & Power Block",1,"Uruguay",{"$f":"G2246","v":0},0,0,0,0,0,0]
["Value Chains by Energy Sector","Binary","Geothermal - Turbine & Power Block",1,"Venezuela",{"$f":"G2247","v":0},0,0,0,0,0,0]
["Value Chains by Energy Sector","Binary","Geothermal - Balance of Plant",1,"Argentina",{"$f":"G2248","v":0},0,0,0,0,0,1]
["Value Chains by Energy Sector","Binary","Geothermal - Balance of Plant",1,"Bahamas",{"$f":"G2249","v":0},0,0,0,0,0,0]
["Value Chains by Energy Sector","Binary","Geothermal - Balance of Plant",1,"Barbados",{"$f":"G2250","v":0},0,0,0,0,0,0]
["Value Chains by Energy Sector","Binary","Geothermal - Balance of Plant",1,"Belize",{"$f":"G2251","v":0},0,0,0,0,0,0]
["Value Chains by Energy Sector","Binary","Geothermal - Balance of Plant",1,"Bolivia",{"$f":"G2252","v":0},0,0,0,0,0,0]
["Value Chains by Energy Sector","Binary","Geothermal - Balance of Plant",1,"Brazil",{"$f":"G2253","v":0},0,0,0,0,0,0]
["Value Chains by Energy Sector","Binary","Geothermal - Balance of Plant",1,"Chile",{"$f":"G2254","v":1},1,1,1,1,1,1]
["Value Chains by Energy Sector","Binary","Geothermal - Balance of Plant",1,"Colombia",{"$f":"G2255","v":0},0,0,0,0,0,0]
["Value Chains by Energy Sector","Binary","Geothermal - Balance of Plant",1,"Costa Rica",{"$f":"G2256","v":0},0,0,0,0,0,0]
["Value Chains by Energy Sector","Binary","Geothermal - Balance of Plant",1,"Dominican Republic",{"$f":"G2257","v":0},0,0,0,0,0,0]
["Value Chains by Energy Sector","Binary","Geothermal - Balance of Plant",1,"Ecuador",{"$f":"G2258","v":0},0,0,0,0,0,0]
["Value Chains by Energy Sector","Binary","Geothermal - Balance of Plant",1,"El Salvador",{"$f":"G2259","v":1},1,1,1,1,1,1]
["Value Chains by Energy Sector","Binary","Geothermal - Balance of Plant",1,"Guatemala",{"$f":"G2260","v":0},0,0,0,0,0,0]
["Value Chains by Energy Sector","Binary","Geothermal - Balance of Plant",1,"Guyana",{"$f":"G2261","v":0},0,0,0,0,0,0]
["Value Chains by Energy Sector","Binary","Geothermal - Balance of Plant",1,"Haiti",{"$f":"G2262","v":0},0,0,0,0,0,0]
["Value Chains by Energy Sector","Binary","Geothermal - Balance of Plant",1,"Honduras",{"$f":"G2263","v":1},1,1,1,1,1,1]
["Value Chains by Energy Sector","Binary","Geothermal - Balance of Plant",1,"Jamaica",{"$f":"G2264","v":0},0,0,0,0,0,0]
["Value Chains by Energy Sector","Binary","Geothermal - Balance of Plant",1,"Mexico",{"$f":"G2265","v":0},0,0,0,0,0,0]
["Value Chains by Energy Sector","Binary","Geothermal - Balance of Plant",1,"Nicaragua",{"$f":"G2266","v":0},0,0,0,0,0,0]
["Value Chains by Energy Sector","Binary","Geothermal - Balance of Plant",1,"Panama",{"$f":"G2267","v":0},0,0,0,0,0,0]
["Value Chains by Energy Sector","Binary","Geothermal - Balance of Plant",1,"Paraguay",{"$f":"G2268","v":0},0,0,0,0,0,0]
["Value Chains by Energy Sector","Binary","Geothermal - Balance of Plant",1,"Peru",{"$f":"G2269","v":0},0,0,0,{"$f":"K2269","v":0},0,0]
["Value Chains by Energy Sector","Binary","Geothermal - Balance of Plant",1,"Suriname",{"$f":"G2270","v":0},0,0,0,0,0,0]
["Value Chains by Energy Sector","Binary","Geothermal - Balance of Plant",1,"Trinidad & Tobago",{"$f":"G2271","v":0},0,0,0,0,0,0]
["Value Chains by Energy Sector","Binary","Geothermal - Balance of Plant",1,"Uruguay",{"$f":"G2272","v":0},0,0,0,0,0,0]
["Value Chains by Energy Sector","Binary","Geothermal - Balance of Plant",1,"Venezuela",{"$f":"G2273","v":0},0,0,0,0,0,0]
["Value Chains by Energy Sector","Binary","Geothermal - Operation & Maintenance",1,"Argentina",{"$f":"G2274","v":0},0,0,0,0,0,0]
["Value Chains by Energy Sector","Binary","Geothermal - Operation & Maintenance",1,"Bahamas",{"$f":"G2275","v":0},0,0,0,0,0,0]
["Value Chains by Energy Sector","Binary","Geothermal - Operation & Maintenance",1,"Barbados",{"$f":"G2276","v":0},0,0,0,0,0,0]
["Value Chains by Energy Sector","Binary","Geothermal - Operation & Maintenance",1,"Belize",{"$f":"G2277","v":0},0,0,0,0,0,0]
["Value Chains by Energy Sector","Binary","Geothermal - Operation & Maintenance",1,"Bolivia",{"$f":"G2278","v":0},0,0,0,0,0,0]
["Value Chains by Energy Sector","Binary","Geothermal - Operation & Maintenance",1,"Brazil",{"$f":"G2279","v":0},0,0,0,0,0,0]
["Value Chains by Energy Sector","Binary","Geothermal - Operation & Maintenance",1,"Chile",{"$f":"G2280","v":0},0,0,0,0,0,0]
["Value Chains by Energy Sector","Binary","Geothermal - Operation & Maintenance",1,"Colombia",{"$f":"G2281","v":0},0,0,0,0,0,0]
["Value Chains by Energy Sector","Binary","Geothermal - Operation & Maintenance",1,"Costa Rica",{"$f":"G2282","v":0},0,0,0,0,0,0]
["Value Chains by Energy Sector","Binary","Geothermal - Operation & Maintenance",1,"Dominican Republic",{"$f":"G2283","v":0},0,0,0,0,0,0]
["Value Chains by Energy Sector","Binary","Geothermal - Operation & Maintenance",1,"Ecuador",{"$f":"G2284","v":0},0,0,0,0,0,0]
["Value Chains by Energy Sector","Binary","Geothermal - Operation & Maintenance",1,"El Salvador",{"$f":"G2285","v":0},0,0,0,0,0,0]
["Value Chains by Energy Sector","Binary","Geothermal - Operation & Maintenance",1,"Guatemala",{"$f":"G2286","v":0},0,0,0,0,0,0]
["Value Chains by Energy Sector","Binary","Geothermal - Operation & Maintenance",1,"Guyana",{"$f":"G2287","v":0},0,0,0,0,0,0]
["Value Chains by Energy Sector","Binary","Geothermal - Operation & Maintenance",1,"Haiti",{"$f":"G2288","v":0},0,0,0,0,0,0]
["Value Chains by Energy Sector","Binary","Geothermal - Operation & Maintenance",1,"Honduras",{"$f":"G2289","v":0},0,0,0,0,0,0]
["Value Chains by Energy Sector","Binary","Geothermal - Operation & Maintenance",1,"Jamaica",{"$f":"G2290","v":0},0,0,0,0,0,0]
["Value Chains by Energy Sector","Binary","Geothermal - Operation & Maintenance",1,"Mexico",{"$f":"G2291","v":0},0,0,0,0,0,0]
["Value Chains by Energy Sector","Binary","Geothermal - Operation & Maintenance",1,"Nicaragua",{"$f":"G2292","v":0},0,0,0,0,0,0]
["Value Chains by Energy Sector","Binary","Geothermal - Operation & Maintenance",1,"Panama",{"$f":"G2293","v":0},0,0,0,0,0,0]
["Value Chains by Energy Sector","Binary","Geothermal - Operation & Maintenance",1,"Paraguay",{"$f":"G2294","v":0},0,0,0,0,0,0]
["Value Chains by Energy Sector","Binary","Geothermal - Operation & Maintenance",1,"Peru",{"$f":"G2295","v":0},0,0,0,0,0,0]
["Value Chains by Energy Sector","Binary","Geothermal - Operation & Maintenance",1,"Suriname",{"$f":"G2296","v":0},0,0,0,0,0,0]
["Value Chains by Energy Sector","Binary","Geothermal - Operation & Maintenance",1,"Trinidad & Tobago",{"$f":"G2297","v":0},0,0,0,0,0,0]
["Value Chains by Energy Sector","Binary","Geothermal - Operation & Maintenance",1,"Uruguay",{"$f":"G2298","v":0},0,0,0,0,0,0]
["Value Chains by Energy Sector","Binary","Geothermal - Operation & Maintenance",1,"Venezuela",{"$f":"G2299","v":0},0,0,0,0,0,0]
["Value Chains by Energy Sector","Binary","Geothermal - Power Purchase",1,"Argentina",{"$f":"G2300","v":0},0,0,0,0,0,0]
["Value Chains by Energy Sector","Binary","Geothermal - Power Purchase",1,"Bahamas",{"$f":"G2301","v":0},0,0,0,0,0,0]
["Value Chains by Energy Sector","Binary","Geothermal - Power Purchase",1,"Barbados",{"$f":"G2302","v":0},0,0,0,0,0,0]
["Value Chains by Energy Sector","Binary","Geothermal - Power Purchase",1,"Belize",{"$f":"G2303","v":0},0,0,0,0,0,0]
["Value Chains by Energy Sector","Binary","Geothermal - Power Purchase",1,"Bolivia",{"$f":"G2304","v":0},0,0,0,0,0,0]
["Value Chains by Energy Sector","Binary","Geothermal - Power Purchase",1,"Brazil",{"$f":"G2305","v":0},0,0,0,0,0,0]
["Value Chains by Energy Sector","Binary","Geothermal - Power Purchase",1,"Chile",{"$f":"G2306","v":1},1,1,1,1,1,1]
["Value Chains by Energy Sector","Binary","Geothermal - Power Purchase",1,"Colombia",{"$f":"G2307","v":0},0,0,0,0,0,0]
["Value Chains by Energy Sector","Binary","Geothermal - Power Purchase",1,"Costa Rica",{"$f":"G2308","v":1},1,1,1,1,1,1]
["Value Chains by Energy Sector","Binary","Geothermal - Power Purchase",1,"Dominican Republic",{"$f":"G2309","v":0},0,0,0,0,0,0]
["Value Chains by Energy Sector","Binary","Geothermal - Power Purchase",1,"Ecuador",{"$f":"G2310","v":0},0,0,0,0,0,0]
["Value Chains by Energy Sector","Binary","Geothermal - Power Purchase",1,"El Salvador",{"$f":"G2311","v":0},0,0,0,0,0,0]
["Value Chains by Energy Sector","Binary","Geothermal - Power Purchase",1,"Guatemala",{"$f":"G2312","v":1},1,1,1,1,1,1]
["Value Chains by Energy Sector","Binary","Geothermal - Power Purchase",1,"Guyana",{"$f":"G2313","v":0},0,0,0,0,0,0]
["Value Chains by Energy Sector","Binary","Geothermal - Power Purchase",1,"Haiti",{"$f":"G2314","v":0},0,0,0,0,0,0]
["Value Chains by Energy Sector","Binary","Geothermal - Power Purchase",1,"Honduras",{"$f":"G2315","v":1},1,1,1,1,1,1]
["Value Chains by Energy Sector","Binary","Geothermal - Power Purchase",1,"Jamaica",{"$f":"G2316","v":0},0,0,0,0,0,0]
["Value Chains by Energy Sector","Binary","Geothermal - Power Purchase",1,"Mexico",{"$f":"G2317","v":0},0,0,0,0,0,1]
["Value Chains by Energy Sector","Binary","Geothermal - Power Purchase",1,"Nicaragua",{"$f":"G2318","v":1},1,1,1,1,1,1]
["Value Chains by Energy Sector","Binary","Geothermal - Power Purchase",1,"Panama",{"$f":"G2319","v":0},0,0,0,0,0,0]
["Value Chains by Energy Sector","Binary","Geothermal - Power Purchase",1,"Paraguay",{"$f":"G2320","v":0},0,0,0,0,0,0]
["Value Chains by Energy Sector","Binary","Geothermal - Power Purchase",1,"Peru",{"$f":"G2321","v":0},0,0,0,0,0,0]
["Value Chains by Energy Sector","Binary","Geothermal - Power Purchase",1,"Suriname",{"$f":"G2322","v":0},0,0,0,0,0,0]
["Value Chains by Energy Sector","Binary","Geothermal - Power Purchase",1,"Trinidad & Tobago",{"$f":"G2323","v":0},0,0,0,0,0,0]
["Value Chains by Energy Sector","Binary","Geothermal - Power Purchase",1,"Uruguay",{"$f":"G2324","v":0},0,0,0,0,0,0]
["Value Chains by Energy Sector","Binary","Geothermal - Power Purchase",1,"Venezuela",{"$f":"G2325","v":0},0,0,0,0,0,0]
["Value Chains by Energy Sector","Binary","Small Hydro - Civil Works/Builder",1,"Argentina",{"$f":"G2326","v":0},0,0,0,0,0,0]
["Value Chains by Energy Sector","Binary","Small Hydro - Civil Works/Builder",1,"Bahamas",{"$f":"G2327","v":0},0,0,0,0,0,0]
["Value Chains by Energy Sector","Binary","Small Hydro - Civil Works/Builder",1,"Barbados",{"$f":"G2328","v":0},0,0,0,0,0,0]
["Value Chains by Energy Sector","Binary","Small Hydro - Civil Works/Builder",1,"Belize",{"$f":"G2329","v":0},0,0,0,0,0,0]
["Value Chains by Energy Sector","Binary","Small Hydro - Civil Works/Builder",1,"Bolivia",{"$f":"G2330","v":0},0,0,0,0,0,0]
["Value Chains by Energy Sector","Binary","Small Hydro - Civil Works/Builder",1,"Brazil",{"$f":"G2331","v":1},1,1,1,1,1,1]
["Value Chains by Energy Sector","Binary","Small Hydro - Civil Works/Builder",1,"Chile",{"$f":"G2332","v":1},1,1,1,1,1,1]
["Value Chains by Energy Sector","Binary","Small Hydro - Civil Works/Builder",1,"Colombia",{"$f":"G2333","v":0},0,0,0,{"$f":"K2333","v":0},0,0]
["Value Chains by Energy Sector","Binary","Small Hydro - Civil Works/Builder",1,"Costa Rica",{"$f":"G2334","v":1},1,1,1,1,1,1]
["Value Chains by Energy Sector","Binary","Small Hydro - Civil Works/Builder",1,"Dominican Republic",{"$f":"G2335","v":0},0,0,0,0,0,0]
["Value Chains by Energy Sector","Binary","Small Hydro - Civil Works/Builder",1,"Ecuador",{"$f":"G2336","v":0},0,0,0,0,0,0]
["Value Chains by Energy Sector","Binary","Small Hydro - Civil Works/Builder",1,"El Salvador",{"$f":"G2337","v":0},0,0,0,0,0,0]
["Value Chains by Energy Sector","Binary","Small Hydro - Civil Works/Builder",1,"Guatemala",{"$f":"G2338","v":1},1,1,1,1,1,1]
["Value Chains by Energy Sector","Binary","Small Hydro - Civil Works/Builder",1,"Guyana",{"$f":"G2339","v":0},0,0,0,0,0,0]
["Value Chains by Energy Sector","Binary","Small Hydro - Civil Works/Builder",1,"Haiti",{"$f":"G2340","v":0},0,0,0,0,0,0]
["Value Chains by Energy Sector","Binary","Small Hydro - Civil Works/Builder",1,"Honduras",{"$f":"G2341","v":0},0,0,0,0,0,0]
["Value Chains by Energy Sector","Binary","Small Hydro - Civil Works/Builder",1,"Jamaica",{"$f":"G2342","v":0},0,0,0,0,0,0]
["Value Chains by Energy Sector","Binary","Small Hydro - Civil Works/Builder",1,"Mexico",{"$f":"G2343","v":0},0,0,0,0,0,0]
["Value Chains by Energy Sector","Binary","Small Hydro - Civil Works/Builder",1,"Nicaragua",{"$f":"G2344","v":0},0,0,0,0,0,0]
["Value Chains by Energy Sector","Binary","Small Hydro - Civil Works/Builder",1,"Panama",{"$f":"G2345","v":0},0,0,0,0,0,0]
["Value Chains by Energy Sector","Binary","Small Hydro - Civil Works/Builder",1,"Paraguay",{"$f":"G2346","v":0},0,0,0,0,0,0]
["Value Chains by Energy Sector","Binary","Small Hydro - Civil Works/Builder",1,"Peru",{"$f":"G2347","v":1},1,1,1,1,1,1]
["Value Chains by Energy Sector","Binary","Small Hydro - Civil Works/Builder",1,"Suriname",{"$f":"G2348","v":0},0,0,0,0,0,0]
["Value Chains by Energy Sector","Binary","Small Hydro - Civil Works/Builder",1,"Trinidad & Tobago",{"$f":"G2349","v":0},0,0,0,0,0,0]
["Value Chains by Energy Sector","Binary","Small Hydro - Civil Works/Builder",1,"Uruguay",{"$f":"G2350","v":0},0,0,0,0,0,0]
["Value Chains by Energy Sector","Binary","Small Hydro - Civil Works/Builder",1,"Venezuela",{"$f":"G2351","v":0},0,0,0,0,0,0]
["Value Chains by Energy Sector","Binary","Small Hydro - Engineering",1,"Argentina",{"$f":"G2352","v":0},0,0,0,0,0,1]
["Value Chains by Energy Sector","Binary","Small Hydro - Engineering",1,"Bahamas",{"$f":"G2353","v":0},0,0,0,0,0,0]
["Value Chains by Energy Sector","Binary","Small Hydro - Engineering",1,"Barbados",{"$f":"G2354","v":0},0,0,0,0,0,0]
["Value Chains by Energy Sector","Binary","Small Hydro - Engineering",1,"Belize",{"$f":"G2355","v":0},0,0,0,0,0,0]
["Value Chains by Energy Sector","Binary","Small Hydro - Engineering",1,"Bolivia",{"$f":"G2356","v":0},0,0,0,0,0,0]
["Value Chains by Energy Sector","Binary","Small Hydro - Engineering",1,"Brazil",{"$f":"G2357","v":1},1,1,1,1,1,1]
["Value Chains by Energy Sector","Binary","Small Hydro - Engineering",1,"Chile",{"$f":"G2358","v":1},1,1,1,1,1,1]
["Value Chains by Energy Sector","Binary","Small Hydro - Engineering",1,"Colombia",{"$f":"G2359","v":0},0,0,0,0,0,1]
["Value Chains by Energy Sector","Binary","Small Hydro - Engineering",1,"Costa Rica",{"$f":"G2360","v":1},1,1,1,1,1,1]
["Value Chains by Energy Sector","Binary","Small Hydro - Engineering",1,"Dominican Republic",{"$f":"G2361","v":0},0,0,0,0,0,0]
["Value Chains by Energy Sector","Binary","Small Hydro - Engineering",1,"Ecuador",{"$f":"G2362","v":0},0,0,0,0,0,1]
["Value Chains by Energy Sector","Binary","Small Hydro - Engineering",1,"El Salvador",{"$f":"G2363","v":0},0,0,0,0,0,0]
["Value Chains by Energy Sector","Binary","Small Hydro - Engineering",1,"Guatemala",{"$f":"G2364","v":0},0,0,0,0,0,0]
["Value Chains by Energy Sector","Binary","Small Hydro - Engineering",1,"Guyana",{"$f":"G2365","v":0},0,0,0,0,0,0]
["Value Chains by Energy Sector","Binary","Small Hydro - Engineering",1,"Haiti",{"$f":"G2366","v":0},0,0,0,0,0,0]
["Value Chains by Energy Sector","Binary","Small Hydro - Engineering",1,"Honduras",{"$f":"G2367","v":0},0,0,0,0,0,0]
["Value Chains by Energy Sector","Binary","Small Hydro - Engineering",1,"Jamaica",{"$f":"G2368","v":0},0,0,0,0,0,0]
["Value Chains by Energy Sector","Binary","Small Hydro - Engineering",1,"Mexico",{"$f":"G2369","v":1},1,1,1,1,1,1]
["Value Chains by Energy Sector","Binary","Small Hydro - Engineering",1,"Nicaragua",{"$f":"G2370","v":1},1,1,1,1,1,1]
["Value Chains by Energy Sector","Binary","Small Hydro - Engineering",1,"Panama",{"$f":"G2371","v":1},1,1,1,1,1,1]
["Value Chains by Energy Sector","Binary","Small Hydro - Engineering",1,"Paraguay",{"$f":"G2372","v":0},0,0,0,0,0,0]
["Value Chains by Energy Sector","Binary","Small Hydro - Engineering",1,"Peru",{"$f":"G2373","v":1},1,1,1,1,1,1]
["Value Chains by Energy Sector","Binary","Small Hydro - Engineering",1,"Suriname",{"$f":"G2374","v":0},0,0,0,0,0,0]
["Value Chains by Energy Sector","Binary","Small Hydro - Engineering",1,"Trinidad & Tobago",{"$f":"G2375","v":0},0,0,0,0,0,0]
["Value Chains by Energy Sector","Binary","Small Hydro - Engineering",1,"Uruguay",{"$f":"G2376","v":0},0,0,0,0,0,1]
["Value Chains by Energy Sector","Binary","Small Hydro - Engineering",1,"Venezuela",{"$f":"G2377","v":0},0,0,0,0,0,0]
["Value Chains by Energy Sector","Binary","Small Hydro - Operation & Maintenance",1,"Argentina",{"$f":"G2378","v":0},0,0,0,0,0,1]
["Value Chains by Energy Sector","Binary","Small Hydro - Operation & Maintenance",1,"Bahamas",{"$f":"G2379","v":0},0,0,0,0,0,0]
["Value Chains by Energy Sector","Binary","Small Hydro - Operation & Maintenance",1,"Barbados",{"$f":"G2380","v":0},0,0,0,0,0,0]
["Value Chains by Energy Sector","Binary","Small Hydro - Operation & Maintenance",1,"Belize",{"$f":"G2381","v":0},0,0,0,0,0,0]
["Value Chains by Energy Sector","Binary","Small Hydro - Operation & Maintenance",1,"Bolivia",{"$f":"G2382","v":1},1,1,1,1,1,0]
["Value Chains by Energy Sector","Binary","Small Hydro - Operation & Maintenance",1,"Brazil",{"$f":"G2383","v":1},1,1,1,1,1,1]
["Value Chains by Energy Sector","Binary","Small Hydro - Operation & Maintenance",1,"Chile",{"$f":"G2384","v":1},1,1,1,1,1,1]
["Value Chains by Energy Sector","Binary","Small Hydro - Operation & Maintenance",1,"Colombia",{"$f":"G2385","v":1},1,1,1,1,1,1]
["Value Chains by Energy Sector","Binary","Small Hydro - Operation & Maintenance",1,"Costa Rica",{"$f":"G2386","v":1},1,1,1,1,1,1]
["Value Chains by Energy Sector","Binary","Small Hydro - Operation & Maintenance",1,"Dominican Republic",{"$f":"G2387","v":0},0,0,0,0,0,0]
["Value Chains by Energy Sector","Binary","Small Hydro - Operation & Maintenance",1,"Ecuador",{"$f":"G2388","v":0},0,0,0,0,0,0]
["Value Chains by Energy Sector","Binary","Small Hydro - Operation & Maintenance",1,"El Salvador",{"$f":"G2389","v":0},0,0,0,0,0,0]
["Value Chains by Energy Sector","Binary","Small Hydro - Operation & Maintenance",1,"Guatemala",{"$f":"G2390","v":1},1,1,1,1,1,1]
["Value Chains by Energy Sector","Binary","Small Hydro - Operation & Maintenance",1,"Guyana",{"$f":"G2391","v":0},0,0,0,0,0,0]
["Value Chains by Energy Sector","Binary","Small Hydro - Operation & Maintenance",1,"Haiti",{"$f":"G2392","v":0},0,0,0,0,0,0]
["Value Chains by Energy Sector","Binary","Small Hydro - Operation & Maintenance",1,"Honduras",{"$f":"G2393","v":0},0,0,0,0,0,0]
["Value Chains by Energy Sector","Binary","Small Hydro - Operation & Maintenance",1,"Jamaica",{"$f":"G2394","v":0},0,0,0,0,0,0]
["Value Chains by Energy Sector","Binary","Small Hydro - Operation & Maintenance",1,"Mexico",{"$f":"G2395","v":0},0,0,0,0,0,1]
["Value Chains by Energy Sector","Binary","Small Hydro - Operation & Maintenance",1,"Nicaragua",{"$f":"G2396","v":1},1,1,1,1,1,1]
["Value Chains by Energy Sector","Binary","Small Hydro - Operation & Maintenance",1,"Panama",{"$f":"G2397","v":0},0,0,0,{"$f":"K2397","v":0},0,0]
["Value Chains by Energy Sector","Binary","Small Hydro - Operation & Maintenance",1,"Paraguay",{"$f":"G2398","v":0},0,0,0,0,0,0]
["Value Chains by Energy Sector","Binary","Small Hydro - Operation & Maintenance",1,"Peru",{"$f":"G2399","v":1},1,1,1,1,1,1]
["Value Chains by Energy Sector","Binary","Small Hydro - Operation & Maintenance",1,"Suriname",{"$f":"G2400","v":1},1,1,1,1,1,1]
["Value Chains by Energy Sector","Binary","Small Hydro - Operation & Maintenance",1,"Trinidad & Tobago",{"$f":"G2401","v":0},0,0,0,0,0,0]
["Value Chains by Energy Sector","Binary","Small Hydro - Operation & Maintenance",1,"Uruguay",{"$f":"G2402","v":0},0,0,0,0,0,0]
["Value Chains by Energy Sector","Binary","Small Hydro - Operation & Maintenance",1,"Venezuela",{"$f":"G2403","v":0},0,0,0,0,0,0]
["Value Chains by Energy Sector","Binary","Small Hydro - Turbines",1,"Argentina",{"$f":"G2404","v":1},1,1,1,1,1,1]
["Value Chains by Energy Sector","Binary","Small Hydro - Turbines",1,"Bahamas",{"$f":"G2405","v":0},0,0,0,0,0,0]
["Value Chains by Energy Sector","Binary","Small Hydro - Turbines",1,"Barbados",{"$f":"G2406","v":0},0,0,0,0,0,0]
["Value Chains by Energy Sector","Binary","Small Hydro - Turbines",1,"Belize",{"$f":"G2407","v":0},0,0,0,0,0,0]
["Value Chains by Energy Sector","Binary","Small Hydro - Turbines",1,"Bolivia",{"$f":"G2408","v":0},0,0,0,0,0,0]
["Value Chains by Energy Sector","Binary","Small Hydro - Turbines",1,"Brazil",{"$f":"G2409","v":1},1,1,1,1,1,1]
["Value Chains by Energy Sector","Binary","Small Hydro - Turbines",1,"Chile",{"$f":"G2410","v":1},1,1,1,1,1,1]
["Value Chains by Energy Sector","Binary","Small Hydro - Turbines",1,"Colombia",{"$f":"G2411","v":1},1,1,1,1,1,1]
["Value Chains by Energy Sector","Binary","Small Hydro - Turbines",1,"Costa Rica",{"$f":"G2412","v":0},0,0,0,0,0,0]
["Value Chains by Energy Sector","Binary","Small Hydro - Turbines",1,"Dominican Republic",{"$f":"G2413","v":0},0,0,0,0,0,0]
["Value Chains by Energy Sector","Binary","Small Hydro - Turbines",1,"Ecuador",{"$f":"G2414","v":0},0,0,0,0,0,0]
["Value Chains by Energy Sector","Binary","Small Hydro - Turbines",1,"El Salvador",{"$f":"G2415","v":0},0,0,0,0,0,0]
["Value Chains by Energy Sector","Binary","Small Hydro - Turbines",1,"Guatemala",{"$f":"G2416","v":0},0,0,0,0,0,0]
["Value Chains by Energy Sector","Binary","Small Hydro - Turbines",1,"Guyana",{"$f":"G2417","v":0},0,0,0,0,0,0]
["Value Chains by Energy Sector","Binary","Small Hydro - Turbines",1,"Haiti",{"$f":"G2418","v":0},0,0,0,0,0,0]
["Value Chains by Energy Sector","Binary","Small Hydro - Turbines",1,"Honduras",{"$f":"G2419","v":0},0,0,0,0,0,0]
["Value Chains by Energy Sector","Binary","Small Hydro - Turbines",1,"Jamaica",{"$f":"G2420","v":0},0,0,0,0,0,0]
["Value Chains by Energy Sector","Binary","Small Hydro - Turbines",1,"Mexico",{"$f":"G2421","v":0},0,0,0,0,0,0]
["Value Chains by Energy Sector","Binary","Small Hydro - Turbines",1,"Nicaragua",{"$f":"G2422","v":0},0,0,0,0,0,0]
["Value Chains by Energy Sector","Binary","Small Hydro - Turbines",1,"Panama",{"$f":"G2423","v":0},0,0,0,0,0,0]
["Value Chains by Energy Sector","Binary","Small Hydro - Turbines",1,"Paraguay",{"$f":"G2424","v":0},0,0,0,0,0,0]
["Value Chains by Energy Sector","Binary","Small Hydro - Turbines",1,"Peru",{"$f":"G2425","v":0},0,0,0,0,0,1]
["Value Chains by Energy Sector","Binary","Small Hydro - Turbines",1,"Suriname",{"$f":"G2426","v":0},0,0,0,0,0,0]
["Value Chains by Energy Sector","Binary","Small Hydro - Turbines",1,"Trinidad & Tobago",{"$f":"G2427","v":0},0,0,0,0,0,0]
["Value Chains by Energy Sector","Binary","Small Hydro - Turbines",1,"Uruguay",{"$f":"G2428","v":0},0,0,0,0,0,0]
["Value Chains by Energy Sector","Binary","Small Hydro - Turbines",1,"Venezuela",{"$f":"G2429","v":0},0,0,0,0,0,0]
["Value Chains by Energy Sector","Binary","Small Hydro - Pipes",1,"Argentina",1,1,1,1,1,1,0]
["Value Chains by Energy Sector","Binary","Small Hydro - Pipes",1,"Bahamas",0,0,0,0,0,0,0]
["Value Chains by Energy Sector","Binary","Small Hydro - Pipes",1,"Barbados",0,0,0,0,0,0,0]
["Value Chains by Energy Sector","Binary","Small Hydro - Pipes",1,"Belize",0,0,0,0,0,0,0]
["Value Chains by Energy Sector","Binary","Small Hydro - Pipes",1,"Bolivia",0,0,0,0,0,0,0]
["Value Chains by Energy Sector","Binary","Small Hydro - Pipes",1,"Brazil",1,1,1,1,1,1,1]
["Value Chains by Energy Sector","Binary","Small Hydro - Pipes",1,"Chile",1,1,1,1,1,1,0]
["Value Chains by Energy Sector","Binary","Small Hydro - Pipes",1,"Colombia",1,1,1,1,1,1,0]
["Value Chains by Energy Sector","Binary","Small Hydro - Pipes",1,"Costa Rica",0,0,0,0,0,0,0]
["Value Chains by Energy Sector","Binary","Small Hydro - Pipes",1,"Dominican Republic",0,0,0,0,0,0,0]
["Value Chains by Energy Sector","Binary","Small Hydro - Pipes",1,"Ecuador",0,0,0,0,0,0,0]
["Value Chains by Energy Sector","Binary","Small Hydro - Pipes",1,"El Salvador",0,0,0,0,0,0,0]
["Value Chains by Energy Sector","Binary","Small Hydro - Pipes",1,"Guatemala",0,0,0,0,0,0,0]
["Value Chains by Energy Sector","Binary","Small Hydro - Pipes",1,"Guyana",0,0,0,0,0,0,0]
["Value Chains by Energy Sector","Binary","Small Hydro - Pipes",1,"Haiti",0,0,0,0,0,0,0]
["Value Chains by Energy Sector","Binary","Small Hydro - Pipes",1,"Honduras",0,0,0,0,0,0,0]
["Value Chains by Energy Sector","Binary","Small Hydro - Pipes",1,"Jamaica",0,0,0,0,0,0,0]
["Value Chains by Energy Sector","Binary","Small Hydro - Pipes",1,"Mexico",0,0,0,0,0,0,0]
["Value Chains by Energy Sector","Binary","Small Hydro - Pipes",1,"Nicaragua",0,0,0,0,0,0,0]
["Value Chains by Energy Sector","Binary","Small Hydro - Pipes",1,"Panama",0,0,0,0,0,0,0]
["Value Chains by Energy Sector","Binary","Small Hydro - Pipes",1,"Paraguay",0,0,0,0,0,0,0]
["Value Chains by Energy Sector","Binary","Small Hydro - Pipes",1,"Peru",0,0,0,0,0,0,0]
["Value Chains by Energy Sector","Binary","Small Hydro - Pipes",1,"Suriname",0,0,0,0,0,0,0]
["Value Chains by Energy Sector","Binary","Small Hydro - Pipes",1,"Trinidad & Tobago",0,0,0,0,0,0,0]
["Value Chains by Energy Sector","Binary","Small Hydro - Pipes",1,"Uruguay",0,0,0,0,0,0,0]
["Value Chains by Energy Sector","Binary","Small Hydro - Pipes",1,"Venezuela",{"$f":"G2455","v":0},{"$f":"H2455","v":0},{"$f":"I2455","v":0},{"$f":"J2455","v":0},0,0,0]
["Value Chains by Energy Sector","Binary","Small Hydro - Power Purchase",1,"Argentina",0,0,0,0,0,0,1]
["Value Chains by Energy Sector","Binary","Small Hydro - Power Purchase",1,"Bahamas",0,0,0,0,0,0,0]
["Value Chains by Energy Sector","Binary","Small Hydro - Power Purchase",1,"Barbados",0,0,0,0,0,0,0]
["Value Chains by Energy Sector","Binary","Small Hydro - Power Purchase",1,"Belize",0,0,0,0,0,0,0]
["Value Chains by Energy Sector","Binary","Small Hydro - Power Purchase",1,"Bolivia",0,0,0,0,0,0,1]
["Value Chains by Energy Sector","Binary","Small Hydro - Power Purchase",1,"Brazil",0,0,0,0,{"$f":"K2461","v":0},0,1]
["Value Chains by Energy Sector","Binary","Small Hydro - Power Purchase",1,"Chile",0,0,0,0,0,0,1]
["Value Chains by Energy Sector","Binary","Small Hydro - Power Purchase",1,"Colombia",0,0,0,0,0,0,1]
["Value Chains by Energy Sector","Binary","Small Hydro - Power Purchase",1,"Costa Rica",0,0,0,0,0,0,1]
["Value Chains by Energy Sector","Binary","Small Hydro - Power Purchase",1,"Dominican Republic",0,0,0,0,0,0,1]
["Value Chains by Energy Sector","Binary","Small Hydro - Power Purchase",1,"Ecuador",0,0,0,0,0,0,1]
["Value Chains by Energy Sector","Binary","Small Hydro - Power Purchase",1,"El Salvador",0,0,0,0,0,0,1]
["Value Chains by Energy Sector","Binary","Small Hydro - Power Purchase",1,"Guatemala",1,1,1,1,{"$f":"K2468","v":1},1,1]
["Value Chains by Energy Sector","Binary","Small Hydro - Power Purchase",1,"Guyana",0,0,0,0,0,0,1]
["Value Chains by Energy Sector","Binary","Small Hydro - Power Purchase",1,"Haiti",0,0,0,0,0,0,1]
["Value Chains by Energy Sector","Binary","Small Hydro - Power Purchase",1,"Honduras",{"$f":"G2471","v":1},{"$f":"H2471","v":1},{"$f":"I2471","v":1},{"$f":"J2471","v":1},1,1,1]
["Value Chains by Energy Sector","Binary","Small Hydro - Power Purchase",1,"Jamaica",0,0,0,0,0,0,1]
["Value Chains by Energy Sector","Binary","Small Hydro - Power Purchase",1,"Mexico",1,1,1,1,1,1,1]
["Value Chains by Energy Sector","Binary","Small Hydro - Power Purchase",1,"Nicaragua",0,0,0,0,0,0,1]
["Value Chains by Energy Sector","Binary","Small Hydro - Power Purchase",1,"Panama",0,0,0,0,0,0,0]
["Value Chains by Energy Sector","Binary","Small Hydro - Power Purchase",1,"Paraguay",0,0,0,0,0,0,1]
["Value Chains by Energy Sector","Binary","Small Hydro - Power Purchase",1,"Peru",1,1,1,1,1,1,1]
["Value Chains by Energy Sector","Binary","Small Hydro - Power Purchase",1,"Suriname",0,0,0,0,0,0,1]
["Value Chains by Energy Sector","Binary","Small Hydro - Power Purchase",1,"Trinidad & Tobago",0,0,0,0,0,0,0]
["Value Chains by Energy Sector","Binary","Small Hydro - Power Purchase",1,"Uruguay",0,0,0,0,0,0,1]
["Value Chains by Energy Sector","Binary","Small Hydro - Power Purchase",1,"Venezuela",0,0,0,0,0,0,1]
["Value Chains by Energy Sector","Binary","Small Hydro - Project Development",1,"Argentina",{"$f":"G2482","v":0},0,0,0,0,0,1]
["Value Chains by Energy Sector","Binary","Small Hydro - Project Development",1,"Bahamas",{"$f":"G2483","v":0},0,0,0,0,0,0]
["Value Chains by Energy Sector","Binary","Small Hydro - Project Development",1,"Barbados",{"$f":"G2484","v":0},0,0,0,0,0,0]
["Value Chains by Energy Sector","Binary","Small Hydro - Project Development",1,"Belize",{"$f":"G2485","v":0},0,0,0,0,0,0]
["Value Chains by Energy Sector","Binary","Small Hydro - Project Development",1,"Bolivia",{"$f":"G2486","v":0},0,0,0,0,0,1]
["Value Chains by Energy Sector","Binary","Small Hydro - Project Development",1,"Brazil",{"$f":"G2487","v":0},0,0,0,0,0,1]
["Value Chains by Energy Sector","Binary","Small Hydro - Project Development",1,"Chile",{"$f":"G2488","v":0},0,0,0,0,0,1]
["Value Chains by Energy Sector","Binary","Small Hydro - Project Development",1,"Colombia",{"$f":"G2489","v":0},0,0,0,0,0,1]
["Value Chains by Energy Sector","Binary","Small Hydro - Project Development",1,"Costa Rica",{"$f":"G2490","v":0},0,0,0,0,0,1]
["Value Chains by Energy Sector","Binary","Small Hydro - Project Development",1,"Dominican Republic",{"$f":"G2491","v":0},0,0,0,0,0,1]
["Value Chains by Energy Sector","Binary","Small Hydro - Project Development",1,"Ecuador",{"$f":"G2492","v":0},0,0,0,0,0,1]
["Value Chains by Energy Sector","Binary","Small Hydro - Project Development",1,"El Salvador",{"$f":"G2493","v":0},0,0,0,0,0,1]
["Value Chains by Energy Sector","Binary","Small Hydro - Project Development",1,"Guatemala",{"$f":"G2494","v":1},1,1,1,1,1,1]
["Value Chains by Energy Sector","Binary","Small Hydro - Project Development",1,"Guyana",{"$f":"G2495","v":0},0,0,0,0,0,0]
["Value Chains by Energy Sector","Binary","Small Hydro - Project Development",1,"Haiti",{"$f":"G2496","v":0},0,0,0,0,0,1]
["Value Chains by Energy Sector","Binary","Small Hydro - Project Development",1,"Honduras",{"$f":"G2497","v":1},1,1,1,1,1,1]
["Value Chains by Energy Sector","Binary","Small Hydro - Project Development",1,"Jamaica",{"$f":"G2498","v":0},0,0,0,0,0,1]
["Value Chains by Energy Sector","Binary","Small Hydro - Project Development",1,"Mexico",{"$f":"G2499","v":1},1,1,1,1,1,1]
["Value Chains by Energy Sector","Binary","Small Hydro - Project Development",1,"Nicaragua",{"$f":"G2500","v":0},0,0,0,0,0,1]
["Value Chains by Energy Sector","Binary","Small Hydro - Project Development",1,"Panama",{"$f":"G2501","v":0},0,0,0,0,0,1]
["Value Chains by Energy Sector","Binary","Small Hydro - Project Development",1,"Paraguay",{"$f":"G2502","v":0},0,0,0,0,0,0]
["Value Chains by Energy Sector","Binary","Small Hydro - Project Development",1,"Peru",{"$f":"G2503","v":1},1,1,1,1,1,1]
["Value Chains by Energy Sector","Binary","Small Hydro - Project Development",1,"Suriname",{"$f":"G2504","v":0},0,0,0,0,0,0]
["Value Chains by Energy Sector","Binary","Small Hydro - Project Development",1,"Trinidad & Tobago",{"$f":"G2505","v":0},0,0,0,0,0,0]
["Value Chains by Energy Sector","Binary","Small Hydro - Project Development",1,"Uruguay",{"$f":"G2506","v":0},0,0,0,0,0,1]
["Value Chains by Energy Sector","Binary","Small Hydro - Project Development",1,"Venezuela",{"$f":"G2507","v":0},0,0,0,0,0,1]
["Value Chains by Energy Sector","Count","Clean Energy",1,"Argentina",{"$f":"SUMIFS(F$1468:F$2507, $E$1468:$E$2507, $E2508)","v":16},16,16,16,{"$f":"SUMIFS(J$1468:J$2507, $E$1468:$E$2507, $E2508)","v":16},16,26]
["Value Chains by Energy Sector","Count","Clean Energy",1,"Bahamas",2,2,2,2,2,2,4]
["Value Chains by Energy Sector","Count","Clean Energy",1,"Barbados",0,0,0,0,0,0,0]
["Value Chains by Energy Sector","Count","Clean Energy",1,"Belize",2,2,2,2,2,2,3]
["Value Chains by Energy Sector","Count","Clean Energy",1,"Bolivia",3,3,3,3,3,3,4]
["Value Chains by Energy Sector","Count","Clean Energy",1,"Brazil",26,26,26,26,26,26,30]
["Value Chains by Energy Sector","Count","Clean Energy",1,"Chile",20,20,20,20,20,20,26]
["Value Chains by Energy Sector","Count","Clean Energy",1,"Colombia",11,11,11,11,11,11,16]
["Value Chains by Energy Sector","Count","Clean Energy",1,"Costa Rica",12,12,12,12,12,12,17]
["Value Chains by Energy Sector","Count","Clean Energy",1,"Dominican Republic",2,2,2,2,2,2,7]
["Value Chains by Energy Sector","Count","Clean Energy",1,"Ecuador",{"$f":"SUMIFS(F$1468:F$2507, $E$1468:$E$2507, $E2518)","v":6},6,6,6,6,6,10]
["Value Chains by Energy Sector","Count","Clean Energy",1,"El Salvador",10,10,10,10,10,10,13]
["Value Chains by Energy Sector","Count","Clean Energy",1,"Guatemala",14,14,14,14,14,14,14]
["Value Chains by Energy Sector","Count","Clean Energy",1,"Guyana",1,1,1,{"$f":"SUMIFS(I$1468:I$2507, $E$1468:$E$2507, $E2521)","v":1},1,1,2]
["Value Chains by Energy Sector","Count","Clean Energy",1,"Haiti",2,2,2,2,2,2,3]
["Value Chains by Energy Sector","Count","Clean Energy",1,"Honduras",9,9,9,9,9,9,10]
["Value Chains by Energy Sector","Count","Clean Energy",1,"Jamaica",4,4,4,4,4,4,9]
["Value Chains by Energy Sector","Count","Clean Energy",1,"Mexico",22,22,22,22,22,22,25]
["Value Chains by Energy Sector","Count","Clean Energy",1,"Nicaragua",6,6,6,6,6,6,12]
["Value Chains by Energy Sector","Count","Clean Energy",1,"Panama",5,5,5,5,5,5,8]
["Value Chains by Energy Sector","Count","Clean Energy",1,"Paraguay",{"$f":"SUMIFS(F$1468:F$2507, $E$1468:$E$2507, $E2528)","v":3},3,3,3,3,3,6]
["Value Chains by Energy Sector","Count","Clean Energy",1,"Peru",15,15,15,15,15,15,17]
["Value Chains by Energy Sector","Count","Clean Energy",1,"Suriname",1,1,1,1,1,1,3]
["Value Chains by Energy Sector","Count","Clean Energy",1,"Trinidad & Tobago",2,2,2,2,2,2,2]
["Value Chains by Energy Sector","Count","Clean Energy",1,"Uruguay",9,9,9,9,9,9,15]
["Value Chains by Energy Sector","Count","Clean Energy",1,"Venezuela",2,2,2,2,2,2,5]
["Green MFI Contacts"]
["Country","Company","Website","Phone"]
["Argentina","Capital para PYMES","www.feg.org.ar","(54) 11 4331 5043"]
["Argentina","Emprenda","www.empreenda.com.ar","(54) 11 4642 5802"]
["Argentina","FONCAP","www.foncap.com.ar","(54) 11 5217 0622"]
["Bolivia","ANED","www.aned.org","(591) 2241 8716"]
["Bolivia","Banco FIE","www.bancofie.com.bo","(591) 2248 5222"]
["Bolivia","CIDRE","www.cidre.org.bo","(591) 4423 2566"]
["Bolivia","Fundacion Profin","www.fundacion_profin.org","(591) 2701 9425"]
["Bolivia","HIVO","No website","(591) 6733 8468"]
["Bolivia","ProCredit - Bolivia","www.losandesprocredit.com","(591) 2245 6538"]
["Brazil","Agencia do Credito","www.extracredi.com.br","(55) 49 3621 0803"]
["Brazil","ASCOOB Central","www.ascoobcentral.com.br","(55) 75 3614 8482"]
["Brazil","Banco do Vale",{"$f":"$C$2543","v":"No website"},"(55) 47 3222 1338"]
["Brazil","Banco do Planalto Norte ","No website","(55) 47 9114 4299"]
["Brazil","BANCRI","www.bancri.org.br","(55) 47 3045 6030"]
["Brazil","CEADE",{"$f":"$C$2543","v":"No website"},"(55) 71 3327 2021"]
["Brazil","ICC MAU-CE","No website","(55) 55 3744 6372"]
["Brazil","Lander","No website","(55) 48 3029 3080"]
["Brazil","SEBRAE","www.sebrae.gov.br","(55) 61 9962 5658"]
["Colombia","AYF",{"$f":"$C$2543","v":"No website"},"(57) 1 348 888"]
["Colombia","BancoIdex","www.bancoidex.com","(57) 1315 2687"]
["Colombia","FUNDESMAG","www.fundesmag.org","(57) 97 622 0031"]
["Costa Rica","APIAGOL","www.apiagol.com","(506) 2775 0098"]
["Costa Rica","ASPROA",{"$f":"$C$2543","v":"No website"},"(506) 2760 1425"]
["Costa Rica","BCIE","www.bcie.org","(506) 2207 6559"]
["Ecuador","CESOL ACJ",{"$f":"$C$2543","v":"No website"},"(593) 2261 7029"]
["Ecuador","COAC Chone","www.coopchone.fin.ec","(593) 5269 5396"]
["Ecuador","Faces","www.faces.org.ec","(593) 7257 5237"]
["El Salvador","SAC Integral SA",{"$f":"$C$2543","v":"No website"},"(503) 2250 6000"]
["El Salvador","Bancofit","www.bancofit.com.sv","(503) 2261 7900"]
["El Salvador","ProCredit - SLV","www.bancoprocredit.com.sv","(503) 2267 4400"]
["Guatemala","SAC Integral SA",{"$f":"$C$2543","v":"No website"},"(503) 2250 6000"]
["Guatemala","FAFIDESS","www.fafidess.org","(502) 2311 5800"]
["Guatemala","FUNDESPE",{"$f":"$C$2543","v":"No website"},"(502) 7763 4984"]
["Haiti","Fonkoze","www.fonkoze.org","(1) 202 628 9033"]
["Honduras","ADICH","www.adich.hn","(504) 2785 1542"]
["Honduras","BCIE","www.bcie.org","(506) 2207 6559"]
["Honduras","CACIL","www.cacil.hn","(504) 2783 0658"]
["Honduras","Credisol Honduras",{"$f":"$C$2543","v":"No website"},"(504) 2440 0577"]
["Honduras","FUNDAHMICRO","www.fundahmicro.hn","(504) 2239 0158"]
["Honduras","FUNED","www.funedvf.org"," (504) 2221 4178"]
["Mexico","ALSOL","www.alsolchiapas.org.com","(52) 97 1678 1434"]
["Mexico","SAC Integral SA",{"$f":"$C$2543","v":"No website"},"(503) 2250 6000"]
["Mexico","DAI - Mexico","No website","(52) 55 5250 6011"]
["Mexico","Te Creemos","www.tecreemos.com","(52) 55 5584 2233"]
["Mexico","UPS",{"$f":"$C$2543","v":"No website"},"(52) 92 4247 0252"]
["Nicaragua","AFODENIC","No website","(505) 2270 7998"]
["Nicaragua","Asociacion Alternativa","www.alternativanica.org","(505) 2522 3362"]
["Nicaragua","Caritas Esteli",{"$f":"$C$2543","v":"No website"},"(505) 2713 2040"]
["Nicaragua","CEPRODEL","www.ceprodel.org","(505) 8465 5058"]
["Nicaragua","Coop 20 de Abril","www.cooperativa20deabril.coop","(505) 2735 5128"]
["Nicaragua","Fondo de Desarrollo Local",{"$f":"$C$2543","v":"No website"},"(505) 2277 4245"]
["Nicaragua","FUNDENUSE","No website","(505) 2732 2329"]
["Nicaragua","FUNDESER","No website","(505) 2268 5131"]
["Nicaragua","MiCredito","No website","(505) 8973 4763"]
["Nicaragua","Prestanic","www.prestanic.org.ni","(505) 2268 5230"]
["Paraguay","Fundacion Paraguaya","www.fundacionparaguaya.org.py","(595) 21 609 290"]
["Paraguay","Vision Banco","www.visionbanco.com","(595) 21 615 3383"]
["Peru","Caja Municipal de Ahorro y Credito Arequipa",{"$f":"$C$2543","v":"No website"},"(51) 5 422 0023"]
["Peru","CMAC - Huancayo","www.cajahuancayo.com.pe","(51) 6 448 1000"]
["Peru","CMAC - Sullana","www.cmac-sullana.com.pe","(51) 7 328 4400"]
["Peru","COOPAC Norandino","www.coopacnorandino.com","(51) 7 643 3327"]
["Peru","CRAC Profinanzas",{"$f":"$C$2543","v":"No website"},"(51) 1 581 1174"]
["Peru","COPEME","www.copeme.org.pe","(51) 1 470 2666"]
["Peru","FONDESURCO",{"$f":"$C$2543","v":"No website"},"(51) 5 460 8048"]
["Peru","IDESI Region Grau",{"$f":"$C$2543","v":"No website"},"(51) 7 332 7925 "]
["Peru","Libelula Comunicacion Ambiente y Desarrollo","www.libelula.com.pe","(51) 1 652 7320"]
["Peru","MicroEnergy International","www.microenergy-international.com","(49) 176 642 39 739"]
["Peru","Popular SAFI","www.popular-safi.com","(51) 1 428 3820"]
["Uruguay","FUNDASOL","www.fundasol.org.uy","(598) 2 400 2020"]
["Venezuela","Fundacion Eugenio Mendoza","www.fundacioneugeniomendoza.org.ve","(58) 212 903 0555"]
["Venezuela","Fundacion Programa Andes Tropicales","www.andestropicales.org","(58) 274 263 8633"]
[]
[]
[]
[]
[]
[]
[]
[]
[]
[]
[]
[]
[]
[]
[]
[]
[]
[]
[]
[]
[]
[]
[]
[]
[]
[]
[]
[]
[]
["Financial Institutions in Clean Energy Contacts"]
["Country","Company","Website","Investment Type"]
["Mexico","Arancia Industrial ","www.arancia.com.mx","Private Equity/Venture Capital"]
["Dominican Republic","Banco BHD","www.bhd.com.do","Credit Line"]
["Chile","Banco Bice","www.bice.cl","Asset Finance"]
["Brazil","Banco Bradesco ","www.bradesco.com.br","Asset Finance "]
["Brazil","Banco da Amazônia ","www.bancoamazonia.com.br","Asset Finance"]
["Colombia","Banco de Bogotá ","www.bancodebogota.com","Asset Finance"]
["Brazil","Banco de Desenvolvimento de Minas Gerais","www.bdmg.mg.gov.br","Asset Finance"]
["Argentina","Banco de Inversión y Comercio Exterior ","www.bice.com.ar","Asset Finance"]
["Argentina","Banco de la Nación Argentina","www.bna.com.ar","Asset Finance"]
["Uruguay","Banco de la República Oriental del Uruguay","www.bancorepublica.com.uy","Asset Finance"]
["Brazil","Banco do Brasil ","www.bb.com.br","Asset Finance"]
["Brazil","Banco do Estado do Rio Grande do Sul","www.banrisul.com.br","Asset Finance"]
["Costa Rica","Banco Internacional de Costa Rica ","www.bicsa.com","Asset Finance "]
["Peru","Banco Internacional del Peru ","www.interbank.com.pe","Asset Finance"]
["Brazil","Banco Itau BBA ","www.itau.com.br","Asset Finance, Corporate Finance"]
["El Salvador","Banco Multisectorial de Inversiones","www.bandesal.gob.sv","Credit Line, "]
["Mexico","Banco Nacional de Comercio Exterior ","www.bancomext.com","Asset Finance"]
["Costa Rica","Banco Nacional de Costa Rica","www.bncr.fi.cr","Asset Finance"]
["Brazil","Banco Nacional de Desenvolvimento Econômico e Social","www.bndes.gov.br","Asset Finance, Corporate Finance, Private Equity/Venture Capital"]
["Mexico","Banco Nacional de Obras y Servicios Públicos ","www.banobras.gob.mx","Asset Finance"]
["Brazil","Banco Santander Brasil ","www.santander.com.br","Asset Finance "]
["Colombia","BanColombia ","www.grupobancolombia.com","Credit Line "]
["Mexico","BBVA Bancomer ","www.bancomer.com.mx","Asset Finance "]
["Colombia","BBVA Colombia ","www.bbva.com.co","Asset Finance"]
["Brazil","Caixa Econômica Federal","www.caixa.gov.br","Asset Finance, Corporate Finance"]
["Honduras","Central American Bank for Economic Integration","www.bcie.org","Asset Finance, Corporate Finance"]
["Costa Rica","Central American Bank for Economic Integration","www.bcie.org","Asset Finance, Corporate Finance"]
["El Salvador","Central American Bank for Economic Integration","www.bcie.org","Asset Finance, Corporate Finance"]
["Guatemala","Central American Bank for Economic Integration","www.bcie.org","Asset Finance, Corporate Finance"]
["Nicaragua","Central American Bank for Economic Integration","www.bcie.org","Asset Finance, Corporate Finance"]
["Panama","Central American Bank for Economic Integration","www.bcie.org","Asset Finance, Corporate Finance"]
["Brazil","Conselho Integrado de Desenvolvimento de Minas Gerais","www.conselhos.mg.gov.br","Asset Finance"]
["Argentina","Corporación Andina de Fomento","www.caf.com","Asset Finance, Corporate Finance"]
["Bolivia","Corporación Andina de Fomento","www.caf.com","Asset Finance, Corporate Finance"]
["Brazil","Corporación Andina de Fomento","www.caf.com","Asset Finance, Corporate Finance"]
["Colombia","Corporación Andina de Fomento","www.caf.com","Asset Finance, Corporate Finance"]
["Ecuador","Corporación Andina de Fomento","www.caf.com","Asset Finance, Corporate Finance"]
["Panama","Corporación Andina de Fomento","www.caf.com","Asset Finance, Corporate Finance"]
["Peru","Corporación Andina de Fomento","www.caf.com","Asset Finance, Corporate Finance"]
["Uruguay","Corporación Andina de Fomento","www.caf.com","Asset Finance, Corporate Finance"]
["Venezuela","Corporación Andina de Fomento","www.caf.com","Asset Finance, Corporate Finance"]
["Chile","Corporación de Fomento de la Producción","www.corfo.cl","Asset Finance"]
["Brazil","Darby Stratus Administração de Investimentos","No website","Private Equity/Venture Capital"]
["Jamaica","Development Bank of Jamaica Limited","www.dbankjm.com","Credit Line "]
["Brazil","Explora Investimentos Gestão de Recursos Ltda","www.explorainvest.com.br","Private Equity/Venture Capital"]
["Brazil","Finexim","www.finexim.com","Asset Finance "]
["Barbados","First Caribbean International Bank Ltd","www.cibcfcib.com","Asset Finance "]
["Panama","Grupo Ecos ","www.grupoecos.com","Private Equity/Venture Capital"]
["Mexico","Grupo Financiero Banorte ","www.banorte.com","Asset Finance "]
["Brazil","Itau Unibanco","www.itau.com.br","Asset Finance"]
["Mexico","Nacional Financiera ","www.nafin.com","Asset Finance"]
["Argentina","Nuevo Banco de Entre Rios ","www.nuevobersa.com.ar","Asset Finance"]
["Argentina","Nuevo Banco Del Chaco ","www.nbch.com.ar","Asset Finance"]
["Brazil","Pragma Gestão de Patrimônio ","www.ecopart.com.br","Private Equity/Venture Capital"]
["Trinidad & Tobago","RBTT Merchant Bank Ltd","www.rbtt.com","Asset Finance "]
["Brazil","Superintendência do Desenvolvimento do Nordeste","www.sudene.gov.br","Asset Finance"]
["Brazil","Unipar Participações","www.unipar.ind.br","Private Equity/Venture Capital"]
[]
[]
[]
[]
[]
[]
[]
[]
[]
[]
[]
[]
[]
[]
[]
[]
[]
[]
[]
[]
[]
[]
[]
[]
[]
[]
[]
[]
[]
[]
[]
[]
[]
[]
[]
[]
[]
[]
[]
[]
[]
[]
[]
[]
["Country"]
[{"$f":"str_Country","v":"Brazil"}]
[]
["Filter Green MFI"]
[]
["Country","Company","Website","Phone"," "]
["Brazil","Agencia do Credito","www.extracredi.com.br","(55) 49 3621 0803"," "]
["Brazil","ASCOOB Central","www.ascoobcentral.com.br","(55) 75 3614 8482"," "]
["Brazil","Banco do Vale","No website","(55) 47 3222 1338"," "]
["Brazil","Banco do Planalto Norte ","No website","(55) 47 9114 4299"," "]
["Brazil","BANCRI","www.bancri.org.br","(55) 47 3045 6030"," "]
["Brazil","CEADE","No website","(55) 71 3327 2021"," "]
["Brazil","ICC MAU-CE","No website","(55) 55 3744 6372"," "]
["Brazil","Lander","No website","(55) 48 3029 3080"," "]
["Brazil","SEBRAE","www.sebrae.gov.br","(55) 61 9962 5658"," "]
[null,null,null,null," "]
[null,null,null,null," "]
[null,null,null,null," "]
[null,null,null,null," "]
[null,null,null,null," "]
[null,null,null,null," "]
[null,null,null,null," "]
[null,null,null,null," "]
[null,null,null,null," "]
[null,null,null,null," "]
[null,null,null,null," "]
[]
["Filter Financial Institutions in Clean Energy"]
[]
["Country","Company","Website","Investment Type"," "]
["Brazil","Banco Bradesco ","www.bradesco.com.br","Asset Finance "," "]
["Brazil","Banco da Amazônia ","www.bancoamazonia.com.br","Asset Finance"," "]
["Brazil","Banco de Desenvolvimento de Minas Gerais","www.bdmg.mg.gov.br","Asset Finance"," "]
["Brazil","Banco do Brasil ","www.bb.com.br","Asset Finance"," "]
["Brazil","Banco do Estado do Rio Grande do Sul","www.banrisul.com.br","Asset Finance"," "]
["Brazil","Banco Itau BBA ","www.itau.com.br","Asset Finance, Corporate Finance"," "]
["Brazil","Banco Nacional de Desenvolvimento Econômico e Social","www.bndes.gov.br","Asset Finance, Corporate Finance, Private Equity/Venture Capital"," "]
["Brazil","Banco Santander Brasil ","www.santander.com.br","Asset Finance "," "]
["Brazil","Caixa Econômica Federal","www.caixa.gov.br","Asset Finance, Corporate Finance"," "]
["Brazil","Conselho Integrado de Desenvolvimento de Minas Gerais","www.conselhos.mg.gov.br","Asset Finance"," "]
["Brazil","Corporación Andina de Fomento","www.caf.com","Asset Finance, Corporate Finance"," "]
["Brazil","Darby Stratus Administração de Investimentos","No website","Private Equity/Venture Capital"," "]
["Brazil","Explora Investimentos Gestão de Recursos Ltda","www.explorainvest.com.br","Private Equity/Venture Capital"," "]
["Brazil","Finexim","www.finexim.com","Asset Finance "," "]
["Brazil","Itau Unibanco","www.itau.com.br","Asset Finance"," "]
["Brazil","Pragma Gestão de Patrimônio ","www.ecopart.com.br","Private Equity/Venture Capital"," "]
["Brazil","Superintendência do Desenvolvimento do Nordeste","www.sudene.gov.br","Asset Finance"," "]
["Brazil","Unipar Participações","www.unipar.ind.br","Private Equity/Venture Capital"," "]
[null,null,null,null," "]
[null,null,null,null," "]

{"sheet":"Investment","index":4,"n_rows":1304,"n_cols":34,"rows_kept":1304,"cut":false,"hidden":true,"merged":[]}
["BNEF DESKTOP DEALS DATABASE",null,null,null,null,null,null,null,"BNEF DATABASE"]
[]
[null,null,null,null,null,null,null,null,null,null,null,null,null,null,null,null,null,null,null,null,null,null,null,null,null,null,null,null,null,null,null,null,null," "]
["Database Summary",null,null,null,null,null,null,null,"BNEF Clean Energy Investment Database",null,null,null,null,null,null,null,null,null,null,null,null,null,null,null,null,null,null,null,null,null,null,null,null," "]
["Year","Month","Quarter","Period","Country","Sector","Deal Type","Value","Type","Channel","DealID","TargetOrg","Country(for PM StockExchCountry)","CountryGrouped","Continent","Region","OECD/non-OECD","Tradeblock","Sector","SectorGrouped","Subsector","Technology","BusinessModel (for PM, target country/for AF, transType)","FinancingType","FinancingType_Grouped","Date","CapacityMW","CapacityMWth","CapacityNm3/hr","CapacityMLPA","TransactionValue","Grossedup","Grossedup & Buffered"," "]
[{"$f":"IF(K6=\"\",\"\",IF(AND(YEAR(Z6)<2004,YEAR(Z6)>1910),2004,YEAR(Z6)))","v":2010},{"$f":"IF(K6=\"\",\"\",IF(ISNUMBER(Z6),MONTH(Z6),0))","v":3},{"$f":"IF(K6=\"\",\"\",IF(AND(B6>=1,B6<=3),\"Q1\",IF(AND(B6>3,B6<=6),\"Q2\",IF(AND(B6>6,B6<=9),\"Q3\",IF(AND(B6>9,B6<=12),\"Q4\",0)))))","v":"Q1"},{"$f":"IF(A6<2006, \"< 2006\", A6&C6)","v":"2010Q1"},{"$f":"IF(K6=\"\",\"\", M6)","v":"Brazil"},{"$f":"IF(K6=\"\",\"\",IF(OR(T6=\"Wind\",T6=\"Solar\",T6=\"Geothermal\",T6=\"Small Hydro\",T6=\"Biofuels\",T6=\"Biomass & Waste\"),T6,\"Other Clean Energy\"))","v":"Biofuels"},{"$f":"IF(K6=\"\",\"\",IF(OR(J6=\"PM\",J6=\"MA\"), \"Corporate finance investments\", IF(J6=\"VCPE\", \"VC/PE investments\", IF(J6=\"AF\", \"Asset finance investments\"))))","v":"Corporate finance investments"},{"$f":"IF(K6=\"\",\"\",AG6)","v":1176.977006907608},"Acquisition transactions","MA","MA2225","Renuka do Brasil SA","Brazil","Brazil","Central & South America","AMER","non-OECD","BASIC","Biofuels","Biofuels","Gasoline/Petrol Substitute",0,"Fuel production/procurement","Equity (company)",{"$error":"#N/A"},"2010-03-22","na","na","na","na",1176.0999999999999,1176.0999999999999,1176.977006907608," "]
[2009,2,"Q1","2009Q1","Brazil",{"$f":"IF(K7=\"\",\"\",IF(OR(T7=\"Wind\",T7=\"Solar\",T7=\"Geothermal\",T7=\"Small Hydro\",T7=\"Biofuels\",T7=\"Biomass & Waste\"),T7,\"Other Clean Energy\"))","v":"Biofuels"},{"$f":"IF(K7=\"\",\"\",IF(OR(J7=\"PM\",J7=\"MA\"), \"Corporate finance investments\", IF(J7=\"VCPE\", \"VC/PE investments\", IF(J7=\"AF\", \"Asset finance investments\"))))","v":"Asset finance investments"},1024.5005519772587,"Acquisition transactions","AF","AF6450","CNAA Minas Gerais & Goias Bioethanol Portfolio Refinancing","Brazil","Brazil","Central & South America","AMER","non-OECD","BASIC","Biofuels","Biofuels","Gasoline/Petrol Substitute","1-Gen fermentation","Refinancing","Term loan","Debt","2009-02-02",0,459,0,0,1024.5,1024.5,1024.5005519772587," "]
[2010,12,"Q4","2010Q4","Brazil","Biofuels","Asset finance investments",950.70840622585467,"Acquisition transactions","AF","AF14561","Potirendaba Catanduva Bioethanol and Power Portfolio Noble Acquisition","Brazil","Brazil","Central & South America","AMER","non-OECD","BASIC","Biofuels","Biofuels","Gasoline/Petrol Substitute","1-Gen fermentation","Acquisition","Balance Sheet","Equity","2010-12-16",115.2,470,0,0,950,950,950.70840622585467," "]
[2011,12,"Q4","2011Q4","Brazil","Wind","Corporate finance investments",814.99300561440339,"Acquisition transactions","MA","MA2993","Jantus SL","Brazil","Brazil","Central & South America","AMER","non-OECD","BASIC","Wind","Wind","Onshore",0,"Developer","Equity (company)",{"$error":"#N/A"},"2011-12-19","na","na","na","na",809.5,809.5,814.99300561440339," "]
[2009,3,"Q1","2009Q1","Brazil","Biofuels","Corporate finance investments",794.80042822013195,"Acquisition transactions","MA","MA1746","Cosan Alimentos SA","Brazil","Brazil","Central & South America","AMER","non-OECD","BASIC","Biofuels","Biofuels","Gasoline/Petrol Substitute",0,"Fuel production/procurement","Equity (company)",{"$error":"#N/A"},"2009-03-13","na","na","na","na",794.8,794.8,794.80042822013195," "]
[2009,10,"Q4","2009Q4","Brazil","Biofuels","Corporate finance investments",722.40038921266137,"Acquisition transactions","MA","MA1934","Santelisa Vale SA","Brazil","Brazil","Central & South America","AMER","non-OECD","BASIC","Biofuels","Biofuels","Gasoline/Petrol Substitute",0,"Fuel production/procurement","Equity (company)",{"$error":"#N/A"},"2009-10-26","na","na","na","na",722.4,722.4,722.40038921266137," "]
[2011,4,"Q2","2011Q2","Brazil","Biofuels","Corporate finance investments",684.61426042964092,"Acquisition transactions","MA","MA2838","Cia Nacional de Acucar e Alcool SA","Brazil","Brazil","Central & South America","AMER","non-OECD","BASIC","Biofuels","Biofuels","Gasoline/Petrol Substitute",0,"Fuel production/procurement","Equity (company)",{"$error":"#N/A"},"2011-04-28","na","na","na","na",680,680,684.61426042964092]
[2010,12,"Q4","2010Q4","Brazil","Wind","Asset finance investments",545.80669974271689,"Acquisition transactions","AF","AF33470","Energimp Casa dos Ventos Wind Portfolio - Acquisition","Brazil","Brazil","Central & South America","AMER","non-OECD","BASIC","Wind","Wind","Onshore",0,"Acquisition","Balance Sheet","Equity","2010-12-31",270,0,0,0,0,545.4,545.80669974271689]
[2012,6,"Q2","2012Q2","Brazil","Wind","Corporate finance investments",609.19088021030893,"Acquisition transactions","MA","MA3700","BVP SA","Brazil","Brazil","Central & South America","AMER","non-OECD","BASIC","Wind","Wind",0,0,"Developer","Equity (company)",{"$error":"#N/A"},"2012-06-19","na","na","na","na",529.4,529.4,609.19088021030893]
[2007,2,"Q1","2007Q1","Brazil","Biofuels","Asset finance investments",647.50597610329385,"Acquisition transactions","AF","AF6201","LDC Tavares de Melo Bioethanol Portfolio Acquisition","Brazil","Brazil","Central & South America","AMER","non-OECD","BASIC","Biofuels","Biofuels","Gasoline/Petrol Substitute","1-Gen fermentation","Acquisition","Balance Sheet","Equity","2007-02-16",0,554,0,0,0,479.3,647.50597610329385]
[2011,9,"Q3","2011Q3","Brazil","Biofuels","Corporate finance investments",431.10562693525327,"Acquisition transactions","MA","MA2927","Vanguarda Participacoes SA","Brazil","Brazil","Central & South America","AMER","non-OECD","BASIC","Biofuels","Biofuels","Diesel Substitute",0,"Fuel production/procurement","Equity (company)",{"$error":"#N/A"},"2011-09-06","na","na","na","na",428.2,428.2,431.10562693525327]
[2012,3,"Q1","2012Q1","Brazil","Wind","Corporate finance investments",458.87508376143546,"Acquisition transactions","MA","MA3318","Desenvix Energias Renovaveis SA","Brazil","Brazil","Central & South America","AMER","non-OECD","BASIC","Wind","Wind",0,0,"Developer","Equity: Strategic Stake in Public Company",{"$error":"#N/A"},"2012-03-08","na","na","na","na",410.6,410.6,458.87508376143546]
[2008,3,"Q1","2008Q1","Brazil","Biofuels","Asset finance investments",411.20520040685381,"Acquisition transactions","AF","AF5188","ETH Eldorado Bioethanol Plant Acquisition","Brazil","Brazil","Central & South America","AMER","non-OECD","BASIC","Biofuels","Biofuels","Gasoline/Petrol Substitute","1-Gen fermentation","Acquisition","Balance Sheet","Equity","2008-03-19",12,110,0,0,410,410,411.20520040685381]
[2011,9,"Q3","2011Q3","Brazil","Wind","Asset finance investments",406.7414135493749,"Acquisition transactions","AF","AF32486","ERSA Rio Grande do Norte Wind Portfolio - Acquisition","Brazil","Brazil","Central & South America","AMER","non-OECD","BASIC","Wind","Wind","Onshore",0,"Acquisition","Balance Sheet","Equity","2011-09-11",200,0,0,0,0,404,406.7414135493749]
[2010,6,"Q2","2010Q2","Mexico","Wind","Asset finance investments",375.27963403652154,"Acquisition transactions","AF","AF12234","Acciona Eurus Wind Farm Refinancing","Mexico","Other AMER","Central & South America","AMER","OECD",null,"Wind","Wind","Onshore",0,"Refinancing","Term loan","Debt","2010-06-02",250.5,0,0,0,375,375,375.27963403652154]
[2011,9,"Q3","2011Q3","Brazil","Biofuels","Asset finance investments",352.3749869858446,"Acquisition transactions","AF","AF17079","USJ Goias Bioethanol and Power Plant Portfolio Cargill Acquisition","Brazil","Brazil","Central & South America","AMER","non-OECD","BASIC","Biofuels","Biofuels","Gasoline/Petrol Substitute","Gasification – fermentation","Acquisition","Balance Sheet","Equity","2011-09-19",0,167,0,0,0,350,352.3749869858446]
[2010,5,"Q2","2010Q2","Brazil","Biofuels","Asset finance investments",328.24458657061086,"Acquisition transactions","AF","AF12090","Mandu Bioethanol and Power Plant Acquisition","Brazil","Brazil","Central & South America","AMER","non-OECD","BASIC","Biofuels","Biofuels","Diesel Substitute","1-Gen fermentation","Acquisition","Balance Sheet","Equity","2010-05-31",25,175,0,0,328,328,328.24458657061086]
[2009,12,"Q4","2009Q4","Brazil","Wind","Asset finance investments",326.40017585688355,"Acquisition transactions","AF","AF33454","Dobreve Casa dos Ventos Wind Portfolio -  Acquisition","Brazil","Brazil","Central & South America","AMER","non-OECD","BASIC","Wind","Wind","Onshore",0,"Acquisition","Balance Sheet","Equity","2009-12-31",204,0,0,0,0,326.39999999999998,326.40017585688355]
[2009,5,"Q2","2009Q2","Brazil","Biofuels","Asset finance investments",316.00017025360052,"Acquisition transactions","AF","AF8710","Cosan Jatai Ethanol Plant Refinancing","Brazil","Brazil","Central & South America","AMER","non-OECD","BASIC","Biofuels","Biofuels","Gasoline/Petrol Substitute","1-Gen fermentation","Refinancing","Term loan","Debt","2009-05-26",41,370,0,0,316,316,316.00017025360052]
[2011,12,"Q4","2011Q4","Brazil","Wind","Asset finance investments",315.9293454747372,"Acquisition transactions","AF","AF19674","DESA Morro dos Ventos Wind Portfolio - Refinancing","Brazil","Brazil","Central & South America","AMER","non-OECD","BASIC","Wind","Wind","Onshore",0,"Refinancing","Construction loan","Debt","2011-12-13",144,0,0,0,313.8,313.8,315.9293454747372]
[2010,12,"Q4","2010Q4","Brazil","Wind","Asset finance investments",303.2259443015094,"Acquisition transactions","AF","AF33468","Energisa Casa dos Ventos Wind Portfolio - Acquisition","Brazil","Brazil","Central & South America","AMER","non-OECD","BASIC","Wind","Wind","Onshore",0,"Acquisition","Balance Sheet","Equity","2010-12-31",150,0,0,0,0,303,303.2259443015094]
[2011,5,"Q2","2011Q2","Brazil","Wind","VC/PE investments",302.53909596927514,"Acquisition transactions","VCPE","VCPE4556","Tecsis Tecnologia e Sistemas Avancados Ltda","Brazil","Brazil","Central & South America","AMER","non-OECD","BASIC","Wind","Wind",0,0,"Equipment Manufacturer","PE - Buy-out / corp spinoff","PE Buy-out","2011-05-30","na","na","na","na",300.5,300.5,302.53909596927514]
[2012,8,"Q3","2012Q3","Mexico","Wind","Asset finance investments",305.78978186459335,"Acquisition transactions","AF","AF33508","Acciona Oaxaca II and IV Wind Farm Bond Refinancing","Mexico","Other AMER","Central & South America","AMER","OECD",null,"Wind","Wind","Onshore",0,"Refinancing","Bond","Debt","2012-08-10",204,0,0,0,300,300,305.78978186459335]
[2012,3,"Q1","2012Q1","Brazil","Wind","VC/PE investments",335.82173936568228,"Acquisition transactions","VCPE","VCPE5120","Eolica Faisa Ltda","Brazil","Brazil","Central & South America","AMER","non-OECD","BASIC","Wind","Wind","Onshore",0,"Developer","PE - Buy-out / corp spinoff","PE Buy-out","2012-03-14","na","na","na","na",299.3,299.3,335.82173936568228]
[2007,9,"Q3","2007Q3","Brazil","Biofuels","Corporate finance investments",319.11228219069278,"Acquisition transactions","MA","MA1213","Adriano Ometto Participacoes Ltd","Brazil","Brazil","Central & South America","AMER","non-OECD","BASIC","Biofuels","Biofuels","Gasoline/Petrol Substitute",0,"Fuel production/procurement","Equity (company)",{"$error":"#N/A"},"2007-09-26","na","na","na","na",297,297,319.11228219069278]
[2010,12,"Q4","2010Q4","Brazil","Wind","Asset finance investments",287.86249645689963,"Acquisition transactions","AF","AF31510","Santo Inacio Wind Portfolio SN Power Acquisition","Brazil","Brazil","Central & South America","AMER","non-OECD","BASIC","Wind","Wind","Onshore",0,"Acquisition","Balance Sheet","Equity","2010-12-31",142.4,0,0,0,0,287.64800000000002,287.86249645689963]
[2010,2,"Q1","2010Q1","Brazil","Wind","Asset finance investments",243.79165772703206,"Acquisition transactions","AF","AF5402","Bons Ventos Ceara Wind Portfolio Refinancing","Brazil","Brazil","Central & South America","AMER","non-OECD","BASIC","Wind","Wind","Onshore",0,"Refinancing","Term loan","Debt","2010-02-04",155,0,0,0,243.61,243.61,243.79165772703206]
[2011,12,"Q4","2011Q4","Brazil","Wind","Asset finance investments",244.04484812962494,"Acquisition transactions","AF","AF33472","Atlantic Casa dos Ventos A-5 2011 Wind Portfolio - Acquisition","Brazil","Brazil","Central & South America","AMER","non-OECD","BASIC","Wind","Wind","Onshore",0,"Acquisition","Balance Sheet","Equity","2011-12-31",150,0,0,0,0,242.4,244.04484812962494]
[2012,10,"Q4","2012Q4","Peru","Wind","Asset finance investments",311.42229722836083,"Acquisition transactions","AF","AF31106","Talara Cupisnique Wind Portfolio ContourGlobal Acquisition","Peru","Other AMER","Central & South America","AMER","non-OECD",null,"Wind","Wind","Onshore",0,"Acquisition","Balance Sheet","Equity","2012-10-03",111.6,0,0,0,0,225.43199999999999,311.42229722836083]
[2012,3,"Q1","2012Q1","Chile","Small Hydro","Asset finance investments",256.48784710811452,"Acquisition transactions","AF","AF26360","Hydro Chile Colchagua Small Hydro Portfolio Refinancing","Chile","Other AMER","Central & South America","AMER","OECD",null,"Small hydro","Small Hydro","Run of River",0,"Refinancing","Term loan","Debt","2012-03-16",80,0,0,0,0,216,256.48784710811452]
[2011,8,"Q3","2011Q3","Brazil","Wind","Asset finance investments",212.31901787277368,"Acquisition transactions","AF","AF31512","Corredor do Senandes Wind Porfolio Odebrecht Acquisition","Brazil","Brazil","Central & South America","AMER","non-OECD","BASIC","Wind","Wind","Onshore",0,"Acquisition","Balance Sheet","Equity","2011-08-17",104.4,0,0,0,0,210.88800000000001,212.31901787277368]
[2006,10,"Q4","2006Q4","Brazil","Small Hydro","Asset finance investments",205.34199000000001,"Acquisition transactions","AF","AF2952","Enel Mato Grosso Tocantins and Sao Paulo Small Hydro Portfolio Acquisition","Brazil","Brazil","Central & South America","AMER","non-OECD","BASIC","Small hydro","Small Hydro","Run of River",0,"Acquisition","Balance Sheet","Equity","2006-10-10",97.68,0,0,0,205,205,205.34199000000001]
[2012,11,"Q4","2012Q4","Chile","Wind","Asset finance investments",279.05223765982157,"Acquisition transactions","AF","AF32412","Talinay Wind Farm Enel Acquisition","Chile","Other AMER","Central & South America","AMER","OECD",null,"Wind","Wind","Onshore",0,"Acquisition","Balance Sheet","Equity","2012-11-20",100,0,0,0,0,202,279.05223765982157]
[2011,2,"Q1","2011Q1","Brazil","Biofuels","Corporate finance investments",198.63881409230612,"Acquisition transactions","MA","MA2846","Usina Zanin Acucar e Alcool Ltda","Brazil","Brazil","Central & South America","AMER","non-OECD","BASIC","Biofuels","Biofuels","Gasoline/Petrol Substitute",0,"Fuel production/procurement","Equity (company)",{"$error":"#N/A"},"2011-02-23","na","na","na","na",197.3,197.3,198.63881409230612]
[2008,7,"Q3","2008Q3","Brazil","Small Hydro","Asset finance investments",196.97362188886501,"Acquisition transactions","AF","AF6063","Tractebel Energia Small Hydro Portfolio Acquisition","Brazil","Brazil","Central & South America","AMER","non-OECD","BASIC","Small hydro","Small Hydro","Run of River",0,"Acquisition","Term loan","Debt","2008-07-29",50.3,0,0,0,195,195,196.97362188886501]
[2011,4,"Q2","2011Q2","Brazil","Wind","Asset finance investments",193.30285000366331,"Acquisition transactions","AF","AF17059","Enerfin Elecnor 2009 Wind Auction Wind Portfolio Refinancing","Brazil","Brazil","Central & South America","AMER","non-OECD","BASIC","Wind","Wind","Onshore",0,"Refinancing","Balance Sheet","Equity","2011-04-30",96,0,0,0,0,192,193.30285000366331]
[2012,7,"Q3","2012Q3","Brazil","Wind","Asset finance investments",190.91475381079445,"Acquisition transactions","AF","AF34218","Brasventos Rio Grande do Norte Wind Portfolio - Refinancing","Brazil","Brazil","Central & South America","AMER","non-OECD","BASIC","Wind","Wind","Onshore",0,"Refinancing","Term loan","Debt","2012-07-31",147.6,0,0,0,187.3,187.3,190.91475381079445]
[2012,5,"Q2","2012Q2","Brazil","Wind","Asset finance investments",186.50396733388828,"Acquisition transactions","AF","AF26464","Tractebel Trairi Wind Portfolio - Refinancing","Brazil","Brazil","Central & South America","AMER","non-OECD","BASIC","Wind","Wind","Onshore",0,"Refinancing","Term loan","Debt","2012-05-10",115.4,0,0,0,183,183,186.50396733388828]
[2012,12,"Q4","2012Q4","Chile","Wind","Asset finance investments",251.14701389383941,"Acquisition transactions","AF","AF33680","Valle de los Vientos Wind Farm Acquisition","Chile","Other AMER","Central & South America","AMER","OECD",null,"Wind","Wind","Onshore",0,"Acquisition","Balance Sheet","Equity","2012-12-21",90,0,0,0,0,181.8,251.14701389383941]
[2011,4,"Q2","2011Q2","Brazil","Biofuels","Asset finance investments",181.22142187843434,"Acquisition transactions","AF","AF13736","Limeira do Oeste Ethanol Plant Acquisition","Brazil","Brazil","Central & South America","AMER","non-OECD","BASIC","Biofuels","Biofuels","Gasoline/Petrol Substitute","1-Gen fermentation","Acquisition","Balance Sheet","Equity","2011-04-26",0,135,0,0,0,180,181.22142187843434]
[2011,2,"Q1","2011Q1","Brazil","Biofuels","Corporate finance investments",174.67731497726868,"Acquisition transactions","MA","MA2753","Biopalma da Amazonia SA Reflorestamento Industria & Comercio","Brazil","Brazil","Central & South America","AMER","non-OECD","BASIC","Biofuels","Biofuels",0,0,"Fuel production/procurement","Equity (company)",{"$error":"#N/A"},"2011-02-01","na","na","na","na",173.5,173.5,174.67731497726868]
[2012,6,"Q2","2012Q2","Mexico","Wind","Asset finance investments",168.15931480924354,"Acquisition transactions","AF","AF27962","Acciona Oaxaca III Wind Farm Banobras & BBVA Refinancing","Mexico","Other AMER","Central & South America","AMER","OECD",null,"Wind","Wind","Onshore",0,"Refinancing","Term loan","Debt","2012-06-21",102,0,0,0,165,165,168.15931480924354]
[2007,12,"Q4","2007Q4","Mexico","Small Hydro","Corporate finance investments",241.79767225416157,"Acquisition transactions","MA","MA1408","Impulsora Nacional de Electricidad S de RL de CV","Mexico","Other AMER","Central & South America","AMER","OECD",null,"Small hydro","Small Hydro",0,0,"Developer","Equity (company)",{"$error":"#N/A"},"2007-12-07","na","na","na","na",156,156,241.79767225416157]
[2007,7,"Q3","2007Q3","Mexico","Small Hydro","Asset finance investments",158.96802477718441,"Acquisition transactions","AF","AF10447","Inelec Small Hydro Project Portfolio Enel Acquisition","Mexico","Other AMER","Central & South America","AMER","OECD",null,"Small hydro","Small Hydro","Existing Dam",0,"Acquisition","Balance Sheet","Equity","2007-07-12",52,0,0,0,156,156,158.96802477718441]
[2007,7,"Q3","2007Q3","Brazil","Small Hydro","Asset finance investments",159.97967730515808,"Acquisition transactions","AF","AF5924","CFLCL Brazilian Mini and Small Hydro Portfolio Acquisition","Brazil","Brazil","Central & South America","AMER","non-OECD","BASIC","Small hydro","Small Hydro","Run of River",0,"Acquisition","Balance Sheet","Equity","2007-07-13",224.45,0,0,0,155.72999999999999,155.72999999999999,159.97967730515808]
[2007,7,"Q3","2007Q3","Brazil","Biofuels","Asset finance investments",172.23124065400935,"Acquisition transactions","AF","AF4102","ETH Alcidia Bioethanol and Power Plant Acquisition","Brazil","Brazil","Central & South America","AMER","non-OECD","BASIC","Biofuels","Biofuels","Gasoline/Petrol Substitute","1-Gen fermentation","Acquisition","Balance Sheet","Equity","2007-07-05T18:41:00",0,130,0,0,152,152,172.23124065400935]
[2010,5,"Q2","2010Q2","Brazil","Biofuels","Corporate finance investments",150.11185361460863,"Acquisition transactions","MA","MA2328","Usaciga Acucar Alcool e Energia Electrica Ltda","Brazil","Brazil","Central & South America","AMER","non-OECD","BASIC","Biofuels","Biofuels","Gasoline/Petrol Substitute",0,"Fuel production/procurement","Equity (company)",{"$error":"#N/A"},"2010-05-24","na","na","na","na",0,150,150.11185361460863]
[2010,5,"Q2","2010Q2","Nicaragua","Wind","Asset finance investments",150.11185361460863,"Acquisition transactions","AF","AF11926","CEA Amayo Wind Farm Phase I & II Acquisition","Nicaragua","Other AMER","Central & South America","AMER","non-OECD",null,"Wind","Wind","Onshore",0,"Acquisition","Balance Sheet","Equity","2010-05-13",63,0,0,0,0,150,150.11185361460863]
[2012,7,"Q3","2012Q3","Mexico","Wind","Asset finance investments",152.36485531039801,"Acquisition transactions","AF","AF28762","Bii Nee Stipa Wind Farm Phase II Enel Acquisition","Mexico","Other AMER","Central & South America","AMER","OECD",null,"Wind","Wind","Onshore",0,"Acquisition","Balance Sheet","Equity","2012-07-09",74,0,0,0,0,149.47999999999999,152.36485531039801]
[2012,4,"Q2","2012Q2","Brazil","Wind","VC/PE investments",171.40090867190563,"Acquisition transactions","VCPE","VCPE5134","Multiner SA","Brazil","Brazil","Central & South America","AMER","non-OECD","BASIC","Wind","Wind",0,0,"Power Generator","PE - Buy-out / corp spinoff","PE Buy-out","2012-04-02","na","na","na","na",0,147.87100000000001,171.40090867190563]
[2011,3,"Q1","2011Q1","Brazil","Small Hydro","Asset finance investments",147.39342312779328,"Acquisition transactions","AF","AF20112","Hidrotermica Rio Grande do Sul Small Hydro Portfolio - Refinancing","Brazil","Brazil","Central & South America","AMER","non-OECD","BASIC","Small hydro","Small Hydro","Run of River",0,"Refinancing","Construction loan","Debt","2011-03-30",48,0,0,0,146.4,146.4,147.39342312779328]
[2012,12,"Q4","2012Q4","Brazil","Wind","Asset finance investments",200.30977455779271,"Acquisition transactions","AF","AF33546","Renova Energia BNDES Bridge Wind Portfolio - Refinancing","Brazil","Brazil","Central & South America","AMER","non-OECD","BASIC","Wind","Wind","Onshore",0,"Refinancing","Bridge Financing","Debt","2012-12-18",386,0,0,0,145,145,200.30977455779271]
[2008,7,"Q3","2008Q3","Brazil","Biofuels","Asset finance investments",143.8215261910801,"Acquisition transactions","AF","AF8429","Boa Vista Bioethanol and Power Plant Refinancing","Brazil","Brazil","Central & South America","AMER","non-OECD","BASIC","Biofuels","Biofuels","Gasoline/Petrol Substitute","1-Gen fermentation","Refinancing","Term loan","Debt","2008-07-03",40,212,0,0,143.4,143.4,143.8215261910801]
[2012,12,"Q4","2012Q4","Mexico","Wind","Asset finance investments",195.3365663618751,"Acquisition transactions","AF","AF33338","Bii Nee Stipa Wind Farm Phase III Enel Acquisition","Mexico","Other AMER","Central & South America","AMER","OECD",null,"Wind","Wind","Onshore",0,"Acquisition","Balance Sheet","Equity","2012-12-14",70,0,0,0,0,141.4,195.3365663618751]
[2006,9,"Q3","2006Q3","Brazil","Biofuels","Corporate finance investments",141.46081599999997,"Acquisition transactions","MA","MA860","Cooperativa Dos Produtores de Cana de Acucar de Navirai","Brazil","Brazil","Central & South America","AMER","non-OECD","BASIC","Biofuels","Biofuels","Gasoline/Petrol Substitute",0,"Fuel production/procurement","Equity (company)",{"$error":"#N/A"},"2006-09-30","na","na","na","na",141,141,141.46081599999997]
[2012,11,"Q4","2012Q4","Chile","Wind","Asset finance investments",194.78398767343981,"Acquisition transactions","AF","AF32414","Enel Talinay Wind Farm Refinancing","Chile","Other AMER","Central & South America","AMER","OECD",null,"Wind","Wind","Onshore",0,"Refinancing","Term loan","Debt","2012-11-20",100,0,0,0,141,141,194.78398767343981]
[2012,11,"Q4","2012Q4","Brazil","Wind","Asset finance investments",192.71181759180746,"Acquisition transactions","AF","AF34220","Energisa Renascenca Wind Portfolio - Refinancing","Brazil","Brazil","Central & South America","AMER","non-OECD","BASIC","Wind","Wind","Onshore",0,"Refinancing","Term Loan","Debt","2012-11-06",150,0,0,0,139.5,139.5,192.71181759180746]
[2012,11,"Q4","2012Q4","Peru","Solar","Asset finance investments",195.89259730761088,"Acquisition transactions","AF","AF32210","Conduit Capital CAF Peru PV Portfolio - Acquisition","Peru","Other AMER","Central & South America","AMER","non-OECD",null,"Solar","Solar","PV","PV – Crystalline silicon","Acquisition","Balance Sheet","Equity","2012-11-12",40,0,0,0,0,139.32,195.89259730761088]
[2009,8,"Q3","2009Q3","Brazil","Biofuels","Asset finance investments",134.00007219614707,"Acquisition transactions","AF","AF8977","Ribeirao Preto Ethanol and Power Plant Acquisition","Brazil","Brazil","Central & South America","AMER","non-OECD","BASIC","Biofuels","Biofuels","Gasoline/Petrol Substitute","1-Gen fermentation","Acquisition","Balance Sheet","Equity","2009-08-31",9,115,0,0,0,134,134.00007219614707]
[2011,7,"Q3","2011Q3","Brazil","Biofuels","Corporate finance investments",128.76788810139865,"Acquisition transactions","MA","MA3257","BSBIOS Industria e Comercio de Biodiesel Sul Brasil SA","Brazil","Brazil","Central & South America","AMER","non-OECD","BASIC","Biofuels","Biofuels","Diesel Substitute",0,"Fuel production/procurement","Equity (company)",{"$error":"#N/A"},"2011-07-01","na","na","na","na",127.9,127.9,128.76788810139865]
[2008,11,"Q4","2008Q4","Brazil","Biofuels","Asset finance investments",127.97508188271837,"Acquisition transactions","AF","AF6716","Equipav Revati Bioethanol Plant Refinancing","Brazil","Brazil","Central & South America","AMER","non-OECD","BASIC","Biofuels","Biofuels","Gasoline/Petrol Substitute","1-Gen fermentation","Refinancing","Term loan","Debt","2008-11-25",0,189,0,0,127.6,127.6,127.97508188271837]
[2010,5,"Q2","2010Q2","Brazil","Biofuels","Corporate finance investments",122.64738887727982,"Acquisition transactions","MA","MA2732","Copersucar SA","Brazil","Brazil","Central & South America","AMER","non-OECD","BASIC","Biofuels","Biofuels","Gasoline/Petrol Substitute",0,"Fuel production/procurement","Equity (company)",{"$error":"#N/A"},"2010-05-05","na","na","na","na",0,122.556,122.64738887727982]
[2010,11,"Q4","2010Q4","Brazil","Biofuels","Corporate finance investments",122.64738887727982,"Acquisition transactions","MA","MA2733","Copersucar SA","Brazil","Brazil","Central & South America","AMER","non-OECD","BASIC","Biofuels","Biofuels","Gasoline/Petrol Substitute",0,"Fuel production/procurement","Equity (company)",{"$error":"#N/A"},"2010-11-25","na","na","na","na",0,122.556,122.64738887727982]
[2010,12,"Q4","2010Q4","Brazil","Wind","Asset finance investments",121.29037772060377,"Acquisition transactions","AF","AF33456","Atlantic Casa dos Ventos Wind Portfolio - Acquisition","Brazil","Brazil","Central & South America","AMER","non-OECD","BASIC","Wind","Wind","Onshore",0,"Acquisition","Balance Sheet","Equity","2010-12-31",60,0,0,0,0,121.2,121.29037772060377]
[{"$f":"IF(K70=\"\",\"\",IF(AND(YEAR(Z70)<2004,YEAR(Z70)>1910),2004,YEAR(Z70)))","v":2008},{"$f":"IF(K70=\"\",\"\",IF(ISNUMBER(Z70),MONTH(Z70),0))","v":3},{"$f":"IF(K70=\"\",\"\",IF(AND(B70>=1,B70<=3),\"Q1\",IF(AND(B70>3,B70<=6),\"Q2\",IF(AND(B70>6,B70<=9),\"Q3\",IF(AND(B70>9,B70<=12),\"Q4\",0)))))","v":"Q1"},{"$f":"IF(A70<2006, \"< 2006\", A70&C70)","v":"2008Q1"},{"$f":"IF(K70=\"\",\"\", M70)","v":"Brazil"},"Small Hydro","Asset finance investments",{"$f":"IF(K70=\"\",\"\",AG70)","v":125.22856111110046},"Acquisition transactions","AF","AF18059","Quebra Dedo Small Hydro Plant – Acquisition","Brazil","Brazil","Central & South America","AMER","non-OECD","BASIC","Small hydro","Small Hydro","Run of River",0,"Acquisition","Balance Sheet","Equity","2008-03-14T10:47:00",16,0,0,0,0,118,125.22856111110046]
[2010,11,"Q4","2010Q4","Brazil",{"$f":"IF(K71=\"\",\"\",IF(OR(T71=\"Wind\",T71=\"Solar\",T71=\"Geothermal\",T71=\"Small Hydro\",T71=\"Biofuels\",T71=\"Biomass & Waste\"),T71,\"Other Clean Energy\"))","v":"Small Hydro"},{"$f":"IF(K71=\"\",\"\",IF(OR(J71=\"PM\",J71=\"MA\"), \"Corporate finance investments\", IF(J71=\"VCPE\", \"VC/PE investments\", IF(J71=\"AF\", \"Asset finance investments\"))))","v":"Asset finance investments"},114.92563512734436,"Acquisition transactions","AF","AF13912","EDP Energias do Brasil Small Hydro Portfolio Acquisition","Brazil","Brazil","Central & South America","AMER","non-OECD","BASIC","Small hydro","Small Hydro","Run of River",0,"Acquisition","Balance Sheet","Equity","2010-11-05",49.5,0,0,0,0,114.84,114.92563512734436]
[2010,1,"Q1","2010Q1","Chile","Wind","Asset finance investments",112.29467470632565,"Acquisition transactions","AF","AF26410","El Arrayan Wind Farm AEI Acquisition","Chile","Other AMER","Central & South America","AMER","OECD",null,"Wind","Wind","Onshore",0,"Acquisition","Balance Sheet","Equity","2010-01-31",101,0,0,0,0,112.211,112.29467470632565]
[2011,4,"Q2","2011Q2","Guatemala","Small Hydro","Asset finance investments",108.73285312706061,"Acquisition transactions","AF","AF19420","Hidroelectrica Rio Las Vacas Las Vacas Small Hydro Plant Acquisition","Guatemala","Other AMER","Central & South America","AMER","non-OECD",null,"Small hydro","Small Hydro","Run of River",0,"Acquisition","Balance Sheet","Equity","2011-04-20",45,0,0,0,0,108,108.73285312706061]
[2007,4,"Q2","2007Q2","Brazil","Biofuels","Asset finance investments",109.252585340284,"Acquisition transactions","AF","AF3783","Motuca Santa Luiza Bioethanol Plant Acquisition","Brazil","Brazil","Central & South America","AMER","non-OECD","BASIC","Biofuels","Biofuels","Gasoline/Petrol Substitute","1-Gen fermentation","Acquisition","Term loan","Debt","2007-04-12T18:45:00",0,154.80000000000001,0,0,107.9,107.9,109.252585340284]
[2007,2,"Q1","2007Q1","Brazil","Biofuels","Corporate finance investments",108.49527569688172,"Acquisition transactions","PM","PM951","Sao Martinho SA","Brazil","Brazil","Central & South America","AMER","non-OECD","BASIC","Biofuels","Biofuels",0,0,"Brazil","IPO","IPO","2007-02-12","São Paulo (BOVESPA)",97.1,200.9,0,103.8,103.8,108.49527569688172]
[2010,4,"Q2","2010Q2","Brazil","Biofuels","Asset finance investments",101.37553847439902,"Acquisition transactions","AF","AF11360","Cofercatu Ethanol Plant Acquisition","Brazil","Brazil","Central & South America","AMER","non-OECD","BASIC","Biofuels","Biofuels","Gasoline/Petrol Substitute","1-Gen fermentation","Acquisition","Balance Sheet","Equity","2010-04-06",0,67,0,0,101.3,101.3,101.37553847439902]
[2006,7,"Q3","2006Q3","Mexico","Geothermal","Asset finance investments",103.934,"Acquisition transactions","AF","AF8400","Los Azufres Geothermal Plant II- CFE Refinancing","Mexico","Other AMER","Central & South America","AMER","OECD",null,"Geothermal","Geothermal","Conventional","Single flash","Refinancing","Bond","Debt","2006-07-26",100,0,0,0,101,101,103.934]
[2008,2,"Q1","2008Q1","Brazil","Biofuels","Asset finance investments",100.2397925850327,"Acquisition transactions","AF","AF19798","Andrade Bioethanol and Power Plant Guarani Acquisition","Brazil","Brazil","Central & South America","AMER","non-OECD","BASIC","Biofuels","Biofuels","Gasoline/Petrol Substitute","1-Gen fermentation","Acquisition","Balance Sheet","Equity","2008-02-28",7.2,260,0,0,0,99.945999999999998,100.2397925850327]
[2011,6,"Q2","2011Q2","Chile","Small Hydro","Asset finance investments",97.859567814354548,"Acquisition transactions","AF","AF17351","GDF Suez Laja Small Hydro Plant Refinancing","Chile","Other AMER","Central & South America","AMER","OECD",null,"Small hydro","Small Hydro","Run of River",0,"Refinancing","Construction loan","Debt","2011-06-15",36,0,0,0,0,97.2,97.859567814354548]
[2012,10,"Q4","2012Q4","Brazil","Wind","Asset finance investments",131.79001719181673,"Acquisition transactions","AF","AF29894","Gargau Wind Farm Omega Acquisition","Brazil","Brazil","Central & South America","AMER","non-OECD","BASIC","Wind","Wind","Onshore",0,"Acquisition","Balance Sheet","Equity","2012-10-04",28.05,0,0,0,95.4,95.4,131.79001719181673]
[2007,10,"Q4","2007Q4","Paraguay","Biofuels","Asset finance investments",96.535782157364551,"Acquisition transactions","AF","AF4677","BIC Puerto Triunfo Biodiesel Plant Acquisition","Paraguay","Other AMER","Central & South America","AMER","non-OECD",null,"Biofuels","Biofuels","Diesel Substitute",0,"Acquisition","Balance Sheet","Equity","2007-10-18",0,227,0,0,0,95.34,96.535782157364551]
[2008,11,"Q4","2008Q4","Brazil","Wind","Asset finance investments",94.950578810906848,"Acquisition transactions","AF","AF7330","Econergy Brazilian Wind & Small Hydro Portfolio Acquisition","Brazil","Brazil","Central & South America","AMER","non-OECD","BASIC","Wind","Wind","Onshore",0,"Acquisition","Balance Sheet","Equity","2008-11-07",63.4,0,0,0,94.4,94.4,94.950578810906848]
[2012,3,"Q1","2012Q1","Brazil","Wind","Asset finance investments",98.81567103762174,"Acquisition transactions","AF","AF34222","Queiroz Galvao Ceara Wind Portfolio - Refinancing","Brazil","Brazil","Central & South America","AMER","non-OECD","BASIC","Wind","Wind","Onshore",0,"Refinancing","Term loan","Debt","2012-03-15",121.8,0,0,0,94.3,94.3,98.81567103762174]
[2010,8,"Q3","2010Q3","Brazil","Biofuels","Corporate finance investments",93.817907017748865,"Acquisition transactions","MA","MA2327","Integrated Biodiesel Industries Ltd","Brazil","Brazil","Central & South America","AMER","non-OECD","BASIC","Biofuels","Biofuels","Diesel Substitute",0,"Developer","Equity (company)",{"$error":"#N/A"},"2010-08-16","na","na","na","na",0,93.748000000000005,93.817907017748865]
[2012,9,"Q3","2012Q3","Brazil","Wind","Asset finance investments",94.794832378023926,"Acquisition transactions","AF","AF34230","Eletrosul Santana do Livramento Wind Portfolio - Refinancing","Brazil","Brazil","Central & South America","AMER","non-OECD","BASIC","Wind","Wind","Onshore",0,"Refinancing","Term loan","Debt","2012-09-11",90,0,0,0,93,93,94.794832378023926]
[2009,2,"Q1","2009Q1","Brazil","Wind","Asset finance investments",92.800049998525722,"Acquisition transactions","AF","AF7611","Ceara Wind Portfolio Cemig Acquisition","Brazil","Brazil","Central & South America","AMER","non-OECD","BASIC","Wind","Wind","Onshore",0,"Acquisition","Balance Sheet","Equity","2009-02-04",99.6,0,0,0,92.8,92.8,92.800049998525722]
[2007,9,"Q3","2007Q3","Brazil","Biofuels","Asset finance investments",102.29629214634187,"Acquisition transactions","AF","AF4461","Santa Juliana Bioethanol and Power Plant Bunge Acquisition","Brazil","Brazil","Central & South America","AMER","non-OECD","BASIC","Biofuels","Biofuels","Gasoline/Petrol Substitute","1-Gen fermentation","Acquisition","Balance Sheet","Equity","2007-09-17",6,132,0,0,0,90.28,102.29629214634187]
[2011,3,"Q1","2011Q1","Mexico","Wind","Asset finance investments",89.736129054765385,"Acquisition transactions","AF","AF16172","Mareña Wind Farm FEMSA and Macquarie Acquisition","Mexico","Other AMER","Central & South America","AMER","OECD",null,"Wind","Wind","Onshore",0,"Acquisition","Balance Sheet","Equity","2011-03-18",396,0,0,0,89,89,89.736129054765385]
[2012,4,"Q2","2012Q2","Nicaragua","Wind","Asset finance investments",90.581817577245843,"Acquisition transactions","AF","AF26182","Eolo de Nicaragua Wind Farm Globeleq Acquisition","Nicaragua","Other AMER","Central & South America","AMER","non-OECD",null,"Wind","Wind","Onshore",0,"Acquisition","Balance Sheet","Equity","2012-04-25",44,0,0,0,0,88.88,90.581817577245843]
[2006,10,"Q4","2006Q4","Brazil","Biofuels","Corporate finance investments",90.202297999999999,"Acquisition transactions","MA","MA903","Alcana Destilaria de Alcool de Nanuque SA","Brazil","Brazil","Central & South America","AMER","non-OECD","BASIC","Biofuels","Biofuels","Gasoline/Petrol Substitute",0,"Fuel production/procurement","Equity (company)",{"$error":"#N/A"},"2006-10-09","na","na","na","na",87.5,87.5,90.202297999999999]
[2008,2,"Q1","2008Q1","Brazil","Biofuels","Asset finance investments",86.653973939395541,"Acquisition transactions","AF","AF5303","TG Agroindustrial Ethanol Plant Acquisition","Brazil","Brazil","Central & South America","AMER","non-OECD","BASIC","Biofuels","Biofuels","Gasoline/Petrol Substitute",0,"Acquisition","Balance Sheet","Equity","2008-02-18T17:44:00",0,20,0,0,86.4,86.4,86.653973939395541]
[2009,12,"Q4","2009Q4","Brazil","Biofuels","Asset finance investments",84.300045418919382,"Acquisition transactions","AF","AF10242","Total Agroindustria Bambui Bioethanol and Power Plant Petrobras Acquisition I","Brazil","Brazil","Central & South America","AMER","non-OECD","BASIC","Biofuels","Biofuels","Gasoline/Petrol Substitute","1-Gen fermentation","Acquisition","Balance Sheet","Equity","2009-12-22",25,100,0,0,84.3,84.3,84.300045418919382]
[2012,12,"Q4","2012Q4","Brazil","Wind","Asset finance investments",114.38378850610506,"Acquisition transactions","AF","AF34244","CPFL Renovaveis Rio Grande do Norte Wind Portfolio - Refinancing","Brazil","Brazil","Central & South America","AMER","non-OECD","BASIC","Wind","Wind","Onshore",0,"Refinancing","Term Loan","Debt","2012-12-04",78.2,0,0,0,82.8,82.8,114.38378850610506]
[2010,3,"Q1","2010Q1","Brazil","Biofuels","Corporate finance investments",82.061146642652716,"Acquisition transactions","MA","MA2117","Renuka Vale Do Ivai SA","Brazil","Brazil","Central & South America","AMER","non-OECD","BASIC","Biofuels","Biofuels","Gasoline/Petrol Substitute",0,"Fuel production/procurement","Equity (company)",{"$error":"#N/A"},"2010-03-22","na","na","na","na",82,82,82.061146642652716]
[2007,12,"Q4","2007Q4","Brazil","Biofuels","Corporate finance investments",86.707268119524329,"Acquisition transactions","MA","MA1327","ETH Bioenergia SA","Brazil","Brazil","Central & South America","AMER","non-OECD","BASIC","Biofuels","Biofuels","Gasoline/Petrol Substitute",0,"Fuel production/procurement","Equity (company)",{"$error":"#N/A"},"2007-12-24","na","na","na","na",80.7,80.7,86.707268119524329]
[2010,12,"Q4","2010Q4","Brazil","Biofuels","Asset finance investments",80.059655261124604,"Acquisition transactions","AF","AF13598","Glencore Rio Vermelho Bioethanol Plant Acquisition","Brazil","Brazil","Central & South America","AMER","non-OECD","BASIC","Biofuels","Biofuels","Gasoline/Petrol Substitute","1-Gen fermentation","Acquisition","Balance Sheet","Equity","2010-12-03",0,66.599999999999994,0,0,0,80,80.059655261124604]
[2011,11,"Q4","2011Q4","Brazil","Small Hydro","Asset finance investments",80.240818465062318,"Acquisition transactions","AF","AF20114","Copel Unai Baixo Small Hydro Plant - Refinancing","Brazil","Brazil","Central & South America","AMER","non-OECD","BASIC","Small hydro","Small Hydro","Run of River",0,"Refinancing","Term loan","Debt","2011-11-30",21,0,0,0,79.7,79.7,80.240818465062318]
[2010,4,"Q2","2010Q2","Brazil","Biofuels","Corporate finance investments",79.72040247195558,"Acquisition transactions","MA","MA3120","Brazilian Renewable Energy Co Ltd","Brazil","Brazil","Central & South America","AMER","non-OECD","BASIC","Biofuels","Biofuels","Gasoline/Petrol Substitute",0,"Fuel production/procurement","Equity (company)",{"$error":"#N/A"},"2010-04-16","na","na","na","na",0,79.661000000000001,79.72040247195558]
[2008,6,"Q2","2008Q2","Brazil","Wind","Asset finance investments",79.34000745129066,"Acquisition transactions","AF","AF6176","Rio Grande do Norte Wind Farm ERSA Acquisition","Brazil","Brazil","Central & South America","AMER","non-OECD","BASIC","Wind","Wind","Onshore",0,"Acquisition","Balance Sheet","Equity","2008-06-13",49.3,0,0,0,0,78.88,79.34000745129066]
[2011,4,"Q2","2011Q2","Brazil","Small Hydro","Asset finance investments",78.428604246277985,"Acquisition transactions","AF","AF20108","Desenvix Adami Passos Maia Small Hydro Plant - Refinancing","Brazil","Brazil","Central & South America","AMER","non-OECD","BASIC","Small hydro","Small Hydro","Run of River",0,"Refinancing","Term loan","Debt","2011-04-12",22.2,0,0,0,77.900000000000006,77.900000000000006,78.428604246277985]
[2011,7,"Q3","2011Q3","Brazil","Wind","Asset finance investments",77.119782866044829,"Acquisition transactions","AF","AF17878","Elebras Tramandai Cidreira I Wind Farm Refinancing","Brazil","Brazil","Central & South America","AMER","non-OECD","BASIC","Wind","Wind","Onshore",0,"Refinancing","Term loan","Debt","2011-07-26",70,0,0,0,76.599999999999994,76.599999999999994,77.119782866044829]
[2012,11,"Q4","2012Q4","Brazil","Wind","Asset finance investments",105.68067416324925,"Acquisition transactions","AF","AF34236","Brennand CHESF Bahia Wind Portfolio - Refinancing","Brazil","Brazil","Central & South America","AMER","non-OECD","BASIC","Wind","Wind","Onshore",0,"Refinancing","Term Loan","Debt","2012-11-13",90,0,0,0,76.5,76.5,105.68067416324925]
[2011,10,"Q4","2011Q4","Brazil","Wind","Corporate finance investments",76.981853228281807,"Acquisition transactions","MA","MA3289","Eolica Faisa Ltda","Brazil","Brazil","Central & South America","AMER","non-OECD","BASIC","Wind","Wind",0,0,"Developer","Equity (company)",{"$error":"#N/A"},"2011-10-11","na","na","na","na",0,76.462999999999994,76.981853228281807]
[2011,3,"Q1","2011Q1","Brazil","Wind","Corporate finance investments",76.981853228281807,"Acquisition transactions","MA","MA3305","Cedin do Brasil Ltda","Brazil","Brazil","Central & South America","AMER","non-OECD","BASIC","Wind","Wind","Onshore",0,"Developer","Equity (company)",{"$error":"#N/A"},"2011-03-29","na","na","na","na",0,76.462999999999994,76.981853228281807]
[2012,8,"Q3","2012Q3","Mexico","Wind","Asset finance investments",77.466744739030318,"Acquisition transactions","AF","AF30010","Bii Nee Stipa Wind Farm Phase II Refinancing","Mexico","Other AMER","Central & South America","AMER","OECD",null,"Wind","Wind","Onshore",0,"Refinancing","Term loan","Debt","2012-08-29",74,0,0,0,76,76,77.466744739030318]
[2012,8,"Q3","2012Q3","Brazil","Biomass & Waste","Asset finance investments",76.447445466148338,"Acquisition transactions","AF","AF20078","Tonon Bioenergia Power Plant Portfolio Energisa Acquisition","Brazil","Brazil","Central & South America","AMER","non-OECD","BASIC","Biomass & Waste","Biomass & Waste","Electricity Generation (new)","Incineration","Acquisition","Balance Sheet","Equity","2012-08-21",170,0,0,0,75,75,76.447445466148338]
[2011,5,"Q2","2011Q2","Brazil","Small Hydro","Asset finance investments",75.50892578268099,"Acquisition transactions","AF","AF16831","Brookfield Sacre 2 Small Hydro Plant Acquisition","Brazil","Brazil","Central & South America","AMER","non-OECD","BASIC","Small hydro","Small Hydro","New Dam",0,"Acquisition","Balance Sheet","Equity","2011-05-02",30,0,0,0,0,75,75.50892578268099]
[2011,7,"Q3","2011Q3","Mexico","Wind","Asset finance investments",75.62032480079715,"Acquisition transactions","AF","AF18430","Acciona Oaxaca Wind Portfolio Refinancing","Mexico","Other AMER","Central & South America","AMER","OECD",null,"Wind","Wind","Onshore",0,"Refinancing","Bridge Financing","Debt","2011-07-20",306,0,0,0,75,75,75.62032480079715]
[2010,2,"Q1","2010Q1","Brazil","Biofuels","Asset finance investments",74.955852238227919,"Acquisition transactions","AF","AF10993","Vertente Bioethanol and Power Plant Guarani Acquisition","Brazil","Brazil","Central & South America","AMER","non-OECD","BASIC","Biofuels","Biofuels","Gasoline/Petrol Substitute","1-Gen fermentation","Acquisition","Balance Sheet","Equity","2010-02-23",8,80,0,0,74.900000000000006,74.900000000000006,74.955852238227919]
[2011,11,"Q4","2011Q4","Brazil","Biofuels","Corporate finance investments",71.481783074271334,"Acquisition transactions","MA","MA3202","Tropical BioEnergia SA","Brazil","Brazil","Central & South America","AMER","non-OECD","BASIC","Biofuels","Biofuels","Gasoline/Petrol Substitute",0,"Developer","Equity (company)",{"$error":"#N/A"},"2011-11-23","na","na","na","na",71,71,71.481783074271334]
[2007,11,"Q4","2007Q4","Brazil","Biofuels","Asset finance investments",72.048622193696303,"Acquisition transactions","AF","AF4922","Paraguacu Paralcool Bioethanol Plant Nova America Acquisition","Brazil","Brazil","Central & South America","AMER","non-OECD","BASIC","Biofuels","Biofuels","Gasoline/Petrol Substitute","1-Gen fermentation","Acquisition","Balance Sheet","Equity","2007-11-28",0,63,0,0,70.2,70.2,72.048622193696303]
[2012,1,"Q1","2012Q1","Brazil","Small Hydro","Asset finance investments",73.352035764936616,"Acquisition transactions","AF","AF21246","EMAE Pirapora Small Hydro Plant Refinancing","Brazil","Brazil","Central & South America","AMER","non-OECD","BASIC","Small hydro","Small Hydro","Run of River",0,"Refinancing","Term loan","Debt","2012-01-27",25,0,0,0,70,70,73.352035764936616]
[2007,2,"Q1","2007Q1","Brazil","Biofuels","Asset finance investments",94.565863399187506,"Acquisition transactions","AF","AF6625","Noroeste Paulista Bioethanol and Power Plant Noble Acquisition","Brazil","Brazil","Central & South America","AMER","non-OECD","BASIC","Biofuels","Biofuels","Gasoline/Petrol Substitute","1-Gen fermentation","Acquisition","Balance Sheet","Equity","2007-02-09",0,15,0,0,70,70,94.565863399187506]
[2011,8,"Q3","2011Q3","Brazil","Small Hydro","Asset finance investments",68.864140313805066,"Acquisition transactions","AF","AF18103","CPFL Renovaveis Santa Luzia Small Hydro Plant Acquisition","Brazil","Brazil","Central & South America","AMER","non-OECD","BASIC","Small hydro","Small Hydro","Run of River",0,"Acquisition","Balance Sheet","Equity","2011-08-17",28.5,0,0,0,0,68.400000000000006,68.864140313805066]
[2012,4,"Q2","2012Q2","Brazil","Small Hydro","Asset finance investments",68.996276439913871,"Acquisition transactions","AF","AF34238","Omega Indaia Grande and Indaiazinho Small Hydro Portfolio - Refinancing","Brazil","Brazil","Central & South America","AMER","non-OECD","BASIC","Small hydro","Small Hydro","Run of River",0,"Refinancing","Term loan","Debt","2012-04-03",32.5,0,0,0,67.7,67.7,68.996276439913871]
[2008,2,"Q1","2008Q1","Brazil","Biofuels","VC/PE investments",77.085930983587261,"Acquisition transactions","VCPE","VCPE2187","Unialco MS","Brazil","Brazil","Central & South America","AMER","non-OECD","BASIC","Biofuels","Biofuels","Gasoline/Petrol Substitute","1-Gen fermentation","Fuel production/procurement","PE - Buy-out / corp spinoff","PE Buy-out","2008-02-05T09:40:00","na","na","na","na",64,64,77.085930983587261]
[2010,5,"Q2","2010Q2","Brazil","Biofuels","Asset finance investments",64.04772420889968,"Acquisition transactions","AF","AF11595","Alpha Ethanol Plant Baldin Acquisition","Brazil","Brazil","Central & South America","AMER","non-OECD","BASIC","Biofuels","Biofuels","Gasoline/Petrol Substitute","1-Gen fermentation","Acquisition","Balance Sheet","Equity","2010-05-14",0,30,0,0,64,64,64.04772420889968]
[2007,4,"Q2","2007Q2","Brazil","Biofuels","Asset finance investments",64.397260682502903,"Acquisition transactions","AF","AF5108","Comanche Clean Energy Brazil Biofuels Portfolio Acquisition","Brazil","Brazil","Central & South America","AMER","non-OECD","BASIC","Biofuels","Biofuels","Gasoline/Petrol Substitute",0,"Acquisition","Balance Sheet","Equity","2007-04-30",0,0,0,0,63.6,63.6,64.397260682502903]
[2008,7,"Q3","2008Q3","Brazil","Biomass & Waste","Asset finance investments",78.066466833929127,"Acquisition transactions","AF","AF5809","Rafard Biomass Project Expansion Refinancing","Brazil","Brazil","Central & South America","AMER","non-OECD","BASIC","Biomass & Waste","Biomass & Waste","Electricity Generation (new)","Incineration","Refinancing","Term loan","Debt","2008-07-10",50,0,0,0,63.18,63.18,78.066466833929127]
[2008,6,"Q2","2008Q2","Brazil","Biofuels","Corporate finance investments",65.993419967734084,"Acquisition transactions","MA","MA1565","Tropical BioEnergia SA","Brazil","Brazil","Central & South America","AMER","non-OECD","BASIC","Biofuels","Biofuels","Gasoline/Petrol Substitute",0,"Developer","Equity (company)",{"$error":"#N/A"},"2008-06-02","na","na","na","na",62.4,62.4,65.993419967734084]
[2008,2,"Q1","2008Q1","Brazil","Biofuels","Asset finance investments",62.182249817621795,"Acquisition transactions","AF","AF5289","Benalcool Bioethanol and Power Plant Cosan Acquisition","Brazil","Brazil","Central & South America","AMER","non-OECD","BASIC","Biofuels","Biofuels","Gasoline/Petrol Substitute","1-Gen fermentation","Acquisition","Balance Sheet","Equity","2008-02-14T14:43:00",0,49.3,0,0,62,62,62.182249817621795]
[2009,10,"Q4","2009Q4","Chile","Wind","Asset finance investments",60.859292140535302,"Acquisition transactions","AF","AF26790","Monte Redondo Wind Farm GDF Suez Acquisition","Chile","Other AMER","Central & South America","AMER","OECD",null,"Wind","Wind","Onshore",0,"Acquisition","Balance Sheet","Equity","2009-10-09",38,0,0,0,0,60.8,60.859292140535302]
[2012,9,"Q3","2012Q3","Brazil","Wind","Asset finance investments",61.769535936647863,"Acquisition transactions","AF","AF30806","Desenvix Barra dos Coqueiros Wind Farm - Refinancing","Brazil","Brazil","Central & South America","AMER","non-OECD","BASIC","Wind","Wind","Onshore",0,"Refinancing","Term loan","Debt","2012-09-26",34.5,0,0,0,60.6,60.6,61.769535936647863]
[2010,12,"Q4","2010Q4","Brazil","Wind","Asset finance investments",60.645188860301886,"Acquisition transactions","AF","AF33466","CPFL Renovaveis Campos dos Ventos II Wind Farm - Acquisition","Brazil","Brazil","Central & South America","AMER","non-OECD","BASIC","Wind","Wind","Onshore",0,"Acquisition","Balance Sheet","Equity","2010-12-31",30,0,0,0,0,60.6,60.645188860301886]
[2010,6,"Q2","2010Q2","Brazil","Biofuels","Asset finance investments",60.044741445843449,"Acquisition transactions","AF","AF11722","CMAA Vale do Tijuco Bioethanol and Power Plant Refinancing","Brazil","Brazil","Central & South America","AMER","non-OECD","BASIC","Biofuels","Biofuels","Gasoline/Petrol Substitute","1-Gen fermentation","Refinancing","Term loan","Debt","2010-06-29",45,120,0,0,60,60,60.044741445843449]
[2010,12,"Q4","2010Q4","Brazil","Biofuels","Asset finance investments",60.044741445843449,"Acquisition transactions","AF","AF17817","Goiatuba Bom Sucesso Bioethanol Plant Acquisition","Brazil","Brazil","Central & South America","AMER","non-OECD","BASIC","Biofuels","Biofuels","Gasoline/Petrol Substitute","1-Gen fermentation","Acquisition","Balance Sheet","Equity","2010-12-31",0,89,0,0,0,60,60.044741445843449]
[2012,10,"Q4","2012Q4","Brazil","Small Hydro","Asset finance investments",80.576350872867437,"Acquisition transactions","AF","AF31706","Eletrosul Santa Catarina Small Hydro Portfolio Refinancing","Brazil","Brazil","Central & South America","AMER","non-OECD","BASIC","Small hydro","Small Hydro","Run of River",0,"Refinancing","Term loan","Debt","2012-10-24",53,0,0,0,59.3,59.3,80.576350872867437]
[2007,8,"Q3","2007Q3","Brazil","Small Hydro","Corporate finance investments",99.564512170038157,"Acquisition transactions","MA","MA1810","Hidraulica Industrial SA Ind e Comm","Brazil","Brazil","Central & South America","AMER","non-OECD","BASIC","Small hydro","Small Hydro",0,0,"Equipment Manufacturer","Equity (company)",{"$error":"#N/A"},"2007-08-02","na","na","na","na",0,58.78,99.564512170038157]
[2010,8,"Q3","2010Q3","Mexico","Wind","Asset finance investments",58.543622909697362,"Acquisition transactions","AF","AF11284","EDF La Ventosa Wind Farm Refinancing","Mexico","Other AMER","Central & South America","AMER","OECD",null,"Wind","Wind","Onshore",0,"Refinancing","Term loan","Debt","2010-08-27",67.5,0,0,0,58.5,58.5,58.543622909697362]
[2007,3,"Q1","2007Q1","Belize","Biofuels","Asset finance investments",58.392992251438251,"Acquisition transactions","AF","AF2816","Libertad Sugar Factory Acquisition","Belize","Other AMER","Central & South America","AMER","non-OECD",null,"Biofuels","Biofuels","Diesel Substitute",0,"Acquisition","Balance Sheet","Equity","2007-03-16",0,0,0,0,0,57.67,58.392992251438251]
[2006,5,"Q2","2006Q2","Brazil","Biofuels","VC/PE investments",57.142000000000003,"Acquisition transactions","VCPE","VCPE5866","Usina Moema Acucar e Alcool Ltda","Brazil","Brazil","Central & South America","AMER","non-OECD","BASIC","Biofuels","Biofuels","Gasoline/Petrol Substitute","1-Gen fermentation","Developer","PE - Buy-out / corp spinoff","PE Buy-out","2006-05-14","na","na","na","na",0,57.142000000000003,57.142000000000003]
[2006,1,"Q1","2006Q1","Brazil","Small Hydro","Asset finance investments",56.494068999999996,"Acquisition transactions","AF","AF8501","Brookfield Passo do Meio Small Hydro Plant Refinancing","Brazil","Brazil","Central & South America","AMER","non-OECD","BASIC","Small hydro","Small Hydro","Run of River",0,"Refinancing","Term loan","Debt","2006-01-06",30,0,0,0,0,56.4,56.494068999999996]
[2007,9,"Q3","2007Q3","Colombia","Small Hydro","Asset finance investments",57.065444791809796,"Acquisition transactions","AF","AF4435","EPSA Hidroprado Small Hydro Plant Acquisition","Colombia","Other AMER","Central & South America","AMER","non-OECD",null,"Small hydro","Small Hydro","Existing Dam",0,"Acquisition","Balance Sheet","Equity","2007-09-13",50,0,0,0,56,56,57.065444791809796]
[{"$f":"IF(K134=\"\",\"\",IF(AND(YEAR(Z134)<2004,YEAR(Z134)>1910),2004,YEAR(Z134)))","v":2011},{"$f":"IF(K134=\"\",\"\",IF(ISNUMBER(Z134),MONTH(Z134),0))","v":4},{"$f":"IF(K134=\"\",\"\",IF(AND(B134>=1,B134<=3),\"Q1\",IF(AND(B134>3,B134<=6),\"Q2\",IF(AND(B134>6,B134<=9),\"Q3\",IF(AND(B134>9,B134<=12),\"Q4\",0)))))","v":"Q2"},{"$f":"IF(A134<2006, \"< 2006\", A134&C134)","v":"2011Q2"},{"$f":"IF(K134=\"\",\"\", M134)","v":"Chile"},"Geothermal","Corporate finance investments",{"$f":"IF(K134=\"\",\"\",AG134)","v":58.804776107432666},"Acquisition transactions","MA","MA3434","GTN Latin America","Chile","Other AMER","Central & South America","AMER","OECD",null,"Geothermal","Geothermal",0,0,"Developer","Equity (company)",{"$error":"#N/A"},"2011-04-11","na","na","na","na",0,55.368000000000002,58.804776107432666]
[2012,4,"Q2","2012Q2","Brazil",{"$f":"IF(K135=\"\",\"\",IF(OR(T135=\"Wind\",T135=\"Solar\",T135=\"Geothermal\",T135=\"Small Hydro\",T135=\"Biofuels\",T135=\"Biomass & Waste\"),T135,\"Other Clean Energy\"))","v":"Biofuels"},{"$f":"IF(K135=\"\",\"\",IF(OR(J135=\"PM\",J135=\"MA\"), \"Corporate finance investments\", IF(J135=\"VCPE\", \"VC/PE investments\", IF(J135=\"AF\", \"Asset finance investments\"))))","v":"Asset finance investments"},56.053104936414513,"Acquisition transactions","AF","AF19810","Iraquara and Porto Nacional Biodiesel Plants Oleoplan Acquisition","Brazil","Brazil","Central & South America","AMER","non-OECD","BASIC","Biofuels","Biofuels","Diesel Substitute","Transesterification","Acquisition","Balance Sheet","Equity","2012-04-05",0,259.2,0,0,55,55,56.053104936414513]
[2012,10,"Q4","2012Q4","Brazil","Biomass & Waste","Asset finance investments",75.077204465731555,"Acquisition transactions","AF","AF24358","Ester Cosmopolis Power Plant CPFL Acquisition","Brazil","Brazil","Central & South America","AMER","non-OECD","BASIC","Biomass & Waste","Biomass & Waste","Electricity Generation (new)","Incineration","Acquisition","Balance Sheet","Equity","2012-10-18",40,0,0,0,55,55,75.077204465731555]
[2008,4,"Q2","2008Q2","Brazil","Other Clean Energy","Corporate finance investments",57.701116072700259,"Acquisition transactions","MA","MA1562","Ecologica Assessoria Ltda","Brazil","Brazil","Central & South America","AMER","non-OECD","BASIC","Carbon Markets","Low carbon services & support",0,0,"Service Company","Asset",{"$error":"#N/A"},"2008-04-22","na","na","na","na",0,54.561,57.701116072700259]
[2009,1,"Q1","2009Q1","Chile","Wind","Corporate finance investments",55.953168241604203,"Acquisition transactions","MA","MA1820","Natural Power SA","Chile","Other AMER","Central & South America","AMER","OECD",null,"Wind","Wind",0,0,"Service Company","Equity (company)",{"$error":"#N/A"},"2009-01-15","na","na","na","na",0,54.561,55.953168241604203]
[2006,8,"Q3","2006Q3","Brazil","Biofuels","Asset finance investments",54.39,"Acquisition transactions","AF","AF2807","Sao Tome Bioethanol and Power Plant Santa Terezinha Acquisition","Brazil","Brazil","Central & South America","AMER","non-OECD","BASIC","Biofuels","Biofuels","Gasoline/Petrol Substitute","1-Gen fermentation","Acquisition","Balance Sheet","Equity","2006-08-08",4,94,0,0,0,54.39,54.39]
[2008,9,"Q3","2008Q3","Brazil","Small Hydro","Asset finance investments",54.566743868905071,"Acquisition transactions","AF","AF6542","Alto Irani & Plano Alto Small Hydro Plants Acquisition","Brazil","Brazil","Central & South America","AMER","non-OECD","BASIC","Small hydro","Small Hydro","New Dam",0,"Acquisition","Balance Sheet","Equity","2008-09-16",37,0,0,0,0,54.02,54.566743868905071]
[2011,7,"Q3","2011Q3","Brazil","Small Hydro","Asset finance investments",54.336222993217234,"Acquisition transactions","AF","AF17860","Consorcio Juruena Small Hydro Portfolio Refinancing","Brazil","Brazil","Central & South America","AMER","non-OECD","BASIC","Small hydro","Small Hydro","Run of River",0,"Refinancing","Construction loan","Debt","2011-07-19",91.4,0,0,0,53.97,53.97,54.336222993217234]
[2012,2,"Q1","2012Q1","Chile","Biomass & Waste","Asset finance investments",56.451726724695206,"Acquisition transactions","AF","AF32424","Concepcion Biomass Plant ENESA Acquisition","Chile","Other AMER","Central & South America","AMER","OECD",null,"Biomass & Waste","Biomass & Waste","Combined Heat & Power (CHP)","Incineration","Acquisition","Balance Sheet","Equity","2012-02-09",14.8,0,0,0,0,53.872,56.451726724695206]
[2010,4,"Q2","2010Q2","Argentina","Biofuels","Corporate finance investments",53.039521610495051,"Acquisition transactions","MA","MA2292","Renova SA","Argentina","Other AMER","Central & South America","AMER","non-OECD",null,"Biofuels","Biofuels","Gasoline/Petrol Substitute",0,"Fuel production/procurement","Equity (company)",{"$error":"#N/A"},"2010-04-28","na","na","na","na",53,53,53.039521610495051]
[2007,9,"Q3","2007Q3","Brazil","Biofuels","Asset finance investments",60.054314175411157,"Acquisition transactions","AF","AF4493","Sao Sebastiao do Paraiso Ethanol Plant Acquisition","Brazil","Brazil","Central & South America","AMER","non-OECD","BASIC","Biofuels","Biofuels","Gasoline/Petrol Substitute",0,"Acquisition","Balance Sheet","Equity","2007-09-24",0,66,0,0,53,53,60.054314175411157]
[2011,11,"Q4","2011Q4","Brazil","Biomass & Waste","Asset finance investments",52.352855209325483,"Acquisition transactions","AF","AF20120","Destilaria Pau d'Alho Ibirarema Power Plant Refinancing","Brazil","Brazil","Central & South America","AMER","non-OECD","BASIC","Biomass & Waste","Biomass & Waste","Electricity Generation (new)","Incineration","Refinancing","Term loan","Debt","2011-11-30",33,0,0,0,52,52,52.352855209325483]
[2008,12,"Q4","2008Q4","Brazil","Biofuels","Asset finance investments",52.1528546857473,"Acquisition transactions","AF","AF24148","Santa Terezinha Rio Parana Bioethanol Plant Pre-Construction","Brazil","Brazil","Central & South America","AMER","non-OECD","BASIC","Biofuels","Biofuels","Gasoline/Petrol Substitute","1-Gen fermentation","Refinancing","Development loan","Debt","2008-12-31",0,65,0,0,52,52,52.1528546857473]
[2011,10,"Q4","2011Q4","Brazil","Biofuels","Asset finance investments",51.849462370774276,"Acquisition transactions","AF","AF29752","Rondon Bioethanol and Power Plant Santa Terezinha Acquisition","Brazil","Brazil","Central & South America","AMER","non-OECD","BASIC","Biofuels","Biofuels","Gasoline/Petrol Substitute","1-Gen fermentation","Acquisition","Balance Sheet","Equity","2011-10-31",4,103,0,0,0,51.5,51.849462370774276]
[2006,11,"Q4","2006Q4","Brazil","Wind","Corporate finance investments",51.630996999999994,"Acquisition transactions","MA","MA1034","Pacific Hydro Energia do Brasil Ltda","Brazil","Brazil","Central & South America","AMER","non-OECD","BASIC","Wind","Wind",0,0,"Developer","Equity (company)",{"$error":"#N/A"},"2006-11-30","na","na","na","na",0,51.463000000000001,51.630996999999994]
[2008,1,"Q1","2008Q1","Brazil","Biomass & Waste","VC/PE investments",58.193559373675306,"Acquisition transactions","VCPE","VCPE2428","Grupo Ecogeo SA","Brazil","Brazil","Central & South America","AMER","non-OECD","BASIC","Biomass & Waste","Biomass & Waste","Electricity Generation (new)",0,"Service Company","PE - Buy-out / corp spinoff","PE Buy-out","2008-01-31","na","na","na","na",0,51.427999999999997,58.193559373675306]
[2008,5,"Q2","2008Q2","Argentina","Biofuels","VC/PE investments",55.114535068189831,"Acquisition transactions","VCPE","VCPE2699","Patagonia Bioenergia SA","Argentina","Other AMER","Central & South America","AMER","non-OECD",null,"Biofuels","Biofuels","Diesel Substitute","Transesterification","Fuel production/procurement","PE - Buy-out / corp spinoff","PE Buy-out","2008-05-09","na","na","na","na",0,51.427999999999997,55.114535068189831]
[2011,12,"Q4","2011Q4","Brazil","Small Hydro","Corporate finance investments",51.082291684822231,"Acquisition transactions","MA","MA3844","Electra Power Geracao de Energia SA","Brazil","Brazil","Central & South America","AMER","non-OECD","BASIC","Small hydro","Small Hydro",0,0,"Service Company","Equity (company)",{"$error":"#N/A"},"2011-12-31","na","na","na","na",0,50.738,51.082291684822231]
[2011,3,"Q1","2011Q1","Nicaragua","Geothermal","Asset finance investments",50.451785659145386,"Acquisition transactions","AF","AF16525","Ram Power San Jacinto Geothermal Portfolio Refinancing II","Nicaragua","Other AMER","Central & South America","AMER","non-OECD",null,"Geothermal","Geothermal","Conventional","Single flash","Refinancing","Construction loan","Debt","2011-03-02",0,0,0,0,50,50,50.451785659145386]
[2011,4,"Q2","2011Q2","Mexico","Wind","Asset finance investments",50.413561559325217,"Acquisition transactions","AF","AF16913","Eoliatec Isthmus of Tehuantepec Wind Portfolio Acquisition","Mexico","Other AMER","Central & South America","AMER","OECD",null,"Wind","Wind","Onshore",0,"Acquisition","Balance Sheet","Equity","2011-04-18",324,0,0,0,0,50,50.413561559325217]
[2011,5,"Q2","2011Q2","Nicaragua","Geothermal","Asset finance investments",50.451677380969649,"Acquisition transactions","AF","AF16972","Ram Power San Jacinto Geothermal Portfolio Refinancing III","Nicaragua","Other AMER","Central & South America","AMER","non-OECD",null,"Geothermal","Geothermal","Conventional","Single flash","Refinancing","Balance Sheet","Equity","2011-05-20",77.599999999999994,0,0,0,50,50,50.451677380969649]
[2011,11,"Q4","2011Q4","Brazil","Biofuels","Asset finance investments",50.339283855120655,"Acquisition transactions","AF","AF19433","Sao Fernando Bioethanol and Power Plant Agropecuaria JB Acquisition","Brazil","Brazil","Central & South America","AMER","non-OECD","BASIC","Biofuels","Biofuels","Gasoline/Petrol Substitute","1-Gen fermentation","Acquisition","Balance Sheet","Equity","2011-11-04",96,200,0,0,0,50,50.339283855120655]
[2011,6,"Q2","2011Q2","Brazil","Small Hydro","Asset finance investments",49.634533881148961,"Acquisition transactions","AF","AF20110","Engevix Moinho Small Hydro Plant - Refinancing","Brazil","Brazil","Central & South America","AMER","non-OECD","BASIC","Small hydro","Small Hydro","Run of River",0,"Refinancing","Term loan","Debt","2011-06-13",13.7,0,0,0,49.3,49.3,49.634533881148961]
[2012,5,"Q2","2012Q2","Brazil","Biomass & Waste","Asset finance investments",49.530561816540825,"Acquisition transactions","AF","AF27154","Novo Gramacho Biomethane Plant Ex-Im Bank Refinancing","Brazil","Brazil","Central & South America","AMER","non-OECD","BASIC","Biomass & Waste","Biomass & Waste","Natural Gas Substitute (biomethane)","Anaerobic digestion","Refinancing","Term loan","Debt","2012-05-17",0,0,0,8333,48.6,48.6,49.530561816540825]
[2006,9,"Q3","2006Q3","Peru","Biofuels","Corporate finance investments",49.81391946804581,"Acquisition transactions","MA","MA856","Pure Biofuels del Peru SAC","Peru","Other AMER","Central & South America","AMER","non-OECD",null,"Biofuels","Biofuels",0,0,"Fuel production/procurement","Equity (company)",{"$error":"#N/A"},"2006-09-15","na","na","na","na",0,48.375,49.81391946804581]
[2009,7,"Q3","2009Q3","Brazil","Biofuels","Asset finance investments",48.000025861306412,"Acquisition transactions","AF","AF9315","Leao Utinga Ethanol Plant Acquisition","Brazil","Brazil","Central & South America","AMER","non-OECD","BASIC","Biofuels","Biofuels","Gasoline/Petrol Substitute","1-Gen fermentation","Acquisition","Balance Sheet","Equity","2009-07-22",4,29,0,0,0,48,48.000025861306412]
[2009,11,"Q4","2009Q4","Brazil","Biomass & Waste","Asset finance investments",47.800025753550962,"Acquisition transactions","AF","AF9552","Guarani Tractebel Andrade Ethanol and Power Plant Refinancing","Brazil","Brazil","Central & South America","AMER","non-OECD","BASIC","Biomass & Waste","Biomass & Waste","Electricity Generation (new)","Incineration","Refinancing","Balance Sheet","Equity","2009-11-05",33,0,0,0,47.8,47.8,47.800025753550962]
[2008,1,"Q1","2008Q1","Brazil","Biofuels","Asset finance investments",47.238451071128821,"Acquisition transactions","AF","AF3204","Frutal Bioethanol and Power Plant Refinancing","Brazil","Brazil","Central & South America","AMER","non-OECD","BASIC","Biofuels","Biofuels","Gasoline/Petrol Substitute","1-Gen fermentation","Refinancing","Term loan","Debt","2008-01-24",16,120,0,0,47.1,47.1,47.238451071128821]
[2008,2,"Q1","2008Q1","Chile","Small Hydro","Asset finance investments",49.706344930034007,"Acquisition transactions","AF","AF7385","Pacific Coya and Pangal Small Hydro Plants Refinancing","Chile","Other AMER","Central & South America","AMER","OECD",null,"Small hydro","Small Hydro","Run of River",0,"Refinancing","Term loan","Debt","2008-02-29",76.3,0,0,0,47,47,49.706344930034007]
[2012,3,"Q1","2012Q1","Peru","Small Hydro","Asset finance investments",55.572366873424805,"Acquisition transactions","AF","AF22768","Huanchor Small Hydro Plant Volcan Acquisition","Peru","Other AMER","Central & South America","AMER","non-OECD",null,"Small hydro","Small Hydro","Run of River",0,"Acquisition","Balance Sheet","Equity","2012-03-01",16.2,0,0,0,46.8,46.8,55.572366873424805]
[2006,9,"Q3","2006Q3","Brazil","Biofuels","Asset finance investments",46.72,"Acquisition transactions","AF","AF9019","Usinavi Ethanol and Power Plant Acquisition","Brazil","Brazil","Central & South America","AMER","non-OECD","BASIC","Biofuels","Biofuels","Gasoline/Petrol Substitute","1-Gen fermentation","Acquisition","Balance Sheet","Equity","2006-09-30",12,64,0,0,0,46.72,46.72]
[2011,10,"Q4","2011Q4","Chile","Small Hydro","Corporate finance investments",46.685658632915995,"Acquisition transactions","MA","MA28140","Empresa Electrica Caren SA","Chile","Other AMER","Central & South America","AMER","OECD",null,"Small hydro","Small Hydro","Run of River",0,"Developer","Equity (company)",{"$error":"#N/A"},"2011-10-06","na","na","na","na",0,46.371000000000002,46.685658632915995]
[2008,1,"Q1","2008Q1","Brazil","Wind","Corporate finance investments",48.987577582127727,"Acquisition transactions","MA","MA2253","New Energy Options Geracao de Energia SA","Brazil","Brazil","Central & South America","AMER","non-OECD","BASIC","Wind","Wind","Onshore",0,"Developer","Equity (company)",{"$error":"#N/A"},"2008-01-07","na","na","na","na",0,46.316000000000003,48.987577582127727]
[2008,11,"Q4","2008Q4","Brazil","Small Hydro","Asset finance investments",47.425879404413763,"Acquisition transactions","AF","AF3183","Omega Pipoca Small Hydro Plant Acquisition","Brazil","Brazil","Central & South America","AMER","non-OECD","BASIC","Small hydro","Small Hydro","New Dam",0,"Acquisition","Balance Sheet","Equity","2008-11-06",20,0,0,0,46.3,46.3,47.425879404413763]
[2010,1,"Q1","2010Q1","Costa Rica","Wind","Corporate finance investments",45.033556084382589,"Acquisition transactions","MA","MA2186","Energias Renovables de Mesoamerica","Costa Rica","Other AMER","Central & South America","AMER","non-OECD",null,"Wind","Wind","Onshore",0,"Developer","Equity (company)",{"$error":"#N/A"},"2010-01-19","na","na","na","na",0,45,45.033556084382589]
[2009,10,"Q4","2009Q4","Mexico","Wind","Asset finance investments",44.343201345817661,"Acquisition transactions","AF","AF8554","Oaxaca I Wind Farm Refinancing","Mexico","Other AMER","Central & South America","AMER","OECD",null,"Wind","Wind","Onshore",0,"Refinancing","Construction loan","Debt","2009-10-30",102,0,0,0,44.3,44.3,44.343201345817661]
[2007,10,"Q4","2007Q4","Brazil","Biofuels","Corporate finance investments",46.825148103060592,"Acquisition transactions","MA","MA1028","Vale Do Rosario Sugar Co","Brazil","Brazil","Central & South America","AMER","non-OECD","BASIC","Biofuels","Biofuels","Gasoline/Petrol Substitute",0,"Fuel production/procurement","Equity (company)",{"$error":"#N/A"},"2007-10-09","na","na","na","na",0,43.581000000000003,46.825148103060592]
[2007,8,"Q3","2007Q3","Argentina","Biofuels","Corporate finance investments",46.567952188261103,"Acquisition transactions","MA","MA1229","Diferal SA","Argentina","Other AMER","Central & South America","AMER","non-OECD",null,"Biofuels","Biofuels",0,0,"Fuel production/procurement","Equity (company)",{"$error":"#N/A"},"2007-08-17","na","na","na","na",0,43.581000000000003,46.567952188261103]
[2008,10,"Q4","2008Q4","Belize","Biofuels","Corporate finance investments",62.49516694573628,"Acquisition transactions","MA","MA1750","Technology Alternatives Ltd","Belize","Other AMER","Central & South America","AMER","non-OECD",null,"Biofuels","Biofuels",0,0,"Fuel production/procurement","Equity (company)",{"$error":"#N/A"},"2008-10-30","na","na","na","na",0,43.581000000000003,62.49516694573628]
[2007,11,"Q4","2007Q4","Peru","Biofuels","Corporate finance investments",57.537439069455331,"Acquisition transactions","MA","MA2663","Stratos del Peru SAC","Peru","Other AMER","Central & South America","AMER","non-OECD",null,"Biofuels","Biofuels","Gasoline/Petrol Substitute",0,"Fuel production/procurement","Equity: Reverse Takeover",{"$error":"#N/A"},"2007-11-19","na","na","na","na",0,43.581000000000003,57.537439069455331]
[2009,5,"Q2","2009Q2","Guatemala","Geothermal","Asset finance investments",45.586850561143251,"Acquisition transactions","AF","AF8480","Amatitlan Geothermal CDM Project- Refinancing","Guatemala","Other AMER","Central & South America","AMER","non-OECD",null,"Geothermal","Geothermal","Conventional",0,"Refinancing","Term loan","Debt","2009-05-21",25.2,0,0,0,42,42,45.586850561143251]
[2012,11,"Q4","2012Q4","Brazil","Wind","Asset finance investments",58.020762285705473,"Acquisition transactions","AF","AF34232","Gestamp Cabeco Preto and Pedra do Reino Wind Portfolio - Refinancing","Brazil","Brazil","Central & South America","AMER","non-OECD","BASIC","Wind","Wind","Onshore",0,"Refinancing","Term Loan","Debt","2012-11-21",88,0,0,0,42,42,58.020762285705473]
[2010,5,"Q2","2010Q2","Brazil","Biofuels","Asset finance investments",41.030573321326358,"Acquisition transactions","AF","AF30754","Caramuru Sao Simao Ipameri Biodiesel Portfolio BNDES Refinancing I","Brazil","Brazil","Central & South America","AMER","non-OECD","BASIC","Biofuels","Biofuels","Diesel Substitute","Transesterification","Refinancing","Term loan","Debt","2010-05-13",0,315,0,0,41,41,41.030573321326358]
[2009,6,"Q2","2009Q2","Brazil","Biofuels","Asset finance investments",40.100021604966393,"Acquisition transactions","AF","AF8577","Marialva Biodiesel Plant Refinancing","Brazil","Brazil","Central & South America","AMER","non-OECD","BASIC","Biofuels","Biofuels","Diesel Substitute","Transesterification","Refinancing","Balance Sheet","Equity","2009-06-30",0,159,0,0,40.1,40.1,40.100021604966393]
[2008,2,"Q1","2008Q1","Brazil","Other Clean Energy","VC/PE investments",47.667709182773038,"Acquisition transactions","VCPE","VCPE3426","Brazil Timber Ltda","Brazil","Brazil","Central & South America","AMER","non-OECD","BASIC","Services & Support (Clean Energy)","Low carbon services & support","All",0,"Service Company","PE - Buy-out / corp spinoff","PE Buy-out","2008-02-29","na","na","na","na",40,40,47.667709182773038]
[2012,11,"Q4","2012Q4","Brazil","Biofuels","Asset finance investments",53.760094367482232,"Acquisition transactions","AF","AF33852","Porto Nacional Biodiesel Plant Granol Acquisition","Brazil","Brazil","Central & South America","AMER","non-OECD","BASIC","Biofuels","Biofuels","Diesel Substitute","Transesterification","Acquisition","Balance Sheet","Equity","2012-11-01",0,129.6,0,0,0,38.880000000000003,53.760094367482232]
[2007,8,"Q3","2007Q3","Brazil","Biofuels","Asset finance investments",43.40227264481036,"Acquisition transactions","AF","AF4287","ETH Conquista do Pontal Bioethanol and Power Plant Acquisition","Brazil","Brazil","Central & South America","AMER","non-OECD","BASIC","Biofuels","Biofuels","Gasoline/Petrol Substitute","1-Gen fermentation","Acquisition","Balance Sheet","Equity","2007-08-31",100,84,0,0,0,38.304000000000002,43.40227264481036]
[2009,5,"Q2","2009Q2","Brazil","Wind","Asset finance investments",37.700020311901078,"Acquisition transactions","AF","AF8448","Pedra do Sal Wind Farm Refinancing","Brazil","Brazil","Central & South America","AMER","non-OECD","BASIC","Wind","Wind","Onshore",0,"Refinancing","Term loan","Debt","2009-05-20",18,0,0,0,37.700000000000003,37.700000000000003,37.700020311901078]
[2009,8,"Q3","2009Q3","Brazil","Small Hydro","Asset finance investments",36.50001966536842,"Acquisition transactions","AF","AF8351","Grupo Light Paracambi Small Hydro Plant Refinancing","Brazil","Brazil","Central & South America","AMER","non-OECD","BASIC","Small hydro","Small Hydro","Run of River",0,"Refinancing","Construction loan","Debt","2009-08-07",25,0,0,0,0,36.5,36.50001966536842]
[2012,11,"Q4","2012Q4","Brazil","Small Hydro","Asset finance investments",48.508865533918517,"Acquisition transactions","AF","AF34224","Copel Cavernoso II Small Hydro Plant - Refinancing","Brazil","Brazil","Central & South America","AMER","non-OECD","BASIC","Small Hydro","Small Hydro","Run of River",0,"Refinancing","Term Loan","Debt","2012-11-06",19,0,0,0,35.700000000000003,35.700000000000003,48.508865533918517]
[2011,12,"Q4","2011Q4","Peru","Small Hydro","Corporate finance investments",35.367374050930671,"Acquisition transactions","MA","MA3512","Cascade Hydro Ltd","Peru","Other AMER","Central & South America","AMER","non-OECD",null,"Small hydro","Small Hydro","Run of River",0,"Developer","Equity (company)",{"$error":"#N/A"},"2011-12-31","na","na","na","na",0,35.128999999999998,35.367374050930671]
[2009,4,"Q2","2009Q2","Brazil","Biofuels","Asset finance investments",35.000018857202591,"Acquisition transactions","AF","AF8635","Bonin Bioethanol and Power Plant Costa Bioenergia Acquisition","Brazil","Brazil","Central & South America","AMER","non-OECD","BASIC","Biofuels","Biofuels","Gasoline/Petrol Substitute","1-Gen fermentation","Acquisition","Balance Sheet","Equity","2009-04-30",15,60,0,0,0,35,35.000018857202591]
[2007,3,"Q1","2007Q1","Brazil","Biofuels","Asset finance investments",46.202178975031607,"Acquisition transactions","AF","AF8601","Vale do Ivai Fronteira Bioethanol and Power Plant Acquisition","Brazil","Brazil","Central & South America","AMER","non-OECD","BASIC","Biofuels","Biofuels","Gasoline/Petrol Substitute","1-Gen fermentation","Acquisition","Balance Sheet","Equity","2007-03-16",0,60,0,0,0,34.200000000000003,46.202178975031607]
[2011,10,"Q4","2011Q4","Brazil","Biofuels","Corporate finance investments",33.425284479800119,"Acquisition transactions","MA","MA3442","Santa Cruz SA Acucar e Alcool","Brazil","Brazil","Central & South America","AMER","non-OECD","BASIC","Biofuels","Biofuels","Diesel Substitute",0,"Fuel production/procurement","Equity (company)",{"$error":"#N/A"},"2011-10-31","na","na","na","na",33.200000000000003,33.200000000000003,33.425284479800119]
[2006,6,"Q2","2006Q2","Brazil","Biofuels","Asset finance investments",33,"Acquisition transactions","AF","AF6279","Cevasa Bioethanol Plant Cargill Acquisition I","Brazil","Brazil","Central & South America","AMER","non-OECD","BASIC","Biofuels","Biofuels","Gasoline/Petrol Substitute",0,"Acquisition","Balance Sheet","Equity","2006-06-12",16,125,0,0,33,33,33]
[2007,11,"Q4","2007Q4","Brazil","Wind","Asset finance investments",55.315378342146751,"Acquisition transactions","AF","AF5563","Impsa Santa Catarina Wind Portfolio Acquisition","Brazil","Brazil","Central & South America","AMER","non-OECD","BASIC","Wind","Wind","Onshore",0,"Acquisition","Balance Sheet","Equity","2007-11-13",217.7,0,0,0,0,32.655000000000001,55.315378342146751]
[2008,4,"Q2","2008Q2","Brazil","Biofuels","Asset finance investments",32.585504783460195,"Acquisition transactions","AF","AF7449","Safi Nova Alvorada Ethanol Plant Acquisition","Brazil","Brazil","Central & South America","AMER","non-OECD","BASIC","Biofuels","Biofuels","Gasoline/Petrol Substitute",0,"Acquisition","Balance Sheet","Equity","2008-04-01",0,57,0,0,0,32.49,32.585504783460195]
[2010,4,"Q2","2010Q2","Brazil","Biofuels","Corporate finance investments",32.256035104707102,"Acquisition transactions","MA","MA2311","Guarani SA","Brazil","Brazil","Central & South America","AMER","non-OECD","BASIC","Biofuels","Biofuels","Gasoline/Petrol Substitute",0,"Fuel production/procurement","Equity (company)",{"$error":"#N/A"},"2010-04-30","na","na","na","na",0,32.231999999999999,32.256035104707102]
[2008,6,"Q2","2008Q2","Brazil","Wind","Corporate finance investments",34.053808230766613,"Acquisition transactions","MA","MA1623","Cenaeel-Central Nacional da Energia Eolica SA","Brazil","Brazil","Central & South America","AMER","non-OECD","BASIC","Wind","Wind",0,0,"Developer","Equity (company)",{"$error":"#N/A"},"2008-06-30","na","na","na","na",32.200000000000003,32.200000000000003,34.053808230766613]
[2012,9,"Q3","2012Q3","Brazil","Biofuels","Asset finance investments",32.617576732223291,"Acquisition transactions","AF","AF30210","Santa Cruz Bioethanol Plant Canabrava Acquisition","Brazil","Brazil","Central & South America","AMER","non-OECD","BASIC","Biofuels","Biofuels","Gasoline/Petrol Substitute","1-Gen fermentation","Acquisition","Balance Sheet","Equity","2012-09-11",0,63,0,0,32,32,32.617576732223291]
[2007,9,"Q3","2007Q3","Brazil","Biofuels","Asset finance investments",36.259208558738806,"Acquisition transactions","AF","AF4505","Infinity Bio-Energy Laranjai Ethanol Plant Acquisition","Brazil","Brazil","Central & South America","AMER","non-OECD","BASIC","Biofuels","Biofuels","Gasoline/Petrol Substitute",0,"Acquisition","Balance Sheet","Equity","2007-09-24",0,82,0,0,32,32,36.259208558738806]
[2009,11,"Q4","2009Q4","Brazil","Biofuels","Asset finance investments",31.900017186993217,"Acquisition transactions","AF","AF9720","Marialva Biodiesel Plant Petrobras Acquisition","Brazil","Brazil","Central & South America","AMER","non-OECD","BASIC","Biofuels","Biofuels","Diesel Substitute","Transesterification","Acquisition","Balance Sheet","Equity","2009-11-30",0,159,0,0,31.9,31.9,31.900017186993217]
[2007,9,"Q3","2007Q3","Brazil","Biofuels","Asset finance investments",36.032588505246693,"Acquisition transactions","AF","AF4508","Disa Bioethanol Plant Infinity Acquisition","Brazil","Brazil","Central & South America","AMER","non-OECD","BASIC","Biofuels","Biofuels","Gasoline/Petrol Substitute","1-Gen fermentation","Acquisition","Balance Sheet","Equity","2007-09-24T10:59:00",0,46,0,0,31.8,31.8,36.032588505246693]
[2008,9,"Q3","2008Q3","Brazil","Biofuels","Asset finance investments",31.110180759561459,"Acquisition transactions","AF","AF6437","Monteverde Ponta Porã Bioethanol Plant Bunge Acquisition I","Brazil","Brazil","Central & South America","AMER","non-OECD","BASIC","Biofuels","Biofuels","Gasoline/Petrol Substitute","1-Gen fermentation","Acquisition","Balance Sheet","Equity","2008-09-18",19,90.7,0,0,0,31.018999999999998,31.110180759561459]
[{"$f":"IF(K198=\"\",\"\",IF(AND(YEAR(Z198)<2004,YEAR(Z198)>1910),2004,YEAR(Z198)))","v":2011},{"$f":"IF(K198=\"\",\"\",IF(ISNUMBER(Z198),MONTH(Z198),0))","v":1},{"$f":"IF(K198=\"\",\"\",IF(AND(B198>=1,B198<=3),\"Q1\",IF(AND(B198>3,B198<=6),\"Q2\",IF(AND(B198>6,B198<=9),\"Q3\",IF(AND(B198>9,B198<=12),\"Q4\",0)))))","v":"Q1"},{"$f":"IF(A198<2006, \"< 2006\", A198&C198)","v":"2011Q1"},{"$f":"IF(K198=\"\",\"\", M198)","v":"Brazil"},"Wind","VC/PE investments",{"$f":"IF(K198=\"\",\"\",AG198)","v":31.210355990174804},"Acquisition transactions","VCPE","VCPE4648","Renova Energia SA","Brazil","Brazil","Central & South America","AMER","non-OECD","BASIC","Wind","Wind","Onshore",0,"Developer","PE - Buy-out / corp spinoff","PE Buy-out","2011-01-21","na","na","na","na",31,31,31.210355990174804]
[2008,10,"Q4","2008Q4","Brazil",{"$f":"IF(K199=\"\",\"\",IF(OR(T199=\"Wind\",T199=\"Solar\",T199=\"Geothermal\",T199=\"Small Hydro\",T199=\"Biofuels\",T199=\"Biomass & Waste\"),T199,\"Other Clean Energy\"))","v":"Wind"},{"$f":"IF(K199=\"\",\"\",IF(OR(J199=\"PM\",J199=\"MA\"), \"Corporate finance investments\", IF(J199=\"VCPE\", \"VC/PE investments\", IF(J199=\"AF\", \"Asset finance investments\"))))","v":"Asset finance investments"},30.929346381730777,"Acquisition transactions","AF","AF6899","Rosa dos Ventos Wind Farms Refinancing","Brazil","Brazil","Central & South America","AMER","non-OECD","BASIC","Wind","Wind","Onshore",0,"Refinancing","Term loan","Debt","2008-10-10",14.7,0,0,0,30.75,30.75,30.929346381730777]
[2009,12,"Q4","2009Q4","Brazil","Biofuels","Asset finance investments",30.600016486582838,"Acquisition transactions","AF","AF10216","Iaco Chapadao do Sul Ethanol Plant Refinancing","Brazil","Brazil","Central & South America","AMER","non-OECD","BASIC","Biofuels","Biofuels","Gasoline/Petrol Substitute","1-Gen fermentation","Refinancing","Construction loan","Debt","2009-12-09",0,86,0,0,30.6,30.6,30.600016486582838]
[2008,6,"Q2","2008Q2","Brazil","Small Hydro","VC/PE investments",32.646684093764634,"Acquisition transactions","VCPE","VCPE2291","Omega Energia Renovavel SA","Brazil","Brazil","Central & South America","AMER","non-OECD","BASIC","Small hydro","Small Hydro",0,0,0,"PE - Buy-out / corp spinoff","PE Buy-out","2008-06-10T16:57:00","na","na","na","na",30.5,30.5,32.646684093764634]
[2008,8,"Q3","2008Q3","Colombia","Solar","VC/PE investments",32.903436609140613,"Acquisition transactions","VCPE","VCPE2427","Hybrytec SA","Colombia","Other AMER","Central & South America","AMER","non-OECD",null,"Solar","Solar",0,0,"Service Company","PE - Buy-out / corp spinoff","PE Buy-out","2008-08-29","na","na","na","na",0,30,32.903436609140613]
[2008,4,"Q2","2008Q2","Brazil","Biofuels","Asset finance investments",30.088185395623452,"Acquisition transactions","AF","AF5497","Vale do Ivai Marialva Ethanol Plant Acquisition","Brazil","Brazil","Central & South America","AMER","non-OECD","BASIC","Biofuels","Biofuels","Gasoline/Petrol Substitute",0,"Acquisition","Balance Sheet","Equity","2008-04-04T14:15:00",0,60,0,0,0,30,30.088185395623452]
[2009,4,"Q2","2009Q2","Brazil","Small Hydro","Asset finance investments",29.700016001683341,"Acquisition transactions","AF","AF8612","Caixa Alupar Small Hydro Portfolio Acquisition","Brazil","Brazil","Central & South America","AMER","non-OECD","BASIC","Small hydro","Small Hydro","Run of River",0,"Acquisition","Balance Sheet","Equity","2009-04-28",60,0,0,0,0,29.7,29.700016001683341]
[2007,9,"Q3","2007Q3","Brazil","Biofuels","Asset finance investments",32.633287702864926,"Acquisition transactions","AF","AF4503","Ibiralcool Bioethanol Plant Infinity Acquisition","Brazil","Brazil","Central & South America","AMER","non-OECD","BASIC","Biofuels","Biofuels","Gasoline/Petrol Substitute","1-Gen fermentation","Acquisition","Balance Sheet","Equity","2007-09-24",0,104,0,0,28.8,28.8,32.633287702864926]
[2012,10,"Q4","2012Q4","Brazil","Small Hydro","Asset finance investments",39.133202447530898,"Acquisition transactions","AF","AF31302","Alupar Small Hydro Portfolio Acquisition","Brazil","Brazil","Central & South America","AMER","non-OECD","BASIC","Small hydro","Small Hydro","Run of River",0,"Acquisition","Balance Sheet","Equity","2012-10-11",60,0,0,0,0,28.8,39.133202447530898]
[2010,7,"Q3","2010Q3","Brazil","Biofuels","Asset finance investments",28.821475894004855,"Acquisition transactions","AF","AF31678","Itapagipe Bioethanol and Power Plant Bunge Acquisition","Brazil","Brazil","Central & South America","AMER","non-OECD","BASIC","Biofuels","Biofuels","Gasoline/Petrol Substitute","1-Gen fermentation","Acquisition","Balance Sheet","Equity","2010-07-31",6,84.4,0,0,28.8,28.8,28.821475894004855]
[2011,5,"Q2","2011Q2","Brazil","Biofuels","Corporate finance investments",28.314840382828265,"Acquisition transactions","MA","MA2967","Areva Koblitz SA","Brazil","Brazil","Central & South America","AMER","non-OECD","BASIC","Biofuels","Biofuels",0,0,"Developer","Equity (company)",{"$error":"#N/A"},"2011-05-23","na","na","na","na",0,28.123999999999999,28.314840382828265]
[2006,4,"Q2","2006Q2","Brazil","Biofuels","Asset finance investments",26.954999999999998,"Acquisition transactions","AF","AF6281","Itapagipe Bioethanol Plant Cargill Acquisition I","Brazil","Brazil","Central & South America","AMER","non-OECD","BASIC","Biofuels","Biofuels","Gasoline/Petrol Substitute","1-Gen fermentation","Acquisition","Balance Sheet","Equity","2006-04-23",6,84.4,0,0,0,26.954999999999998,26.954999999999998]
[2012,6,"Q2","2012Q2","Brazil","Biofuels","Asset finance investments",26.090172479494754,"Acquisition transactions","AF","AF31468","Amyris Paraiso Brotas Next Generation Farnesene Plant Refinancing I","Brazil","Brazil","Central & South America","AMER","non-OECD","BASIC","Biofuels","Biofuels","Petrochemical substitutes","Advanced biochemical","Refinancing","Bridge Financing","Debt","2012-06-19",0,45,0,0,25.6,25.6,26.090172479494754]
[2012,7,"Q3","2012Q3","Brazil","Biofuels","Asset finance investments",25.992131458490434,"Acquisition transactions","AF","AF31470","Amyris Paraiso Brotas Next Generation Farnesene Plant Refinancing II","Brazil","Brazil","Central & South America","AMER","non-OECD","BASIC","Biofuels","Biofuels","Petrochemical substitutes","Advanced biochemical","Refinancing","Term loan","Debt","2012-07-13",0,45,0,0,25.5,25.5,25.992131458490434]
[2011,12,"Q4","2011Q4","Brazil","Biofuels","Corporate finance investments",25.169641927560328,"Acquisition transactions","MA","MA3200","Cia Nacional de Acucar e Alcool SA","Brazil","Brazil","Central & South America","AMER","non-OECD","BASIC","Biofuels","Biofuels","Gasoline/Petrol Substitute",0,"Fuel production/procurement","Equity (company)",{"$error":"#N/A"},"2011-12-31","na","na","na","na",25,25,25.169641927560328]
[2007,6,"Q2","2007Q2","Mexico","Wind","Asset finance investments",25.978220982451187,"Acquisition transactions","AF","AF4070","Sierra Juarez Wind Farm Sempra Acquisition","Mexico","Other AMER","Central & South America","AMER","OECD",null,"Wind","Wind","Onshore",0,"Acquisition","Balance Sheet","Equity","2007-06-29T17:21:00",250,0,0,0,0,25,25.978220982451187]
[2012,8,"Q3","2012Q3","Brazil","Small Hydro","Asset finance investments",24.870902258320257,"Acquisition transactions","AF","AF34242","J Malucelli Queixada Small Hydro Plant - Refinancing","Brazil","Brazil","Central & South America","AMER","non-OECD","BASIC","Small hydro","Small Hydro","Run of River",0,"Refinancing","Term loan","Debt","2012-08-07",30,0,0,0,24.4,24.4,24.870902258320257]
[2008,8,"Q3","2008Q3","Brazil","Wind","Asset finance investments",24.366351284760206,"Acquisition transactions","AF","AF6264","ERSA Macacos Onshore Wind Farm Acquisition","Brazil","Brazil","Central & South America","AMER","non-OECD","BASIC","Wind","Wind","Onshore",0,"Acquisition","Balance Sheet","Equity","2008-08-22",161.5,0,0,0,24.225000000000001,24.225000000000001,24.366351284760206]
[2007,9,"Q3","2007Q3","Brazil","Biofuels","Asset finance investments",27.194406419054111,"Acquisition transactions","AF","AF4510","Montasa Ethanol plant Acquisition","Brazil","Brazil","Central & South America","AMER","non-OECD","BASIC","Biofuels","Biofuels","Gasoline/Petrol Substitute",0,"Acquisition","Balance Sheet","Equity","2007-09-24T11:50:00",0,0,0,0,24,24,27.194406419054111]
[2008,1,"Q1","2008Q1","Brazil","Biofuels","Corporate finance investments",24.89596753585203,"Acquisition transactions","MA","MA1450","Areva Koblitz SA","Brazil","Brazil","Central & South America","AMER","non-OECD","BASIC","Biofuels","Biofuels","Gasoline/Petrol Substitute",0,"Developer","Equity (company)",{"$error":"#N/A"},"2008-01-17","na","na","na","na",0,23.54,24.89596753585203]
[2011,11,"Q4","2011Q4","Brazil","Small Hydro","Asset finance investments",23.458106276486227,"Acquisition transactions","AF","AF20116","Central Hidreletrica Salto das Flores Small Hydro Plant - Refinancing","Brazil","Brazil","Central & South America","AMER","non-OECD","BASIC","Small hydro","Small Hydro","Run of River",0,"Refinancing","Term loan","Debt","2011-11-30",6.7,0,0,0,23.3,23.3,23.458106276486227]
[2007,9,"Q3","2007Q3","Brazil","Biomass & Waste","Corporate finance investments",24.734114618801307,"Acquisition transactions","MA","MA1284","Central Energetica Paraiso","Brazil","Brazil","Central & South America","AMER","non-OECD","BASIC","Biomass & Waste","Biomass & Waste","Electricity Generation (new)",0,"Developer","Equity (company)",{"$error":"#N/A"},"2007-09-24","na","na","na","na",0,23.021999999999998,24.734114618801307]
[2010,2,"Q1","2010Q1","Brazil","Biofuels","Asset finance investments",22.016405196809266,"Acquisition transactions","AF","AF10768","Vertente Bioethanol and Power Plant CLEEL Acquisition","Brazil","Brazil","Central & South America","AMER","non-OECD","BASIC","Biofuels","Biofuels","Gasoline/Petrol Substitute","1-Gen fermentation","Acquisition","Balance Sheet","Equity","2010-02-08",8,96,0,0,0,22,22.016405196809266]
[2009,3,"Q1","2009Q1","Brazil","Biofuels","VC/PE investments",21.200011422076997,"Acquisition transactions","VCPE","VCPE2790","Cia Energetica de Acucar e Alcool do Triangulo Mineiro Ltda","Brazil","Brazil","Central & South America","AMER","non-OECD","BASIC","Biofuels","Biofuels","Gasoline/Petrol Substitute","1-Gen fermentation","Developer","PE - Buy-out / corp spinoff","PE Buy-out","2009-03-27","na","na","na","na",21.2,21.2,21.200011422076997]
[2012,3,"Q1","2012Q1","Panama","Small Hydro","VC/PE investments",22.097621427372069,"Acquisition transactions","VCPE","VCPE5068","Hidrotenencias SA","Panama","Other AMER","Central & South America","AMER","non-OECD",null,"Small hydro","Small Hydro","New Dam",0,"Developer","PE - Buy-out / corp spinoff","PE Buy-out","2012-03-12","na","na","na","na",0,20.407,22.097621427372069]
[2009,6,"Q2","2009Q2","Peru","Solar","VC/PE investments",20.929811276499393,"Acquisition transactions","VCPE","VCPE2887","Entelin","Peru","Other AMER","Central & South America","AMER","non-OECD",null,"Solar","Solar","PV","PV – Crystalline silicon","Service Company","PE - Buy-out / corp spinoff","PE Buy-out","2009-06-10","na","na","na","na",0,20.407,20.929811276499393]
[2010,1,"Q1","2010Q1","Guatemala","Solar","VC/PE investments",20.42221731142212,"Acquisition transactions","VCPE","VCPE3475","Greenergyze","Guatemala","Other AMER","Central & South America","AMER","non-OECD",null,"Solar","Solar","PV",0,"Developer","PE - Buy-out / corp spinoff","PE Buy-out","2010-01-31","na","na","na","na",0,20.407,20.42221731142212]
[2010,3,"Q1","2010Q1","Brazil","Biofuels","VC/PE investments",20.42221731142212,"Acquisition transactions","VCPE","VCPE3476","Biolatina Energias Renovaveis SA","Brazil","Brazil","Central & South America","AMER","non-OECD","BASIC","Biofuels","Biofuels","Diesel Substitute",0,"Equipment Manufacturer","PE - Buy-out / corp spinoff","PE Buy-out","2010-03-31","na","na","na","na",0,20.407,20.42221731142212]
[2012,2,"Q1","2012Q1","Mexico","Wind","Asset finance investments",24.159540704862572,"Acquisition transactions","AF","AF22980","Mareña Wind Farm Mitsubishi and PGGM Acquisition","Mexico","Other AMER","Central & South America","AMER","OECD",null,"Wind","Wind","Onshore",0,"Acquisition","Balance Sheet","Equity","2012-02-24",396,0,0,0,0,20.196000000000002,24.159540704862572]
[2008,6,"Q2","2008Q2","Costa Rica","Wind","Asset finance investments",22.936043986424828,"Acquisition transactions","AF","AF5680","Proyecto Eolico Guanacaste Wind Farm Econergy Acquisition","Costa Rica","Other AMER","Central & South America","AMER","non-OECD",null,"Wind","Wind","Onshore",0,"Acquisition","Term loan","Debt","2008-06-30T15:04:00",49.5,0,0,0,20,20,22.936043986424828]
[2011,5,"Q2","2011Q2","Brazil","Wind","Asset finance investments",20.135713542048261,"Acquisition transactions","AF","AF17361","J. Malucelli Bioenergy Wind Portfolio Acquisition","Brazil","Brazil","Central & South America","AMER","non-OECD","BASIC","Wind","Wind","Onshore",0,"Acquisition","Balance Sheet","Equity","2011-05-31",147.6,0,0,0,0,20,20.135713542048261]
[2011,11,"Q4","2011Q4","Brazil","Biofuels","Asset finance investments",20.135713542048261,"Acquisition transactions","AF","AF19108","Rosario do Sul Biodiesel Plant Camera Agro Acquisition","Brazil","Brazil","Central & South America","AMER","non-OECD","BASIC","Biofuels","Biofuels","Diesel Substitute","Transesterification","Acquisition","Balance Sheet","Equity","2011-11-10",0,129.6,0,0,0,20,20.135713542048261]
[2012,11,"Q4","2012Q4","Brazil","Wind","Asset finance investments",26.800066389111574,"Acquisition transactions","AF","AF34216","Ventos Brasil Dunas do Paracuru Wind Farm - Refinancing","Brazil","Brazil","Central & South America","AMER","non-OECD","BASIC","Wind","Wind","Onshore",0,"Refinancing","Term Loan","Debt","2012-11-06",42,0,0,0,19.399999999999999,19.399999999999999,26.800066389111574]
[2012,11,"Q4","2012Q4","Brazil","Small Hydro","Asset finance investments",25.81704328135719,"Acquisition transactions","AF","AF34240","Energisa Ze Tunin Small Hydro Plant - Refinancing","Brazil","Brazil","Central & South America","AMER","non-OECD","BASIC","Small Hydro","Small Hydro","Run of River",0,"Refinancing","Term Loan","Debt","2012-11-21",8,0,0,0,19,19,25.81704328135719]
[2010,10,"Q4","2010Q4","Guatemala","Small Hydro","Asset finance investments",18.513795279135064,"Acquisition transactions","AF","AF14562","EPM Ibedrola Guatemala Small Hydro Portfolio Acquisition","Guatemala","Other AMER","Central & South America","AMER","non-OECD",null,"Small hydro","Small Hydro","Run of River",0,"Acquisition","Balance Sheet","Equity","2010-10-21",25,0,0,0,18.5,18.5,18.513795279135064]
[2011,3,"Q1","2011Q1","Brazil","Biofuels","Asset finance investments",18.263092182637774,"Acquisition transactions","AF","AF31534","Monteverde Ponta Porã Bioethanol Plant Bunge Acquisition II","Brazil","Brazil","Central & South America","AMER","non-OECD","BASIC","Biofuels","Biofuels","Gasoline/Petrol Substitute","1-Gen fermentation","Acquisition","Balance Sheet","Equity","2011-03-31",20,90.7,0,0,0,18.14,18.263092182637774]
[2010,11,"Q4","2010Q4","Brazil","Biofuels","Asset finance investments",18.113497002829444,"Acquisition transactions","AF","AF14285","Guarani Sao Jose Bioethanol and Power Plant Bioethanol Expansion Refinancing","Brazil","Brazil","Central & South America","AMER","non-OECD","BASIC","Biofuels","Biofuels","Gasoline/Petrol Substitute","1-Gen fermentation","Refinancing","Balance Sheet","Equity","2010-11-24",0,110,0,0,18.100000000000001,18.100000000000001,18.113497002829444]
[2009,10,"Q4","2009Q4","Brazil","Biomass & Waste","Asset finance investments",18.000009697989903,"Acquisition transactions","AF","AF11024","Potirendaba Catanduva Power Plant Portfolio Cerradinho Refinancing","Brazil","Brazil","Central & South America","AMER","non-OECD","BASIC","Biomass & Waste","Biomass & Waste","Electricity Generation (new)","Incineration","Refinancing","Term loan","Debt","2009-10-15",85,0,0,0,18,18,18.000009697989903]
[2009,9,"Q3","2009Q3","Brazil","Wind","Asset finance investments",17.60000948247902,"Acquisition transactions","AF","AF9278","CPFL Parazinho Wind Portfolio Acquisition","Brazil","Brazil","Central & South America","AMER","non-OECD","BASIC","Wind","Wind","Onshore",0,"Acquisition","Balance Sheet","Equity","2009-09-29",0,0,0,0,17.600000000000001,17.600000000000001,17.60000948247902]
[2012,3,"Q1","2012Q1","Peru","Biofuels","Asset finance investments",22.704512855822642,"Acquisition transactions","AF","AF23686","Maple Chira Bioethanol and Power Plant Refinancing","Peru","Other AMER","Central & South America","AMER","non-OECD",null,"Biofuels","Biofuels","Gasoline/Petrol Substitute","1-Gen fermentation","Refinancing","Construction loan","Debt","2012-03-02",37,132,0,0,17.5,17.5,22.704512855822642]
[2006,6,"Q2","2006Q2","Costa Rica","Wind","Asset finance investments",17.90585567010309,"Acquisition transactions","AF","AF3687","Tierras Morenas Wind Farm Acquisition","Costa Rica","Other AMER","Central & South America","AMER","non-OECD",null,"Wind","Wind","Onshore",0,"Acquisition","Balance Sheet","Equity","2006-06-08T12:51:00",24,0,0,0,0,17.399999999999999,17.90585567010309]
[2011,10,"Q4","2011Q4","Chile","Geothermal","Corporate finance investments",18.559467736691829,"Acquisition transactions","MA","MA3299","Energia Andina SA","Chile","Other AMER","Central & South America","AMER","OECD",null,"Geothermal","Geothermal",0,0,"Developer","Equity (company)",{"$error":"#N/A"},"2011-10-13","na","na","na","na",16.8,16.8,18.559467736691829]
[2009,12,"Q4","2009Q4","Brazil","Small Hydro","Asset finance investments",16.790009046069471,"Acquisition transactions","AF","AF19408","FIP Brasil Energia Rio do Braco Small Hydro Plant - Acquisition","Brazil","Brazil","Central & South America","AMER","non-OECD","BASIC","Small hydro","Small Hydro","Run of River",0,"Acquisition","Balance Sheet","Equity","2009-12-31",11.5,0,0,0,0,16.79,16.790009046069471]
[2012,2,"Q1","2012Q1","Brazil","Small Hydro","Corporate finance investments",16.258236665580178,"Acquisition transactions","MA","MA27990","Guanhaes Energia SA","Brazil","Brazil","Central & South America","AMER","non-OECD","BASIC","Small hydro","Small Hydro","Run of River",0,"Developer","Equity (company)",{"$error":"#N/A"},"2012-02-10","na","na","na","na",15.5,15.5,16.258236665580178]
[2006,9,"Q3","2006Q3","Brazil","Small Hydro","Asset finance investments",15.225384,"Acquisition transactions","AF","AF3270","Brennand Celtins Small Hydro Portfolio Acquisition","Brazil","Brazil","Central & South America","AMER","non-OECD","BASIC","Small hydro","Small Hydro","Run of River",0,"Acquisition","Balance Sheet","Equity","2006-09-26",15,0,0,0,15.2,15.2,15.225384]
[2009,5,"Q2","2009Q2","Brazil","Biofuels","Asset finance investments",15.000008081658253,"Acquisition transactions","AF","AF8105","Marialva Biodiesel Plant BSBIOS Acquisition","Brazil","Brazil","Central & South America","AMER","non-OECD","BASIC","Biofuels","Biofuels","Diesel Substitute","Transesterification","Acquisition","Balance Sheet","Equity","2009-05-31",0,127.1,0,0,0,15,15.000008081658253]
[2011,3,"Q1","2011Q1","Chile","Wind","Asset finance investments",15.12406669462338,"Acquisition transactions","AF","AF18485","Talinay Wind Farm Phase I & II Vestas Acquisition","Chile","Other AMER","Central & South America","AMER","OECD",null,"Wind","Wind","Onshore",0,"Acquisition","Balance Sheet","Equity","2011-03-04",500,0,0,0,0,15,15.12406669462338]
[2008,3,"Q1","2008Q1","Brazil","Wind","Asset finance investments",15.027101127408203,"Acquisition transactions","AF","AF6717","Ceara Wind Portfolio IMPSA Acquisition","Brazil","Brazil","Central & South America","AMER","non-OECD","BASIC","Wind","Wind","Onshore",0,"Acquisition","Balance Sheet","Equity","2008-03-15",99.6,0,0,0,0,14.94,15.027101127408203]
[2006,3,"Q1","2006Q1","Guatemala","Geothermal","Asset finance investments",15.179,"Acquisition transactions","AF","AF2422","Orzunil de Electridad Zunil Geothermal Plant Acquisition","Guatemala","Other AMER","Central & South America","AMER","non-OECD",null,"Geothermal","Geothermal","Conventional","Binary","Acquisition","Balance Sheet","Equity","2006-03-20",24,0,0,0,14.75,14.75,15.179]
[2008,10,"Q4","2008Q4","Brazil","Biofuels","Asset finance investments",14.195605869655143,"Acquisition transactions","AF","AF6686","Bionorte San Miguel do Araguaia Biodiesel Plant Acquisition","Brazil","Brazil","Central & South America","AMER","non-OECD","BASIC","Biofuels","Biofuels","Diesel Substitute",0,"Acquisition","Balance Sheet","Equity","2008-10-22",0,33.700000000000003,0,0,0,14.154,14.195605869655143]
[2009,6,"Q2","2009Q2","Chile","Small Hydro","Asset finance investments",15.177276177166215,"Acquisition transactions","AF","AF8804","Lican Small Hydro Plant Acquisition","Chile","Other AMER","Central & South America","AMER","OECD",null,"Small hydro","Small Hydro","Run of River",0,"Acquisition","Balance Sheet","Equity","2009-06-25",17,0,0,0,0,13.651,15.177276177166215]
[2011,2,"Q1","2011Q1","Brazil","Wind","Asset finance investments",13.591606640882576,"Acquisition transactions","AF","AF19876","Ceara and Areia Branca Wind Portfolio Santander Acquisition","Brazil","Brazil","Central & South America","AMER","non-OECD","BASIC","Wind","Wind","Onshore",0,"Acquisition","Balance Sheet","Equity","2011-02-09",90,0,0,0,0,13.5,13.591606640882576]
[2011,12,"Q4","2011Q4","Brazil","Biofuels","Asset finance investments",12.685499531490404,"Acquisition transactions","AF","AF19387","Amyris Piracicaba Next Generation Farnesene Demonstration Plant Refinancing","Brazil","Brazil","Central & South America","AMER","non-OECD","BASIC","Biofuels","Biofuels","Petrochemical substitutes","Advanced biochemical","Refinancing","Term loan","Debt","2011-12-31",0,17,0,0,12.6,12.6,12.685499531490404]
[2012,6,"Q2","2012Q2","Brazil","Other Clean Energy","Corporate finance investments",13.701487462352679,"Acquisition transactions","MA","MA9598","Senergy Sistemas de Medicao SA","Brazil","Brazil","Central & South America","AMER","non-OECD","BASIC","Digital Energy","Energy smart technologies","Smart Metering",0,"Technology Developer","Equity (company)",{"$error":"#N/A"},"2012-06-04","na","na","na","na",0,12.33,13.701487462352679]
[2007,3,"Q1","2007Q1","Brazil","Biofuels","Asset finance investments",16.324769904511168,"Acquisition transactions","AF","AF10232","Boa Vista Bioethanol and Power Plant Mitsubishi Acquisition","Brazil","Brazil","Central & South America","AMER","non-OECD","BASIC","Biofuels","Biofuels","Gasoline/Petrol Substitute","1-Gen fermentation","Acquisition","Balance Sheet","Equity","2007-03-27",40,212,0,0,0,12.084,16.324769904511168]
[2011,5,"Q2","2011Q2","Chile","Geothermal","Corporate finance investments",12.744858280761306,"Acquisition transactions","MA","MA2949","Energia Andina SA","Chile","Other AMER","Central & South America","AMER","OECD",null,"Geothermal","Geothermal",0,0,"Developer","Equity (company)",{"$error":"#N/A"},"2011-05-09","na","na","na","na",12,12,12.744858280761306]
[2007,4,"Q2","2007Q2","Brazil","Wind","Asset finance investments",12.93410578865265,"Acquisition transactions","AF","AF5646","Beberibe Wind Farm Econergy Acquisition","Brazil","Brazil","Central & South America","AMER","non-OECD","BASIC","Wind","Wind","Onshore",0,"Acquisition","Balance Sheet","Equity","2007-04-30",25.6,0,0,0,12,12,12.93410578865265]
[2011,2,"Q1","2011Q1","Nicaragua","Geothermal","Asset finance investments",12.108428558194893,"Acquisition transactions","AF","AF16320","Ram Power San Jacinto Geothermal Portfolio Refinancing I","Nicaragua","Other AMER","Central & South America","AMER","non-OECD",null,"Geothermal","Geothermal","Conventional","Single flash","Refinancing","Bridge Financing","Debt","2011-02-04",0,0,0,0,12,12,12.108428558194893]
[2012,1,"Q1","2012Q1","Brazil","Small Hydro","Asset finance investments",12.365057457517889,"Acquisition transactions","AF","AF20390","Energisa Cristina Small Hydro Plant - Acquisition","Brazil","Brazil","Central & South America","AMER","non-OECD","BASIC","Small hydro","Small Hydro","Run of River",0,"Acquisition","Balance Sheet","Equity","2012-01-02",3.5,0,0,0,11.8,11.8,12.365057457517889]
[2007,12,"Q4","2007Q4","Brazil","Biofuels","Asset finance investments",12.096368392804907,"Acquisition transactions","AF","AF18913","Tabu Bioethanol and Power Plant Acquisition","Brazil","Brazil","Central & South America","AMER","non-OECD","BASIC","Biofuels","Biofuels","Gasoline/Petrol Substitute","1-Gen fermentation","Acquisition","Balance Sheet","Equity","2007-12-31",8.4,42.2,0,0,0,11.786,12.096368392804907]
[2012,1,"Q1","2012Q1","Brazil","Wind","Asset finance investments",12.260268834996548,"Acquisition transactions","AF","AF20750","CPFL Atlantica Wind Portfolio Acquisition","Brazil","Brazil","Central & South America","AMER","non-OECD","BASIC","Wind","Wind","Onshore",0,"Acquisition","Balance Sheet","Equity","2012-01-12",120,0,0,0,11.7,11.7,12.260268834996548]
[2009,9,"Q3","2009Q3","Costa Rica","Wind","Asset finance investments",11.700006303693437,"Acquisition transactions","AF","AF9185","Eolica Valle Central Wind Farm Plant Refinancing","Costa Rica","Other AMER","Central & South America","AMER","non-OECD",null,"Wind","Wind","Onshore",0,"Refinancing","Term loan","Debt","2009-09-09",15.3,0,0,0,11.7,11.7,11.700006303693437]
[2007,11,"Q4","2007Q4","Brazil","Biofuels","Asset finance investments",11.70020360410453,"Acquisition transactions","AF","AF4740","Biovasf Petrolina Next Generation Biodiesel Commercial Plant Acquisition","Brazil","Brazil","Central & South America","AMER","non-OECD","BASIC","Biofuels","Biofuels","Diesel Substitute",0,"Acquisition","Balance Sheet","Equity","2007-11-05",0,95,0,0,11.4,11.4,11.70020360410453]
[2010,5,"Q2","2010Q2","Brazil","Wind","Asset finance investments",11.208351736557443,"Acquisition transactions","AF","AF12267","Ventos do Sul Palmares Wind Farm Refinancing","Brazil","Brazil","Central & South America","AMER","non-OECD","BASIC","Wind","Wind","Onshore",0,"Refinancing","Balance Sheet","Equity","2010-05-31",8,0,0,0,0,11.2,11.208351736557443]
[{"$f":"IF(K262=\"\",\"\",IF(AND(YEAR(Z262)<2004,YEAR(Z262)>1910),2004,YEAR(Z262)))","v":2011},{"$f":"IF(K262=\"\",\"\",IF(ISNUMBER(Z262),MONTH(Z262),0))","v":2},{"$f":"IF(K262=\"\",\"\",IF(AND(B262>=1,B262<=3),\"Q1\",IF(AND(B262>3,B262<=6),\"Q2\",IF(AND(B262>6,B262<=9),\"Q3\",IF(AND(B262>9,B262<=12),\"Q4\",0)))))","v":"Q1"},{"$f":"IF(A262<2006, \"< 2006\", A262&C262)","v":"2011Q1"},{"$f":"IF(K262=\"\",\"\", M262)","v":"Brazil"},"Biofuels","Asset finance investments",{"$f":"IF(K262=\"\",\"\",AG262)","v":11.074642448126543},"Acquisition transactions","AF","AF15483","Guaricanga Ethanol Plant Acquisition","Brazil","Brazil","Central & South America","AMER","non-OECD","BASIC","Biofuels","Biofuels","Gasoline/Petrol Substitute","1-Gen fermentation","Acquisition","Balance Sheet","Equity","2011-02-18",1.6,120,0,0,11,11,11.074642448126543]
[2011,3,"Q1","2011Q1","Brazil",{"$f":"IF(K263=\"\",\"\",IF(OR(T263=\"Wind\",T263=\"Solar\",T263=\"Geothermal\",T263=\"Small Hydro\",T263=\"Biofuels\",T263=\"Biomass & Waste\"),T263,\"Other Clean Energy\"))","v":"Biofuels"},{"$f":"IF(K263=\"\",\"\",IF(OR(J263=\"PM\",J263=\"MA\"), \"Corporate finance investments\", IF(J263=\"VCPE\", \"VC/PE investments\", IF(J263=\"AF\", \"Asset finance investments\"))))","v":"Asset finance investments"},10.873285312706061,"Acquisition transactions","AF","AF30916","Colider Biodiesel Plant JBS Acquisition","Brazil","Brazil","Central & South America","AMER","non-OECD","BASIC","Biofuels","Biofuels","Diesel Substitute","Transesterification","Acquisition","Balance Sheet","Equity","2011-03-31",0,36,0,0,0,10.8,10.873285312706061]
[2011,10,"Q4","2011Q4","Brazil","Biofuels","Asset finance investments",10.834020671299067,"Acquisition transactions","AF","AF18915","Tabu Bioethanol and Power Plant Acquisition II","Brazil","Brazil","Central & South America","AMER","non-OECD","BASIC","Biofuels","Biofuels","Gasoline/Petrol Substitute","1-Gen fermentation","Acquisition","Balance Sheet","Equity","2011-10-13",8.4,42.2,0,0,0,10.760999999999999,10.834020671299067]
[2012,3,"Q1","2012Q1","Uruguay","Biofuels","Asset finance investments",13.622707713493586,"Acquisition transactions","AF","AF28712","ALUR Paysandú Bioethanol and Power Plant Abengoa Acquisition","Uruguay","Other AMER","Central & South America","AMER","non-OECD",null,"Biofuels","Biofuels","Gasoline/Petrol Substitute","1-Gen fermentation","Acquisition","Balance Sheet","Equity","2012-03-14",8,70,0,0,0,10.5,13.622707713493586]
[2008,8,"Q3","2008Q3","Brazil","Wind","Corporate finance investments",10.681305815446326,"Acquisition transactions","MA","MA1687","Martifer Renovaveis Geracao de Energia e Participacoes SA","Brazil","Brazil","Central & South America","AMER","non-OECD","BASIC","Wind","Wind",0,0,"Developer","Equity (company)",{"$error":"#N/A"},"2008-08-27","na","na","na","na",10.1,10.1,10.681305815446326]
[2008,2,"Q1","2008Q1","Brazil","Wind","Asset finance investments",10.058300620755157,"Acquisition transactions","AF","AF5315","Serra dos Antunes Wind Farm Acquisition","Brazil","Brazil","Central & South America","AMER","non-OECD","BASIC","Wind","Wind","Onshore",0,"Acquisition","Balance Sheet","Equity","2008-02-14T18:03:00",98.6,0,0,0,10,10,10.058300620755157]
[2010,1,"Q1","2010Q1","Brazil","Biomass & Waste","Asset finance investments",10.007456907640575,"Acquisition transactions","AF","AF10664","Dom Pedrito Biomass Plant Acquisition","Brazil","Brazil","Central & South America","AMER","non-OECD","BASIC","Biomass & Waste","Biomass & Waste","Electricity Generation (new)","Incineration","Acquisition","Balance Sheet","Equity","2010-01-19",12.3,0,0,0,0,10,10.007456907640575]
[2011,6,"Q2","2011Q2","Brazil","Wind","Asset finance investments",10.067856771024131,"Acquisition transactions","AF","AF17383","Copel Galvao Energia Sao Bento do Norte Wind Portfolio Acquisition","Brazil","Brazil","Central & South America","AMER","non-OECD","BASIC","Wind","Wind","Onshore",0,"Acquisition","Balance Sheet","Equity","2011-06-17",94,0,0,0,0,10,10.067856771024131]
[2009,5,"Q2","2009Q2","Brazil","Biomass & Waste","Asset finance investments",10.00000538777217,"Acquisition transactions","AF","AF19406","Sao Borja Biomass Plant Acquisition","Brazil","Brazil","Central & South America","AMER","non-OECD","BASIC","Biomass & Waste","Biomass & Waste","Electricity Generation (new)","Incineration","Acquisition","Balance Sheet","Equity","2009-05-08",12.3,0,0,0,0,10,10.00000538777217]
[2011,1,"Q1","2011Q1","Brazil","Small Hydro","Corporate finance investments",9.885628563468595,"Acquisition transactions","MA","MA3147","Gamma Energia SA","Brazil","Brazil","Central & South America","AMER","non-OECD","BASIC","Small hydro","Small Hydro","Existing Dam",0,"Developer","Equity (company)",{"$error":"#N/A"},"2011-01-18","na","na","na","na",0,9.8190000000000008,9.885628563468595]
[2011,1,"Q1","2011Q1","Brazil","Wind","Corporate finance investments",9.885628563468595,"Acquisition transactions","MA","MA3148","Zeta Energia SA","Brazil","Brazil","Central & South America","AMER","non-OECD","BASIC","Wind","Wind","Onshore",0,"Developer","Equity (company)",{"$error":"#N/A"},"2011-01-18","na","na","na","na",0,9.8190000000000008,9.885628563468595]
[2011,10,"Q4","2011Q4","Brazil","Small Hydro","Corporate finance investments",9.6651425001831655,"Acquisition transactions","MA","MA3323","Enex Operacao e Manutencao de Sistemas Eletricos Ltda","Brazil","Brazil","Central & South America","AMER","non-OECD","BASIC","Small hydro","Small Hydro","New Dam",0,"Service Company","Equity (company)",{"$error":"#N/A"},"2011-10-03","na","na","na","na",9.6,9.6,9.6651425001831655]
[2010,2,"Q1","2010Q1","Chile","Wind","Asset finance investments",9.0067112168765178,"Acquisition transactions","AF","AF10787","Talinay Wind Farm Phase I & II Haciendas Talinay Acquisition","Chile","Other AMER","Central & South America","AMER","OECD",null,"Wind","Wind","Onshore",0,"Acquisition","Balance Sheet","Equity","2010-02-10",500,0,0,0,0,9,9.0067112168765178]
[2009,9,"Q3","2009Q3","Brazil","Biofuels","Corporate finance investments",8.7000046873617869,"Acquisition transactions","MA","MA2067","Usaciga Acucar Alcool e Energia Electrica Ltda","Brazil","Brazil","Central & South America","AMER","non-OECD","BASIC","Biofuels","Biofuels","Gasoline/Petrol Substitute",0,"Fuel production/procurement","Equity (company)",{"$error":"#N/A"},"2009-09-02","na","na","na","na",8.6999999999999993,8.6999999999999993,8.7000046873617869]
[2008,9,"Q3","2008Q3","Brazil","Small Hydro","Asset finance investments",8.6870417858678941,"Acquisition transactions","AF","AF8434","Rio Corrente Mambaí II Small Hydro Plant Refinancing","Brazil","Brazil","Central & South America","AMER","non-OECD","BASIC","Small hydro","Small Hydro","Run of River",0,"Refinancing","Term loan","Debt","2008-09-24",12,0,0,0,8.6,8.6,8.6870417858678941]
[2006,6,"Q2","2006Q2","Brazil","Other Clean Energy","Corporate finance investments",8.4274459999999998,"Acquisition transactions","MA","MA698","Itron Sistemas e Tecnologia Ltda","Brazil","Brazil","Central & South America","AMER","non-OECD","BASIC","Digital Energy","Energy smart technologies",0,0,"Service Company","Equity (company)",{"$error":"#N/A"},"2006-06-30","na","na","na","na",8.4,8.4,8.4274459999999998]
[2009,11,"Q4","2009Q4","Brazil","Biofuels","Asset finance investments",8.2000044179731777,"Acquisition transactions","AF","AF10185","Santa Adelia Interlagos Ethanol and Power Plant Refinancing","Brazil","Brazil","Central & South America","AMER","non-OECD","BASIC","Biofuels","Biofuels","Gasoline/Petrol Substitute","1-Gen fermentation","Refinancing","Term loan","Debt","2009-11-30",40,89,0,0,8.1999999999999993,8.1999999999999993,8.2000044179731777]
[2009,11,"Q4","2009Q4","Brazil","Biofuels","Asset finance investments",8.0400043317688237,"Acquisition transactions","AF","AF9847","Boa Vista Bioethanol and Power Plant Sao Martinho Acquisiton","Brazil","Brazil","Central & South America","AMER","non-OECD","BASIC","Biofuels","Biofuels","Gasoline/Petrol Substitute","1-Gen fermentation","Acquisition","Balance Sheet","Equity","2009-11-30",40,212,0,0,8.0399999999999991,8.0399999999999991,8.0400043317688237]
[2008,8,"Q3","2008Q3","Brazil","Small Hydro","Asset finance investments",7.979956989343763,"Acquisition transactions","AF","AF8433","Engevix Santa Rosa II Small Hydro Plant Refinancing","Brazil","Brazil","Central & South America","AMER","non-OECD","BASIC","Small hydro","Small Hydro","Run of River",0,"Refinancing","Term loan","Debt","2008-08-11",30,0,0,0,7.9,7.9,7.979956989343763]
[2011,4,"Q2","2011Q2","Mexico","Wind","Asset finance investments",7.8645156032547332,"Acquisition transactions","AF","AF16784","Sierra Juarez Wind Farm BP Acquisition","Mexico","Other AMER","Central & South America","AMER","OECD",null,"Wind","Wind","Onshore",0,"Acquisition","Balance Sheet","Equity","2011-04-19",156,0,0,0,0,7.8,7.8645156032547332]
[2012,7,"Q3","2012Q3","Brazil","Other Clean Energy","Corporate finance investments",7.7578867659047335,"Acquisition transactions","MA","MA19162","CAS Tecnologia SA","Brazil","Brazil","Central & South America","AMER","non-OECD","BASIC","Digital Energy","Energy smart technologies","Smart Metering",0,"Service Company","Equity (company)",{"$error":"#N/A"},"2012-07-30","na","na","na","na",0,7.6109999999999998,7.7578867659047335]
[2007,12,"Q4","2007Q4","Brazil","Wind","Asset finance investments",12.704496633474218,"Acquisition transactions","AF","AF5314","Livramento Wind Farm Acquisition","Brazil","Brazil","Central & South America","AMER","non-OECD","BASIC","Wind","Wind","Onshore",0,"Acquisition","Balance Sheet","Equity","2007-12-10",74.8,0,0,0,7.5,7.5,12.704496633474218]
[2008,9,"Q3","2008Q3","Brazil","Small Hydro","Asset finance investments",7.3738843066087929,"Acquisition transactions","AF","AF8445","Hidrotermica Da Ilha Small Hydro Plant Refinancing","Brazil","Brazil","Central & South America","AMER","non-OECD","BASIC","Small hydro","Small Hydro","Run of River",0,"Refinancing","Term loan","Debt","2008-09-05",26,0,0,0,7.3,7.3,7.3738843066087929]
[2006,7,"Q3","2006Q3","Brazil","Biofuels","Asset finance investments",7.3,"Acquisition transactions","AF","AF20448","TGM Garota Cerqueira Cesar Bioethanol Plant Acquisition","Brazil","Brazil","Central & South America","AMER","non-OECD","BASIC","Biofuels","Biofuels","Gasoline/Petrol Substitute","1-Gen fermentation","Acquisition","Balance Sheet","Equity","2006-07-31",0,10,0,0,0,7.3,7.3]
[2009,11,"Q4","2009Q4","Chile","Biomass & Waste","Asset finance investments",10.747512790511909,"Acquisition transactions","AF","AF9054","Energia Pacifico San Francisco de Mostazal Biomass Plant Refinancing","Chile","Other AMER","Central & South America","AMER","OECD",null,"Biomass & Waste","Biomass & Waste","Combined Heat & Power (CHP)","Incineration","Refinancing","Term loan","Debt","2009-11-05",15.6,0,0,0,6.5,6.5,10.747512790511909]
[2007,12,"Q4","2007Q4","Peru","Biofuels","Asset finance investments",6.3790164421166011,"Acquisition transactions","AF","AF4477","Interpacific Oil Lima Biodiesel Plant Acquisition","Peru","Other AMER","Central & South America","AMER","non-OECD",null,"Biofuels","Biofuels","Diesel Substitute",0,"Acquisition","Balance Sheet","Equity","2007-12-31T11:32:00",0,27.3,0,0,6.3,6.3,6.3790164421166011]
[2008,9,"Q3","2008Q3","Brazil","Small Hydro","Asset finance investments",6.3637631687171776,"Acquisition transactions","AF","AF8446","Hidrotermica Jararaca Small Hydro Plant Refinancing","Brazil","Brazil","Central & South America","AMER","non-OECD","BASIC","Small hydro","Small Hydro","Run of River",0,"Refinancing","Term loan","Debt","2008-09-05",28,0,0,0,6.3,6.3,6.3637631687171776]
[2010,9,"Q3","2010Q3","Brazil","Biofuels","Asset finance investments",6.0845337998454694,"Acquisition transactions","AF","AF19402","Paraiso Brotas Bioethanol and Power Plant FIP Terra Viva Acquisition","Brazil","Brazil","Central & South America","AMER","non-OECD","BASIC","Biofuels","Biofuels","Gasoline/Petrol Substitute","1-Gen fermentation","Acquisition","Balance Sheet","Equity","2010-09-17",7.7,38,0,0,0,6.08,6.0845337998454694]
[2009,10,"Q4","2009Q4","Brazil","Biofuels","Asset finance investments",5.90000317878558,"Acquisition transactions","AF","AF11025","Cerradinho Porto das Águas Ethanol and Power Plant Refinancing","Brazil","Brazil","Central & South America","AMER","non-OECD","BASIC","Biofuels","Biofuels","Gasoline/Petrol Substitute","1-Gen fermentation","Refinancing","Term loan","Debt","2009-10-15",70,170,0,0,5.9,5.9,5.90000317878558]
[2007,12,"Q4","2007Q4","Chile","Wind","Asset finance investments",6.1064827692646029,"Acquisition transactions","AF","AF7997","Enhol Monte Redondo Wind Farm Acquisition","Chile","Other AMER","Central & South America","AMER","OECD",null,"Wind","Wind","Onshore",0,"Acquisition","Balance Sheet","Equity","2007-12-31",38,0,0,0,0,5.7,6.1064827692646029]
[2010,2,"Q1","2010Q1","Brazil","Biofuels","VC/PE investments",5.3039521610495042,"Acquisition transactions","VCPE","VCPE3278","Amyris Brasil Ltda","Brazil","Brazil","Central & South America","AMER","non-OECD","BASIC","Biofuels","Biofuels","Diesel Substitute","Enzymatic hydrolysis","Fuel production/procurement","PE - Buy-out / corp spinoff","PE Buy-out","2010-02-08","na","na","na","na",5.3,5.3,5.3039521610495042]
[2007,12,"Q4","2007Q4","Brazil","Wind","Asset finance investments",8.4696644223161446,"Acquisition transactions","AF","AF5313","Jaguarao Wind Farm Acquisition","Brazil","Brazil","Central & South America","AMER","non-OECD","BASIC","Wind","Wind","Onshore",0,"Acquisition","Balance Sheet","Equity","2007-12-10",50.2,0,0,0,5,5,8.4696644223161446]
[2007,12,"Q4","2007Q4","Uruguay","Wind","Asset finance investments",5.3565638326882485,"Acquisition transactions","AF","AF5316","Fortuny Arbolito Wind Farm Acquisition","Uruguay","Other AMER","Central & South America","AMER","non-OECD",null,"Wind","Wind","Onshore",0,"Acquisition","Balance Sheet","Equity","2007-12-10",50,0,0,0,5,5,5.3565638326882485]
[2011,3,"Q1","2011Q1","Brazil","Biofuels","Asset finance investments",5.0339283855120653,"Acquisition transactions","AF","AF30756","Caramuru Sao Simao Ipameri Biodiesel Portfolio BNDES Refinancing II","Brazil","Brazil","Central & South America","AMER","non-OECD","BASIC","Biofuels","Biofuels","Diesel Substitute","Transesterification","Refinancing","Term loan","Debt","2011-03-01",0,315,0,0,5,5,5.0339283855120653]
[2010,11,"Q4","2010Q4","Peru","Geothermal","Corporate finance investments",4.5033556084382589,"Acquisition transactions","MA","MA2619","Andean Geothermic Energy SAC","Peru","Other AMER","Central & South America","AMER","non-OECD",null,"Geothermal","Geothermal","Conventional",0,"Developer","Equity (company)",{"$error":"#N/A"},"2010-11-08","na","na","na","na",4.5,4.5,4.5033556084382589]
[2011,12,"Q4","2011Q4","Chile","Wind","Asset finance investments",4.5305355469608593,"Acquisition transactions","AF","AF21752","El Arrayán Wind Farm Antofagasta Acquisition","Chile","Other AMER","Central & South America","AMER","OECD",null,"Wind","Wind","Onshore",0,"Acquisition","Balance Sheet","Equity","2011-12-31",101,0,0,0,4.5,4.5,4.5305355469608593]
[2009,12,"Q4","2009Q4","Brazil","Biofuels","Asset finance investments",4.3000023167420318,"Acquisition transactions","AF","AF10182","Sao Fernando Bioethanol and Power Plant Refinancing","Brazil","Brazil","Central & South America","AMER","non-OECD","BASIC","Biofuels","Biofuels","Gasoline/Petrol Substitute","1-Gen fermentation","Refinancing","Term loan","Debt","2009-12-08",48,200,0,0,4.3,4.3,4.3000023167420318]
[2007,8,"Q3","2007Q3","Brazil","Wind","Asset finance investments",4.1573554290133048,"Acquisition transactions","AF","AF5679","Pedra do Sal Wind Farm Econergy Acquisition","Brazil","Brazil","Central & South America","AMER","non-OECD","BASIC","Wind","Wind","Onshore",0,"Acquisition","Balance Sheet","Equity","2007-08-15",18,0,0,0,3.8570000000000002,3.8570000000000002,4.1573554290133048]
[2012,10,"Q4","2012Q4","Brazil","Wind","Asset finance investments",4.8571666713462012,"Acquisition transactions","AF","AF31372","Santo Inacio Wind Portfolio Vale Acquisition","Brazil","Brazil","Central & South America","AMER","non-OECD","BASIC","Wind","Wind","Onshore",0,"Acquisition","Balance Sheet","Equity","2012-10-10",117.2,0,0,0,0,3.516,4.8571666713462012]
[2012,9,"Q3","2012Q3","Brazil","Solar","Asset finance investments",3.5675474550869226,"Acquisition transactions","AF","AF32076","Bioenergy Solyes PV Plant - Acquisition","Brazil","Brazil","Central & South America","AMER","non-OECD","BASIC","Solar","Solar","PV",0,"Acquisition","Balance Sheet","Equity","2012-09-25",1,0,0,0,3.5,3.5,3.5675474550869226]
[2009,7,"Q3","2009Q3","Brazil","Wind","Corporate finance investments",3.3000017779648152,"Acquisition transactions","MA","MA1866","Elebras Projects Ltda","Brazil","Brazil","Central & South America","AMER","non-OECD","BASIC","Wind","Wind",0,0,"Developer","Equity (company)",{"$error":"#N/A"},"2009-07-31","na","na","na","na",3.3,3.3,3.3000017779648152]
[2007,9,"Q3","2007Q3","Guatemala","Biofuels","Corporate finance investments",3.4193214245298531,"Acquisition transactions","MA","MA1352","Biocombustibles de Guatemala SA","Guatemala","Other AMER","Central & South America","AMER","non-OECD",null,"Biofuels","Biofuels",0,0,"Technology Developer","Equity (company)",{"$error":"#N/A"},"2007-09-25","na","na","na","na",3.2,3.2,3.4193214245298531]
[2009,12,"Q4","2009Q4","Brazil","Biofuels","Asset finance investments",3.1000016702093731,"Acquisition transactions","AF","AF10184","Oswaldo Ribeiro Colorado Ethanol and Power Plant Refinancing","Brazil","Brazil","Central & South America","AMER","non-OECD","BASIC","Biofuels","Biofuels","Gasoline/Petrol Substitute","1-Gen fermentation","Refinancing","Term loan","Debt","2009-12-01",51.5,150,0,0,3.1,3.1,3.1000016702093731]
[2008,9,"Q3","2008Q3","Brazil","Biofuels","Asset finance investments",3.0188479346942194,"Acquisition transactions","AF","AF6446","Santa Juliana Bioethanol and Power Plant Itochu Acquisition","Brazil","Brazil","Central & South America","AMER","non-OECD","BASIC","Biofuels","Biofuels","Gasoline/Petrol Substitute","1-Gen fermentation","Acquisition","Balance Sheet","Equity","2008-09-23",1.2,26.4,0,0,0,3.01,3.0188479346942194]
[2011,1,"Q1","2011Q1","Honduras","Wind","Asset finance investments",3.0248133389246754,"Acquisition transactions","AF","AF15142","Sayab Wind Farm Acquisition","Honduras","Other AMER","Central & South America","AMER","non-OECD",null,"Wind","Wind","Onshore",0,"Acquisition","Balance Sheet","Equity","2011-01-20",100,0,0,0,0,3,3.0248133389246754]
[2006,6,"Q2","2006Q2","Guatemala","Geothermal","Asset finance investments",2.8809999999999998,"Acquisition transactions","AF","AF3018","Orzunil I de Electricidad Zunil Geothermal Plant Acquisition","Guatemala","Other AMER","Central & South America","AMER","non-OECD",null,"Geothermal","Geothermal","Conventional","Binary","Acquisition","Balance Sheet","Equity","2006-06-26",24,0,0,0,2.8,2.8,2.8809999999999998]
[2006,6,"Q2","2006Q2","Brazil","Biofuels","Asset finance investments",2,"Acquisition transactions","AF","AF3037","Manguinhos Biodiesel Plant Refinancing","Brazil","Brazil","Central & South America","AMER","non-OECD","BASIC","Biofuels","Biofuels","Diesel Substitute","Transesterification","Refinancing","Balance Sheet","Equity","2006-06-20",0,30,0,0,2,2,2]
[2011,9,"Q3","2011Q3","Brazil","Wind","Asset finance investments",1.8122142187843435,"Acquisition transactions","AF","AF19994","Santander Abengoa Wind Portfolio Acquisition","Brazil","Brazil","Central & South America","AMER","non-OECD","BASIC","Wind","Wind","Onshore",0,"Acquisition","Balance Sheet","Equity","2011-09-14",73.599999999999994,0,0,0,0,1.8,1.8122142187843435]
[2010,9,"Q3","2010Q3","Mexico","Small Hydro","Asset finance investments",1.6011931052224921,"Acquisition transactions","AF","AF33544","Hidroelectrica Cajon de Pena Small Hydro Plant Refinancing","Mexico","Other AMER","Central & South America","AMER","OECD",null,"Small hydro","Small Hydro","Run of River",0,"Refinancing","Term loan","Debt","2010-09-10",1.2,0,0,0,1.6,1.6,1.6011931052224921]
[2012,5,"Q2","2012Q2","Brazil","Biofuels","Asset finance investments",1.6204443063436196,"Acquisition transactions","AF","AF26412","Campina Verde Bioethanol Plant Bunge Acquisition","Brazil","Brazil","Central & South America","AMER","non-OECD","BASIC","Biofuels","Biofuels","Gasoline/Petrol Substitute","1-Gen fermentation","Acquisition","Balance Sheet","Equity","2012-05-08",56,153,0,0,0,1.59,1.6204443063436196]
[2011,11,"Q4","2011Q4","Brazil","Biofuels","Asset finance investments",1.4094999479433783,"Acquisition transactions","AF","AF30100","Total Agroindustria Bambui Bioethanol and Power Plant Petrobras Acquisition II","Brazil","Brazil","Central & South America","AMER","non-OECD","BASIC","Biofuels","Biofuels","Gasoline/Petrol Substitute","1-Gen fermentation","Acquisition","Balance Sheet","Equity","2011-11-30",25,100,0,0,1.4,1.4,1.4094999479433783]
[2009,11,"Q4","2009Q4","Brazil","Biofuels","Asset finance investments",1.300000700410382,"Acquisition transactions","AF","AF10217","Boa Esperanca Santa Luzia D'Oeste Ethanol Plant Refinancing","Brazil","Brazil","Central & South America","AMER","non-OECD","BASIC","Biofuels","Biofuels","Gasoline/Petrol Substitute","1-Gen fermentation","Refinancing","Term loan","Debt","2009-11-17",0,72,0,0,1.3,1.3,1.300000700410382]
[2010,5,"Q2","2010Q2","Honduras","Small Hydro","Asset finance investments",0.90067112168765173,"Acquisition transactions","AF","AF12236","Chiligatoro Small Hydro Plant Acquistion","Honduras","Other AMER","Central & South America","AMER","non-OECD",null,"Small hydro","Small Hydro","Run of River",0,"Acquisition","Balance Sheet","Equity","2010-05-27",6,0,0,0,0.9,0.9,0.90067112168765173]
[2009,12,"Q4","2009Q4","Brazil","Biofuels","Asset finance investments",0.85000045796063428,"Acquisition transactions","AF","AF10188","Cosan Paraguacu Paralcool Bioethanol Plant Refinancing","Brazil","Brazil","Central & South America","AMER","non-OECD","BASIC","Biofuels","Biofuels","Gasoline/Petrol Substitute","1-Gen fermentation","Refinancing","Term loan","Debt","2009-12-10",3.6,65,0,0,0.85,0.85,0.85000045796063428]
[2007,4,"Q2","2007Q2","Brazil","Biofuels","Corporate finance investments",0.53704591421220704,"Acquisition transactions","MA","MA1452","Cia Acucareira Vale do Rosario","Brazil","Brazil","Central & South America","AMER","non-OECD","BASIC","Biofuels","Biofuels","Gasoline/Petrol Substitute",0,"Developer","Equity (company)",{"$error":"#N/A"},"2007-04-05","na","na","na","na",0.5,0.5,0.53704591421220704]
[2011,8,"Q3","2011Q3","Uruguay","Wind","Asset finance investments",0.44464750982868717,"Acquisition transactions","AF","AF21868","El Libertador Wind Farm IMPSA Acquisition","Uruguay","Other AMER","Central & South America","AMER","non-OECD",null,"Wind","Wind","Onshore",0,"Acquisition","Balance Sheet","Equity","2011-08-31",14.7,0,0,0,0,0.441,0.44464750982868717]
[2011,9,"Q3","2011Q3","Brazil","Small Hydro","Asset finance investments",0.31713748828726013,"Acquisition transactions","AF","AF18387","Electrica Rio Isla Chirre Small Hydro Plant Acquisition","Brazil","Brazil","Central & South America","AMER","non-OECD","BASIC","Small hydro","Small Hydro","Run of River",0,"Acquisition","Balance Sheet","Equity","2011-09-07",4.2,0,0,0,0,0.315,0.31713748828726013]
[2012,10,"Q4","2012Q4","Peru","Wind","Asset finance investments",355.91522508980552,"New Financial Investment","AF","AF31108","ContourGlobal Talara Cupisnique Wind Portfolio","Peru","Other AMER","Central & South America","AMER","non-OECD",null,"Wind","Wind","Onshore",0,"New build","Balance Sheet","Equity","2012-10-03",111.6,0,0,0,250,250,355.91522508980552]
[2012,11,"Q4","2012Q4","Mexico","Biomass & Waste","Asset finance investments",242.49118699701862,"New Financial Investment","AF","AF33924","Bordo Poniente Landfill Gas Plant","Mexico","Other AMER","Central & South America","AMER","OECD",null,"Biomass & Waste","Biomass & Waste","Electricity Generation (new)","Landfill gas power","New build","Balance Sheet","Equity","2012-11-01",58,0,0,0,0,161.82,242.49118699701862]
[2012,12,"Q4","2012Q4","Chile","Wind","Asset finance investments",200.91233557243805,"New Financial Investment","AF","AF33678","Enel Valle de los Vientos Wind Farm","Chile","Other AMER","Central & South America","AMER","OECD",null,"Wind","Wind","Onshore",0,"New build","Balance Sheet","Equity","2012-12-21",90,0,0,0,140,140,200.91233557243805]
[2012,11,"Q4","2012Q4","Brazil","Biomass & Waste","Asset finance investments",206.24762713929778,"New Financial Investment","AF","AF17881","Alvorada CPFL Power Plant","Brazil","Brazil","Central & South America","AMER","non-OECD","BASIC","Biomass & Waste","Biomass & Waste","Electricity Generation (new)","Incineration","New build","Term loan","Debt","2012-11-01",50,96,0,0,0,139.5,206.24762713929778]
[2012,11,"Q4","2012Q4","Brazil","Wind","Asset finance investments",182.31488099045029,"New Financial Investment","AF","AF31902","CPFL Energias Renovaveis Joao Camara Wind Portfolio","Brazil","Brazil","Central & South America","AMER","non-OECD","BASIC","Wind","Wind","Onshore",0,"New build","Bridge Financing","Debt","2012-11-01",54,0,0,0,128.5,128.5,182.31488099045029]
[2012,11,"Q4","2012Q4","Brazil","Small Hydro","Asset finance investments",174.76485496209469,"New Financial Investment","AF","AF10537","Guanhaes Energia Minas Gerais Small Hydro Portfolio","Brazil","Brazil","Central & South America","AMER","non-OECD","BASIC","Small hydro","Small Hydro","Run of River",0,"New build","Balance Sheet","Equity","2012-11-30",44,0,0,0,128,128,174.76485496209469]
[2012,11,"Q4","2012Q4","Brazil","Wind","Asset finance investments",177.77474387629121,"New Financial Investment","AF","AF34226","Santander Cassino Wind Portfolio","Brazil","Brazil","Central & South America","AMER","non-OECD","BASIC","Wind","Wind","Onshore",0,"New Build","Term Loan","Debt","2012-11-06",69,0,0,0,125.3,125.3,177.77474387629121]
[{"$f":"IF(K326=\"\",\"\",IF(AND(YEAR(Z326)<2004,YEAR(Z326)>1910),2004,YEAR(Z326)))","v":2012},{"$f":"IF(K326=\"\",\"\",IF(ISNUMBER(Z326),MONTH(Z326),0))","v":12},{"$f":"IF(K326=\"\",\"\",IF(AND(B326>=1,B326<=3),\"Q1\",IF(AND(B326>3,B326<=6),\"Q2\",IF(AND(B326>6,B326<=9),\"Q3\",IF(AND(B326>9,B326<=12),\"Q4\",0)))))","v":"Q4"},{"$f":"IF(A326<2006, \"< 2006\", A326&C326)","v":"2012Q4"},{"$f":"IF(K326=\"\",\"\", M326)","v":"Argentina"},"Wind","Asset finance investments",{"$f":"IF(K326=\"\",\"\",AG326)","v":142.36609003592221},"New Financial Investment","AF","AF33920","IMPSA Malaspina I Wind Farm","Argentina","Other AMER","Central & South America","AMER","non-OECD",null,"Wind","Wind","Onshore",0,"New build","Term loan","Debt","2012-12-28",50,0,0,0,0,100,142.36609003592221]
[2012,11,"Q4","2012Q4","Brazil",{"$f":"IF(K327=\"\",\"\",IF(OR(T327=\"Wind\",T327=\"Solar\",T327=\"Geothermal\",T327=\"Small Hydro\",T327=\"Biofuels\",T327=\"Biomass & Waste\"),T327,\"Other Clean Energy\"))","v":"Biofuels"},{"$f":"IF(K327=\"\",\"\",IF(OR(J327=\"PM\",J327=\"MA\"), \"Corporate finance investments\", IF(J327=\"VCPE\", \"VC/PE investments\", IF(J327=\"AF\", \"Asset finance investments\"))))","v":"Asset finance investments"},129.88370161417177,"New Financial Investment","AF","AF32220","EdeniQ Onda Verde Vale Next Generation Bioethanol Pilot Plant","Brazil","Brazil","Central & South America","AMER","non-OECD","BASIC","Biofuels","Biofuels","Gasoline/Petrol Substitute","Enzymatic hydrolysis","New build","Balance Sheet","Equity","2012-11-14",0,0,0,0,0,85.522999999999996,129.88370161417177]
[2012,12,"Q4","2012Q4","Chile","Wind","Asset finance investments",110.50178456484093,"New Financial Investment","AF","AF34028","Alba San pedro Wind Farm Phase I","Chile","Other AMER","Central & South America","AMER","OECD",null,"Wind","Wind","Onshore",0,"New build","Term loan","Debt","2012-12-31",36,0,0,0,77,77,110.50178456484093]
[2012,12,"Q4","2012Q4","Uruguay","Wind","Asset finance investments",104.78144226643873,"New Financial Investment","AF","AF33008","Palmatir Cuchilla de Peralta Wind Farm","Uruguay","Other AMER","Central & South America","AMER","non-OECD",null,"Wind","Wind","Onshore",0,"New build","Term loan","Debt","2012-12-18",50,0,0,0,0,73.599999999999994,104.78144226643873]
[2012,11,"Q4","2012Q4","Chile","Solar","Asset finance investments",91.915591173091755,"New Financial Investment","AF","AF32172","Sky Solar Arica PV Plant","Chile","Other AMER","Central & South America","AMER","OECD",null,"Solar","Solar","PV","PV – Crystalline silicon","New build","Balance Sheet","Equity","2012-11-12",18,0,0,0,60,60,91.915591173091755]
[2012,11,"Q4","2012Q4","Brazil","Small Hydro","Asset finance investments",75.094273616525058,"New Financial Investment","AF","AF32802","Triton Tamboril Small Hydro Plant","Brazil","Brazil","Central & South America","AMER","non-OECD","BASIC","Small hydro","Small Hydro","Run of River",0,"New build","Balance Sheet","Equity","2012-11-30",22,0,0,0,0,55,75.094273616525058]
[2012,11,"Q4","2012Q4","Brazil","Biomass & Waste","Asset finance investments",76.437292638721829,"New Financial Investment","AF","AF22210","Coopcana CPFL Power Plant","Brazil","Brazil","Central & South America","AMER","non-OECD","BASIC","Biomass & Waste","Biomass & Waste","Electricity Generation (new)","Incineration","New build","Term loan","Debt","2012-11-01",50,0,0,0,51.7,51.7,76.437292638721829]
[2012,11,"Q4","2012Q4","Chile","Wind","Asset finance investments",51.663172004341213,"New Financial Investment","AF","AF34030","Coener Ucuquer Wind Farm","Chile","Other AMER","Central & South America","AMER","OECD",null,"Wind","Wind","Onshore",0,"New build","Balance Sheet","Equity","2012-11-30",7,0,0,0,36,36,51.663172004341213]
[2012,11,"Q4","2012Q4","Brazil","Small Hydro","Asset finance investments",37.547136808262529,"New Financial Investment","AF","AF32800","Triton Renic Small Hydro Plant","Brazil","Brazil","Central & South America","AMER","non-OECD","BASIC","Small hydro","Small Hydro","Run of River",0,"New build","Balance Sheet","Equity","2012-11-30",11,0,0,0,0,27.5,37.547136808262529]
[2012,11,"Q4","2012Q4","Brazil","Small Hydro","Asset finance investments",34.133760734784119,"New Financial Investment","AF","AF34234","Maue Sao Jorge Small Hydro Plant","Brazil","Brazil","Central & South America","AMER","non-OECD","BASIC","Small Hydro","Small Hydro","Run of River",0,"New Build","Term Loan","Debt","2012-11-06",8.6999999999999993,0,0,0,25,25,34.133760734784119]
[2012,12,"Q4","2012Q4","Honduras","Small Hydro","Asset finance investments",33.432043853073978,"New Financial Investment","AF","AF34026","Desa Agua Zarca Small Hydro Plant","Honduras","Other AMER","Central & South America","AMER","non-OECD",null,"Small hydro","Small Hydro","Run of River",0,"New build","Term loan","Debt","2012-12-31",21.3,0,0,0,24.4,24.4,33.432043853073978]
[2012,10,"Q4","2012Q4","Brazil","Small Hydro","Asset finance investments",32.768410305392756,"New Financial Investment","AF","AF31820","Atlantic Energias Rondinha Small Hydro Plant","Brazil","Brazil","Central & South America","AMER","non-OECD","BASIC","Small hydro","Small Hydro","Run of River",0,"New build","Balance Sheet","Equity","2012-10-30",9.6,0,0,0,0,24,32.768410305392756]
[2012,12,"Q4","2012Q4","Brazil","Wind","Asset finance investments",28.233977678676737,"New Financial Investment","AF","AF34228","Atlantic Eurus II Wind Farm","Brazil","Brazil","Central & South America","AMER","non-OECD","BASIC","Wind","Wind","Onshore",0,"New Build","Term Loan","Debt","2012-12-11",30,0,0,0,19.899999999999999,19.899999999999999,28.233977678676737]
[2012,12,"Q4","2012Q4","Brazil","Solar","Asset finance investments",28.794682144307135,"New Financial Investment","AF","AF33080","Cemig Mineirao and Mineirinho Stadium PV Plant","Brazil","Brazil","Central & South America","AMER","non-OECD","BASIC","Solar","Solar","PV",0,"New build","Balance Sheet","Equity","2012-12-14",2.6,0,0,0,18.63,18.63,28.794682144307135]
[2012,11,"Q4","2012Q4","Chile","Biomass & Waste","Asset finance investments",22.477863088340623,"New Financial Investment","AF","AF33332","Forestal Leon Coelemu Biomass Plant","Chile","Other AMER","Central & South America","AMER","OECD",null,"Biomass & Waste","Biomass & Waste","Electricity Generation (new)","Incineration","New build","Balance Sheet","Equity","2012-11-27",7,0,0,0,15,15,22.477863088340623]
[2012,12,"Q4","2012Q4","Argentina","Solar","Asset finance investments",23.320124801654369,"New Financial Investment","AF","AF33688","360 Energy Chimbera II PV Plant","Argentina","Other AMER","Central & South America","AMER","non-OECD",null,"Solar","Solar","PV",0,"New build","Term loan","Debt","2012-12-20",3,0,0,0,15,15,23.320124801654369]
[2012,12,"Q4","2012Q4","Peru","Small Hydro","Asset finance investments",15.071823048516958,"New Financial Investment","AF","AF33202","Cascade Hydro Canchayllo Small Hydro Plant","Peru","Other AMER","Central & South America","AMER","non-OECD",null,"Small hydro","Small Hydro","Run of River",0,"New build","Term loan","Debt","2012-12-05",5.26,0,0,0,11,11,15.071823048516958]
[2012,12,"Q4","2012Q4","Argentina","Solar","Asset finance investments",15.546749867769581,"New Financial Investment","AF","AF33686","360 Energy Chimbera I PV Plant","Argentina","Other AMER","Central & South America","AMER","non-OECD",null,"Solar","Solar","PV",0,"New build","Term loan","Debt","2012-12-20",2,0,0,0,10,10,15.546749867769581]
[2012,12,"Q4","2012Q4","Chile","Solar","Asset finance investments",12.255412156412234,"New Financial Investment","AF","AF33668","E.CL El Aguila PV Plant","Chile","Other AMER","Central & South America","AMER","OECD",null,"Solar","Solar","PV","PV – Crystalline silicon","New build","Balance Sheet","Equity","2012-12-20",2,0,0,0,0,8,12.255412156412234]
[2012,11,"Q4","2012Q4","Brazil","Small Hydro","Asset finance investments",10.786268392191783,"New Financial Investment","AF","AF32806","Cooperzem Volta Grande Small Hydro Plant","Brazil","Brazil","Central & South America","AMER","non-OECD","BASIC","Small hydro","Small Hydro","Run of River",0,"New build","Balance Sheet","Equity","2012-11-30",3.13,0,0,0,0,7.9,10.786268392191783]
[2012,10,"Q4","2012Q4","Brazil","Small Hydro","Asset finance investments",9.1478478769221443,"New Financial Investment","AF","AF31822","Cooperluz Bela Uniao Small Hydro Plant","Brazil","Brazil","Central & South America","AMER","non-OECD","BASIC","Small hydro","Small Hydro","Run of River",0,"New build","Term loan","Debt","2012-10-30",2.25,0,0,0,0,6.7,9.1478478769221443]
[2011,12,"Q4","2011Q4","Brazil","Wind","Asset finance investments",440.43245908028359,"New Financial Investment","AF","AF19672","Ventos Potiguares Uniao dos Ventos Wind Portfolio","Brazil","Brazil","Central & South America","AMER","non-OECD","BASIC","Wind","Wind","Onshore",0,"New build","Term loan","Debt","2011-12-13",169.6,0,0,0,404.7,404.7,440.43245908028359]
[2011,12,"Q4","2011Q4","Brazil","Wind","Asset finance investments",348.90695918245348,"New Financial Investment","AF","AF19678","Contour Global Asa Branca Wind Portfolio","Brazil","Brazil","Central & South America","AMER","non-OECD","BASIC","Wind","Wind","Onshore",0,"New build","Term loan","Debt","2011-12-13",150,0,0,0,320.60000000000002,320.60000000000002,348.90695918245348]
[2011,10,"Q4","2011Q4","Brazil","Wind","Asset finance investments",247.91330412277887,"New Financial Investment","AF","AF18785","Renova Energia Bahia Wind Portfolio II BNDES","Brazil","Brazil","Central & South America","AMER","non-OECD","BASIC","Wind","Wind","Onshore",0,"New build","Term loan","Debt","2011-10-04",99.2,0,0,0,227.8,227.8,247.91330412277887]
[2011,12,"Q4","2011Q4","Brazil","Biofuels","Asset finance investments",239.42461328802173,"New Financial Investment","AF","AF3318","Adecoagro Ivinhema Bioethanol and Power Plant","Brazil","Brazil","Central & South America","AMER","non-OECD","BASIC","Biofuels","Biofuels","Gasoline/Petrol Substitute","1-Gen fermentation","New build","Balance Sheet","Equity","2011-12-31",40,170,0,0,0,220,239.42461328802173]
[2011,12,"Q4","2011Q4","Brazil","Wind","Asset finance investments",235.94207345837779,"New Financial Investment","AF","AF14969","Galvao Energia Sao Bento do Norte Wind Portfolio","Brazil","Brazil","Central & South America","AMER","non-OECD","BASIC","Wind","Wind","Onshore",0,"New build","Term loan","Debt","2011-12-13",94,0,0,0,216.8,216.8,235.94207345837779]
[2011,11,"Q4","2011Q4","Brazil","Wind","Asset finance investments",137.12500579223058,"New Financial Investment","AF","AF25414","Brennand CHESF Bahia Wind Portfolio","Brazil","Brazil","Central & South America","AMER","non-OECD","BASIC","Wind","Wind","Onshore",0,"New build","Balance Sheet","Equity","2011-11-30",90,0,0,0,0,125.99999999999999,137.12500579223058]
[2011,12,"Q4","2011Q4","Brazil","Wind","Asset finance investments",136.25437083481964,"New Financial Investment","AF","AF14431","DESA Eurus Wind Portfolio","Brazil","Brazil","Central & South America","AMER","non-OECD","BASIC","Wind","Wind","Onshore",0,"New build","Term loan","Debt","2011-12-13",60,0,0,0,125.2,125.2,136.25437083481964]
[2011,11,"Q4","2011Q4","Costa Rica","Wind","Asset finance investments",136.03671209546687,"New Financial Investment","AF","AF19124","Acciona Chiripa Wind Farm","Costa Rica","Other AMER","Central & South America","AMER","non-OECD",null,"Wind","Wind","Onshore",0,"New build","Balance Sheet","Equity","2011-11-02",49.5,0,0,0,125,125,136.03671209546687]
[2011,11,"Q4","2011Q4","Brazil","Small Hydro","Asset finance investments",119.05933042595262,"New Financial Investment","AF","AF15373","Brookfield Serra dos Cavalinhos II Small Hydro Plant","Brazil","Brazil","Central & South America","AMER","non-OECD","BASIC","Small hydro","Small Hydro","Run of River",0,"New build","Term loan","Debt","2011-11-30",29,0,0,0,109.4,109.4,119.05933042595262]
[2011,10,"Q4","2011Q4","Brazil","Biomass & Waste","Asset finance investments",106.27187948897874,"New Financial Investment","AF","AF28670","Alto Alegre Alta Mogiana Power Plant Expansion III","Brazil","Brazil","Central & South America","AMER","non-OECD","BASIC","Biomass & Waste","Biomass & Waste","Electricity Generation (new)","Incineration","New build","Balance Sheet","Equity","2011-10-11",35,0,0,0,0,97.65,106.27187948897874]
[2011,11,"Q4","2011Q4","Brazil","Small Hydro","Asset finance investments",86.410519523040563,"New Financial Investment","AF","AF15372","Brookfield Pezzi Small Hydro Plant","Brazil","Brazil","Central & South America","AMER","non-OECD","BASIC","Small hydro","Small Hydro","Run of River",0,"New build","Term loan","Debt","2011-11-30",20,0,0,0,79.400000000000006,79.400000000000006,86.410519523040563]
[2011,11,"Q4","2011Q4","Brazil","Biomass & Waste","Asset finance investments",85.213396456600449,"New Financial Investment","AF","AF14549","Rhodia Paraiso Brotas Power Plant Expansion","Brazil","Brazil","Central & South America","AMER","non-OECD","BASIC","Biomass & Waste","Biomass & Waste","Combined Heat & Power (CHP)","Incineration","New build","Term loan","Debt","2011-11-24",70,0,0,0,78.3,78.3,85.213396456600449]
[2011,12,"Q4","2011Q4","Ecuador","Small Hydro","Asset finance investments",55.720637274303243,"New Financial Investment","AF","AF27940","Celec Mazar Dudas Small Hydro Plant","Ecuador","Other AMER","Central & South America","AMER","non-OECD",null,"Small hydro","Small Hydro","Run of River",0,"New build","Balance Sheet","Equity","2011-12-31",21,0,0,0,51.2,51.2,55.720637274303243]
[2011,10,"Q4","2011Q4","Brazil","Small Hydro","Asset finance investments",48.973216354368077,"New Financial Investment","AF","AF19136","Mega Energia Jamari Small Hydro Plant","Brazil","Brazil","Central & South America","AMER","non-OECD","BASIC","Small hydro","Small Hydro","Run of River",0,"New build","Balance Sheet","Equity","2011-10-31",20,0,0,0,0,45,48.973216354368077]
[2011,11,"Q4","2011Q4","Brazil","Small Hydro","Asset finance investments",47.340775809222478,"New Financial Investment","AF","AF18418","Contour Global Galheiros Small Hydro Plant","Brazil","Brazil","Central & South America","AMER","non-OECD","BASIC","Small hydro","Small Hydro","Run of River",0,"New build","Term loan","Debt","2011-11-30",11,0,0,0,43.5,43.5,47.340775809222478]
[2011,11,"Q4","2011Q4","Dominican Republic","Wind","Asset finance investments",46.62250196935841,"New Financial Investment","AF","AF17863","Bani Matafongo Wind Farm","Dominican Republic","Other AMER","North America & Caribbean","AMER","non-OECD",null,"Wind","Wind","Onshore",0,"New build","Term loan","Debt","2011-11-15",30.6,0,0,0,0,42.839999999999996,46.62250196935841]
[2011,10,"Q4","2011Q4","Brazil","Small Hydro","Asset finance investments",46.252482112458743,"New Financial Investment","AF","AF19135","Mega Energia Santa Cruz de Monte Negro Small Hydro Plant","Brazil","Brazil","Central & South America","AMER","non-OECD","BASIC","Small hydro","Small Hydro","Run of River",0,"New build","Balance Sheet","Equity","2011-10-31",17,0,0,0,0,42.5,46.252482112458743]
[2011,10,"Q4","2011Q4","Brazil","Biofuels","Asset finance investments",37.654961908025236,"New Financial Investment","AF","AF6743","Bunge Nova Mutum Biodiesel Plant","Brazil","Brazil","Central & South America","AMER","non-OECD","BASIC","Biofuels","Biofuels","Diesel Substitute","Transesterification","New build","Balance Sheet","Equity","2011-10-16",0,149,0,0,34.6,34.6,37.654961908025236]
[2011,12,"Q4","2011Q4","Nicaragua","Small Hydro","Asset finance investments",35.913691993203258,"New Financial Investment","AF","AF33980","HidroPantasma Small Hydro Plant","Nicaragua","Other AMER","Central & South America","AMER","non-OECD",null,"Small hydro","Small Hydro","Run of River",0,"New build","Term loan","Debt","2011-12-31",12.5,0,0,0,33,33,35.913691993203258]
[2011,12,"Q4","2011Q4","Brazil","Wind","VC/PE investments",33.737104599675789,"New Financial Investment","VCPE","VCPE4602","Bioenergy Geradora de Energia Ltda","Brazil","Brazil","Central & South America","AMER","non-OECD","BASIC","Wind","Wind","Onshore",0,"Developer","PE - Expansion capital","PE Expansion Capital","2011-12-15","na","na","na","na",31,31,33.737104599675789]
[2011,12,"Q4","2011Q4","Chile","Small Hydro","Asset finance investments",32.648810902912054,"New Financial Investment","AF","AF31308","Hidromaule Providencia Small Hydro Plant","Chile","Other AMER","Central & South America","AMER","OECD",null,"Small hydro","Small Hydro","Run of River",0,"New build","Balance Sheet","Equity","2011-12-31",12.7,0,0,0,30,30,32.648810902912054]
[2011,10,"Q4","2011Q4","Brazil","Small Hydro","Asset finance investments",28.622124224886235,"New Financial Investment","AF","AF19109","Maracana Energetica Nova Marilandia Small Hydro Plant","Brazil","Brazil","Central & South America","AMER","non-OECD","BASIC","Small hydro","Small Hydro","Run of River",0,"New build","Balance Sheet","Equity","2011-10-31",10.5,0,0,0,0,26.3,28.622124224886235]
[2011,12,"Q4","2011Q4","Brazil","Biofuels","Asset finance investments",20.67758023851097,"New Financial Investment","AF","AF31466","Amyris Paraiso Brotas Next Generation Farnesene Plant","Brazil","Brazil","Central & South America","AMER","non-OECD","BASIC","Biofuels","Biofuels","Petrochemical substitutes","Advanced biochemical","New build","Construction loan","Debt","2011-12-22",0,45,0,0,19,19,20.67758023851097]
[2011,11,"Q4","2011Q4","Brazil","Small Hydro","Asset finance investments",17.630357887572504,"New Financial Investment","AF","AF18798","Ceriluz RS-155 Small Hydro Plant","Brazil","Brazil","Central & South America","AMER","non-OECD","BASIC","Small hydro","Small Hydro","Run of River",0,"New build","Term loan","Debt","2011-11-30",5.94,0,0,0,16.2,16.2,17.630357887572504]
[2011,12,"Q4","2011Q4","Argentina","Wind","Asset finance investments",17.086211039190641,"New Financial Investment","AF","AF20038","CAPSA Diadema Wind Farm","Argentina","Other AMER","Central & South America","AMER","non-OECD",null,"Wind","Wind","Onshore",0,"New build","Term loan","Debt","2011-12-06",6.3,0,0,0,0,15.7,17.086211039190641]
[2011,11,"Q4","2011Q4","Brazil","Biofuels","Asset finance investments",8.7063495741098809,"New Financial Investment","AF","AF19452","Usimat Bioethanol and Power Plant Retrofit","Brazil","Brazil","Central & South America","AMER","non-OECD","BASIC","Biofuels","Biofuels","Gasoline/Petrol Substitute","1-Gen fermentation","New build","Balance Sheet","Equity","2011-11-30",0,0,0,0,8,8,8.7063495741098809]
[2011,11,"Q4","2011Q4","Peru","Biofuels","Asset finance investments",7.3655717396969589,"New Financial Investment","AF","AF33084","Coazucar Casa Grande Bioethanol Plant","Peru","Other AMER","Central & South America","AMER","non-OECD",null,"Biofuels","Biofuels","Gasoline/Petrol Substitute","1-Gen fermentation","New build","Balance Sheet","Equity","2011-11-30",0,14.4,0,0,0,6.7679999999999998,7.3655717396969589]
[2011,10,"Q4","2011Q4","Brazil","Small Hydro","Asset finance investments",3.9178573083494466,"New Financial Investment","AF","AF19137","Fibra Geracao Helena Kuhlemann Small Hydro Plant","Brazil","Brazil","Central & South America","AMER","non-OECD","BASIC","Small hydro","Small Hydro","Run of River",0,"New build","Balance Sheet","Equity","2011-10-31",1.44,0,0,0,0,3.6,3.9178573083494466]
[2011,10,"Q4","2011Q4","Peru","Small Hydro","Asset finance investments",2.7207342419093377,"New Financial Investment","AF","AF18955","Hidroelectrica del Chancay Patapo Small Hydro Plant","Peru","Other AMER","Central & South America","AMER","non-OECD",null,"Small hydro","Small Hydro","Run of River",0,"New build","Construction loan","Debt","2011-10-18",1,0,0,0,0,2.5,2.7207342419093377]
[2010,11,"Q4","2010Q4","Mexico","Wind","Asset finance investments",781.53133849996243,"New Financial Investment","AF","AF9358","Eoliatec Isthmus of Tehuantepec Wind Portfolio","Mexico","Other AMER","Central & South America","AMER","OECD",null,"Wind","Wind","Onshore",0,"New build","Balance Sheet","Equity","2010-11-18",324,0,0,0,750,750,781.53133849996243]
[2010,12,"Q4","2010Q4","Mexico","Wind","Asset finance investments",637.83377639443597,"New Financial Investment","AF","AF11126","Acciona Oaxaca Wind Portfolio","Mexico","Other AMER","Central & South America","AMER","OECD",null,"Wind","Wind","Onshore",0,"New build","Balance Sheet","Equity","2010-12-31",306,0,0,0,612.1,612.1,637.83377639443597]
[2010,12,"Q4","2010Q4","Brazil","Wind","Asset finance investments",312.61253539998495,"New Financial Investment","AF","AF14429","Renova Energia 3rd Reserve Auction Wind Portfolio","Brazil","Brazil","Central & South America","AMER","non-OECD","BASIC","Wind","Wind","Onshore",0,"New build","Term loan","Debt","2010-12-06",153,0,0,0,0,300,312.61253539998495]
[2010,11,"Q4","2010Q4","Honduras","Wind","Asset finance investments",302.19211755331878,"New Financial Investment","AF","AF6462","Mesoamerica Cerro de Hula Wind Farm","Honduras","Other AMER","Central & South America","AMER","non-OECD",null,"Wind","Wind","Onshore",0,"New build","Term loan","Debt","2010-11-08",102,0,0,0,290,290,302.19211755331878]
[2010,12,"Q4","2010Q4","Brazil","Wind","Asset finance investments",295.21043759605249,"New Financial Investment","AF","AF9425","NEO Alegria II Wind Farm","Brazil","Brazil","Central & South America","AMER","non-OECD","BASIC","Wind","Wind","Onshore",0,"New build","Term loan","Debt","2010-12-24",100.8,0,0,0,283.3,283.3,295.21043759605249]
[2010,12,"Q4","2010Q4","Mexico","Wind","Asset finance investments",261.0314670589874,"New Financial Investment","AF","AF10747","Renovalia Energy Piedra Larga Wind Farm Phase I","Mexico","Other AMER","Central & South America","AMER","OECD",null,"Wind","Wind","Onshore",0,"New build","Term loan","Debt","2010-12-22",90,0,0,0,250.5,250.5,261.0314670589874]
[2010,11,"Q4","2010Q4","Nicaragua","Geothermal","Asset finance investments",233.41735976532212,"New Financial Investment","AF","AF9705","Ram Power San Jacinto II Geothermal Plant Phase I","Nicaragua","Other AMER","Central & South America","AMER","non-OECD",null,"Geothermal","Geothermal","Conventional","Single flash","New build","Term loan","Debt","2010-11-04",36,0,0,0,224,224,233.41735976532212]
[2010,11,"Q4","2010Q4","Argentina","Wind","Asset finance investments",150.3666295273928,"New Financial Investment","AF","AF14330","Genneia Rawson Wind Portfolio","Argentina","Other AMER","Central & South America","AMER","non-OECD",null,"Wind","Wind","Onshore",0,"New build","Balance Sheet","Equity","2010-11-22",80,0,0,0,144.30000000000001,144.30000000000001,150.3666295273928]
[2010,12,"Q4","2010Q4","Chile","Small Hydro","Asset finance investments",126.60807683699392,"New Financial Investment","AF","AF6596","Hydrochile El Paso Small Hydro Plant","Chile","Other AMER","Central & South America","AMER","OECD",null,"Small hydro","Small Hydro","Run of River",0,"New build","Term loan","Debt","2010-12-17",30,0,0,0,121.5,121.5,126.60807683699392]
[2010,12,"Q4","2010Q4","Chile","Small Hydro","Asset finance investments",126.60807683699392,"New Financial Investment","AF","AF6712","HydroChile San Andres Small Hydro Plant","Chile","Other AMER","Central & South America","AMER","OECD",null,"Small hydro","Small Hydro","Run of River",0,"New build","Term loan","Debt","2010-12-17",30,0,0,0,121.5,121.5,126.60807683699392]
[2010,11,"Q4","2010Q4","Brazil","Wind","Asset finance investments",87.531509911995798,"New Financial Investment","AF","AF14335","Ventos Brasil Dunas do Paracuru Wind Farm","Brazil","Brazil","Central & South America","AMER","non-OECD","BASIC","Wind","Wind","Onshore",0,"New build","Balance Sheet","Equity","2010-11-29",42,0,0,0,0,84,87.531509911995798]
[2010,10,"Q4","2010Q4","Brazil","Biofuels","Asset finance investments",79.403583991596179,"New Financial Investment","AF","AF13617","Cargill Tres Lagoas Biodiesel Plant","Brazil","Brazil","Central & South America","AMER","non-OECD","BASIC","Biofuels","Biofuels","Diesel Substitute","Transesterification","New build","Balance Sheet","Equity","2010-10-22",0,252,0,0,76.2,76.2,79.403583991596179]
[2010,12,"Q4","2010Q4","Brazil","Biofuels","Asset finance investments",78.153133849996237,"New Financial Investment","AF","AF30102","Total Agroindustria Bambui Bioethanol and Power Plant Expansion","Brazil","Brazil","Central & South America","AMER","non-OECD","BASIC","Biofuels","Biofuels","Gasoline/Petrol Substitute","1-Gen fermentation","New build","Balance Sheet","Equity","2010-12-31",0,100,0,0,75,75,78.153133849996237]
[2010,12,"Q4","2010Q4","Brazil","Biomass & Waste","Asset finance investments",77.319500422262948,"New Financial Investment","AF","AF9657","CPFL Baia Formosa Power Plant Facility Expansion","Brazil","Brazil","Central & South America","AMER","non-OECD","BASIC","Biomass & Waste","Biomass & Waste","Electricity Generation (new)","Incineration","New build","Term loan","Debt","2010-12-15",32,70,0,0,74.2,74.2,77.319500422262948]
[{"$f":"IF(K390=\"\",\"\",IF(AND(YEAR(Z390)<2004,YEAR(Z390)>1910),2004,YEAR(Z390)))","v":2010},{"$f":"IF(K390=\"\",\"\",IF(ISNUMBER(Z390),MONTH(Z390),0))","v":12},{"$f":"IF(K390=\"\",\"\",IF(AND(B390>=1,B390<=3),\"Q1\",IF(AND(B390>3,B390<=6),\"Q2\",IF(AND(B390>6,B390<=9),\"Q3\",IF(AND(B390>9,B390<=12),\"Q4\",0)))))","v":"Q4"},{"$f":"IF(A390<2006, \"< 2006\", A390&C390)","v":"2010Q4"},{"$f":"IF(K390=\"\",\"\", M390)","v":"Costa Rica"},"Small Hydro","Asset finance investments",{"$f":"IF(K390=\"\",\"\",AG390)","v":75.235416852929717},"New Financial Investment","AF","AF19209","Conelectricas San Isidro de Peñas Blancas Small Hydro Portfolio","Costa Rica","Other AMER","Central & South America","AMER","non-OECD",null,"Small hydro","Small Hydro","Run of River",0,"New build","Term loan","Debt","2010-12-31",26,0,0,0,72.2,72.2,75.235416852929717]
[2010,11,"Q4","2010Q4","Brazil",{"$f":"IF(K391=\"\",\"\",IF(OR(T391=\"Wind\",T391=\"Solar\",T391=\"Geothermal\",T391=\"Small Hydro\",T391=\"Biofuels\",T391=\"Biomass & Waste\"),T391,\"Other Clean Energy\"))","v":"Small Hydro"},{"$f":"IF(K391=\"\",\"\",IF(OR(J391=\"PM\",J391=\"MA\"), \"Corporate finance investments\", IF(J391=\"VCPE\", \"VC/PE investments\", IF(J391=\"AF\", \"Asset finance investments\"))))","v":"Asset finance investments"},70.963045535796581,"New Financial Investment","AF","AF14371","Copel Unai Baixo Small Hydro Plant","Brazil","Brazil","Central & South America","AMER","non-OECD","BASIC","Small hydro","Small Hydro","Run of River",0,"New build","Balance Sheet","Equity","2010-11-30",21,0,0,0,68.099999999999994,68.099999999999994,70.963045535796581]
[2010,12,"Q4","2010Q4","Chile","Small Hydro","Asset finance investments",67.732716003330083,"New Financial Investment","AF","AF6602","Besalco Los Hierros Small Hydro Plant","Chile","Other AMER","Central & South America","AMER","OECD",null,"Small hydro","Small Hydro","Run of River",0,"New build","Balance Sheet","Equity","2010-12-31",19.850000000000001,0,0,0,65,65,67.732716003330083]
[2010,12,"Q4","2010Q4","Brazil","Wind","Asset finance investments",58.354339941330529,"New Financial Investment","AF","AF14430","Bioenergy Aratua III Wind Farm","Brazil","Brazil","Central & South America","AMER","non-OECD","BASIC","Wind","Wind","Onshore",0,"New build","Balance Sheet","Equity","2010-12-06",28.8,0,0,0,0,56,58.354339941330529]
[2010,11,"Q4","2010Q4","Brazil","Small Hydro","Asset finance investments",54.707193694997372,"New Financial Investment","AF","AF14372","PCH Santo Antonio do Caiapo Small Hydro Plant","Brazil","Brazil","Central & South America","AMER","non-OECD","BASIC","Small hydro","Small Hydro","Run of River",0,"New build","Balance Sheet","Equity","2010-11-30",21,0,0,0,0,52.5,54.707193694997372]
[2010,11,"Q4","2010Q4","Brazil","Small Hydro","Asset finance investments",47.673411648497705,"New Financial Investment","AF","AF14374","Empa Indaiá Grande Small Hydro Plant","Brazil","Brazil","Central & South America","AMER","non-OECD","BASIC","Small hydro","Small Hydro","Run of River",0,"New build","Balance Sheet","Equity","2010-11-30",18.3,0,0,0,0,45.75,47.673411648497705]
[2010,11,"Q4","2010Q4","Nicaragua","Wind","Asset finance investments",46.891880309997745,"New Financial Investment","AF","AF14235","CEA Amayo Wind Farm Phase II","Nicaragua","Other AMER","Central & South America","AMER","non-OECD",null,"Wind","Wind","Onshore",0,"New build","Term loan","Debt","2010-11-12",23,0,0,0,45,45,46.891880309997745]
[2010,11,"Q4","2010Q4","Brazil","Biomass & Waste","Asset finance investments",31.261253539998496,"New Financial Investment","AF","AFLATAM_RP23667","MPC Capital Sao Borja Biomass Plant","Brazil","Brazil","Central & South America","AMER","non-OECD","BASIC","Biomass & Waste","Biomass & Waste","Electricity Generation (new)",0,"New build","Balance Sheet","Equity","2010-11-25",12.3,0,0,0,30,30,31.261253539998496]
[2010,12,"Q4","2010Q4","Jamaica","Small Hydro","Asset finance investments",27.82251565059866,"New Financial Investment","AF","AF15162","JPS Maggotty Small Hydro Plant Expansion","Jamaica","Other AMER","North America & Caribbean","AMER","non-OECD",null,"Small hydro","Small Hydro","New Dam",0,"New build","Term loan","Debt","2010-12-29",6.3,0,0,0,26.7,26.7,27.82251565059866]
[2010,10,"Q4","2010Q4","Argentina","Biofuels","Asset finance investments",26.051044616665408,"New Financial Investment","AF","AF25942","Bio4 Rio Cuarto Bioethanol Plant","Argentina","Other AMER","Central & South America","AMER","non-OECD",null,"Biofuels","Biofuels","Gasoline/Petrol Substitute","1-Gen fermentation","New build","Balance Sheet","Equity","2010-10-11",0,75,0,0,25,25,26.051044616665408]
[2010,12,"Q4","2010Q4","Mexico","Biofuels","Asset finance investments",19.590385551732385,"New Financial Investment","AF","AF22868","Central Enerética de Atoyac Bioethanol and Power Plant","Mexico","Other AMER","Central & South America","AMER","OECD",null,"Biofuels","Biofuels","Gasoline/Petrol Substitute","1-Gen fermentation","New build","Balance Sheet","Equity","2010-12-31",8,40,0,0,0,18.799999999999997,19.590385551732385]
[2010,10,"Q4","2010Q4","Brazil","Biofuels","Asset finance investments",15.630626769999248,"New Financial Investment","AF","AF29598","Biosep Tres Pontas Biodiesel Plant","Brazil","Brazil","Central & South America","AMER","non-OECD","BASIC","Biofuels","Biofuels","Diesel Substitute","Transesterification","New build","Balance Sheet","Equity","2010-10-15",0,13,0,0,0,15,15.630626769999248]
[2010,10,"Q4","2010Q4","Uruguay","Wind","Asset finance investments",14.588584985332632,"New Financial Investment","AF","AF16886","Kentilux Magdalena Wind Farm","Uruguay","Other AMER","Central & South America","AMER","non-OECD",null,"Wind","Wind","Onshore",0,"New build","Balance Sheet","Equity","2010-10-26",10,0,0,0,0,14,14.588584985332632]
[2010,12,"Q4","2010Q4","Guatemala","Biomass & Waste","Asset finance investments",14.536482896099301,"New Financial Investment","AF","AF34144","Ingenio Palo Gordo Biomass Plant","Guatemala","Other AMER","Central & South America","AMER","non-OECD",null,"Biomass & Waste","Biomass & Waste","Electricity Generation (new)","Incineration","New build","Balance Sheet","Equity","2010-12-31",5,0,0,0,0,13.95,14.536482896099301]
[2010,11,"Q4","2010Q4","Peru","Small Hydro","Asset finance investments",13.442339022199354,"New Financial Investment","AF","AF18715","EIRL and MIMSA Shima Small Hydro Plant","Peru","Other AMER","Central & South America","AMER","non-OECD",null,"Small hydro","Small Hydro","Run of River",0,"New build","Balance Sheet","Equity","2010-11-15",5,0,0,0,12.9,12.9,13.442339022199354]
[2010,10,"Q4","2010Q4","Jamaica","Wind","Asset finance investments",9.6909885973995333,"New Financial Investment","AF","AF6909","JPS Munro Wind Farm","Jamaica","Other AMER","North America & Caribbean","AMER","non-OECD",null,"Wind","Wind","Onshore",0,"New build","Balance Sheet","Equity","2010-10-11",3,0,0,0,9.3000000000000007,9.3000000000000007,9.6909885973995333]
[2010,12,"Q4","2010Q4","Peru","Small Hydro","Asset finance investments",9.3783760619995462,"New Financial Investment","AF","AF7931","Electrica Yanapampa Ocros Small Hydro Plant","Peru","Other AMER","Central & South America","AMER","non-OECD",null,"Small hydro","Small Hydro","Run of River",0,"New build","Balance Sheet","Equity","2010-12-31",4.1280000000000001,0,0,0,9,9,9.3783760619995462]
[2010,12,"Q4","2010Q4","Mexico","Biomass & Waste","Asset finance investments",8.7218897376595805,"New Financial Investment","AF","AF33870","Huixtla Sugar Refinery Biomass Plant Expansion","Mexico","Other AMER","Central & South America","AMER","OECD",null,"Biomass & Waste","Biomass & Waste","Electricity Generation (new)","Incineration","New build","Balance Sheet","Equity","2010-12-31",3,0,0,0,0,8.370000000000001,8.7218897376595805]
[2010,12,"Q4","2010Q4","Peru","Biomass & Waste","Asset finance investments",8.0341421597796128,"New Financial Investment","AF","AF18688","Petramas Huaycoloro Landfill Gas Plant","Peru","Other AMER","Central & South America","AMER","non-OECD",null,"Biomass & Waste","Biomass & Waste","Electricity Generation (new)","Landfill gas power","New build","Balance Sheet","Equity","2010-12-31",0,0,0,0,7.71,7.71,8.0341421597796128]
[2010,11,"Q4","2010Q4","Brazil","Small Hydro","Asset finance investments",6.5127611541663519,"New Financial Investment","AF","AF14553","Hidreletrica Aguas Claras Esperanca Small Hydro Plant","Brazil","Brazil","Central & South America","AMER","non-OECD","BASIC","Small hydro","Small Hydro","Run of River",0,"New build","Balance Sheet","Equity","2010-11-30",2.5,0,0,0,0,6.25,6.5127611541663519]
[2010,12,"Q4","2010Q4","Brazil","Small Hydro","Asset finance investments",6.083231530526775,"New Financial Investment","AF","AF26800","Salto Donner II Small Hydro Plant","Brazil","Brazil","Central & South America","AMER","non-OECD","BASIC","Small hydro","Small Hydro","Run of River",0,"New build","Balance Sheet","Equity","2010-12-31",2.89,0,0,0,0,5.8378000000000005,6.083231530526775]
[2010,11,"Q4","2010Q4","Argentina","Biofuels","Asset finance investments",4.1681671386664663,"New Financial Investment","AF","AF17601","New Fuel Villaguay Biodiesel Plant","Argentina","Other AMER","Central & South America","AMER","non-OECD",null,"Biofuels","Biofuels","Diesel Substitute","Transesterification","New build","Balance Sheet","Equity","2010-11-30",0,0,0,0,4,4,4.1681671386664663]
[2009,12,"Q4","2009Q4","Brazil","Wind","Asset finance investments",710.94400000000007,"New Financial Investment","AF","AF6265","Impsa Santa Catarina Wind Portfolio","Brazil","Brazil","Central & South America","AMER","non-OECD","BASIC","Wind","Wind","Onshore",0,"New build","Term loan","Debt","2009-12-15",222,0,0,0,683.6,683.6,710.94400000000007]
[2009,11,"Q4","2009Q4","Brazil","Biofuels","Asset finance investments",319.17599999999999,"New Financial Investment","AF","AF3242","Nova America Caarapo Biothanol and Power Plant","Brazil","Brazil","Central & South America","AMER","non-OECD","BASIC","Biofuels","Biofuels","Gasoline/Petrol Substitute","1-Gen fermentation","New build","Term loan","Debt","2009-11-19",76,90,0,0,306.89999999999998,306.89999999999998,319.17599999999999]
[2009,12,"Q4","2009Q4","Panama","Wind","Asset finance investments",318.24,"New Financial Investment","AF","AF16156","Fersa Toabre Wind Farm","Panama","Other AMER","Central & South America","AMER","non-OECD",null,"Wind","Wind","Onshore",0,"New build","Balance Sheet","Equity","2009-12-29",225,0,0,0,306,306,318.24]
[2009,11,"Q4","2009Q4","Brazil","Biofuels","Asset finance investments",255.84,"New Financial Investment","AF","AF4681","Companhia Energetica Vale do Sao Simao Bioethanol Plant","Brazil","Brazil","Central & South America","AMER","non-OECD","BASIC","Biofuels","Biofuels","Gasoline/Petrol Substitute","1-Gen fermentation","New build","Term loan","Debt","2009-11-15",0,144,0,0,246,246,255.84]
[2009,10,"Q4","2009Q4","Chile","Wind","Asset finance investments",244.4,"New Financial Investment","AF","AF8725","Element Power Arauco Wind Farm","Chile","Other AMER","Central & South America","AMER","OECD",null,"Wind","Wind","Onshore",0,"New build","Balance Sheet","Equity","2009-10-31",100,0,0,0,235,235,244.4]
[2009,10,"Q4","2009Q4","Brazil","Biofuels","VC/PE investments",241.8,"New Financial Investment","VCPE","VCPE3238","BIOSEV Bioenergia SA","Brazil","Brazil","Central & South America","AMER","non-OECD","BASIC","Biofuels","Biofuels","Gasoline/Petrol Substitute","1-Gen fermentation","Fuel production/procurement","PE - Expansion capital","PE Expansion Capital","2009-10-27","na","na","na","na",232.5,232.5,241.8]
[2009,12,"Q4","2009Q4","Nicaragua","Geothermal","Asset finance investments",194.48000000000002,"New Financial Investment","AF","AF5778","Ram Power San Jacinto I Geothermal Plant Phase II","Nicaragua","Other AMER","Central & South America","AMER","non-OECD",null,"Geothermal","Geothermal","Conventional","Single flash","New build","Term loan","Debt","2009-12-29",38.799999999999997,0,0,0,187,187,194.48000000000002]
[2009,10,"Q4","2009Q4","Brazil","Wind","VC/PE investments",169.52,"New Financial Investment","VCPE","VCPE3067","ERSA-Empresa de Investimento em Energias Renovaveis SA","Brazil","Brazil","Central & South America","AMER","non-OECD","BASIC","Wind","Wind",0,0,"Developer","PE - Expansion capital","PE Expansion Capital","2009-10-14","na","na","na","na",163,163,169.52]
[2009,11,"Q4","2009Q4","Brazil","Biofuels","Asset finance investments",124.80000000000001,"New Financial Investment","AF","AF20936","Maubisa Aroeira Bioethanol and Power Plant","Brazil","Brazil","Central & South America","AMER","non-OECD","BASIC","Biofuels","Biofuels","Gasoline/Petrol Substitute","1-Gen fermentation","New build","Balance Sheet","Equity","2009-11-11",15,100,0,0,0,120,124.80000000000001]
[2009,12,"Q4","2009Q4","Brazil","Wind","Asset finance investments",94.328000000000003,"New Financial Investment","AF","AF10371","Energen Barra dos Coqueiros Wind Farm","Brazil","Brazil","Central & South America","AMER","non-OECD","BASIC","Wind","Wind","Onshore",0,"New build","Balance Sheet","Equity","2009-12-28",34.5,0,0,0,90.7,90.7,94.328000000000003]
[2009,10,"Q4","2009Q4","Mexico","Geothermal","Asset finance investments",91,"New Financial Investment","AF","AFLATAM_RP12440","Mexican CFE Los Humeros II Geothermal Project Unit 9","Mexico","Other AMER","Central & South America","AMER","OECD",null,"Geothermal","Geothermal","Conventional",0,"New build","Balance Sheet","Equity","2009-10-01",25,0,0,0,0,87.5,91]
[2009,12,"Q4","2009Q4","Brazil","Biofuels","Asset finance investments",85.363200000000006,"New Financial Investment","AF","AF30950","Olfar Erechim Biodiesel Plant","Brazil","Brazil","Central & South America","AMER","non-OECD","BASIC","Biofuels","Biofuels","Diesel Substitute","Transesterification","New build","Balance Sheet","Equity","2009-12-15",0,216,0,0,0,82.08,85.363200000000006]
[2009,11,"Q4","2009Q4","Mexico","Wind","Asset finance investments",83.886399999999995,"New Financial Investment","AF","AF9006","EDF La Ventosa Wind Farm","Mexico","Other AMER","Central & South America","AMER","OECD",null,"Wind","Wind","Onshore",0,"New build","Construction loan","Debt","2009-11-26",67.5,0,0,0,80.66,80.66,83.886399999999995]
[2009,10,"Q4","2009Q4","Brazil","Small Hydro","Asset finance investments",72.8,"New Financial Investment","AF","AF9422","Atiaia Pedra Furada Small Hydro Plant","Brazil","Brazil","Central & South America","AMER","non-OECD","BASIC","Small hydro","Small Hydro","Run of River",0,"New build","Balance Sheet","Equity","2009-10-03",28,0,0,0,0,70,72.8]
[2009,11,"Q4","2009Q4","Colombia","Biomass & Waste","Asset finance investments",60.735999999999997,"New Financial Investment","AF","AF9682","Ingenio Providencia Bioethanol and Power Plant","Colombia","Other AMER","Central & South America","AMER","non-OECD",null,"Biomass & Waste","Biomass & Waste","Electricity Generation (new)","Incineration","New build","Balance Sheet","Equity","2009-11-13",40,76,0,0,58.4,58.4,60.735999999999997]
[2009,12,"Q4","2009Q4","Brazil","Biomass & Waste","Asset finance investments",59.176000000000002,"New Financial Investment","AF","AF6260","Ben Bioenergia Santa Filomena Biomass Plant","Brazil","Brazil","Central & South America","AMER","non-OECD","BASIC","Biomass & Waste","Biomass & Waste","Electricity Generation (new)","Incineration","New build","Term loan","Debt","2009-12-16",30,0,0,0,56.9,56.9,59.176000000000002]
[2009,10,"Q4","2009Q4","Brazil","Small Hydro","Asset finance investments",54.808000000000007,"New Financial Investment","AF","AF10180","Brennand Ibirama Small Hydro Plant","Brazil","Brazil","Central & South America","AMER","non-OECD","BASIC","Small hydro","Small Hydro","Run of River",0,"New build","Term loan","Debt","2009-10-19",21,0,0,0,52.7,52.7,54.808000000000007]
[2009,12,"Q4","2009Q4","Colombia","Small Hydro","Asset finance investments",51.792000000000002,"New Financial Investment","AF","AF11551","HMV El Popal Small Hydro Plant","Colombia","Other AMER","Central & South America","AMER","non-OECD",null,"Small hydro","Small Hydro","Run of River",0,"New build","Balance Sheet","Equity","2009-12-31",19.899999999999999,0,0,0,0,49.8,51.792000000000002]
[2009,10,"Q4","2009Q4","Chile","Small Hydro","Asset finance investments",43.68,"New Financial Investment","AF","AF6582","Pasada Trupan Small Hydro Plant","Chile","Other AMER","Central & South America","AMER","OECD",null,"Small hydro","Small Hydro","Run of River",0,"New build","Balance Sheet","Equity","2009-10-31",36,0,0,0,42,42,43.68]
[2009,12,"Q4","2009Q4","Guatemala","Biofuels","Asset finance investments",41.6,"New Financial Investment","AF","AF34156","ILG DARSA Cuyotenango Bioethanol Plant","Guatemala","Other AMER","Central & South America","AMER","non-OECD",null,"Biofuels","Biofuels","Gasoline/Petrol Substitute","1-Gen fermentation","New build","Balance Sheet","Equity","2009-12-31",0,80,0,0,0,40,41.6]
[2009,12,"Q4","2009Q4","Brazil","Biofuels","Asset finance investments",30.0352,"New Financial Investment","AF","AF30944","Lins Biodiesel Plant Expansion","Brazil","Brazil","Central & South America","AMER","non-OECD","BASIC","Biofuels","Biofuels","Diesel Substitute","Transesterification","New build","Balance Sheet","Equity","2009-12-09",0,76,0,0,0,28.88,30.0352]
[2009,10,"Q4","2009Q4","Brazil","Biomass & Waste","Asset finance investments",29.972800000000003,"New Financial Investment","AF","AF9449","Balbo Sertaozinho Power Plants Facilities","Brazil","Brazil","Central & South America","AMER","non-OECD","BASIC","Biomass & Waste","Biomass & Waste","Electricity Generation (new)","Incineration","New build","Term loan","Debt","2009-10-13",41,0,0,0,28.82,28.82,29.972800000000003]
[2009,11,"Q4","2009Q4","Chile","Biomass & Waste","Asset finance investments",29.847999999999999,"New Financial Investment","AF","AF9325","KDM Loma Los Colorados Landfill Gas Plant Expansion I","Chile","Other AMER","Central & South America","AMER","OECD",null,"Biomass & Waste","Biomass & Waste","Electricity Generation (new)","Landfill gas power","New build","Balance Sheet","Equity","2009-11-30",9.8000000000000007,0,0,0,28.7,28.7,29.847999999999999]
[2009,12,"Q4","2009Q4","Brazil","Small Hydro","Asset finance investments",25.272000000000002,"New Financial Investment","AF","AF8352","Grupo Light das Lajes Small Hydro Plant","Brazil","Brazil","Central & South America","AMER","non-OECD","BASIC","Small hydro","Small Hydro","New Dam",0,"New build","Balance Sheet","Equity","2009-12-09",15,0,0,0,24.3,24.3,25.272000000000002]
[2009,11,"Q4","2009Q4","Chile","Small Hydro","Asset finance investments",22.36,"New Financial Investment","AF","AF10023","Hidromaule Mariposas Small Hydro Plant","Chile","Other AMER","Central & South America","AMER","OECD",null,"Small hydro","Small Hydro","Run of River",0,"New build","Term loan","Debt","2009-11-30",6,0,0,0,21.5,21.5,22.36]
[2009,12,"Q4","2009Q4","Brazil","Biofuels","Asset finance investments",20.8,"New Financial Investment","AF","AF10174","ETH Alcidia Bioethanol and Power Plant Expansion","Brazil","Brazil","Central & South America","AMER","non-OECD","BASIC","Biofuels","Biofuels","Gasoline/Petrol Substitute","1-Gen fermentation","New build","Balance Sheet","Equity","2009-12-17",34.1,50.6,0,0,0,20,20.8]
[2009,10,"Q4","2009Q4","Brazil","Biofuels","Asset finance investments",18.096,"New Financial Investment","AF","AF10181","Cosan Caarapo Bioethanol Plant Expansion","Brazil","Brazil","Central & South America","AMER","non-OECD","BASIC","Biofuels","Biofuels","Gasoline/Petrol Substitute","1-Gen fermentation","New build","Term loan","Debt","2009-10-30",76,90,0,0,17.399999999999999,17.399999999999999,18.096]
[2009,11,"Q4","2009Q4","Brazil","Small Hydro","Asset finance investments",17.420000000000002,"New Financial Investment","AF","AF9642","Central Hidreletrica Salto das Flores Small Hydro Plant","Brazil","Brazil","Central & South America","AMER","non-OECD","BASIC","Small hydro","Small Hydro","Run of River",0,"New build","Balance Sheet","Equity","2009-11-09",6.7,0,0,0,0,16.75,17.420000000000002]
[2009,11,"Q4","2009Q4","Brazil","Biofuels","Asset finance investments",14.664,"New Financial Investment","AF","AF20630","Biobrax Una Biodiesel Plant","Brazil","Brazil","Central & South America","AMER","non-OECD","BASIC","Biofuels","Biofuels","Diesel Substitute","Transesterification","New build","Balance Sheet","Equity","2009-11-05",0,35.299999999999997,0,0,0,14.1,14.664]
[2009,12,"Q4","2009Q4","Chile","Small Hydro","Asset finance investments",8.32,"New Financial Investment","AF","AF6595","Hidroenergia La Paloma Small Hydro Plant","Chile","Other AMER","Central & South America","AMER","OECD",null,"Small hydro","Small Hydro","Run of River",0,"New build","Term loan","Debt","2009-12-09",4.5,0,0,0,8,8,8.32]
[2009,12,"Q4","2009Q4","Brazil","Biofuels","Asset finance investments",5.9280000000000008,"New Financial Investment","AF","AF15728","Minerva Palmeiras Biodiesel Plant","Brazil","Brazil","Central & South America","AMER","non-OECD","BASIC","Biofuels","Biofuels","Diesel Substitute","Transesterification","New build","Balance Sheet","Equity","2009-12-31",0,16.2,0,0,5.7,5.7,5.9280000000000008]
[2009,10,"Q4","2009Q4","Mexico","Solar","Asset finance investments",5.3872,"New Financial Investment","AF","AF8052","Desmex Aguascalientes PV Plant","Mexico","Other AMER","Central & South America","AMER","OECD",null,"Solar","Solar","PV","PV – Crystalline silicon","New build","Balance Sheet","Equity","2009-10-01",1,0,0,0,0,5.18,5.3872]
[2009,12,"Q4","2009Q4","Uruguay","Biomass & Waste","Asset finance investments",4.3680000000000003,"New Financial Investment","AF","AF20490","Bioener Rivera Biomass Plant Expansion","Uruguay","Other AMER","Central & South America","AMER","non-OECD",null,"Biomass & Waste","Biomass & Waste","Electricity Generation (new)","Incineration","New build","Balance Sheet","Equity","2009-12-07",2.1,0,0,0,0,4.2,4.3680000000000003]
[2009,12,"Q4","2009Q4","Brazil","Biofuels","Asset finance investments",3.7440000000000002,"New Financial Investment","AF","AF9270","Biotins Paraiso Biodiesel Plant Expansion","Brazil","Brazil","Central & South America","AMER","non-OECD","BASIC","Biofuels","Biofuels","Diesel Substitute","Transesterification","New build","Balance Sheet","Equity","2009-12-15",0,19.5,0,0,3.6,3.6,3.7440000000000002]
[2009,12,"Q4","2009Q4","Argentina","Biofuels","Asset finance investments",3.12,"New Financial Investment","AF","AF17603","Maikop Cutral Co Biodiesel Plant","Argentina","Other AMER","Central & South America","AMER","non-OECD",null,"Biofuels","Biofuels","Diesel Substitute","Transesterification","New build","Balance Sheet","Equity","2009-12-13",0,47.6,0,0,3,3,3.12]
[2009,11,"Q4","2009Q4","Chile","Wind","Asset finance investments",2.7456,"New Financial Investment","AF","AF9940","Seawind El Toqui Wind Farm","Chile","Other AMER","Central & South America","AMER","OECD",null,"Wind","Wind","Onshore",0,"New build","Balance Sheet","Equity","2009-11-18",1.65,0,0,0,0,2.64,2.7456]
[2009,12,"Q4","2009Q4","Brazil","Biofuels","Asset finance investments",1.1440000000000001,"New Financial Investment","AF","AF10186","Dasa Serra dos Aimores Bioethanol and Power Plant","Brazil","Brazil","Central & South America","AMER","non-OECD","BASIC","Biofuels","Biofuels","Gasoline/Petrol Substitute","1-Gen fermentation","New build","Term loan","Debt","2009-12-14",4.2,77,0,0,1.1000000000000001,1.1000000000000001,1.1440000000000001]
[2009,12,"Q4","2009Q4","Brazil","Biofuels","Asset finance investments",1.1440000000000001,"New Financial Investment","AF","AF10187","Ipiranga Iacanga Ethanol Plant","Brazil","Brazil","Central & South America","AMER","non-OECD","BASIC","Biofuels","Biofuels","Gasoline/Petrol Substitute","1-Gen fermentation","New build","Term loan","Debt","2009-12-09",0,130,0,0,1.1000000000000001,1.1000000000000001,1.1440000000000001]
[2008,10,"Q4","2008Q4","Brazil","Biofuels","Asset finance investments",824,"New Financial Investment","AF","AF6448","Bunge Itochu Brazil Bioethanol and Power Plant Portfolio","Brazil","Brazil","Central & South America","AMER","non-OECD","BASIC","Biofuels","Biofuels","Gasoline/Petrol Substitute","1-Gen fermentation","New build","Balance Sheet","Equity","2008-10-31",80,248,0,0,800,800,824]
[2008,12,"Q4","2008Q4","Brazil","Biofuels","Asset finance investments",809.88900000000001,"New Financial Investment","AF","AF8493","ETH Bioenergia Bioethanol Portfolio","Brazil","Brazil","Central & South America","AMER","non-OECD","BASIC","Biofuels","Biofuels","Gasoline/Petrol Substitute","1-Gen fermentation","New build","Term loan","Debt","2008-12-04",360,904,0,0,786.3,786.3,809.88900000000001]
[2008,11,"Q4","2008Q4","Brazil","Small Hydro","Asset finance investments",377.18599999999998,"New Financial Investment","AF","AF6777","Ersa Minas Gerais & Santa Catarina Small Hydro Portfolio","Brazil","Brazil","Central & South America","AMER","non-OECD","BASIC","Small hydro","Small Hydro","New Dam",0,"New build","Term loan","Debt","2008-11-06",137,0,0,0,366.2,366.2,377.18599999999998]
[2008,10,"Q4","2008Q4","Chile","Wind","Asset finance investments",309,"New Financial Investment","AF","AF6575","Ecopower Ancud Wind Farm","Chile","Other AMER","Central & South America","AMER","OECD",null,"Wind","Wind","Onshore",0,"New build","Balance Sheet","Equity","2008-10-11",140,0,0,0,300,300,309]
[{"$f":"IF(K454=\"\",\"\",IF(AND(YEAR(Z454)<2004,YEAR(Z454)>1910),2004,YEAR(Z454)))","v":2008},{"$f":"IF(K454=\"\",\"\",IF(ISNUMBER(Z454),MONTH(Z454),0))","v":12},{"$f":"IF(K454=\"\",\"\",IF(AND(B454>=1,B454<=3),\"Q1\",IF(AND(B454>3,B454<=6),\"Q2\",IF(AND(B454>6,B454<=9),\"Q3\",IF(AND(B454>9,B454<=12),\"Q4\",0)))))","v":"Q4"},{"$f":"IF(A454<2006, \"< 2006\", A454&C454)","v":"2008Q4"},{"$f":"IF(K454=\"\",\"\", M454)","v":"Brazil"},"Biofuels","Asset finance investments",{"$f":"IF(K454=\"\",\"\",AG454)","v":264.916},"New Financial Investment","AF","AF7045","Sao Fernando Bioethanol and Power Plant","Brazil","Brazil","Central & South America","AMER","non-OECD","BASIC","Biofuels","Biofuels","Gasoline/Petrol Substitute","1-Gen fermentation","New build","Term loan","Debt","2008-12-04",48,200,0,0,257.2,257.2,264.916]
[2008,12,"Q4","2008Q4","Brazil",{"$f":"IF(K455=\"\",\"\",IF(OR(T455=\"Wind\",T455=\"Solar\",T455=\"Geothermal\",T455=\"Small Hydro\",T455=\"Biofuels\",T455=\"Biomass & Waste\"),T455,\"Other Clean Energy\"))","v":"Biofuels"},{"$f":"IF(K455=\"\",\"\",IF(OR(J455=\"PM\",J455=\"MA\"), \"Corporate finance investments\", IF(J455=\"VCPE\", \"VC/PE investments\", IF(J455=\"AF\", \"Asset finance investments\"))))","v":"Asset finance investments"},211.15,"New Financial Investment","AF","AF7046","Iaco Chapadao do Sul Bioethanol Plant","Brazil","Brazil","Central & South America","AMER","non-OECD","BASIC","Biofuels","Biofuels","Gasoline/Petrol Substitute","1-Gen fermentation","New build","Term loan","Debt","2008-12-04",40,161,0,0,205,205,211.15]
[2008,12,"Q4","2008Q4","Brazil","Biomass & Waste","Asset finance investments",206,"New Financial Investment","AF","AF3955","Fibria Tres Lagoas Paper Waste to Energy Plant","Brazil","Brazil","Central & South America","AMER","non-OECD","BASIC","Biomass & Waste","Biomass & Waste","Electricity Generation (new)","Incineration","New build","Balance Sheet","Equity","2008-12-31",220,0,0,0,200,200,206]
[2008,12,"Q4","2008Q4","Venezuela","Wind","Asset finance investments",165.32736,"New Financial Investment","AF","AF11037","PdVSA Paraguana Peninsula Wind Farm","Venezuela","Other AMER","Central & South America","AMER","non-OECD",null,"Wind","Wind","Onshore",0,"New build","Balance Sheet","Equity","2008-12-10",100.32,0,0,0,0,160.512,165.32736]
[2008,12,"Q4","2008Q4","Chile","Wind","Asset finance investments",154.5,"New Financial Investment","AF","AF6653","Enhol Monte Redondo Wind Farm","Chile","Other AMER","Central & South America","AMER","OECD",null,"Wind","Wind","Onshore",0,"New build","Balance Sheet","Equity","2008-12-31",38,0,0,0,150,150,154.5]
[2008,11,"Q4","2008Q4","Chile","Wind","Asset finance investments",150.38,"New Financial Investment","AF","AF6643","Endesa Chile Canela Wind Farm II","Chile","Other AMER","Central & South America","AMER","OECD",null,"Wind","Wind","Onshore",0,"New build","Balance Sheet","Equity","2008-11-30",60,0,0,0,146,146,150.38]
[2008,10,"Q4","2008Q4","Brazil","Biofuels","Asset finance investments",139.256,"New Financial Investment","AF","AF6601","Tavares Almeida Rio Pardo Ethanol and Biomass Plant","Brazil","Brazil","Central & South America","AMER","non-OECD","BASIC","Biofuels","Biofuels","Gasoline/Petrol Substitute","1-Gen fermentation","New build","Term loan","Debt","2008-10-16",0,110,0,0,135.19999999999999,135.19999999999999,139.256]
[2008,12,"Q4","2008Q4","Brazil","Biomass & Waste","Asset finance investments",131.84,"New Financial Investment","AF","AF29694","LDC-SEV Lagoa da Prata Luciania Power Plant Expansion I","Brazil","Brazil","Central & South America","AMER","non-OECD","BASIC","Biomass & Waste","Biomass & Waste","Electricity Generation (new)","Incineration","New build","Balance Sheet","Equity","2008-12-31",40,0,0,0,0,128,131.84]
[2008,12,"Q4","2008Q4","Argentina","Wind","Asset finance investments",123.60000000000001,"New Financial Investment","AF","AFLATAM_RP4028","ENARSA Vientos de la Patagonia I","Argentina","Other AMER","Central & South America","AMER","non-OECD",null,"Wind","Wind","Onshore",0,"New build","Balance Sheet","Equity","2008-12-31",60,0,0,0,0,120,123.60000000000001]
[2008,11,"Q4","2008Q4","Brazil","Biofuels","Asset finance investments",117.41999999999999,"New Financial Investment","AF","AF6627","Noble Meridiano Bioethanol and Power Plant","Brazil","Brazil","Central & South America","AMER","non-OECD","BASIC","Biofuels","Biofuels","Gasoline/Petrol Substitute","1-Gen fermentation","New build","Balance Sheet","Equity","2008-11-30",90,200,0,0,0,113.99999999999999,117.41999999999999]
[2008,10,"Q4","2008Q4","Brazil","Biofuels","Asset finance investments",105.678,"New Financial Investment","AF","AF10944","Carlos Lyra Pauliceia Bioethanol and Power Plant","Brazil","Brazil","Central & South America","AMER","non-OECD","BASIC","Biofuels","Biofuels","Gasoline/Petrol Substitute","1-Gen fermentation","New build","Balance Sheet","Equity","2008-10-08",33.75,180,0,0,0,102.6,105.678]
[2008,11,"Q4","2008Q4","Brazil","Biofuels","Asset finance investments",103,"New Financial Investment","AF","AF8932","Adecoagro Angelica Bioethanol and Power Plant II","Brazil","Brazil","Central & South America","AMER","non-OECD","BASIC","Biofuels","Biofuels","Gasoline/Petrol Substitute","1-Gen fermentation","New build","Balance Sheet","Equity","2008-11-30",96,295,0,0,100,100,103]
[2008,12,"Q4","2008Q4","Brazil","Biomass & Waste","Asset finance investments",92.7,"New Financial Investment","AF","AFLATAM_RP17192","Imcopa Biomass Heat Plant","Brazil","Brazil","Central & South America","AMER","non-OECD","BASIC","Biomass & Waste","Biomass & Waste","Electricity Generation (new)",0,"New build","Balance Sheet","Equity","2008-12-31",0,0,0,0,0,90,92.7]
[2008,12,"Q4","2008Q4","Chile","Biomass & Waste","Asset finance investments",88.58,"New Financial Investment","AF","AFLATAM_RP16940","EPC Degan Biomass Power Plant","Chile","Other AMER","Central & South America","AMER","OECD",null,"Biomass & Waste","Biomass & Waste","Electricity Generation (new)",0,"New build","Balance Sheet","Equity","2008-12-05",43,0,0,0,0,86,88.58]
[2008,12,"Q4","2008Q4","Brazil","Wind","Asset finance investments",83.945000000000007,"New Financial Investment","AF","AF5401","Vale dos Ventos Wind Portfolio","Brazil","Brazil","Central & South America","AMER","non-OECD","BASIC","Wind","Wind","Onshore",0,"New build","Balance Sheet","Equity","2008-12-10",48,0,0,0,81.5,81.5,83.945000000000007]
[2008,12,"Q4","2008Q4","Argentina","Biofuels","Asset finance investments",82.4,"New Financial Investment","AF","AF7125","Viluco Frias Biodiesel Plant","Argentina","Other AMER","Central & South America","AMER","non-OECD",null,"Biofuels","Biofuels","Diesel Substitute","Transesterification","New build","Balance Sheet","Equity","2008-12-14",0,238.1,0,0,80,80,82.4]
[2008,12,"Q4","2008Q4","Argentina","Biofuels","Asset finance investments",82.080699999999993,"New Financial Investment","AF","AF17492","Diaser San Luis Biodiesel Plant Expansion","Argentina","Other AMER","Central & South America","AMER","non-OECD",null,"Biofuels","Biofuels","Diesel Substitute","Transesterification","New build","Balance Sheet","Equity","2008-12-31",0,0,0,0,0,79.69,82.080699999999993]
[2008,12,"Q4","2008Q4","Brazil","Small Hydro","Asset finance investments",71.173000000000002,"New Financial Investment","AF","AF6543","Eletrosul Santa Catarina Small Hydro Portfolio","Brazil","Brazil","Central & South America","AMER","non-OECD","BASIC","Small hydro","Small Hydro","Run of River",0,"New build","Term loan","Debt","2008-12-08",53,0,0,0,69.099999999999994,69.099999999999994,71.173000000000002]
[2008,12,"Q4","2008Q4","Brazil","Small Hydro","Asset finance investments",69.010000000000005,"New Financial Investment","AF","AF7777","Alusa Queluz Small Hydro Plant","Brazil","Brazil","Central & South America","AMER","non-OECD","BASIC","Small hydro","Small Hydro","New Dam",0,"New build","Term loan","Debt","2008-12-15",30,0,0,0,67,67,69.010000000000005]
[2008,11,"Q4","2008Q4","Brazil","Biofuels","Asset finance investments",67.615380000000002,"New Financial Investment","AF","AF10977","Petrobras Brazil Biodiesel Portfolio Expansion","Brazil","Brazil","Central & South America","AMER","non-OECD","BASIC","Biofuels","Biofuels","Diesel Substitute","Transesterification","New build","Balance Sheet","Equity","2008-11-30",0,156.30000000000001,0,0,0,65.646000000000001,67.615380000000002]
[2008,12,"Q4","2008Q4","Brazil","Small Hydro","Asset finance investments",66.95,"New Financial Investment","AF","AF7176","Alusa Lavrinhas CDM Small Hydro Plant","Brazil","Brazil","Central & South America","AMER","non-OECD","BASIC","Small hydro","Small Hydro","New Dam",0,"New build","Term loan","Debt","2008-12-15",30,0,0,0,65,65,66.95]
[2008,12,"Q4","2008Q4","Brazil","Biofuels","VC/PE investments",61.800000000000004,"New Financial Investment","VCPE","VCPE2029","Brazilian Renewable Energy Co Ltd","Brazil","Brazil","Central & South America","AMER","non-OECD","BASIC","Biofuels","Biofuels","Gasoline/Petrol Substitute","1-Gen fermentation","Developer","PE - Expansion capital","PE Expansion Capital","2008-12-31","na","na","na","na",60,60,61.800000000000004]
[2008,11,"Q4","2008Q4","Brazil","Small Hydro","Asset finance investments",61.285000000000004,"New Financial Investment","AF","AF7681","Cravari Bocaiuva Small Hydro Plant","Brazil","Brazil","Central & South America","AMER","non-OECD","BASIC","Small hydro","Small Hydro","New Dam",0,"New build","Term loan","Debt","2008-11-14",30,0,0,0,59.5,59.5,61.285000000000004]
[2008,10,"Q4","2008Q4","Brazil","Biomass & Waste","Asset finance investments",52.736000000000004,"New Financial Investment","AF","AF33848","Vale do Ivai Power Plant Expansion","Brazil","Brazil","Central & South America","AMER","non-OECD","BASIC","Biomass & Waste","Biomass & Waste","Electricity Generation (new)","Incineration","New build","Balance Sheet","Equity","2008-10-15",16,0,0,0,0,51.2,52.736000000000004]
[2008,10,"Q4","2008Q4","Brazil","Small Hydro","Asset finance investments",52.015000000000001,"New Financial Investment","AF","AF8697","Engevix Moinho Small Hydro Plant","Brazil","Brazil","Central & South America","AMER","non-OECD","BASIC","Small hydro","Small Hydro","Run of River",0,"New build","Balance Sheet","Equity","2008-10-01",13.7,0,0,0,50.5,50.5,52.015000000000001]
[2008,10,"Q4","2008Q4","Brazil","Small Hydro","VC/PE investments",51.5,"New Financial Investment","VCPE","VCPE2543","GLEP Energias Renovaveis e Part SA","Brazil","Brazil","Central & South America","AMER","non-OECD","BASIC","Small hydro","Small Hydro",0,0,"Developer","PE - Expansion capital","PE Expansion Capital","2008-10-31","na","na","na","na",50,50,51.5]
[2008,11,"Q4","2008Q4","Brazil","Biofuels","VC/PE investments",51.5,"New Financial Investment","VCPE","VCPE2566","Vital Renewable Energy Co","Brazil","Brazil","Central & South America","AMER","non-OECD","BASIC","Biofuels","Biofuels","Gasoline/Petrol Substitute","1-Gen fermentation","Fuel production/procurement","VC - Series B / Second round","VC Early Stage","2008-11-10","na","na","na","na",50,50,51.5]
[2008,12,"Q4","2008Q4","Colombia","Biofuels","Asset finance investments",51.5,"New Financial Investment","AF","AFLATAM_RPe","GPC Bioethanol Plant","Colombia","Other AMER","Central & South America","AMER","non-OECD",null,"Biofuels","Biofuels","Gasoline/Petrol Substitute",0,"New build","Balance Sheet","Equity","2008-12-31",0,9,0,0,0,50,51.5]
[2008,12,"Q4","2008Q4","Brazil","Small Hydro","Asset finance investments",50.212499999999999,"New Financial Investment","AF","AF13110","Grupo Bertin Da Fazenda Small Hydro Plant","Brazil","Brazil","Central & South America","AMER","non-OECD","BASIC","Small hydro","Small Hydro","Run of River",0,"New build","Balance Sheet","Equity","2008-12-09",19.5,0,0,0,0,48.75,50.212499999999999]
[2008,11,"Q4","2008Q4","Brazil","Wind","Asset finance investments",46.35,"New Financial Investment","AF","AF8076","Rosa dos Ventos Wind Portfolio","Brazil","Brazil","Central & South America","AMER","non-OECD","BASIC","Wind","Wind","Onshore",0,"New build","Term loan","Debt","2008-11-09",14.7,0,0,0,45,45,46.35]
[2008,12,"Q4","2008Q4","Brazil","Small Hydro","Asset finance investments",46.35,"New Financial Investment","AF","AF13082","SA Paulista Sete Quedas Alta Small Hydro Plant","Brazil","Brazil","Central & South America","AMER","non-OECD","BASIC","Small hydro","Small Hydro","Run of River",0,"New build","Balance Sheet","Equity","2008-12-15",18,0,0,0,0,45,46.35]
[2008,10,"Q4","2008Q4","Brazil","Small Hydro","Asset finance investments",38.728000000000002,"New Financial Investment","AF","AF6148","Neoenergia Pirapetinga Small Hydro Plant","Brazil","Brazil","Central & South America","AMER","non-OECD","BASIC","Small hydro","Small Hydro","New Dam",0,"New build","Term loan","Debt","2008-10-21",20,0,0,0,37.6,37.6,38.728000000000002]
[2008,12,"Q4","2008Q4","Brazil","Biofuels","Asset finance investments",37.594999999999999,"New Financial Investment","AF","AF7712","Pitangueiras Cerradao Ethanol Plant","Brazil","Brazil","Central & South America","AMER","non-OECD","BASIC","Biofuels","Biofuels","Gasoline/Petrol Substitute","1-Gen fermentation","New build","Term loan","Debt","2008-12-29",0,0,0,0,36.5,36.5,37.594999999999999]
[2008,12,"Q4","2008Q4","Brazil","Small Hydro","Asset finance investments",33.475000000000001,"New Financial Investment","AF","AF13109","BME Engenheiro Henrique Kotzian Small Hydro Plant","Brazil","Brazil","Central & South America","AMER","non-OECD","BASIC","Small hydro","Small Hydro","Run of River",0,"New build","Balance Sheet","Equity","2008-12-31",13,0,0,0,0,32.5,33.475000000000001]
[2008,12,"Q4","2008Q4","Guyana","Biomass & Waste","Asset finance investments",32.96,"New Financial Investment","AF","AF19459","Guyana Sugar Corp Corriverton Biomass Cofiring Plant","Guyana","Other AMER","Central & South America","AMER","non-OECD",null,"Biomass & Waste","Biomass & Waste","Electricity Generation (new)","Co-firing","New build","Balance Sheet","Equity","2008-12-31",15,0,0,0,32,32,32.96]
[2008,10,"Q4","2008Q4","Chile","Biomass & Waste","Asset finance investments",31.106000000000002,"New Financial Investment","AF","AF6597","Energia Pacifico San Francisco de Mostazal Biomass Plant","Chile","Other AMER","Central & South America","AMER","OECD",null,"Biomass & Waste","Biomass & Waste","Combined Heat & Power (CHP)","Incineration","New build","Term loan","Debt","2008-10-07",15.6,0,0,0,30.2,30.2,31.106000000000002]
[2008,11,"Q4","2008Q4","Brazil","Biofuels","Asset finance investments",30.646619999999999,"New Financial Investment","AF","AF23596","Rio Vermelho Junqueiropolis Bioethanol Plant Expansion","Brazil","Brazil","Central & South America","AMER","non-OECD","BASIC","Biofuels","Biofuels","Gasoline/Petrol Substitute","1-Gen fermentation","New build","Balance Sheet","Equity","2008-11-28",0,52.2,0,0,0,29.753999999999998,30.646619999999999]
[2008,12,"Q4","2008Q4","Argentina","Biofuels","Asset finance investments",29.354999999999997,"New Financial Investment","AF","AF11014","Alconoa Tabacal Oran Biothanol and Power Plant Expansion I","Argentina","Other AMER","Central & South America","AMER","non-OECD",null,"Biofuels","Biofuels","Gasoline/Petrol Substitute","Dehydration","New build","Balance Sheet","Equity","2008-12-31",0,50,0,0,0,28.499999999999996,29.354999999999997]
[2008,12,"Q4","2008Q4","Uruguay","Wind","Asset finance investments",28.221999999999998,"New Financial Investment","AF","AF8331","UTE Sierra de los Caracoles Wind Farm","Uruguay","Other AMER","Central & South America","AMER","non-OECD",null,"Wind","Wind","Onshore",0,"New build","Balance Sheet","Equity","2008-12-30",10,0,0,0,27.4,27.4,28.221999999999998]
[2008,11,"Q4","2008Q4","Brazil","Biofuels","Asset finance investments",25.999260000000003,"New Financial Investment","AF","AF31050","Granol Campinas Biodiesel Plant Expansion","Brazil","Brazil","Central & South America","AMER","non-OECD","BASIC","Biofuels","Biofuels","Diesel Substitute","Transesterification","New build","Balance Sheet","Equity","2008-11-01",0,60.1,0,0,0,25.242000000000001,25.999260000000003]
[2008,10,"Q4","2008Q4","Uruguay","Biomass & Waste","Asset finance investments",25.75,"New Financial Investment","AF","AF20492","ERT Fenirol Tacuarembo Biomass Plant","Uruguay","Other AMER","Central & South America","AMER","non-OECD",null,"Biomass & Waste","Biomass & Waste","Electricity Generation (new)","Incineration","New build","Balance Sheet","Equity","2008-10-31",10,0,0,0,25,25,25.75]
[2008,12,"Q4","2008Q4","Argentina","Biofuels","Asset finance investments",25.739699999999999,"New Financial Investment","AF","AF17605","Aripar Cereales Daireaux Biodiesel Plant","Argentina","Other AMER","Central & South America","AMER","non-OECD",null,"Biofuels","Biofuels","Diesel Substitute",0,"New build","Balance Sheet","Equity","2008-12-31",0,59.5,0,0,0,24.99,25.739699999999999]
[2008,10,"Q4","2008Q4","Panama","Small Hydro","Asset finance investments",23.175000000000001,"New Financial Investment","AF","AF9517","Hidroelectrica Rio Pietra Small Hydro Plant","Panama","Other AMER","Central & South America","AMER","non-OECD",null,"Small hydro","Small Hydro","Run of River",0,"New build","Balance Sheet","Equity","2008-10-05",9,0,0,0,0,22.5,23.175000000000001]
[2008,10,"Q4","2008Q4","Chile","Small Hydro","Asset finance investments",21.63,"New Financial Investment","AF","AF7474","EPA Florin Small Hydro Plant","Chile","Other AMER","Central & South America","AMER","OECD",null,"Small hydro","Small Hydro","Run of River",0,"New build","Balance Sheet","Equity","2008-10-02",8.6,0,0,0,21,21,21.63]
[2008,12,"Q4","2008Q4","Argentina","Biofuels","Asset finance investments",21.63,"New Financial Investment","AF","AF17597","Biomadero Vila Madero Biodiesel Plant Expansion","Argentina","Other AMER","Central & South America","AMER","non-OECD",null,"Biofuels","Biofuels","Diesel Substitute",0,"New build","Balance Sheet","Equity","2008-12-31",0,50,0,0,0,21,21.63]
[2008,12,"Q4","2008Q4","Brazil","Biofuels","VC/PE investments",21.526999999999997,"New Financial Investment","VCPE","VCPE2493","Braskem SA","Brazil","Brazil","Central & South America","AMER","non-OECD","BASIC","Biofuels","Biofuels","Gasoline/Petrol Substitute","Enzymatic hydrolysis","Technology Developer","VC - Bridge/Interim","VC Late Stage","2008-12-12","na","na","na","na",20.9,20.9,21.526999999999997]
[2008,12,"Q4","2008Q4","Brazil","Biomass & Waste","Asset finance investments",21.424000000000003,"New Financial Investment","AF","AF7822","Belo Horizonte Landfill Gas Plant","Brazil","Brazil","Central & South America","AMER","non-OECD","BASIC","Biomass & Waste","Biomass & Waste","Electricity Generation (new)","Landfill gas power","New build","Balance Sheet","Equity","2008-12-10",4.5,0,0,0,20.8,20.8,21.424000000000003]
[2008,10,"Q4","2008Q4","Mexico","Small Hydro","Asset finance investments",18.491589999999999,"New Financial Investment","AF","AF14075","Leaf Clean Escalona Small Hydro Plant","Mexico","Other AMER","Central & South America","AMER","OECD",null,"Small hydro","Small Hydro","Run of River",0,"New build","Balance Sheet","Equity","2008-10-30",9,0,0,0,17.952999999999999,17.952999999999999,18.491589999999999]
[2008,12,"Q4","2008Q4","Brazil","Small Hydro","Asset finance investments",16.737500000000001,"New Financial Investment","AF","AF13080","Geracoop Santa Rosa Small Hydro Plant","Brazil","Brazil","Central & South America","AMER","non-OECD","BASIC","Small hydro","Small Hydro","Run of River",0,"New build","Balance Sheet","Equity","2008-12-31",6.5,0,0,0,0,16.25,16.737500000000001]
[2008,12,"Q4","2008Q4","Chile","Wind","Asset finance investments",15.758999999999999,"New Financial Investment","AF","AFLATAM_RP18359","CrisToro Lebu Wind Farm","Chile","Other AMER","Central & South America","AMER","OECD",null,"Wind","Wind","Onshore",0,"New build","Balance Sheet","Equity","2008-12-31",9,0,0,0,0,15.299999999999999,15.758999999999999]
[2008,12,"Q4","2008Q4","Costa Rica","Biofuels","Asset finance investments",15.054479999999998,"New Financial Investment","AF","AF19754","Coto 54 Golfito Biodiesel Plant","Costa Rica","Other AMER","Central & South America","AMER","non-OECD",null,"Biofuels","Biofuels","Diesel Substitute","Transesterification","New build","Balance Sheet","Equity","2008-12-31",0,34.799999999999997,0,0,0,14.615999999999998,15.054479999999998]
[2008,11,"Q4","2008Q4","Brazil","Biofuels","Asset finance investments",12.875,"New Financial Investment","AF","AF7689","NovAmerica Taruma Ethanol and Power Plant Expansion","Brazil","Brazil","Central & South America","AMER","non-OECD","BASIC","Biofuels","Biofuels","Gasoline/Petrol Substitute","1-Gen fermentation","New build","Term loan","Debt","2008-11-07",0,0,0,0,12.5,12.5,12.875]
[2008,10,"Q4","2008Q4","Brazil","Biofuels","Asset finance investments",12.257000000000001,"New Financial Investment","AF","AF6685","Bionorte San Miguel do Araguaia Biodiesel Plant","Brazil","Brazil","Central & South America","AMER","non-OECD","BASIC","Biofuels","Biofuels","Diesel Substitute","Transesterification","New build","Balance Sheet","Equity","2008-10-22",0,33.799999999999997,0,0,11.9,11.9,12.257000000000001]
[2008,12,"Q4","2008Q4","Brazil","Small Hydro","Asset finance investments",11.433,"New Financial Investment","AF","AF8696","Cotesa Aguti and Nova Trento Small Hydro Portfolio","Brazil","Brazil","Central & South America","AMER","non-OECD","BASIC","Small hydro","Small Hydro","Run of River",0,"New build","Balance Sheet","Equity","2008-12-09",5.4429999999999996,0,0,0,0,11.1,11.433]
[2008,12,"Q4","2008Q4","Brazil","Small Hydro","Asset finance investments",10.024475000000001,"New Financial Investment","AF","AFLATAM_RP19965","Cotesa Aguti Small Hydro Plant","Brazil","Brazil","Central & South America","AMER","non-OECD","BASIC","Small hydro","Small Hydro","Run of River",0,"New build","Balance Sheet","Equity","2008-12-09",3.8929999999999998,0,0,0,0,9.7324999999999999,10.024475000000001]
[2008,11,"Q4","2008Q4","Peru","Small Hydro","Asset finance investments",9.27,"New Financial Investment","AF","AF7460","SINERSA Poechos II Small Hydro Plant","Peru","Other AMER","Central & South America","AMER","non-OECD",null,"Small hydro","Small Hydro","Existing Dam",0,"New build","Balance Sheet","Equity","2008-11-24",10,0,0,0,9,9,9.27]
[2008,11,"Q4","2008Q4","Brazil","Biofuels","Asset finance investments",8.24,"New Financial Investment","AF","AFLATAM_RPj","SP BIO Sumare Biodiesel Plant","Brazil","Brazil","Central & South America","AMER","non-OECD","BASIC","Biofuels","Biofuels","Diesel Substitute",0,"New build","Balance Sheet","Equity","2008-11-09",0,25,0,0,0,8,8.24]
[2008,11,"Q4","2008Q4","Brazil","Biofuels","Asset finance investments",7.21,"New Financial Investment","AF","AF6738","Binatural Formosa Biodiesel Plant Expansion I","Brazil","Brazil","Central & South America","AMER","non-OECD","BASIC","Biofuels","Biofuels","Diesel Substitute","Transesterification","New build","Balance Sheet","Equity","2008-11-06",0,19.399999999999999,0,0,7,7,7.21]
[2008,10,"Q4","2008Q4","Brazil","Biofuels","Asset finance investments",6.18,"New Financial Investment","AF","AF4223","Coplacana Piracicaba Biodiesel Plant","Brazil","Brazil","Central & South America","AMER","non-OECD","BASIC","Biofuels","Biofuels","Diesel Substitute",0,"New build","Term loan","Debt","2008-10-01",0,16,0,0,6,6,6.18]
[2008,10,"Q4","2008Q4","Uruguay","Biofuels","Asset finance investments",6.18,"New Financial Investment","AF","AF9463","ALUR COUSA Montevideo Biodiesel Plant","Uruguay","Other AMER","Central & South America","AMER","non-OECD",null,"Biofuels","Biofuels","Diesel Substitute","Transesterification","New build","Balance Sheet","Equity","2008-10-16",0,19,0,0,6,6,6.18]
[2008,12,"Q4","2008Q4","Chile","Small Hydro","Asset finance investments",5.4074999999999998,"New Financial Investment","AF","AF6605","Cade Idepe Rio Blanco Small Hydro Plant","Chile","Other AMER","Central & South America","AMER","OECD",null,"Small hydro","Small Hydro","Run of River",0,"New build","Balance Sheet","Equity","2008-12-31",3.66,0,0,0,5.25,5.25,5.4074999999999998]
[2008,12,"Q4","2008Q4","Panama","Small Hydro","Asset finance investments",3.8625000000000003,"New Financial Investment","AF","AFLATAM_RP32520","Hidro-Panama Anton III Small Hydro Plant","Panama","Other AMER","Central & South America","AMER","non-OECD",null,"Small hydro","Small Hydro","Run of River",0,"New build","Balance Sheet","Equity","2008-12-31",1.5,0,0,0,0,3.75,3.8625000000000003]
[2008,12,"Q4","2008Q4","Brazil","Small Hydro","Asset finance investments",3.1930000000000001,"New Financial Investment","AF","AFLATAM_RP19966","Cotesa Nova Trento Hydro Plant","Brazil","Brazil","Central & South America","AMER","non-OECD","BASIC","Small hydro","Small Hydro","Run of River",0,"New build","Balance Sheet","Equity","2008-12-09",1.55,0,0,0,3.1,3.1,3.1930000000000001]
[2008,11,"Q4","2008Q4","Brazil","Biofuels","Asset finance investments",3.09,"New Financial Investment","AF","AF6731","CEDAE Fazenda Alegria Biodiesel Plant","Brazil","Brazil","Central & South America","AMER","non-OECD","BASIC","Biofuels","Biofuels","Diesel Substitute","Transesterification","New build","Balance Sheet","Equity","2008-11-01",0,0,0,0,3,3,3.09]
[{"$f":"IF(K518=\"\",\"\",IF(AND(YEAR(Z518)<2004,YEAR(Z518)>1910),2004,YEAR(Z518)))","v":2008},{"$f":"IF(K518=\"\",\"\",IF(ISNUMBER(Z518),MONTH(Z518),0))","v":11},{"$f":"IF(K518=\"\",\"\",IF(AND(B518>=1,B518<=3),\"Q1\",IF(AND(B518>3,B518<=6),\"Q2\",IF(AND(B518>6,B518<=9),\"Q3\",IF(AND(B518>9,B518<=12),\"Q4\",0)))))","v":"Q4"},{"$f":"IF(A518<2006, \"< 2006\", A518&C518)","v":"2008Q4"},{"$f":"IF(K518=\"\",\"\", M518)","v":"Brazil"},"Small Hydro","Asset finance investments",{"$f":"IF(K518=\"\",\"\",AG518)","v":2.472},"New Financial Investment","AF","AF7717","Galópolis Small Hydro Plant","Brazil","Brazil","Central & South America","AMER","non-OECD","BASIC","Small hydro","Small Hydro","Existing Dam",0,"New build","Balance Sheet","Equity","2008-11-05",1.5,0,0,0,2.4,2.4,2.472]
[2008,12,"Q4","2008Q4","Brazil",{"$f":"IF(K519=\"\",\"\",IF(OR(T519=\"Wind\",T519=\"Solar\",T519=\"Geothermal\",T519=\"Small Hydro\",T519=\"Biofuels\",T519=\"Biomass & Waste\"),T519,\"Other Clean Energy\"))","v":"Biomass & Waste"},{"$f":"IF(K519=\"\",\"\",IF(OR(J519=\"PM\",J519=\"MA\"), \"Corporate finance investments\", IF(J519=\"VCPE\", \"VC/PE investments\", IF(J519=\"AF\", \"Asset finance investments\"))))","v":"Asset finance investments"},2.06,"New Financial Investment","AF","AFLATAM_RP12552","Embare Industrias Alimenticias Lagoa da Prata Biogas Plant","Brazil","Brazil","Central & South America","AMER","non-OECD","BASIC","Biomass & Waste","Biomass & Waste","Electricity Generation (new)",0,"New build","Balance Sheet","Equity","2008-12-31",1,0,0,0,0,2,2.06]
[2008,12,"Q4","2008Q4","Brazil","Biomass & Waste","Asset finance investments",1.5449999999999999,"New Financial Investment","AF","AFLATAM_RP7607","Qualix Feira de Santana Landfill Gas Plant","Brazil","Brazil","Central & South America","AMER","non-OECD","BASIC","Biomass & Waste","Biomass & Waste","Electricity Generation (new)",0,"New build","Balance Sheet","Equity","2008-12-31",1,0,0,0,0,1.5,1.5449999999999999]
[2008,11,"Q4","2008Q4","Argentina","Biofuels","Asset finance investments",1.4419999999999999,"New Financial Investment","AF","AF6966","IBI Rosario Biodiesel Plant","Argentina","Other AMER","Central & South America","AMER","non-OECD",null,"Biofuels","Biofuels","Diesel Substitute",0,"New build","Balance Sheet","Equity","2008-11-18",0,59.5,0,0,1.4,1.4,1.4419999999999999]
[2007,12,"Q4","2007Q4","Brazil","Biofuels","Corporate finance investments",1015.0350000000001,"New Financial Investment","PM","PM1354","Cosan SA Industria e Comercio","Brazil","Brazil","Central & South America","AMER","non-OECD","BASIC","Biofuels","Biofuels",0,0,"Brazil","Exercise of Rights","Convertible & Other","2007-12-06","São Paulo (BOVESPA)",0,966.7,2229.3000000000002,966.7,966.7,1015.0350000000001]
[2007,12,"Q4","2007Q4","Brazil","Wind","Asset finance investments",449.40000000000003,"New Financial Investment","AF","AF17321","Bons Ventos Ceara Wind Portfolio","Brazil","Brazil","Central & South America","AMER","non-OECD","BASIC","Wind","Wind","Onshore",0,"New build","Balance Sheet","Equity","2007-12-31",155,0,0,0,428,428,449.40000000000003]
[2007,11,"Q4","2007Q4","Brazil","Biofuels","Asset finance investments",309.01500000000004,"New Financial Investment","AF","AF4947","Adecoagro Angelica Bioethanol and Power Plant","Brazil","Brazil","Central & South America","AMER","non-OECD","BASIC","Biofuels","Biofuels","Gasoline/Petrol Substitute","1-Gen fermentation","New build","Term loan","Debt","2007-11-26T17:25:00",96,295,0,0,294.3,294.3,309.01500000000004]
[2007,10,"Q4","2007Q4","Brazil","Biofuels","VC/PE investments",232.05,"New Financial Investment","VCPE","VCPE1846","Santelisa Vale SA","Brazil","Brazil","Central & South America","AMER","non-OECD","BASIC","Biofuels","Biofuels","Gasoline/Petrol Substitute","1-Gen fermentation","Fuel production/procurement","PE - Expansion capital","PE Expansion Capital","2007-10-03T16:55:00","na","na","na","na",221,221,232.05]
[2007,12,"Q4","2007Q4","Brazil","Biofuels","Asset finance investments",230.89500000000001,"New Financial Investment","AF","AF5175","Cerradinho Porto das Águas Ethanol Plant","Brazil","Brazil","Central & South America","AMER","non-OECD","BASIC","Biofuels","Biofuels","Gasoline/Petrol Substitute","1-Gen fermentation","New build","Term loan","Debt","2007-12-17T17:35:00",0,0,0,0,219.9,219.9,230.89500000000001]
[2007,12,"Q4","2007Q4","Argentina","Biofuels","Asset finance investments",126.17010000000001,"New Financial Investment","AF","AF17571","Renova San Lorenzo Biodiesel Plant Expansion","Argentina","Other AMER","Central & South America","AMER","non-OECD",null,"Biofuels","Biofuels","Diesel Substitute",0,"New build","Balance Sheet","Equity","2007-12-31",0,286.10000000000002,0,0,0,120.16200000000001,126.17010000000001]
[2007,12,"Q4","2007Q4","Brazil","Biomass & Waste","Asset finance investments",120.90750000000001,"New Financial Investment","AF","AF7682","Potirendaba Power Plant Expansion","Brazil","Brazil","Central & South America","AMER","non-OECD","BASIC","Biomass & Waste","Biomass & Waste","Electricity Generation (new)","Incineration","New build","Balance Sheet","Equity","2007-12-11",35,0,0,0,0,115.15,120.90750000000001]
[2007,10,"Q4","2007Q4","Brazil","Biofuels","Asset finance investments",116.55000000000001,"New Financial Investment","AF","AF4577","Grupo Farias Goiatuba Ethanol Plant","Brazil","Brazil","Central & South America","AMER","non-OECD","BASIC","Biofuels","Biofuels","Gasoline/Petrol Substitute","1-Gen fermentation","New build","Balance Sheet","Equity","2007-10-03",0,200,0,0,111,111,116.55000000000001]
[2007,10,"Q4","2007Q4","Nicaragua","Wind","Asset finance investments",94.5,"New Financial Investment","AF","AF5324","CEA Amayo Wind Farm Phase I","Nicaragua","Other AMER","Central & South America","AMER","non-OECD",null,"Wind","Wind","Onshore",0,"New build","Term loan","Debt","2007-10-18T14:42:00",39.9,0,0,0,90,90,94.5]
[2007,12,"Q4","2007Q4","Brazil","Biofuels","Asset finance investments",90.3,"New Financial Investment","AF","AF5295","Comanche Canitar and Santa Anita Bioethanol Plants Expansion","Brazil","Brazil","Central & South America","AMER","non-OECD","BASIC","Biofuels","Biofuels","Gasoline/Petrol Substitute","1-Gen fermentation","New build","Balance Sheet","Equity","2007-12-23",0,69.7,0,0,86,86,90.3]
[2007,11,"Q4","2007Q4","Brazil","Biofuels","Asset finance investments",77.7,"New Financial Investment","AF","AF20634","Biocapital Charqueada Biodiesel Plant Expansion","Brazil","Brazil","Central & South America","AMER","non-OECD","BASIC","Biofuels","Biofuels","Diesel Substitute","Transesterification","New build","Balance Sheet","Equity","2007-11-01",0,230,0,0,0,74,77.7]
[2007,11,"Q4","2007Q4","Brazil","Small Hydro","Asset finance investments",71.452500000000001,"New Financial Investment","AF","AF6200","Santa Cruz Power Sao Domingos CDM Small Hydro Plant","Brazil","Brazil","Central & South America","AMER","non-OECD","BASIC","Small hydro","Small Hydro","New Dam",0,"New build","Term loan","Debt","2007-11-13",24,0,0,0,68.05,68.05,71.452500000000001]
[2007,10,"Q4","2007Q4","Brazil","Biomass & Waste","Asset finance investments",66.517500000000013,"New Financial Investment","AF","AFLATAM_RP14391","JB Pirapama Sugar and Biomass Plant","Brazil","Brazil","Central & South America","AMER","non-OECD","BASIC","Biomass & Waste","Biomass & Waste","Electricity Generation (new)",0,"New build","Balance Sheet","Equity","2007-10-01T11:42:00",36.200000000000003,0,0,0,0,63.350000000000009,66.517500000000013]
[2007,10,"Q4","2007Q4","Brazil","Small Hydro","Asset finance investments",56.49,"New Financial Investment","AF","AF4679","Neoenergia Goiandira Small Hydro Plant","Brazil","Brazil","Central & South America","AMER","non-OECD","BASIC","Small hydro","Small Hydro","New Dam",0,"New build","Term loan","Debt","2007-10-25",27,0,0,0,53.8,53.8,56.49]
[{"$f":"IF(K536=\"\",\"\",IF(AND(YEAR(Z536)<2004,YEAR(Z536)>1910),2004,YEAR(Z536)))","v":2007},{"$f":"IF(K536=\"\",\"\",IF(ISNUMBER(Z536),MONTH(Z536),0))","v":11},{"$f":"IF(K536=\"\",\"\",IF(AND(B536>=1,B536<=3),\"Q1\",IF(AND(B536>3,B536<=6),\"Q2\",IF(AND(B536>6,B536<=9),\"Q3\",IF(AND(B536>9,B536<=12),\"Q4\",0)))))","v":"Q4"},{"$f":"IF(A536<2006, \"< 2006\", A536&C536)","v":"2007Q4"},{"$f":"IF(K536=\"\",\"\", M536)","v":"Brazil"},"Biofuels",{"$f":"IF(K536=\"\",\"\",IF(OR(J536=\"PM\",J536=\"MA\"), \"Corporate finance investments\", IF(J536=\"VCPE\", \"VC/PE investments\", IF(J536=\"AF\", \"Asset finance investments\"))))","v":"Asset finance investments"},{"$f":"IF(K536=\"\",\"\",AG536)","v":53.978400000000001},"New Financial Investment","AF","AF4726","Cooperbio Cuiaba Biodiesel Plant","Brazil","Brazil","Central & South America","AMER","non-OECD","BASIC","Biofuels","Biofuels","Diesel Substitute","Transesterification","New build","Balance Sheet","Equity","2007-11-30",0,122.4,0,0,0,51.408000000000001,53.978400000000001]
[2007,10,"Q4","2007Q4","Brazil","Small Hydro","Asset finance investments",49.56,"New Financial Investment","AF","AF4678","Neoenergia Nova Aurora Small Hydro Plant","Brazil","Brazil","Central & South America","AMER","non-OECD","BASIC","Small hydro","Small Hydro","New Dam",0,"New build","Term loan","Debt","2007-10-25",21,0,0,0,47.2,47.2,49.56]
[2007,11,"Q4","2007Q4","Colombia","Biofuels","Asset finance investments",47.25,"New Financial Investment","AF","AF4757","Tuta Ethanol Plant","Colombia","Other AMER","Central & South America","AMER","non-OECD",null,"Biofuels","Biofuels","Gasoline/Petrol Substitute",0,"New build","Balance Sheet","Equity","2007-11-07",0,90,0,0,45,45,47.25]
[2007,12,"Q4","2007Q4","Brazil","Small Hydro","Asset finance investments",47.25,"New Financial Investment","AF","AFLATAM_RP25586","Sao Tadeu I Small Hydro Plant","Brazil","Brazil","Central & South America","AMER","non-OECD","BASIC","Small hydro","Small Hydro","Run of River",0,"New build","Balance Sheet","Equity","2007-12-31",18,0,0,0,0,45,47.25]
[2007,11,"Q4","2007Q4","Brazil","Biofuels","Asset finance investments",47.145000000000003,"New Financial Investment","AF","AFLATAM_RP13757","Central Energetica Vicentina Ethanol and Power Plant","Brazil","Brazil","Central & South America","AMER","non-OECD","BASIC","Biofuels","Biofuels","Gasoline/Petrol Substitute",0,"New build","Balance Sheet","Equity","2007-11-01",2.5,53,0,0,44.9,44.9,47.145000000000003]
[2007,10,"Q4","2007Q4","Brazil","Small Hydro","Asset finance investments",44.625,"New Financial Investment","AF","AF9562","BME Eng Ernesto Jorge Dreher Small Hydro Plant","Brazil","Brazil","Central & South America","AMER","non-OECD","BASIC","Small hydro","Small Hydro","Run of River",0,"New build","Balance Sheet","Equity","2007-10-31",17,0,0,0,0,42.5,44.625]
[2007,10,"Q4","2007Q4","Brazil","Biofuels","Asset finance investments",39.270000000000003,"New Financial Investment","AF","AF9215","Samam AgroIndustrial Capela Taquari Ethanol Plant","Brazil","Brazil","Central & South America","AMER","non-OECD","BASIC","Biofuels","Biofuels","Gasoline/Petrol Substitute","1-Gen fermentation","New build","Term loan","Debt","2007-10-31",3.5,30,0,0,37.4,37.4,39.270000000000003]
[2007,10,"Q4","2007Q4","Colombia","Biofuels","Asset finance investments",37.926000000000002,"New Financial Investment","AF","AF4699","Barranqua Biodiesel Plant","Colombia","Other AMER","Central & South America","AMER","non-OECD",null,"Biofuels","Biofuels","Diesel Substitute",0,"New build","Balance Sheet","Equity","2007-10-26",0,86,0,0,0,36.119999999999997,37.926000000000002]
[2007,12,"Q4","2007Q4","Dominican Republic","Biomass & Waste","Asset finance investments",37.510199999999998,"New Financial Investment","AF","AF8250","Intrinergy Dominican Republic Biomass Plant","Dominican Republic","Other AMER","North America & Caribbean","AMER","non-OECD",null,"Biomass & Waste","Biomass & Waste","Electricity Generation (new)","Gasification","New build","Balance Sheet","Equity","2007-12-24",0,0,0,0,0,35.723999999999997,37.510199999999998]
[2007,12,"Q4","2007Q4","Brazil","Small Hydro","Asset finance investments",36.75,"New Financial Investment","AF","AFLATAM_RP25575","Rede Agua Limpa Small Hydro Plant","Brazil","Brazil","Central & South America","AMER","non-OECD","BASIC","Small hydro","Small Hydro","Run of River",0,"New build","Balance Sheet","Equity","2007-12-31",14,0,0,0,0,35,36.75]
[2007,12,"Q4","2007Q4","Argentina","Biomass & Waste","Asset finance investments",34.545000000000002,"New Financial Investment","AF","AF25240","Aceitera General Deheza Biomass Plant","Argentina","Other AMER","Central & South America","AMER","non-OECD",null,"Biomass & Waste","Biomass & Waste","Electricity Generation (new)","Incineration","New build","Balance Sheet","Equity","2007-12-31",10,0,0,0,0,32.9,34.545000000000002]
[2007,10,"Q4","2007Q4","Brazil","Small Hydro","Asset finance investments",31.395,"New Financial Investment","AF","AF4637","Brascan Piranhas Small Hydro Plant","Brazil","Brazil","Central & South America","AMER","non-OECD","BASIC","Small hydro","Small Hydro","New Dam",0,"New build","Term loan","Debt","2007-10-19T13:14:00",18,0,0,0,29.9,29.9,31.395]
[2007,12,"Q4","2007Q4","Mexico","Wind","Asset finance investments",30.87,"New Financial Investment","AF","AF3593","Loreto Bay Wind Farm","Mexico","Other AMER","Central & South America","AMER","OECD",null,"Wind","Wind","Onshore",0,"New build","Balance Sheet","Equity","2007-12-31",20,0,0,0,0,29.4,30.87]
[2007,12,"Q4","2007Q4","Brazil","Small Hydro","Asset finance investments",29.925000000000001,"New Financial Investment","AF","AFLATAM_RP25576","Rede Areia Small Hydro Plant","Brazil","Brazil","Central & South America","AMER","non-OECD","BASIC","Small hydro","Small Hydro","Run of River",0,"New build","Balance Sheet","Equity","2007-12-31",11.4,0,0,0,0,28.5,29.925000000000001]
[2007,12,"Q4","2007Q4","Guatemala","Biofuels","Asset finance investments",26.932500000000001,"New Financial Investment","AF","AF34152","Ingenio Magdalena Bioethanol and Power Plant","Guatemala","Other AMER","Central & South America","AMER","non-OECD",null,"Biofuels","Biofuels","Gasoline/Petrol Substitute","1-Gen fermentation","New build","Balance Sheet","Equity","2007-12-31",45,45,0,0,0,25.65,26.932500000000001]
[2007,12,"Q4","2007Q4","Brazil","Small Hydro","Asset finance investments",26.25,"New Financial Investment","AF","AFLATAM_RP7587","Cascata Chupinguaia Small Hydro Plant","Brazil","Brazil","Central & South America","AMER","non-OECD","BASIC","Small hydro","Small Hydro","Run of River",0,"New build","Balance Sheet","Equity","2007-12-15",10,0,0,0,0,25,26.25]
[2007,12,"Q4","2007Q4","Brazil","Biomass & Waste","Asset finance investments",20.580000000000002,"New Financial Investment","AF","AF19271","Zanin Araraquara Bioethanol and Power Plant Expansion","Brazil","Brazil","Central & South America","AMER","non-OECD","BASIC","Biomass & Waste","Biomass & Waste","Electricity Generation (new)","Incineration","New build","Balance Sheet","Equity","2007-12-31",8,63,0,0,0,19.600000000000001,20.580000000000002]
[2007,10,"Q4","2007Q4","Chile","Small Hydro","Asset finance investments",18.585000000000001,"New Financial Investment","AF","AF6554","Balalita Small Hydro Plant","Chile","Other AMER","Central & South America","AMER","OECD",null,"Small hydro","Small Hydro","Run of River",0,"New build","Balance Sheet","Equity","2007-10-08",10.9,0,0,0,17.7,17.7,18.585000000000001]
[2007,10,"Q4","2007Q4","Colombia","Biomass & Waste","Asset finance investments",17.850000000000001,"New Financial Investment","AF","AF4613","Dona Juana Biogas Plant","Colombia","Other AMER","Central & South America","AMER","non-OECD",null,"Biomass & Waste","Biomass & Waste","Electricity Generation (new)","Landfill gas power","New build","Balance Sheet","Equity","2007-10-15",0,0,0,0,17,17,17.850000000000001]
[2007,12,"Q4","2007Q4","Brazil","Small Hydro","Asset finance investments",14.385,"New Financial Investment","AF","AFLATAM_RP22410","Havan Rio Fortuna Small Hydro Plant","Brazil","Brazil","Central & South America","AMER","non-OECD","BASIC","Small hydro","Small Hydro","Run of River",0,"New build","Balance Sheet","Equity","2007-12-31",6.85,0,0,0,13.7,13.7,14.385]
[2007,12,"Q4","2007Q4","Paraguay","Biofuels","Asset finance investments",12.915000000000001,"New Financial Investment","AF","AFLATAM_RPb","ALCOTEC Bioethanol Plant","Paraguay","Other AMER","Central & South America","AMER","non-OECD",null,"Biofuels","Biofuels","Gasoline/Petrol Substitute",0,"New build","Balance Sheet","Equity","2007-12-31",0,10,0,0,0,12.3,12.915000000000001]
[2007,10,"Q4","2007Q4","Brazil","Biofuels","Asset finance investments",12.915000000000001,"New Financial Investment","AF","AFLATAM_RP19847","Brasil Bioenergetica Gurupi Ethanol Plant","Brazil","Brazil","Central & South America","AMER","non-OECD","BASIC","Biofuels","Biofuels","Gasoline/Petrol Substitute",0,"New build","Balance Sheet","Equity","2007-10-01",0,10,0,0,0,12.3,12.915000000000001]
[2007,12,"Q4","2007Q4","Paraguay","Biofuels","Asset finance investments",12.915000000000001,"New Financial Investment","AF","AFLATAM_RPh","PHOENIX Bioethanol Plant","Paraguay","Other AMER","Central & South America","AMER","non-OECD",null,"Biofuels","Biofuels","Gasoline/Petrol Substitute",0,"New build","Balance Sheet","Equity","2007-12-31",0,10,0,0,0,12.3,12.915000000000001]
[2007,11,"Q4","2007Q4","Brazil","Biofuels","Asset finance investments",11.6235,"New Financial Investment","AF","AFLATAM_RP15968","Global Combustiveis Uruacu Bioethanol Plant","Brazil","Brazil","Central & South America","AMER","non-OECD","BASIC","Biofuels","Biofuels","Gasoline/Petrol Substitute",0,"New build","Balance Sheet","Equity","2007-11-17",0,9,0,0,0,11.07,11.6235]
[2007,12,"Q4","2007Q4","Chile","Small Hydro","Asset finance investments",11.13,"New Financial Investment","AF","AF6577","Excon El Manzano Small Hydro Plant","Chile","Other AMER","Central & South America","AMER","OECD",null,"Small hydro","Small Hydro","Run of River",0,"New build","Term loan","Debt","2007-12-31",4.8499999999999996,0,0,0,10.6,10.6,11.13]
[2007,11,"Q4","2007Q4","Peru","Biofuels","Asset finance investments",10.5,"New Financial Investment","AF","AF4962","Estrella del Norte Bioethanol Plant","Peru","Other AMER","Central & South America","AMER","non-OECD",null,"Biofuels","Biofuels","Gasoline/Petrol Substitute","1-Gen fermentation","New build","Balance Sheet","Equity","2007-11-19",0,15.1,0,0,10,10,10.5]
[2007,12,"Q4","2007Q4","Argentina","Biofuels","Asset finance investments",10.5,"New Financial Investment","AF","AF7109","Molinos Rio de la Plata Rosario Biodiesel Plant","Argentina","Other AMER","Central & South America","AMER","non-OECD",null,"Biofuels","Biofuels","Diesel Substitute",0,"New build","Balance Sheet","Equity","2007-12-31",0,0,0,0,10,10,10.5]
[2007,12,"Q4","2007Q4","Argentina","Wind","Asset finance investments",9.4500000000000011,"New Financial Investment","AF","AF6483","Barrick Gold San Juan Wind Project","Argentina","Other AMER","Central & South America","AMER","non-OECD",null,"Wind","Wind","Onshore",0,"New build","Balance Sheet","Equity","2007-12-31",2,0,0,0,9,9,9.4500000000000011]
[2007,12,"Q4","2007Q4","Argentina","Biofuels","Asset finance investments",8.9082000000000008,"New Financial Investment","AF","AF7110","Ricard Malvinas Biodiesel Plant","Argentina","Other AMER","Central & South America","AMER","non-OECD",null,"Biofuels","Biofuels","Diesel Substitute","Transesterification","New build","Balance Sheet","Equity","2007-12-31",0,20.2,0,0,0,8.484,8.9082000000000008]
[2007,12,"Q4","2007Q4","Argentina","Biofuels","Asset finance investments",8.0702999999999996,"New Financial Investment","AF","AF17595","Vicentin Avellaneda Biodiesel Plant Expansion","Argentina","Other AMER","Central & South America","AMER","non-OECD",null,"Biofuels","Biofuels","Diesel Substitute",0,"New build","Balance Sheet","Equity","2007-12-31",0,18.3,0,0,0,7.6859999999999999,8.0702999999999996]
[2007,12,"Q4","2007Q4","Brazil","Small Hydro","Asset finance investments",6.5625,"New Financial Investment","AF","AFLATAM_RP22409","Havan Sao Mauricio Small Hydro Plant","Brazil","Brazil","Central & South America","AMER","non-OECD","BASIC","Small hydro","Small Hydro","Run of River",0,"New build","Balance Sheet","Equity","2007-12-31",2.5,0,0,0,0,6.25,6.5625]
[2007,12,"Q4","2007Q4","Brazil","Small Hydro","Asset finance investments",5.7750000000000004,"New Financial Investment","AF","AF9979","APGE Sao Paulo Repowering Small Hydro Portfolio","Brazil","Brazil","Central & South America","AMER","non-OECD","BASIC","Small hydro","Small Hydro","Existing Dam",0,"New build","Balance Sheet","Equity","2007-12-31",6.75,0,0,0,5.5,5.5,5.7750000000000004]
[2007,11,"Q4","2007Q4","Mexico","Biomass & Waste","Asset finance investments",2.3100000000000005,"New Financial Investment","AF","AF10527","Biogas Technology Tultitlan Landfill Gas Plant","Mexico","Other AMER","Central & South America","AMER","OECD",null,"Biomass & Waste","Biomass & Waste","Electricity Generation (new)","Landfill gas power","New build","Balance Sheet","Equity","2007-11-17",1.3,0,0,0,2.2000000000000002,2.2000000000000002,2.3100000000000005]
[2007,12,"Q4","2007Q4","Argentina","Biofuels","Asset finance investments",2.1,"New Financial Investment","AF","AF17385","AOM Pilar Biodiesel Plant Expansion","Argentina","Other AMER","Central & South America","AMER","non-OECD",null,"Biofuels","Biofuels","Diesel Substitute","Transesterification","New build","Balance Sheet","Equity","2007-12-31",0,36.9,0,0,2,2,2.1]
[2007,12,"Q4","2007Q4","Paraguay","Biofuels","Asset finance investments",1.5750000000000002,"New Financial Investment","AF","AFLATAM_RPd","Frigorifico Concepcion Biodiesel Plant","Paraguay","Other AMER","Central & South America","AMER","non-OECD",null,"Biofuels","Biofuels","Diesel Substitute",0,"New build","Balance Sheet","Equity","2007-12-31",0,9,0,0,0,1.5,1.5750000000000002]
[2006,12,"Q4","2006Q4","Brazil","Biofuels","Asset finance investments",138.10703455894142,"New Financial Investment","AF","AF1895","Vanguarda Brasil Ecodiesel Biodiesel Portfolio","Brazil","Brazil","Central & South America","AMER","non-OECD","BASIC","Biofuels","Biofuels","Diesel Substitute","Transesterification","New build","Balance Sheet","Equity","2006-12-31",0,777.6,0,0,137.80000000000001,137.80000000000001,138.10703455894142]
[2006,11,"Q4","2006Q4","Ecuador","Small Hydro","Asset finance investments",130.80338899034757,"New Financial Investment","AF","AFLATAM_RP17411","Baba Multipurpose Small Hydro Plant","Ecuador","Other AMER","Central & South America","AMER","non-OECD",null,"Small hydro","Small Hydro","New Dam",0,"New build","Balance Sheet","Equity","2006-11-01",42,0,0,0,130,130,130.80338899034757]
[2006,12,"Q4","2006Q4","Brazil","Biofuels","Asset finance investments",114.6448743337976,"New Financial Investment","AF","AFLATAM_RP18876","Energetica Serranopolis Ethanol Plant","Brazil","Brazil","Central & South America","AMER","non-OECD","BASIC","Biofuels","Biofuels","Gasoline/Petrol Substitute",0,"New build","Balance Sheet","Equity","2006-12-13",3.6,93,0,0,0,114.39,114.6448743337976]
[2006,11,"Q4","2006Q4","Brazil","Biomass & Waste","Asset finance investments",86.191618084680414,"New Financial Investment","AF","AFLATAM_RP17193","IMCOPA Cambe Biomass Heat Plant","Brazil","Brazil","Central & South America","AMER","non-OECD","BASIC","Biomass & Waste","Biomass & Waste","Heat",0,"New build","Balance Sheet","Equity","2006-11-09",39,0,0,0,0,86,86.191618084680414]
[2006,10,"Q4","2006Q4","Brazil","Small Hydro","Asset finance investments",78.574684393476105,"New Financial Investment","AF","AF3323","Geroeste São Lourenço Small Hydro Plant","Brazil","Brazil","Central & South America","AMER","non-OECD","BASIC","Small hydro","Small Hydro","New Dam",0,"New build","Balance Sheet","Equity","2006-10-27",29.1,0,0,0,78.400000000000006,78.400000000000006,78.574684393476105]
[2006,10,"Q4","2006Q4","Brazil","Biofuels","Asset finance investments",70.957750702271781,"New Financial Investment","AF","AF3320","Ouroeste Bioethanol and Power Plant","Brazil","Brazil","Central & South America","AMER","non-OECD","BASIC","Biofuels","Biofuels","Gasoline/Petrol Substitute","1-Gen fermentation","New build","Term loan","Debt","2006-10-25",12,130,0,0,70.8,70.8,70.957750702271781]
[2006,10,"Q4","2006Q4","Brazil","Biofuels","Asset finance investments",69.504519932239376,"New Financial Investment","AF","AF4657","Guarani Tanabi Ethanol Plant","Brazil","Brazil","Central & South America","AMER","non-OECD","BASIC","Biofuels","Biofuels","Gasoline/Petrol Substitute","1-Gen fermentation","New build","Balance Sheet","Equity","2006-10-03",4,95,0,0,0,69.349999999999994,69.504519932239376]
[2006,10,"Q4","2006Q4","Mexico","Biofuels","Asset finance investments",65.228354605537561,"New Financial Investment","AF","AF19760","Destilmex Navolato Bioethanol Plant","Mexico","Other AMER","Central & South America","AMER","OECD",null,"Biofuels","Biofuels","Gasoline/Petrol Substitute","1-Gen fermentation","New build","Balance Sheet","Equity","2006-10-31",0,115,0,0,65,65,65.228354605537561]
[2006,11,"Q4","2006Q4","Nicaragua","Biofuels","Asset finance investments",65.228354605537561,"New Financial Investment","AF","AF19762","Nicaragua Sugar San Antonio Bioethanol Plant","Nicaragua","Other AMER","Central & South America","AMER","non-OECD",null,"Biofuels","Biofuels","Gasoline/Petrol Substitute","1-Gen fermentation","New build","Term loan","Debt","2006-11-02",0,32,0,0,65,65,65.228354605537561]
[2006,12,"Q4","2006Q4","Brazil","Biomass & Waste","Asset finance investments",58.810745921035434,"New Financial Investment","AF","AFLATAM_RP7544","AMBEV Aguas Claras do Sul Biomass Heat Plant","Brazil","Brazil","Central & South America","AMER","non-OECD","BASIC","Biomass & Waste","Biomass & Waste","Heat",0,"New build","Balance Sheet","Equity","2006-12-31",29.34,0,0,0,0,58.68,58.810745921035434]
[{"$f":"IF(K581=\"\",\"\",IF(AND(YEAR(Z581)<2004,YEAR(Z581)>1910),2004,YEAR(Z581)))","v":2006},{"$f":"IF(K581=\"\",\"\",IF(ISNUMBER(Z581),MONTH(Z581),0))","v":12},{"$f":"IF(K581=\"\",\"\",IF(AND(B581>=1,B581<=3),\"Q1\",IF(AND(B581>3,B581<=6),\"Q2\",IF(AND(B581>6,B581<=9),\"Q3\",IF(AND(B581>9,B581<=12),\"Q4\",0)))))","v":"Q4"},{"$f":"IF(A581<2006, \"< 2006\", A581&C581)","v":"2006Q4"},{"$f":"IF(K581=\"\",\"\", M581)","v":"Guatemala"},"Biofuels","Asset finance investments",{"$f":"IF(K581=\"\",\"\",AG581)","v":55.544452729484675},"New Financial Investment","AF","AFLATAM_RPa","Alcoholes MAG","Guatemala","Other AMER","Central & South America","AMER","non-OECD",null,"Biofuels","Biofuels","Gasoline/Petrol Substitute",0,"New build","Balance Sheet","Equity","2006-12-31",0,45,0,0,0,55.35,55.544452729484675]
[2006,11,"Q4","2006Q4","Brazil","Biofuels",{"$f":"IF(K582=\"\",\"\",IF(OR(J582=\"PM\",J582=\"MA\"), \"Corporate finance investments\", IF(J582=\"VCPE\", \"VC/PE investments\", IF(J582=\"AF\", \"Asset finance investments\"))))","v":"Asset finance investments"},47.104721511395113,"New Financial Investment","AF","AF2793","Petrobras Candeias Biodiesel Plant","Brazil","Brazil","Central & South America","AMER","non-OECD","BASIC","Biofuels","Biofuels","Diesel Substitute","Transesterification","New build","Balance Sheet","Equity","2006-11-08",0,56.5,0,0,47,47,47.104721511395113]
[2006,10,"Q4","2006Q4","Brazil",{"$f":"IF(K583=\"\",\"\",IF(OR(T583=\"Wind\",T583=\"Solar\",T583=\"Geothermal\",T583=\"Small Hydro\",T583=\"Biofuels\",T583=\"Biomass & Waste\"),T583,\"Other Clean Energy\"))","v":"Small Hydro"},"Asset finance investments",46.002270582405011,"New Financial Investment","AF","AF6980","Geroeste small hydro portfolio","Brazil","Brazil","Central & South America","AMER","non-OECD","BASIC","Small hydro","Small Hydro","Run of River",0,"New build","Term loan","Debt","2006-10-27",22,0,0,0,45.9,45.9,46.002270582405011]
[2006,12,"Q4","2006Q4","Brazil","Biofuels","Asset finance investments",42.494472171981975,"New Financial Investment","AF","AF4964","Petrobras Darcy Ribeiro Biodiesel Plant","Brazil","Brazil","Central & South America","AMER","non-OECD","BASIC","Biofuels","Biofuels","Diesel Substitute","Transesterification","New build","Balance Sheet","Equity","2006-12-27",0,52,0,0,42.4,42.4,42.494472171981975]
[2006,11,"Q4","2006Q4","Costa Rica","Biomass & Waste","Asset finance investments",49.304691030840587,"New Financial Investment","AF","AFLATAM_RP8479","Oleaginosas Biomass and Waste CDM project","Costa Rica","Other AMER","Central & South America","AMER","non-OECD",null,"Biomass & Waste","Biomass & Waste","Heat",0,"New build","Balance Sheet","Equity","2006-11-30",27,0,0,0,0,40.5,49.304691030840587]
[2006,10,"Q4","2006Q4","Argentina","Biofuels","Asset finance investments",40.140525911100035,"New Financial Investment","AF","AF4653","Renova San Lorenzo Biodiesel Plant","Argentina","Other AMER","Central & South America","AMER","non-OECD",null,"Biofuels","Biofuels","Diesel Substitute",0,"New build","Balance Sheet","Equity","2006-10-31",0,268.10000000000002,0,0,40,40,40.140525911100035]
[2006,11,"Q4","2006Q4","Brazil","Small Hydro","Asset finance investments",40.089124690549035,"New Financial Investment","AF","AFLATAM_RP16053","Nova Vitoria Boa Sorte Small Hydro Plant","Brazil","Brazil","Central & South America","AMER","non-OECD","BASIC","Small hydro","Small Hydro","New Dam",0,"New build","Balance Sheet","Equity","2006-11-14",16,0,0,0,0,40,40.089124690549035]
[2006,10,"Q4","2006Q4","Brazil","Biofuels","Asset finance investments",39.086896573285308,"New Financial Investment","AF","AF4391","Petrobras Quixada Biodiesel Plant","Brazil","Brazil","Central & South America","AMER","non-OECD","BASIC","Biofuels","Biofuels","Diesel Substitute","Transesterification","New build","Balance Sheet","Equity","2006-10-26",0,56.5,0,0,39,39,39.086896573285308]
[2006,12,"Q4","2006Q4","Brazil","Biomass & Waste","Asset finance investments",38.059612753089986,"New Financial Investment","AF","AFLATAM_RP18353","Lwarcel Lencois Paulista Biomass Plant","Brazil","Brazil","Central & South America","AMER","non-OECD","BASIC","Biomass & Waste","Biomass & Waste","Electricity Generation (new)",0,"New build","Balance Sheet","Equity","2006-12-15",21.7,0,0,0,0,37.975000000000001,38.059612753089986]
[2006,10,"Q4","2006Q4","Chile","Wind","Asset finance investments",39.313891203075571,"New Financial Investment","AF","AF3312","Endesa Chile Canela Wind Farm","Chile","Other AMER","Central & South America","AMER","OECD",null,"Wind","Wind","Onshore",0,"New build","Balance Sheet","Equity","2006-10-12",18.5,0,0,0,35,35,39.313891203075571]
[2006,12,"Q4","2006Q4","Chile","Biomass & Waste","Asset finance investments",42.608992248874586,"New Financial Investment","AF","AFLATAM_RP14591","Arauco Nueva Aldeia III Biomass Plant","Chile","Other AMER","Central & South America","AMER","OECD",null,"Biomass & Waste","Biomass & Waste","Electricity Generation (new)",0,"New build","Balance Sheet","Equity","2006-12-31",20,0,0,0,0,35,42.608992248874586]
[2006,12,"Q4","2006Q4","Honduras","Biomass & Waste","Asset finance investments",42.608992248874586,"New Financial Investment","AF","AFLATAM_RP8531","Azucarera Chumbagua San Marcos Biomass Plant","Honduras","Other AMER","Central & South America","AMER","non-OECD",null,"Biomass & Waste","Biomass & Waste","Electricity Generation (new)",0,"New build","Balance Sheet","Equity","2006-12-31",20,0,0,0,0,35,42.608992248874586]
[2006,12,"Q4","2006Q4","Brazil","Small Hydro","Asset finance investments",27.861941659931578,"New Financial Investment","AF","AF6975","Rio Corrente Mambaí II Small Hydro Plant","Brazil","Brazil","Central & South America","AMER","non-OECD","BASIC","Small hydro","Small Hydro","Run of River",0,"New build","Term loan","Debt","2006-12-01",12,0,0,0,27.8,27.8,27.861941659931578]
[2006,12,"Q4","2006Q4","Nicaragua","Geothermal","Asset finance investments",26.803784536659986,"New Financial Investment","AF","AF198","Ram Power San Jacinto I Geothermal Plant Phase I","Nicaragua","Other AMER","Central & South America","AMER","non-OECD",null,"Geothermal","Geothermal","Conventional","Single flash","New build","Term loan","Debt","2006-12-17",10,0,0,0,26,26,26.803784536659986]
[2006,12,"Q4","2006Q4","Guatemala","Biofuels","Asset finance investments",25.087828694437523,"New Financial Investment","AF","AFLATAM_RPc","DARSA Bioethanol Plant","Guatemala","Other AMER","Central & South America","AMER","non-OECD",null,"Biofuels","Biofuels","Gasoline/Petrol Substitute",0,"New build","Balance Sheet","Equity","2006-12-31",0,80,0,0,0,25,25.087828694437523]
[2006,11,"Q4","2006Q4","Brazil","Biofuels","Asset finance investments",22.750578261886574,"New Financial Investment","AF","AF9341","Ypioca Ethanol Plant Portfolio","Brazil","Brazil","Central & South America","AMER","non-OECD","BASIC","Biofuels","Biofuels","Gasoline/Petrol Substitute","1-Gen fermentation","New build","Balance Sheet","Equity","2006-11-15",0,67,0,0,22.7,22.7,22.750578261886574]
[2006,10,"Q4","2006Q4","Brazil","Small Hydro","Asset finance investments",22.55013263843383,"New Financial Investment","AF","AF6822","GLEP Piedade Small Hydro Plant CDM","Brazil","Brazil","Central & South America","AMER","non-OECD","BASIC","Small hydro","Small Hydro","New Dam",0,"New build","Term loan","Debt","2006-10-28",16,0,0,0,22.5,22.5,22.55013263843383]
[2006,10,"Q4","2006Q4","Uruguay","Biomass & Waste","Asset finance investments",24.104515615077624,"New Financial Investment","AF","AF20488","Bioener Rivera Biomass Plant","Uruguay","Other AMER","Central & South America","AMER","non-OECD",null,"Biomass & Waste","Biomass & Waste","Electricity Generation (new)","Incineration","New build","Balance Sheet","Equity","2006-10-09",9.9,0,0,0,0,19.8,24.104515615077624]
[2006,12,"Q4","2006Q4","Brazil","Small Hydro","Asset finance investments",18.040106110747065,"New Financial Investment","AF","AFLATAM_RP13801","Maggi Energia Pequi Small Hydro Plant","Brazil","Brazil","Central & South America","AMER","non-OECD","BASIC","Small hydro","Small Hydro","New Dam",0,"New build","Balance Sheet","Equity","2006-12-10",6,0,0,0,18,18,18.040106110747065]
[2006,10,"Q4","2006Q4","Mexico","Biomass & Waste","Asset finance investments",18.352301661479554,"New Financial Investment","AF","AF10526","Biogas Technology Ecatepec Landfill Gas Plant","Mexico","Other AMER","Central & South America","AMER","OECD",null,"Biomass & Waste","Biomass & Waste","Electricity Generation (new)","Landfill gas power","New build","Balance Sheet","Equity","2006-10-06",5,0,0,0,0,15.075000000000001,18.352301661479554]
[2006,12,"Q4","2006Q4","Argentina","Small Hydro","Asset finance investments",13.482810865158903,"New Financial Investment","AF","AF8718","Rio Negro Salto Andersen Small Hydro Plant","Argentina","Other AMER","Central & South America","AMER","non-OECD",null,"Small hydro","Small Hydro","Run of River",0,"New build","Balance Sheet","Equity","2006-12-29",9.4,0,0,0,13.4,13.4,13.482810865158903]
[2006,11,"Q4","2006Q4","El Salvador","Geothermal","Asset finance investments",13.401892268329993,"New Financial Investment","AF","AFLATAM_RP8513","LaGeo Berlin Geothermal CDM Plant- Phase III","El Salvador","Other AMER","Central & South America","AMER","non-OECD",null,"Geothermal","Geothermal","Conventional",0,"New build","Balance Sheet","Equity","2006-11-30",9.3000000000000007,0,0,0,13,13,13.401892268329993]
[2006,11,"Q4","2006Q4","Brazil","Biofuels","Asset finance investments",12.628074277522945,"New Financial Investment","AF","AF3345","Barralcool Barra do Bugres Biodiesel Plant","Brazil","Brazil","Central & South America","AMER","non-OECD","BASIC","Biofuels","Biofuels","Diesel Substitute","1-Gen fermentation","New build","Balance Sheet","Equity","2006-11-05",0,58.8,0,0,12.6,12.6,12.628074277522945]
[2006,10,"Q4","2006Q4","Brazil","Small Hydro","Asset finance investments",12.02673740716471,"New Financial Investment","AF","AFLATAM_RP13802","Maggi Energia Sucupira Small Hydro Plant","Brazil","Brazil","Central & South America","AMER","non-OECD","BASIC","Small hydro","Small Hydro","New Dam",0,"New build","Balance Sheet","Equity","2006-10-20",4.5,0,0,0,12,12,12.02673740716471]
[2006,12,"Q4","2006Q4","Brazil","Biofuels","Asset finance investments",11.906470033093063,"New Financial Investment","AF","AF6863","Colider Biodiesel Plant","Brazil","Brazil","Central & South America","AMER","non-OECD","BASIC","Biofuels","Biofuels","Diesel Substitute","Transesterification","New build","Balance Sheet","Equity","2006-12-12",0,36,0,0,0,11.88,11.906470033093063]
[2006,12,"Q4","2006Q4","Argentina","Biofuels","Asset finance investments",11.822388393966738,"New Financial Investment","AF","AF17491","Diaser San Luis Biodiesel Plant","Argentina","Other AMER","Central & South America","AMER","non-OECD",null,"Biofuels","Biofuels","Diesel Substitute","Transesterification","New build","Balance Sheet","Equity","2006-12-31",0,35.700000000000003,0,0,0,11.781000000000002,11.822388393966738]
[2006,10,"Q4","2006Q4","Brazil","Biomass & Waste","Asset finance investments",11.024509289900983,"New Financial Investment","AF","AF20450","Infinity Disa Power Plant","Brazil","Brazil","Central & South America","AMER","non-OECD","BASIC","Biomass & Waste","Biomass & Waste","Electricity Generation (new)","Incineration","New build","Balance Sheet","Equity","2006-10-31",5.5,0,0,0,0,11,11.024509289900983]
[2006,12,"Q4","2006Q4","Paraguay","Biofuels","Asset finance investments",8.0281051822200062,"New Financial Investment","AF","AF19826","ALPASA Copetrol Paraguari Bioethanol Plant","Paraguay","Other AMER","Central & South America","AMER","non-OECD",null,"Biofuels","Biofuels","Gasoline/Petrol Substitute","1-Gen fermentation","New build","Balance Sheet","Equity","2006-12-31",0,30,0,0,8,8,8.0281051822200062]
[2006,11,"Q4","2006Q4","Brazil","Biomass & Waste","Asset finance investments",7.6169336912043155,"New Financial Investment","AF","AFLATAM_RP7528","CAAL Alegrete Biomass Plant","Brazil","Brazil","Central & South America","AMER","non-OECD","BASIC","Biomass & Waste","Biomass & Waste","Electricity Generation (new)",0,"New build","Balance Sheet","Equity","2006-11-06",3.8,0,0,0,0,7.6,7.6169336912043155]
[2006,12,"Q4","2006Q4","El Salvador","Biofuels","Asset finance investments",6.8861072200492108,"New Financial Investment","AF","AF19676","Ingenio La Cabana El Paisnal Bioethanol Plant","El Salvador","Other AMER","Central & South America","AMER","non-OECD",null,"Biofuels","Biofuels","Gasoline/Petrol Substitute","1-Gen fermentation","New build","Balance Sheet","Equity","2006-12-31",0,9.4,0,0,0,6.8620000000000001,6.8861072200492108]
[2006,10,"Q4","2006Q4","Brazil","Small Hydro","Asset finance investments",4.8106949628658837,"New Financial Investment","AF","AFLATAM_RP13179","Enel Sao Domingos Small Hydro Plant","Brazil","Brazil","Central & South America","AMER","non-OECD","BASIC","Small hydro","Small Hydro","Run of River",0,"New build","Balance Sheet","Equity","2006-10-07",2.4,0,0,0,0,4.8,4.8106949628658837]
[2006,11,"Q4","2006Q4","Brazil","Biofuels","Asset finance investments",4.0089124690549029,"New Financial Investment","AF","AF6489","Biotins Paraiso Biodiesel Plant","Brazil","Brazil","Central & South America","AMER","non-OECD","BASIC","Biofuels","Biofuels","Diesel Substitute","Transesterification","New build","Balance Sheet","Equity","2006-11-10",0,9.6999999999999993,0,0,4,4,4.0089124690549029]
[2006,12,"Q4","2006Q4","Brazil","Biomass & Waste","Asset finance investments",0.15233867382408631,"New Financial Investment","AF","AFLATAM_RP7556","Sao Judas Tadeu Biomass Heat Plant","Brazil","Brazil","Central & South America","AMER","non-OECD","BASIC","Biomass & Waste","Biomass & Waste","Electricity Generation (new)",0,"New build","Balance Sheet","Equity","2006-12-31",0,0,0,0,0,0.152,0.15233867382408631]
[2012,9,"Q3","2012Q3","Brazil","Wind","Asset finance investments",546.06892815211859,"New Financial Investment","AF","AF30514","Verace Wind Portfolio","Brazil","Brazil","Central & South America","AMER","non-OECD","BASIC","Wind","Wind","Onshore",0,"New build","Balance Sheet","Equity","2012-09-14",258,0,0,0,497,497,546.06892815211859]
[2012,7,"Q3","2012Q3","Brazil","Wind","Asset finance investments",305.66675213665872,"New Financial Investment","AF","AF16310","Energisa Renascenca Wind Portfolio","Brazil","Brazil","Central & South America","AMER","non-OECD","BASIC","Wind","Wind","Onshore",0,"New build","Balance Sheet","Equity","2012-07-03",150,0,0,0,278.2,278.2,305.66675213665872]
[2012,9,"Q3","2012Q3","Brazil","Biofuels","Asset finance investments",281.27494085903896,"New Financial Investment","AF","AF18725","Nova Fronteira Boa Vista Biothanol and Power Plant Expansion II","Brazil","Brazil","Central & South America","AMER","non-OECD","BASIC","Biofuels","Biofuels","Gasoline/Petrol Substitute","1-Gen fermentation","New build","Term loan","Debt","2012-09-25",0,488,0,0,256,256,281.27494085903896]
[2012,8,"Q3","2012Q3","Peru","Solar","Asset finance investments",272.48509895719394,"New Financial Investment","AF","AF18689","Gestamp, Solarpack & Conduit Capital Partners Peru PV Portfolio","Peru","Other AMER","Central & South America","AMER","non-OECD",null,"Solar","Solar","PV",0,"New build","Term loan","Debt","2012-08-29",40,0,0,0,248,248,272.48509895719394]
[2012,9,"Q3","2012Q3","Brazil","Wind","Asset finance investments",221.50401592649317,"New Financial Investment","AF","AF14185","CPFL Renovaveis Rio Grande do Norte Wind Portfolio","Brazil","Brazil","Central & South America","AMER","non-OECD","BASIC","Wind","Wind","Onshore",0,"New build","Balance Sheet","Equity","2012-09-17",78.2,0,0,0,201.6,201.6,221.50401592649317]
[2012,7,"Q3","2012Q3","Brazil","Wind","Corporate finance investments",169.75382172938089,"New Financial Investment","PM","PM4920","Renova Energia SA","Brazil","Brazil","Central & South America","AMER","non-OECD","BASIC","Wind","Wind","Onshore",0,"Brazil","Exercise of Rights","Convertible & Other","2012-07-17","São Paulo (BOVESPA)",0,154.5,967.4,154.5,154.5,169.75382172938089]
[2012,7,"Q3","2012Q3","Brazil","Biomass & Waste","Asset finance investments",146.13112161817256,"New Financial Investment","AF","AF16832","ERB Dow Aratu Biomass Plant","Brazil","Brazil","Central & South America","AMER","non-OECD","BASIC","Biomass & Waste","Biomass & Waste","Combined Heat & Power (CHP)","Incineration","New build","Term loan","Debt","2012-07-02",12.5,0,110,0,133,133,146.13112161817256]
[2012,8,"Q3","2012Q3","Dominican Republic","Solar","Asset finance investments",131.84762852767452,"New Financial Investment","AF","AF31312","Electronic JRC Monte Plata PV Plant","Dominican Republic","Other AMER","North America & Caribbean","AMER","non-OECD",null,"Solar","Solar","PV",0,"New build","Syndicated Equity","Equity","2012-08-14",30,0,0,0,120,120,131.84762852767452]
[2012,7,"Q3","2012Q3","Mexico","Wind","Asset finance investments",77.526405574272601,"New Financial Investment","AF","AF28334","REM Los Altos Wind Farm","Mexico","Other AMER","Central & South America","AMER","OECD",null,"Wind","Wind","Onshore",0,"New build","Balance Sheet","Equity","2012-07-04",50.4,0,0,0,0,70.559999999999988,77.526405574272601]
[2012,7,"Q3","2012Q3","Venezuela","Wind","Asset finance investments",76.911116641143465,"New Financial Investment","AF","AF28618","CORPOELEC Guajira Wind Farm Phase I","Venezuela","Other AMER","Central & South America","AMER","non-OECD",null,"Wind","Wind","Onshore",0,"New build","Balance Sheet","Equity","2012-07-11",25.2,0,0,0,70,70,76.911116641143465]
[2012,7,"Q3","2012Q3","Mexico","Geothermal","Asset finance investments",76.691370593597341,"New Financial Investment","AF","AF29652","CFE Los Azufres Geothermal Project Phase III","Mexico","Other AMER","Central & South America","AMER","OECD",null,"Geothermal","Geothermal","Conventional","Single flash","New build","Balance Sheet","Equity","2012-07-23",50,0,0,0,69.8,69.8,76.691370593597341]
[2012,9,"Q3","2012Q3","Chile","Solar","Asset finance investments",65.923814263837258,"New Financial Investment","AF","AF30226","Codelco Minera Gaby Solar Thermal Plant","Chile","Other AMER","Central & South America","AMER","OECD",null,"Solar","Solar","Thermal","STEG – Parabolic trough","New build","Balance Sheet","Equity","2012-09-03",35,0,0,0,60,60,65.923814263837258]
[2012,7,"Q3","2012Q3","Mexico","Wind","Asset finance investments",33.840891322103126,"New Financial Investment","AF","AF28850","Conduit Capital Partners Santa Catarina Wind Farm","Mexico","Other AMER","Central & South America","AMER","OECD",null,"Wind","Wind","Onshore",0,"New build","Balance Sheet","Equity","2012-07-26",22,0,0,0,0,30.799999999999997,33.840891322103126]
[2012,7,"Q3","2012Q3","Brazil","Biomass & Waste","Asset finance investments",27.468255943265525,"New Financial Investment","AF","AF28124","BP Tropical Edeia I Power Plant Expansion","Brazil","Brazil","Central & South America","AMER","non-OECD","BASIC","Biomass & Waste","Biomass & Waste","Electricity Generation (new)","Incineration","New build","Balance Sheet","Equity","2012-07-20",35,0,0,0,25,25,27.468255943265525]
[2012,8,"Q3","2012Q3","Brazil","Biofuels","Asset finance investments",27.468255943265525,"New Financial Investment","AF","AF28750","Oleoplan Ponta Grossa Biodiesel Plant","Brazil","Brazil","Central & South America","AMER","non-OECD","BASIC","Biofuels","Biofuels","Diesel Substitute","Transesterification","New build","Balance Sheet","Equity","2012-08-31",0,378,0,0,25,25,27.468255943265525]
[2012,8,"Q3","2012Q3","Chile","Small Hydro","VC/PE investments",21.191210095110485,"New Financial Investment","VCPE","VCPE5680","Latin America Power","Chile","Other AMER","Central & South America","AMER","OECD",null,"Small hydro","Small Hydro","Run of River",0,"Developer","PE - Expansion capital","PE Expansion Capital","2012-08-28","na","na","na","na",0,19.286999999999999,21.191210095110485]
[2012,8,"Q3","2012Q3","Costa Rica","Solar","Asset finance investments",9.8885721395755883,"New Financial Investment","AF","AF32590","ICE Miravalles PV Plant","Costa Rica","Other AMER","Central & South America","AMER","non-OECD",null,"Solar","Solar","PV",0,"New build","Balance Sheet","Equity","2012-08-21",1,0,0,0,9,9,9.8885721395755883]
[2012,9,"Q3","2012Q3","Dominican Republic","Solar","Asset finance investments",6.152889331291477,"New Financial Investment","AF","AF33548","Aeropuerto del Cibao Santiago de los Caballeros PV Plant","Dominican Republic","Other AMER","North America & Caribbean","AMER","non-OECD",null,"Solar","Solar","PV","PV – Crystalline silicon","New build","Balance Sheet","Equity","2012-09-15",1.5,0,0,0,5.6,5.6,6.152889331291477]
[2012,7,"Q3","2012Q3","Brazil","Small Hydro","Asset finance investments",4.834413046014733,"New Financial Investment","AF","AF28338","Karl Kuhlemann Small Hydro Plant","Brazil","Brazil","Central & South America","AMER","non-OECD","BASIC","Small hydro","Small Hydro","Run of River",0,"New build","Balance Sheet","Equity","2012-07-02",1.75,0,0,0,0,4.4000000000000004,4.834413046014733]
[2012,9,"Q3","2012Q3","Chile","Solar","Asset finance investments",2.7468255943265523,"New Financial Investment","AF","AF31098","SelRay La Huayca PV Plant Phase I","Chile","Other AMER","Central & South America","AMER","OECD",null,"Solar","Solar","PV","PV – Crystalline silicon","New build","Balance Sheet","Equity","2012-09-12",1.4,0,0,0,2.5,2.5,2.7468255943265523]
[2011,7,"Q3","2011Q3","Brazil","Wind","Asset finance investments",436.40577240225775,"New Financial Investment","AF","AF17889","Enerfin Elecnor 2011 BNDES Wind Portfolio","Brazil","Brazil","Central & South America","AMER","non-OECD","BASIC","Wind","Wind","Onshore",0,"New build","Term loan","Debt","2011-07-29",150,0,0,0,401,401,436.40577240225775]
[2011,7,"Q3","2011Q3","Brazil","Wind","Corporate finance investments",252.26647890983381,"New Financial Investment","PM","PM3648","Renova Energia SA","Brazil","Brazil","Central & South America","AMER","non-OECD","BASIC","Wind","Wind","Onshore",0,"Brazil","Private Investment in Public Equity (PIPE)","Secondary & PIPE","2011-07-08","São Paulo (BOVESPA)",0,231.8,884.6,231.8,231.8,252.26647890983381]
[2011,7,"Q3","2011Q3","Mexico","Wind","Asset finance investments",174.12699148219761,"New Financial Investment","AF","AF28508","Bii Nee Stipa Wind Farm Phase II","Mexico","Other AMER","Central & South America","AMER","OECD",null,"Wind","Wind","Onshore",0,"New build","Balance Sheet","Equity","2011-07-09",74,0,0,0,160,160,174.12699148219761]
[2011,7,"Q3","2011Q3","Brazil","Biofuels","Asset finance investments",173.03869778543387,"New Financial Investment","AF","AF17818","Grupo Farias Taquarituba Bioethanol Plant","Brazil","Brazil","Central & South America","AMER","non-OECD","BASIC","Biofuels","Biofuels","Gasoline/Petrol Substitute","1-Gen fermentation","New build","Balance Sheet","Equity","2011-07-07",0,120,0,0,159,159,173.03869778543387]
[2011,9,"Q3","2011Q3","Chile","Wind","Asset finance investments",152.36111754692291,"New Financial Investment","AF","AF18486","Vestas Talinay Wind Farm Phase I","Chile","Other AMER","Central & South America","AMER","OECD",null,"Wind","Wind","Onshore",0,"New build","Balance Sheet","Equity","2011-09-15",100,0,0,0,0,140,152.36111754692291]
[2011,7,"Q3","2011Q3","Brazil","Biofuels","Asset finance investments",141.47818057928555,"New Financial Investment","AF","AF20222","Guarani Sao Paulo Biothanol Portfolio Expansion II","Brazil","Brazil","Central & South America","AMER","non-OECD","BASIC","Biofuels","Biofuels","Gasoline/Petrol Substitute","1-Gen fermentation","New build","Term loan","Debt","2011-07-13",0,0,0,0,130,130,141.47818057928555]
[2011,9,"Q3","2011Q3","Honduras","Small Hydro","Asset finance investments",137.12500579223061,"New Financial Investment","AF","AF14723","La Vegona Small Hydro Plant","Honduras","Other AMER","Central & South America","AMER","non-OECD",null,"Small hydro","Small Hydro","New Dam",0,"New build","Term loan","Debt","2011-09-27",38.5,0,0,0,126,126,137.12500579223061]
[2011,7,"Q3","2011Q3","Brazil","Small Hydro","Asset finance investments",109.26468715507902,"New Financial Investment","AF","AF17856","Grupo Light Paracambi Small Hydro Plant","Brazil","Brazil","Central & South America","AMER","non-OECD","BASIC","Small hydro","Small Hydro","Run of River",0,"New build","Term loan","Debt","2011-07-19",25,0,0,0,100.4,100.4,109.26468715507902]
[2011,9,"Q3","2011Q3","Panama","Small Hydro","Asset finance investments",78.465975536665283,"New Financial Investment","AF","AF33674","GENISA Barro Blanco Small Hydro Plant","Panama","Other AMER","Central & South America","AMER","non-OECD",null,"Small hydro","Small Hydro","Run of River",0,"New build","Balance Sheet","Equity","2011-09-01",28.84,0,0,0,0,72.099999999999994,78.465975536665283]
[2011,7,"Q3","2011Q3","Argentina","Biofuels","Asset finance investments",76.180558773461456,"New Financial Investment","AF","AF12993","Unitec Bio San Martin Biodiesel Plant II","Argentina","Other AMER","Central & South America","AMER","non-OECD",null,"Biofuels","Biofuels","Diesel Substitute","Transesterification","New build","Balance Sheet","Equity","2011-07-19",0,261.89999999999998,0,0,70,70,76.180558773461456]
[2011,9,"Q3","2011Q3","Brazil","Wind","Asset finance investments",71.283237138024646,"New Financial Investment","AF","AF25152","Bioenergy Aratua I and Miassaba II Wind Portfolio","Brazil","Brazil","Central & South America","AMER","non-OECD","BASIC","Wind","Wind","Onshore",0,"New build","Term loan","Debt","2011-09-20",28.8,0,0,0,65.5,65.5,71.283237138024646]
[{"$f":"IF(K645=\"\",\"\",IF(AND(YEAR(Z645)<2004,YEAR(Z645)>1910),2004,YEAR(Z645)))","v":2011},{"$f":"IF(K645=\"\",\"\",IF(ISNUMBER(Z645),MONTH(Z645),0))","v":7},{"$f":"IF(K645=\"\",\"\",IF(AND(B645>=1,B645<=3),\"Q1\",IF(AND(B645>3,B645<=6),\"Q2\",IF(AND(B645>6,B645<=9),\"Q3\",IF(AND(B645>9,B645<=12),\"Q4\",0)))))","v":"Q3"},{"$f":"IF(A645<2006, \"< 2006\", A645&C645)","v":"2011Q3"},{"$f":"IF(K645=\"\",\"\", M645)","v":"Venezuela"},"Biofuels","Asset finance investments",{"$f":"IF(K645=\"\",\"\",AG645)","v":70.739090289642775},"New Financial Investment","AF","AF27366","PdVSA Barinas Bioethanol and Power Plant","Venezuela","Other AMER","Central & South America","AMER","non-OECD",null,"Biofuels","Biofuels","Gasoline/Petrol Substitute","1-Gen fermentation","New build","Balance Sheet","Equity","2011-07-07",50,130,0,0,0,65,70.739090289642775]
[2011,8,"Q3","2011Q3","Brazil","Small Hydro",{"$f":"IF(K646=\"\",\"\",IF(OR(J646=\"PM\",J646=\"MA\"), \"Corporate finance investments\", IF(J646=\"VCPE\", \"VC/PE investments\", IF(J646=\"AF\", \"Asset finance investments\"))))","v":"Asset finance investments"},61.270935127798282,"New Financial Investment","AF","AF18392","Queiroz Galvao Mucuri Small Hydro Plant","Brazil","Brazil","Central & South America","AMER","non-OECD","BASIC","Small hydro","Small Hydro","Run of River",0,"New build","Balance Sheet","Equity","2011-08-30",22.5,0,0,0,0,56.3,61.270935127798282]
[2011,8,"Q3","2011Q3","Brazil",{"$f":"IF(K647=\"\",\"\",IF(OR(T647=\"Wind\",T647=\"Solar\",T647=\"Geothermal\",T647=\"Small Hydro\",T647=\"Biofuels\",T647=\"Biomass & Waste\"),T647,\"Other Clean Energy\"))","v":"Biomass & Waste"},"Asset finance investments",60.726788279416418,"New Financial Investment","AF","AF29696","LDC-SEV Lagoa da Prata Luciania Power Plant Expansion II","Brazil","Brazil","Central & South America","AMER","non-OECD","BASIC","Biomass & Waste","Biomass & Waste","Electricity Generation (new)","Incineration","New build","Balance Sheet","Equity","2011-08-16",20,0,0,0,0,55.8,60.726788279416418]
[2011,8,"Q3","2011Q3","Brazil","Small Hydro","Asset finance investments",51.693950596277418,"New Financial Investment","AF","AF18419","Copel Cavernoso II Small Hydro Plant","Brazil","Brazil","Central & South America","AMER","non-OECD","BASIC","Small hydro","Small Hydro","Run of River",0,"New build","Balance Sheet","Equity","2011-08-30",19,0,0,0,0,47.5,51.693950596277418]
[2011,8,"Q3","2011Q3","Brazil","Small Hydro","Asset finance investments",50.823315638866433,"New Financial Investment","AF","AF18391","Maggi Energia Ilha Comprida Small Hydro Plant","Brazil","Brazil","Central & South America","AMER","non-OECD","BASIC","Small hydro","Small Hydro","Run of River",0,"New build","Balance Sheet","Equity","2011-08-30",18.7,0,0,0,0,46.7,50.823315638866433]
[2011,9,"Q3","2011Q3","Chile","Biomass & Waste","Asset finance investments",45.708335264076872,"New Financial Investment","AF","AF20080","Comasa Lautaro Biomass Plant","Chile","Other AMER","Central & South America","AMER","OECD",null,"Biomass & Waste","Biomass & Waste","Electricity Generation (new)","Incineration","New build","Balance Sheet","Equity","2011-09-30",25,0,0,0,42,42,45.708335264076872]
[2011,8,"Q3","2011Q3","Mexico","Wind","Asset finance investments",43.880001853513797,"New Financial Investment","AF","AF28336","REM Arriaga Wind Farm","Mexico","Other AMER","Central & South America","AMER","OECD",null,"Wind","Wind","Onshore",0,"New build","Balance Sheet","Equity","2011-08-18",28.8,0,0,0,0,40.32,43.880001853513797]
[2011,8,"Q3","2011Q3","Brazil","Biomass & Waste","Asset finance investments",42.769942282814789,"New Financial Investment","AF","AF18228","Guacu Aripuana Biomass Plant","Brazil","Brazil","Central & South America","AMER","non-OECD","BASIC","Biomass & Waste","Biomass & Waste","Electricity Generation (new)","Incineration","New build","Balance Sheet","Equity","2011-08-18",30,0,0,0,39.299999999999997,39.299999999999997,42.769942282814789]
[2011,8,"Q3","2011Q3","Brazil","Biofuels","Asset finance investments",42.443454173785668,"New Financial Investment","AF","AF33772","Abengoa Sao Luiz Bioethanol and Power Plant Expansion","Brazil","Brazil","Central & South America","AMER","non-OECD","BASIC","Biofuels","Biofuels","Gasoline/Petrol Substitute","1-Gen fermentation","New build","Balance Sheet","Equity","2011-08-31",0,0,0,0,39,39,42.443454173785668]
[2011,8,"Q3","2011Q3","Ecuador","Wind","Asset finance investments",37.001985689966986,"New Financial Investment","AF","AF2504","Enerloja Villonaco Wind Farm","Ecuador","Other AMER","Central & South America","AMER","non-OECD",null,"Wind","Wind","Onshore",0,"New build","Balance Sheet","Equity","2011-08-23",16.5,0,0,0,34,34,37.001985689966986]
[2011,9,"Q3","2011Q3","Brazil","Wind","Asset finance investments",35.369545144821387,"New Financial Investment","AF","AF18315","Bioenergy Aratua and Miassaba Wind Farms Portfolio","Brazil","Brazil","Central & South America","AMER","non-OECD","BASIC","Wind","Wind","Onshore",0,"New build","Construction loan","Debt","2011-09-20",86.4,0,0,0,32.5,32.5,35.369545144821387]
[2011,8,"Q3","2011Q3","Brazil","Biofuels","Asset finance investments",34.281251448057645,"New Financial Investment","AF","AF29602","Camera Agroalimentos Ijui Biodiesel Plant Expansion","Brazil","Brazil","Central & South America","AMER","non-OECD","BASIC","Biofuels","Biofuels","Diesel Substitute","Transesterification","New build","Balance Sheet","Equity","2011-08-18",0,90,0,0,0,31.499999999999996,34.281251448057645]
[2011,8,"Q3","2011Q3","Brazil","Small Hydro","Asset finance investments",32.648810902912054,"New Financial Investment","AF","AF18411","PCH Pontal do Prata Small Hydro Plant","Brazil","Brazil","Central & South America","AMER","non-OECD","BASIC","Small hydro","Small Hydro","Run of River",0,"New build","Balance Sheet","Equity","2011-08-30",12,0,0,0,0,30,32.648810902912054]
[2011,8,"Q3","2011Q3","Brazil","Small Hydro","Asset finance investments",32.431152163559311,"New Financial Investment","AF","AF18415","Empa Indaiazinho Grande Small Hydro Plant","Brazil","Brazil","Central & South America","AMER","non-OECD","BASIC","Small hydro","Small Hydro","Run of River",0,"New build","Balance Sheet","Equity","2011-08-30",11.9,0,0,0,0,29.8,32.431152163559311]
[2011,9,"Q3","2011Q3","Brazil","Small Hydro","Asset finance investments",27.207342419093379,"New Financial Investment","AF","AF19153","Pardos Small Hydro Plant","Brazil","Brazil","Central & South America","AMER","non-OECD","BASIC","Small hydro","Small Hydro","Run of River",0,"New build","Balance Sheet","Equity","2011-09-30",10,0,0,0,0,25,27.207342419093379]
[2011,7,"Q3","2011Q3","Uruguay","Biofuels","Asset finance investments",27.207342419093379,"New Financial Investment","AF","AF28710","ALUR Capurro Biodiesel Plant","Uruguay","Other AMER","Central & South America","AMER","non-OECD",null,"Biofuels","Biofuels","Diesel Substitute","Transesterification","New build","Balance Sheet","Equity","2011-07-21",0,55,0,0,25,25,27.207342419093379]
[2011,9,"Q3","2011Q3","Brazil","Small Hydro","Asset finance investments",25.139584395242281,"New Financial Investment","AF","AF18775","Itaguacu Small Hydro Plant","Brazil","Brazil","Central & South America","AMER","non-OECD","BASIC","Small hydro","Small Hydro","Run of River",0,"New build","Balance Sheet","Equity","2011-09-08",9,0,0,0,23.1,23.1,25.139584395242281]
[2011,7,"Q3","2011Q3","Brazil","Biomass & Waste","Asset finance investments",22.854167632038436,"New Financial Investment","AF","AF30742","Geo Energetica Coopcana Sao Carlos do Ivai Biogas Plant","Brazil","Brazil","Central & South America","AMER","non-OECD","BASIC","Biomass & Waste","Biomass & Waste","Electricity Generation (new)","Anaerobic digestion","New build","Term loan","Debt","2011-07-17",4,0,0,0,21,21,22.854167632038436]
[2011,9,"Q3","2011Q3","Brazil","Small Hydro","Asset finance investments",21.765873935274701,"New Financial Investment","AF","AF18787","Electra Power Rio dos Indios Small Hydro Plant","Brazil","Brazil","Central & South America","AMER","non-OECD","BASIC","Small hydro","Small Hydro","Run of River",0,"New build","Balance Sheet","Equity","2011-09-08",8,0,0,0,0,20,21.765873935274701]
[2011,8,"Q3","2011Q3","Paraguay","Biofuels","Asset finance investments",20.459921499158217,"New Financial Investment","AF","AF19824","INPASA Nueva Esperanza Bioethanol Plant Expansion","Paraguay","Other AMER","Central & South America","AMER","non-OECD",null,"Biofuels","Biofuels","Gasoline/Petrol Substitute","1-Gen fermentation","New build","Balance Sheet","Equity","2011-08-31",0,40,0,0,0,18.799999999999997,20.459921499158217]
[2011,8,"Q3","2011Q3","Colombia","Solar","Asset finance investments",18.718651584336243,"New Financial Investment","AF","AF28860","Celsia Colinversiones Zone PV Plant","Colombia","Other AMER","Central & South America","AMER","non-OECD",null,"Solar","Solar","PV","PV – Crystalline silicon","New build","Balance Sheet","Equity","2011-08-16",4,0,0,0,0,17.2,18.718651584336243]
[2011,7,"Q3","2011Q3","Brazil","Biomass & Waste","Asset finance investments",12.145357655883284,"New Financial Investment","AF","AF20414","Geo Eletrica Tamboara Biogas Plant","Brazil","Brazil","Central & South America","AMER","non-OECD","BASIC","Biomass & Waste","Biomass & Waste","Electricity Generation (new)","Anaerobic digestion","New build","Term loan","Debt","2011-07-19",4,0,0,0,0,11.16,12.145357655883284]
[2011,8,"Q3","2011Q3","Panama","Small Hydro","Asset finance investments",11.427083816019218,"New Financial Investment","AF","AF19495","Grupo Cuerva San Lorenzo Small Hydro Plant","Panama","Other AMER","Central & South America","AMER","non-OECD",null,"Small hydro","Small Hydro","Run of River",0,"New build","Term loan","Debt","2011-08-23",8.6,0,0,0,10.5,10.5,11.427083816019218]
[2011,9,"Q3","2011Q3","Brazil","Small Hydro","Asset finance investments",6.0944447018769159,"New Financial Investment","AF","AF18799","Rondinha Invernadinha Small Hydro Plant","Brazil","Brazil","Central & South America","AMER","non-OECD","BASIC","Small hydro","Small Hydro","Run of River",0,"New build","Balance Sheet","Equity","2011-09-08",2.25,0,0,0,0,5.6,6.0944447018769159]
[2011,7,"Q3","2011Q3","Mexico","Solar","Asset finance investments",5.8963752490659154,"New Financial Investment","AF","AF31146","ABB Campus San Luis Potosi PV Plant","Mexico","Other AMER","Central & South America","AMER","OECD",null,"Solar","Solar","PV","PV – Crystalline silicon","New build","Balance Sheet","Equity","2011-07-31",1.26,0,0,0,0,5.4180000000000001,5.8963752490659154]
[2010,8,"Q3","2010Q3","Chile","Wind","Asset finance investments",260.51044616665411,"New Financial Investment","AF","AF13170","Construtora Pacifico Quillagua Wind Farm","Chile","Other AMER","Central & South America","AMER","OECD",null,"Wind","Wind","Onshore",0,"New build","Balance Sheet","Equity","2010-08-31",100,0,0,0,250,250,260.51044616665411]
[2010,9,"Q3","2010Q3","Brazil","Small Hydro","Asset finance investments",241.75369404265504,"New Financial Investment","AF","AF13108","Eletrosul Sao Domingos Small Hydro Plant","Brazil","Brazil","Central & South America","AMER","non-OECD","BASIC","Small hydro","Small Hydro","New Dam",0,"New build","Term loan","Debt","2010-09-10",48,0,0,0,232,232,241.75369404265504]
[2010,7,"Q3","2010Q3","Brazil","Wind","Asset finance investments",232.3753179806555,"New Financial Investment","AF","AF11162","Desenvix Brotas de Macaubas Wind Portfolio","Brazil","Brazil","Central & South America","AMER","non-OECD","BASIC","Wind","Wind","Onshore",0,"New build","Term loan","Debt","2010-07-09",90,0,0,0,223,223,232.3753179806555]
[2010,7,"Q3","2010Q3","Mexico","Wind","Asset finance investments",224.03898370332257,"New Financial Investment","AF","AF12848","Oaxaca I Wind Farm","Mexico","Other AMER","Central & South America","AMER","OECD",null,"Wind","Wind","Onshore",0,"New build","Construction loan","Debt","2010-07-29",102,0,0,0,215,215,224.03898370332257]
[2010,9,"Q3","2010Q3","Brazil","Small Hydro","VC/PE investments",211.53448228732316,"New Financial Investment","VCPE","VCPE3706","Omega Energia Renovavel SA","Brazil","Brazil","Central & South America","AMER","non-OECD","BASIC","Small hydro","Small Hydro","Run of River",0,"Developer","PE - Expansion capital","PE Expansion Capital","2010-09-22","na","na","na","na",203,203,211.53448228732316]
[2010,7,"Q3","2010Q3","Colombia","Biofuels","Asset finance investments",145.88584985332631,"New Financial Investment","AF","AF17880","Bioenergy Puerto Lopez Bioethanol and Power Plant","Colombia","Other AMER","Central & South America","AMER","non-OECD",null,"Biofuels","Biofuels","Gasoline/Petrol Substitute","1-Gen fermentation","New build","Balance Sheet","Equity","2010-07-15",40,115,0,0,140,140,145.88584985332631]
[2010,8,"Q3","2010Q3","Argentina","Biofuels","Asset finance investments",105.97564950059491,"New Financial Investment","AF","AF12709","Cargill Villa Gobernador Galvez Biodiesel Plant","Argentina","Other AMER","Central & South America","AMER","non-OECD",null,"Biofuels","Biofuels","Diesel Substitute","Transesterification","New build","Balance Sheet","Equity","2010-08-13",18,285,0,0,101.7,101.7,105.97564950059491]
[2010,7,"Q3","2010Q3","Brazil","Wind","Corporate finance investments",95.138414940062091,"New Financial Investment","PM","PM2304","Renova Energia SA","Brazil","Brazil","Central & South America","AMER","non-OECD","BASIC","Wind","Wind","Onshore",0,"Brazil","IPO","IPO","2010-07-13","São Paulo (BOVESPA)",0,91.3,0,91.3,91.3,95.138414940062091]
[2010,7,"Q3","2010Q3","Brazil","Biofuels","Asset finance investments",82.060790542496051,"New Financial Investment","AF","AF8970","Caramuru Ipameri Biodiesel Plant","Brazil","Brazil","Central & South America","AMER","non-OECD","BASIC","Biofuels","Biofuels","Diesel Substitute","Transesterification","New build","Term loan","Debt","2010-07-16",0,225,0,0,0,78.75,82.060790542496051]
[2010,8,"Q3","2010Q3","Brazil","Wind","Asset finance investments",76.069050280663006,"New Financial Investment","AF","AF6486","Ecopart Gargau Wind Farm","Brazil","Brazil","Central & South America","AMER","non-OECD","BASIC","Wind","Wind","Onshore",0,"New build","Term loan","Debt","2010-08-30",28.05,0,0,0,73,73,76.069050280663006]
[2010,9,"Q3","2010Q3","Brazil","Biomass & Waste","VC/PE investments",72.734516569729834,"New Financial Investment","VCPE","VCPE3756","Energias Renovaveis do Brasil Ltda","Brazil","Brazil","Central & South America","AMER","non-OECD","BASIC","Biomass & Waste","Biomass & Waste","Electricity Generation (new)","Incineration","Developer","PE - Expansion capital","PE Expansion Capital","2010-09-22","na","na","na","na",69.8,69.8,72.734516569729834]
[2010,7,"Q3","2010Q3","Brazil","Biofuels","Asset finance investments",33.663159853655046,"New Financial Investment","AF","AF25160","Bioverde Taubate Biodiesel Plant Expansion II","Brazil","Brazil","Central & South America","AMER","non-OECD","BASIC","Biofuels","Biofuels","Diesel Substitute","Transesterification","New build","Balance Sheet","Equity","2010-07-27",0,92.3,0,0,0,32.305,33.663159853655046]
[2010,9,"Q3","2010Q3","Uruguay","Wind","Asset finance investments",26.051044616665408,"New Financial Investment","AF","AF11053","UTE Sierra de los Caracoles Wind Farm Phase II","Uruguay","Other AMER","Central & South America","AMER","non-OECD",null,"Wind","Wind","Onshore",0,"New build","Balance Sheet","Equity","2010-09-30",10,0,0,0,25,25,26.051044616665408]
[2010,9,"Q3","2010Q3","Brazil","Small Hydro","Asset finance investments",24.748492385832137,"New Financial Investment","AF","AF13083","Maggi Energia Divisa Small Hydro Plant","Brazil","Brazil","Central & South America","AMER","non-OECD","BASIC","Small hydro","Small Hydro","Run of River",0,"New build","Balance Sheet","Equity","2010-09-10",9.5,0,0,0,0,23.75,24.748492385832137]
[2010,9,"Q3","2010Q3","Brazil","Small Hydro","Asset finance investments",22.924919262665565,"New Financial Investment","AF","AF13111","Eletrisa Tambau Small Hydro Plant","Brazil","Brazil","Central & South America","AMER","non-OECD","BASIC","Small hydro","Small Hydro","Run of River",0,"New build","Balance Sheet","Equity","2010-09-10",8.8059999999999992,0,0,0,0,22,22.924919262665565]
[2010,8,"Q3","2010Q3","Brazil","Biofuels","Asset finance investments",22.50810254879892,"New Financial Investment","AF","AFLATAM_RPi","Produtos Alimenticios Orlandia Biodiesel Plant","Brazil","Brazil","Central & South America","AMER","non-OECD","BASIC","Biofuels","Biofuels","Diesel Substitute",0,"New build","Balance Sheet","Equity","2010-08-11",0,54,0,0,0,21.6,22.50810254879892]
[2010,8,"Q3","2010Q3","Argentina","Biofuels","Asset finance investments",21.700520165682288,"New Financial Investment","AF","AF18035","ACSA Quilmes Biodiesel Plant","Argentina","Other AMER","Central & South America","AMER","non-OECD",null,"Biofuels","Biofuels","Diesel Substitute","Transesterification","New build","Balance Sheet","Equity","2010-08-20",0,59.5,0,0,0,20.824999999999999,21.700520165682288]
[2010,7,"Q3","2010Q3","Brazil","Biofuels","Asset finance investments",20.84083569333233,"New Financial Investment","AF","AF20446","Binatural Formosa Biodiesel Plant Expansion III","Brazil","Brazil","Central & South America","AMER","non-OECD","BASIC","Biofuels","Biofuels","Diesel Substitute","Transesterification","New build","Balance Sheet","Equity","2010-07-27",0,54,0,0,0,20,20.84083569333233]
[2010,8,"Q3","2010Q3","Brazil","Small Hydro","Asset finance investments",20.21561062253236,"New Financial Investment","AF","AF12718","Certel Rastro de Auto Small Hydro Plant","Brazil","Brazil","Central & South America","AMER","non-OECD","BASIC","Small hydro","Small Hydro","Run of River",0,"New build","Term loan","Debt","2010-08-16",7,0,0,0,19.399999999999999,19.399999999999999,20.21561062253236]
[2010,8,"Q3","2010Q3","Brazil","Biofuels","Asset finance investments",10.420417846666165,"New Financial Investment","AF","AF20438","Amazonbio Ji Parana Biodiesel Plant Expansion","Brazil","Brazil","Central & South America","AMER","non-OECD","BASIC","Biofuels","Biofuels","Diesel Substitute","Transesterification","New build","Balance Sheet","Equity","2010-08-31",0,25.2,0,0,0,10,10.420417846666165]
[2010,9,"Q3","2010Q3","Brazil","Small Hydro","Asset finance investments",6.7732716003330058,"New Financial Investment","AF","AF13144","Foz do Brasil Ilha da Luz Small Hydro Plant","Brazil","Brazil","Central & South America","AMER","non-OECD","BASIC","Small hydro","Small Hydro","Run of River",0,"New build","Balance Sheet","Equity","2010-09-10",2.6,0,0,0,0,6.5,6.7732716003330058]
[2010,9,"Q3","2010Q3","Brazil","Small Hydro","Asset finance investments",5.2102089233330826,"New Financial Investment","AF","AF13088","Germat Mestre Small Hydro Plant","Brazil","Brazil","Central & South America","AMER","non-OECD","BASIC","Small hydro","Small Hydro","Run of River",0,"New build","Balance Sheet","Equity","2010-09-10",2,0,0,0,0,5,5.2102089233330826]
[2010,9,"Q3","2010Q3","Brazil","Small Hydro","Asset finance investments",3.3866358001665029,"New Financial Investment","AF","AF13060","CESL Feixos Small Hydro Plant","Brazil","Brazil","Central & South America","AMER","non-OECD","BASIC","Small hydro","Small Hydro","Run of River",0,"New build","Balance Sheet","Equity","2010-09-10",1.3,0,0,0,0,3.25,3.3866358001665029]
[2010,8,"Q3","2010Q3","Brazil","Biofuels","Asset finance investments",0.89615593481329026,"New Financial Investment","AF","AF6940","Fiagril Lucas do Rio Verde Biodiesel Plant Expansion","Brazil","Brazil","Central & South America","AMER","non-OECD","BASIC","Biofuels","Biofuels","Diesel Substitute","Transesterification","New build","Balance Sheet","Equity","2010-08-31",0,55.1,0,0,0.86,0.86,0.89615593481329026]
[2009,7,"Q3","2009Q3","Brazil","Wind","Asset finance investments",386.46400000000006,"New Financial Investment","AF","AF7080","SIIF Quintanilha Machado Wind Farm","Brazil","Brazil","Central & South America","AMER","non-OECD","BASIC","Wind","Wind","Onshore",0,"New build","Balance Sheet","Equity","2009-07-31",135,0,0,0,371.6,371.6,386.46400000000006]
[2009,9,"Q3","2009Q3","Brazil","Wind","Asset finance investments",178.15200000000002,"New Financial Investment","AF","AF9259","NEO Alegria I Wind Farm","Brazil","Brazil","Central & South America","AMER","non-OECD","BASIC","Wind","Wind","Onshore",0,"New build","Balance Sheet","Equity","2009-09-25",51,0,0,0,171.3,171.3,178.15200000000002]
[2009,9,"Q3","2009Q3","Brazil","Biofuels","Asset finance investments",156,"New Financial Investment","AF","AF30452","Noble Noroeste Paulista Bioethanol Plant Expansion II","Brazil","Brazil","Central & South America","AMER","non-OECD","BASIC","Biofuels","Biofuels","Gasoline/Petrol Substitute","1-Gen fermentation","New build","Balance Sheet","Equity","2009-09-30",90,300,0,0,0,150,156]
[2009,9,"Q3","2009Q3","Mexico","Geothermal","Asset finance investments",132.08000000000001,"New Financial Investment","AF","AF9161","CFE Cerro Prieto V Geothermal Plant Drilling","Mexico","Other AMER","Central & South America","AMER","OECD",null,"Geothermal","Geothermal","Conventional","Single flash","New build","Balance Sheet","Equity","2009-09-11",0,0,0,0,127,127,132.08000000000001]
[2009,8,"Q3","2009Q3","Brazil","Small Hydro","Asset finance investments",112.42399999999999,"New Financial Investment","AF","AF6711","Energisa Rio de Janeiro Small Hydro Portfolio","Brazil","Brazil","Central & South America","AMER","non-OECD","BASIC","Small hydro","Small Hydro","Run of River",0,"New build","Balance Sheet","Equity","2009-08-17",31.2,0,0,0,108.1,108.1,112.42399999999999]
[2009,7,"Q3","2009Q3","Brazil","Biofuels","Asset finance investments",112.32000000000001,"New Financial Investment","AF","AFLATAM_RP14849","CEM Morrinhos Camen Bioethanol Plant","Brazil","Brazil","Central & South America","AMER","non-OECD","BASIC","Biofuels","Biofuels","Gasoline/Petrol Substitute",0,"New build","Balance Sheet","Equity","2009-07-31",12,120,0,0,0,108,112.32000000000001]
[2009,8,"Q3","2009Q3","Brazil","Biomass & Waste","Asset finance investments",108.05600000000001,"New Financial Investment","AF","AF8789","Tavares Almeida Vista Alegre Itapetininga Power Plant Facility","Brazil","Brazil","Central & South America","AMER","non-OECD","BASIC","Biomass & Waste","Biomass & Waste","Electricity Generation (new)","Incineration","New build","Term loan","Debt","2009-08-31",60,0,0,0,103.9,103.9,108.05600000000001]
[2009,8,"Q3","2009Q3","Brazil","Small Hydro","Asset finance investments",104,"New Financial Investment","AF","AF8980","Barra do Brauna Small Hydro Plant","Brazil","Brazil","Central & South America","AMER","non-OECD","BASIC","Small hydro","Small Hydro","New Dam",0,"New build","Term loan","Debt","2009-08-20",39,0,0,0,100,100,104]
[2009,8,"Q3","2009Q3","Brazil","Biofuels","Asset finance investments",93.600000000000009,"New Financial Investment","AF","AF21004","Fatima do Sul Bioethanol Plant","Brazil","Brazil","Central & South America","AMER","non-OECD","BASIC","Biofuels","Biofuels","Gasoline/Petrol Substitute","1-Gen fermentation","New build","Term loan","Debt","2009-08-31",0,134,0,0,90,90,93.600000000000009]
[2009,7,"Q3","2009Q3","Brazil","Biofuels","Asset finance investments",92.664000000000001,"New Financial Investment","AF","AF8824","Balbo Uberaba Ethanol and Power Plant","Brazil","Brazil","Central & South America","AMER","non-OECD","BASIC","Biofuels","Biofuels","Gasoline/Petrol Substitute","1-Gen fermentation","New build","Term loan","Debt","2009-07-13",12,120,0,0,89.1,89.1,92.664000000000001]
[2009,8,"Q3","2009Q3","Brazil","Biofuels","Asset finance investments",88.4,"New Financial Investment","AF","AF21206","Aurora Anaurilandia Bioethanol Plant","Brazil","Brazil","Central & South America","AMER","non-OECD","BASIC","Biofuels","Biofuels","Gasoline/Petrol Substitute","1-Gen fermentation","New build","Balance Sheet","Equity","2009-08-31",0,84,0,0,85,85,88.4]
[2009,7,"Q3","2009Q3","Chile","Biomass & Waste","Asset finance investments",78,"New Financial Investment","AF","AF6978","Cagliari Mulchen Biomass Plant","Chile","Other AMER","Central & South America","AMER","OECD",null,"Biomass & Waste","Biomass & Waste","Electricity Generation (new)","Incineration","New build","Term loan","Debt","2009-07-31",40,0,0,0,75,75,78]
[2009,7,"Q3","2009Q3","Brazil","Biomass & Waste","Asset finance investments",72.540000000000006,"New Financial Investment","AF","AF11937","Eletrogoes Pimenta Bueno Biomass Plant","Brazil","Brazil","Central & South America","AMER","non-OECD","BASIC","Biomass & Waste","Biomass & Waste","Electricity Generation (new)","Incineration","New build","Balance Sheet","Equity","2009-07-31",25,0,0,0,0,69.75,72.540000000000006]
[2009,7,"Q3","2009Q3","Argentina","Wind","Asset finance investments",69.263999999999996,"New Financial Investment","AF","AF7102","La Rioja Wind Farm Phase II","Argentina","Other AMER","Central & South America","AMER","non-OECD",null,"Wind","Wind","Onshore",0,"New build","Term loan","Debt","2009-07-31",23.1,0,0,0,66.599999999999994,66.599999999999994,69.263999999999996]
[2009,9,"Q3","2009Q3","Brazil","Biomass & Waste","Asset finance investments",68.64,"New Financial Investment","AF","AF19066","Destilaria Pau d'Alho Ibirarema Power Plant","Brazil","Brazil","Central & South America","AMER","non-OECD","BASIC","Biomass & Waste","Biomass & Waste","Electricity Generation (new)","Incineration","New build","Balance Sheet","Equity","2009-09-30",33,0,0,0,0,66,68.64]
[{"$f":"IF(K709=\"\",\"\",IF(AND(YEAR(Z709)<2004,YEAR(Z709)>1910),2004,YEAR(Z709)))","v":2009},{"$f":"IF(K709=\"\",\"\",IF(ISNUMBER(Z709),MONTH(Z709),0))","v":9},{"$f":"IF(K709=\"\",\"\",IF(AND(B709>=1,B709<=3),\"Q1\",IF(AND(B709>3,B709<=6),\"Q2\",IF(AND(B709>6,B709<=9),\"Q3\",IF(AND(B709>9,B709<=12),\"Q4\",0)))))","v":"Q3"},{"$f":"IF(A709<2006, \"< 2006\", A709&C709)","v":"2009Q3"},{"$f":"IF(K709=\"\",\"\", M709)","v":"Brazil"},"Small Hydro","Asset finance investments",{"$f":"IF(K709=\"\",\"\",AG709)","v":67.600000000000009},"New Financial Investment","AF","AF10179","Omega Pipoca Small Hydro Plant","Brazil","Brazil","Central & South America","AMER","non-OECD","BASIC","Small hydro","Small Hydro","Run of River",0,"New build","Term loan","Debt","2009-09-14",20,0,0,0,65,65,67.600000000000009]
[2009,7,"Q3","2009Q3","Brazil","Small Hydro",{"$f":"IF(K710=\"\",\"\",IF(OR(J710=\"PM\",J710=\"MA\"), \"Corporate finance investments\", IF(J710=\"VCPE\", \"VC/PE investments\", IF(J710=\"AF\", \"Asset finance investments\"))))","v":"Asset finance investments"},64.896000000000001,"New Financial Investment","AF","AF10178","Brascan Angelina Small Hydro Plant","Brazil","Brazil","Central & South America","AMER","non-OECD","BASIC","Small hydro","Small Hydro","Run of River",0,"New build","Term loan","Debt","2009-07-21",25,0,0,0,62.4,62.4,64.896000000000001]
[2009,8,"Q3","2009Q3","Brazil",{"$f":"IF(K711=\"\",\"\",IF(OR(T711=\"Wind\",T711=\"Solar\",T711=\"Geothermal\",T711=\"Small Hydro\",T711=\"Biofuels\",T711=\"Biomass & Waste\"),T711,\"Other Clean Energy\"))","v":"Small Hydro"},"Asset finance investments",60.631999999999998,"New Financial Investment","AF","AF9170","Duke Energy Palmeiras Small Hydro Plant","Brazil","Brazil","Central & South America","AMER","non-OECD","BASIC","Small hydro","Small Hydro","Run of River",0,"New build","Term loan","Debt","2009-08-30",16,0,0,0,58.3,58.3,60.631999999999998]
[2009,8,"Q3","2009Q3","Brazil","Small Hydro","Asset finance investments",58.864000000000004,"New Financial Investment","AF","AF9169","Duke Energy Retiro Small Hydro Plant","Brazil","Brazil","Central & South America","AMER","non-OECD","BASIC","Small hydro","Small Hydro","Run of River",0,"New build","Term loan","Debt","2009-08-30",16,0,0,0,56.6,56.6,58.864000000000004]
[2009,8,"Q3","2009Q3","Brazil","Biomass & Waste","Asset finance investments",56.576000000000001,"New Financial Investment","AF","AF6648","CPFL Irmaos Baldin Power Plant Facility","Brazil","Brazil","Central & South America","AMER","non-OECD","BASIC","Biomass & Waste","Biomass & Waste","Electricity Generation (new)","Incineration","New build","Term loan","Debt","2009-08-31",45,0,0,0,54.4,54.4,56.576000000000001]
[2009,9,"Q3","2009Q3","Panama","Small Hydro","Asset finance investments",52.260000000000005,"New Financial Investment","AF","AF9514","Generadora Pedregalito Small Hydro Plant","Panama","Other AMER","Central & South America","AMER","non-OECD",null,"Small hydro","Small Hydro","Run of River",0,"New build","Balance Sheet","Equity","2009-09-16",20,0,0,0,0,50.25,52.260000000000005]
[2009,7,"Q3","2009Q3","Brazil","Small Hydro","Asset finance investments",48.36,"New Financial Investment","AF","AF8778","Wanerg Malagone Small Hydro Plant","Brazil","Brazil","Central & South America","AMER","non-OECD","BASIC","Small hydro","Small Hydro","Run of River",0,"New build","Term loan","Debt","2009-07-13",19,0,0,0,46.5,46.5,48.36]
[2009,9,"Q3","2009Q3","Chile","Wind","Asset finance investments",44.72,"New Financial Investment","AF","AF6960","Consorcio Eolico Constitucion 1 Wind Farm","Chile","Other AMER","Central & South America","AMER","OECD",null,"Wind","Wind","Onshore",0,"New build","Balance Sheet","Equity","2009-09-30",20,0,0,0,43,43,44.72]
[2009,9,"Q3","2009Q3","Brazil","Biomass & Waste","Asset finance investments",40.912559999999999,"New Financial Investment","AF","AF30014","Itaiquara Passos Power Plant","Brazil","Brazil","Central & South America","AMER","non-OECD","BASIC","Biomass & Waste","Biomass & Waste","Electricity Generation (new)","Incineration","New build","Balance Sheet","Equity","2009-09-30",14.1,0,0,0,0,39.338999999999999,40.912559999999999]
[2009,8,"Q3","2009Q3","Brazil","Small Hydro","Asset finance investments",40.56,"New Financial Investment","AF","AF8979","Cesbe Marco Baldo Small Hydro Plant","Brazil","Brazil","Central & South America","AMER","non-OECD","BASIC","Small hydro","Small Hydro","Run of River",0,"New build","Balance Sheet","Equity","2009-08-18",15.6,0,0,0,0,39,40.56]
[2009,8,"Q3","2009Q3","Brazil","Small Hydro","Asset finance investments",39.122720000000001,"New Financial Investment","AF","AF7468","Estelar Small Hydro Portfolio","Brazil","Brazil","Central & South America","AMER","non-OECD","BASIC","Small hydro","Small Hydro","Run of River",0,"New build","Term loan","Debt","2009-08-30",11.85,0,0,0,37.618000000000002,37.618000000000002,39.122720000000001]
[2009,7,"Q3","2009Q3","Argentina","Biomass & Waste","Asset finance investments",38.156040000000004,"New Financial Investment","AF","AF12559","AES San Nicolas CTSN Biomass Cofiring Power Plant","Argentina","Other AMER","Central & South America","AMER","non-OECD",null,"Biomass & Waste","Biomass & Waste","Electricity Generation (new)","Co-firing","New build","Balance Sheet","Equity","2009-07-05",13.15,0,0,0,0,36.688500000000005,38.156040000000004]
[2009,7,"Q3","2009Q3","Brazil","Small Hydro","Asset finance investments",36.711999999999996,"New Financial Investment","AF","AF8825","Gênesis Energética São Francisco Small Hydro Plant","Brazil","Brazil","Central & South America","AMER","non-OECD","BASIC","Small hydro","Small Hydro","Run of River",0,"New build","Term loan","Debt","2009-07-20",12,0,0,0,35.299999999999997,35.299999999999997,36.711999999999996]
[2009,7,"Q3","2009Q3","Brazil","Small Hydro","Asset finance investments",35.464000000000006,"New Financial Investment","AF","AF8812","Firenze Santana I Small Hydro Plant","Brazil","Brazil","Central & South America","AMER","non-OECD","BASIC","Small hydro","Small Hydro","Run of River",0,"New build","Balance Sheet","Equity","2009-07-31",13.1,0,0,0,34.1,34.1,35.464000000000006]
[2009,8,"Q3","2009Q3","Uruguay","Biomass & Waste","Asset finance investments",29.12,"New Financial Investment","AF","AF20494","Galofer Villa Sara Biomass Plant","Uruguay","Other AMER","Central & South America","AMER","non-OECD",null,"Biomass & Waste","Biomass & Waste","Combined Heat & Power (CHP)","Incineration","New build","Balance Sheet","Equity","2009-08-30",14,0,8.6999999999999993,0,0,28,29.12]
[2009,9,"Q3","2009Q3","Brazil","Biofuels","Asset finance investments",26,"New Financial Investment","AF","AF20444","Binatural Formosa Biodiesel Plant Expansion II","Brazil","Brazil","Central & South America","AMER","non-OECD","BASIC","Biofuels","Biofuels","Diesel Substitute","Transesterification","New build","Balance Sheet","Equity","2009-09-10",0,78,0,0,0,25,26]
[2009,7,"Q3","2009Q3","Brazil","Biomass & Waste","Asset finance investments",22.880000000000003,"New Financial Investment","AF","AF8788","Adecoagro Monte Alegre Power Plant","Brazil","Brazil","Central & South America","AMER","non-OECD","BASIC","Biomass & Waste","Biomass & Waste","Electricity Generation (new)","Incineration","New build","Term loan","Debt","2009-07-20",18,0,0,0,22,22,22.880000000000003]
[2009,8,"Q3","2009Q3","Brazil","Biofuels","Asset finance investments",22.880000000000003,"New Financial Investment","AF","AF9038","Camera Agroalimentos Ijui Biodiesel Plant","Brazil","Brazil","Central & South America","AMER","non-OECD","BASIC","Biofuels","Biofuels","Diesel Substitute","Transesterification","New build","Term loan","Debt","2009-08-15",0,144,0,0,22,22,22.880000000000003]
[2009,9,"Q3","2009Q3","Brazil","Wind","Asset finance investments",18.72,"New Financial Investment","AF","AF9324","Impsa Brazil Wind Portfolio","Brazil","Brazil","Central & South America","AMER","non-OECD","BASIC","Wind","Wind","Onshore",0,"New build","Balance Sheet","Equity","2009-09-29",0,0,0,0,18,18,18.72]
[2009,8,"Q3","2009Q3","Brazil","Biofuels","Asset finance investments",18.2,"New Financial Investment","AF","AF10994","Vertente Bioethanol and Power Plant Expansion","Brazil","Brazil","Central & South America","AMER","non-OECD","BASIC","Biofuels","Biofuels","Gasoline/Petrol Substitute","1-Gen fermentation","New build","Balance Sheet","Equity","2009-08-31",8,35,0,0,0,17.5,18.2]
[2009,9,"Q3","2009Q3","Chile","Small Hydro","Asset finance investments",17.68,"New Financial Investment","AF","AF6592","Mantex Dongo Small Hydro Plant","Chile","Other AMER","Central & South America","AMER","OECD",null,"Small hydro","Small Hydro","Run of River",0,"New build","Term loan","Debt","2009-09-30",5,0,0,0,17,17,17.68]
[2009,9,"Q3","2009Q3","Brazil","Wind","Asset finance investments",13.624000000000001,"New Financial Investment","AF","AF9319","Cedin Alhandra Wind Farm","Brazil","Brazil","Central & South America","AMER","non-OECD","BASIC","Wind","Wind","Onshore",0,"New build","Balance Sheet","Equity","2009-09-30",6.3,0,0,0,13.1,13.1,13.624000000000001]
[2009,9,"Q3","2009Q3","Brazil","Biofuels","Asset finance investments",12.093120000000001,"New Financial Investment","AF","AF31014","Caibiense Rondonopolis Biodiesel Plant Expansion","Brazil","Brazil","Central & South America","AMER","non-OECD","BASIC","Biofuels","Biofuels","Diesel Substitute","Transesterification","New build","Balance Sheet","Equity","2009-09-10",0,30.6,0,0,0,11.628,12.093120000000001]
[2009,9,"Q3","2009Q3","Brazil","Biofuels","Asset finance investments",10.907520000000002,"New Financial Investment","AF","AF29596","Biopar Parecis Nova Marilandia Biodiesel Plant Expansion","Brazil","Brazil","Central & South America","AMER","non-OECD","BASIC","Biofuels","Biofuels","Diesel Substitute","Transesterification","New build","Balance Sheet","Equity","2009-09-10",0,27.6,0,0,0,10.488000000000001,10.907520000000002]
[2009,9,"Q3","2009Q3","Brazil","Small Hydro","Asset finance investments",10.4,"New Financial Investment","AF","AFLATAM_RP30975","Eletrisa Passo Ferraz Small Hydro Plant","Brazil","Brazil","Central & South America","AMER","non-OECD","BASIC","Small hydro","Small Hydro","Run of River",0,"New build","Balance Sheet","Equity","2009-09-01",4,0,0,0,0,10,10.4]
[2009,7,"Q3","2009Q3","Brazil","Biofuels","Asset finance investments",8.5363199999999999,"New Financial Investment","AF","AF30822","Fertibom Catanduva Biodiesel Plant Expansion III","Brazil","Brazil","Central & South America","AMER","non-OECD","BASIC","Biofuels","Biofuels","Diesel Substitute","Transesterification","New build","Balance Sheet","Equity","2009-07-24",0,21.6,0,0,0,8.2080000000000002,8.5363199999999999]
[2009,8,"Q3","2009Q3","Brazil","Small Hydro","Asset finance investments",6.6560000000000006,"New Financial Investment","AF","AF8976","Rio do Lobo Albano Machado Small Hydro Plant","Brazil","Brazil","Central & South America","AMER","non-OECD","BASIC","Small hydro","Small Hydro","Run of River",0,"New build","Balance Sheet","Equity","2009-08-18",3,0,0,0,6.4,6.4,6.6560000000000006]
[2009,9,"Q3","2009Q3","Chile","Wind","Asset finance investments",5.2,"New Financial Investment","AF","AF6425","Methanex Cabo Negro Wind Farm","Chile","Other AMER","Central & South America","AMER","OECD",null,"Wind","Wind","Onshore",0,"New build","Balance Sheet","Equity","2009-09-29",2.2999999999999998,0,0,0,5,5,5.2]
[2009,9,"Q3","2009Q3","Argentina","Biofuels","Asset finance investments",5.0980800000000004,"New Financial Investment","AF","AF7111","Hector Bolzan Maria Luisa Biodiesel Plant","Argentina","Other AMER","Central & South America","AMER","non-OECD",null,"Biofuels","Biofuels","Diesel Substitute","Transesterification","New build","Balance Sheet","Equity","2009-09-30",0,12.9,0,0,0,4.9020000000000001,5.0980800000000004]
[2009,8,"Q3","2009Q3","Brazil","Small Hydro","Asset finance investments",3.9000000000000004,"New Financial Investment","AF","AF8971","Ferlig Maria Célia Mauad Notini Small Hydro Plant","Brazil","Brazil","Central & South America","AMER","non-OECD","BASIC","Small hydro","Small Hydro","Run of River",0,"New build","Balance Sheet","Equity","2009-08-18",1.5,0,0,0,0,3.75,3.9000000000000004]
[2009,9,"Q3","2009Q3","Chile","Small Hydro","VC/PE investments",2.3919999999999999,"New Financial Investment","VCPE","VCPE3020","Hydroventura Chile SpA","Chile","Other AMER","Central & South America","AMER","OECD",null,"Small hydro","Small Hydro",0,0,"Developer","VC - Series A / First round","VC Early Stage","2009-09-16","na","na","na","na",2.2999999999999998,2.2999999999999998,2.3919999999999999]
[2009,8,"Q3","2009Q3","Argentina","Wind","Asset finance investments",0.312,"New Financial Investment","AF","AF10772","State Government of Argentina Necochea EOS Wind Farm Phase I","Argentina","Other AMER","Central & South America","AMER","non-OECD",null,"Wind","Wind","Onshore",0,"New build","Balance Sheet","Equity","2009-08-31",3,0,0,0,0.3,0.3,0.312]
[2008,8,"Q3","2008Q3","Brazil","Biofuels","Asset finance investments",1133,"New Financial Investment","AF","AF6682","Brenco Mato Grosso and Goias Bioethanol Portfolio","Brazil","Brazil","Central & South America","AMER","non-OECD","BASIC","Biofuels","Biofuels","Gasoline/Petrol Substitute","1-Gen fermentation","New build","Term loan","Debt","2008-08-13",297.89999999999998,1440,0,0,1100,1100,1133]
[2008,9,"Q3","2008Q3","Brazil","Biofuels","Corporate finance investments",501.71300000000002,"New Financial Investment","PM","PM1752","Cosan SA Industria e Comercio","Brazil","Brazil","Central & South America","AMER","non-OECD","BASIC","Biofuels","Biofuels",0,0,"Brazil","Exercise of Rights","Convertible & Other","2008-09-23","São Paulo (BOVESPA)",0,487.1,2338.4,487.1,487.1,501.71300000000002]
[2008,8,"Q3","2008Q3","Brazil","Biofuels","Asset finance investments",444.34199999999998,"New Financial Investment","AF","AF6248","LDC Usina Rio Brilhante Bioethanol and Power Plant","Brazil","Brazil","Central & South America","AMER","non-OECD","BASIC","Biofuels","Biofuels","Gasoline/Petrol Substitute","1-Gen fermentation","New build","Balance Sheet","Equity","2008-08-21",90,160,0,0,431.4,431.4,444.34199999999998]
[2008,8,"Q3","2008Q3","Brazil","Biofuels","Asset finance investments",293.55,"New Financial Investment","AF","AF6172","Cosan Jatai Ethanol Plant","Brazil","Brazil","Central & South America","AMER","non-OECD","BASIC","Biofuels","Biofuels","Gasoline/Petrol Substitute","1-Gen fermentation","New build","Balance Sheet","Equity","2008-08-08",41,370,0,0,285,285,293.55]
[2008,9,"Q3","2008Q3","Brazil","Biofuels","Asset finance investments",175.1,"New Financial Investment","AF","AF6378","Biofuel Energy Paranapanema I and II Ethanol Plants","Brazil","Brazil","Central & South America","AMER","non-OECD","BASIC","Biofuels","Biofuels","Gasoline/Petrol Substitute","1-Gen fermentation","New build","Balance Sheet","Equity","2008-09-01T14:52:00",0,243,0,0,170,170,175.1]
[2008,9,"Q3","2008Q3","Chile","Wind","Asset finance investments",144.20000000000002,"New Financial Investment","AF","AF6664","SN Power Totoral Wind Farm","Chile","Other AMER","Central & South America","AMER","OECD",null,"Wind","Wind","Onshore",0,"New build","Term loan","Debt","2008-09-23",46,0,0,0,140,140,144.20000000000002]
[2008,8,"Q3","2008Q3","Brazil","Biofuels","Asset finance investments",138.535,"New Financial Investment","AF","AF6216","Tonon Vista Alegre Maracaju Ethanol and Power Plant","Brazil","Brazil","Central & South America","AMER","non-OECD","BASIC","Biofuels","Biofuels","Gasoline/Petrol Substitute","1-Gen fermentation","New build","Term loan","Debt","2008-08-12",30,90,0,0,134.5,134.5,138.535]
[2008,7,"Q3","2008Q3","Brazil","Biofuels","Asset finance investments",127.72,"New Financial Investment","AF","AF7679","Santa Terezinha Paranacity Bioethanol and Power Plant Expansion","Brazil","Brazil","Central & South America","AMER","non-OECD","BASIC","Biofuels","Biofuels","Gasoline/Petrol Substitute","1-Gen fermentation","New build","Term loan","Debt","2008-07-08",37.1,5,0,0,124,124,127.72]
[2008,7,"Q3","2008Q3","Costa Rica","Wind","Asset finance investments",113.3,"New Financial Investment","AF","AF3773","Ecoenergy International Juwi Saret Proyecto Eolico Guanacaste Wind Farm","Costa Rica","Other AMER","Central & South America","AMER","non-OECD",null,"Wind","Wind","Onshore",0,"New build","Term loan","Debt","2008-07-29",49.5,0,0,0,110,110,113.3]
[2008,8,"Q3","2008Q3","Brazil","Biofuels","Asset finance investments",101.97,"New Financial Investment","AF","AF6209","Brasil Bioenergia Nova Andradina Biodiesel Plant","Brazil","Brazil","Central & South America","AMER","non-OECD","BASIC","Biofuels","Biofuels","Diesel Substitute",0,"New build","Term loan","Debt","2008-08-11",0,122,0,0,99,99,101.97]
[2008,8,"Q3","2008Q3","Brazil","Small Hydro","Asset finance investments",86.664200000000008,"New Financial Investment","AF","AF6217","GLEP Santa Luzia Alto Small Hydro Plant","Brazil","Brazil","Central & South America","AMER","non-OECD","BASIC","Small hydro","Small Hydro","Run of River",0,"New build","Balance Sheet","Equity","2008-08-13",28.5,0,0,0,84.14,84.14,86.664200000000008]
[2008,8,"Q3","2008Q3","Brazil","Wind","Asset finance investments",83.121000000000009,"New Financial Investment","AF","AF3511","Beberibe Wind Farm","Brazil","Brazil","Central & South America","AMER","non-OECD","BASIC","Wind","Wind","Onshore",0,"New build","Term loan","Debt","2008-08-31",25.6,0,0,0,80.7,80.7,83.121000000000009]
[2008,9,"Q3","2008Q3","Nicaragua","Small Hydro","Asset finance investments",77.25,"New Financial Investment","AF","AF6364","Compania Cervecera de Nicaragua El Salto YY Small Hydro Plant","Nicaragua","Other AMER","Central & South America","AMER","non-OECD",null,"Small hydro","Small Hydro","Run of River",0,"New build","Balance Sheet","Equity","2008-09-08",25,0,0,0,0,75,77.25]
[2008,9,"Q3","2008Q3","Brazil","Biofuels","Asset finance investments",73.438999999999993,"New Financial Investment","AF","AF7694","Total Agroindustria Bioethanol and Power Plant","Brazil","Brazil","Central & South America","AMER","non-OECD","BASIC","Biofuels","Biofuels","Gasoline/Petrol Substitute","1-Gen fermentation","New build","Term loan","Debt","2008-09-26",25,100,0,0,71.3,71.3,73.438999999999993]
[2008,9,"Q3","2008Q3","Brazil","Biofuels","Asset finance investments",72.100000000000009,"New Financial Investment","AF","AF6626","Noble Noroeste Paulista Bioethanol Plant Expansion I","Brazil","Brazil","Central & South America","AMER","non-OECD","BASIC","Biofuels","Biofuels","Gasoline/Petrol Substitute","1-Gen fermentation","New build","Balance Sheet","Equity","2008-09-30",0,65,0,0,70,70,72.100000000000009]
[2008,7,"Q3","2008Q3","Panama","Small Hydro","Asset finance investments",69.525000000000006,"New Financial Investment","AF","AF9503","Bontex Gualaca Small Hydro Plant","Panama","Other AMER","Central & South America","AMER","non-OECD",null,"Small hydro","Small Hydro","Run of River",0,"New build","Balance Sheet","Equity","2008-07-12",27,0,0,0,0,67.5,69.525000000000006]
[2008,9,"Q3","2008Q3","Colombia","Small Hydro","Asset finance investments",65.302000000000007,"New Financial Investment","AF","AF27054","EPSA Alto Tulua Small Hydro Plant","Colombia","Other AMER","Central & South America","AMER","non-OECD",null,"Small hydro","Small Hydro","Run of River",0,"New build","Balance Sheet","Equity","2008-09-15",19.91,0,0,0,63.4,63.4,65.302000000000007]
[2008,9,"Q3","2008Q3","Chile","Small Hydro","Asset finance investments",61.800000000000004,"New Financial Investment","AF","AF3591","GDF Suez Laja Small Hydro Plant","Chile","Other AMER","Central & South America","AMER","OECD",null,"Small hydro","Small Hydro","Run of River",0,"New build","Term loan","Debt","2008-09-30",36,0,0,0,60,60,61.800000000000004]
[2008,8,"Q3","2008Q3","Brazil","Small Hydro","Asset finance investments",58.606999999999999,"New Financial Investment","AF","AF7684","Brennand Santa Gabriela Small Hydro Plant","Brazil","Brazil","Central & South America","AMER","non-OECD","BASIC","Small hydro","Small Hydro","New Dam",0,"New build","Term loan","Debt","2008-08-27",24,0,0,0,56.9,56.9,58.606999999999999]
[2008,8,"Q3","2008Q3","Brazil","Small Hydro","Asset finance investments",58.298000000000002,"New Financial Investment","AF","AF7017","Brennand Planalto Small Hydro Plant","Brazil","Brazil","Central & South America","AMER","non-OECD","BASIC","Small hydro","Small Hydro","Run of River",0,"New build","Term loan","Debt","2008-08-27",17,0,0,0,56.6,56.6,58.298000000000002]
[2008,7,"Q3","2008Q3","Brazil","Biomass & Waste","Asset finance investments",58.091999999999999,"New Financial Investment","AF","AFLATAM_RP20087","Biolins Energia Lins Biomass Plant","Brazil","Brazil","Central & South America","AMER","non-OECD","BASIC","Biomass & Waste","Biomass & Waste","Electricity Generation (new)",0,"New build","Balance Sheet","Equity","2008-07-06",28.2,0,0,0,0,56.4,58.091999999999999]
[2008,9,"Q3","2008Q3","Brazil","Biofuels","Asset finance investments",57.68,"New Financial Investment","AF","AF18468","Usina Canabrava Bioethanol and Power Plant","Brazil","Brazil","Central & South America","AMER","non-OECD","BASIC","Biofuels","Biofuels","Gasoline/Petrol Substitute","1-Gen fermentation","New build","Balance Sheet","Equity","2008-09-10",44,120,0,0,0,56,57.68]
[2008,7,"Q3","2008Q3","Brazil","Biofuels","Asset finance investments",45.113999999999997,"New Financial Investment","AF","AF10771","Boa Esperanca Santa Luzia D'Oeste Ethanol Plant","Brazil","Brazil","Central & South America","AMER","non-OECD","BASIC","Biofuels","Biofuels","Gasoline/Petrol Substitute","1-Gen fermentation","New build","Term loan","Debt","2008-07-01",0,72,0,0,43.8,43.8,45.113999999999997]
[2008,7,"Q3","2008Q3","Colombia","Small Hydro","Asset finance investments",45.011000000000003,"New Financial Investment","AF","AF6600","Century Antioquia Small Hydro Portfolio","Colombia","Other AMER","Central & South America","AMER","non-OECD",null,"Small hydro","Small Hydro","Run of River",0,"New build","Term loan","Debt","2008-07-21",19.3,0,0,0,43.7,43.7,45.011000000000003]
[2008,8,"Q3","2008Q3","Brazil","Small Hydro","Asset finance investments",39.861000000000004,"New Financial Investment","AF","AF6149","Neoenergia Pedra Do Garrafao Small Hydro Plant","Brazil","Brazil","Central & South America","AMER","non-OECD","BASIC","Small hydro","Small Hydro","New Dam",0,"New build","Term loan","Debt","2008-08-07",19,0,0,0,38.700000000000003,38.700000000000003,39.861000000000004]
[2008,8,"Q3","2008Q3","Brazil","Biomass & Waste","Asset finance investments",28.943000000000001,"New Financial Investment","AF","AF5250","Biogas Environmental Energy Sao Joao CDM Landfill Gas to Energy Project","Brazil","Brazil","Central & South America","AMER","non-OECD","BASIC","Biomass & Waste","Biomass & Waste","Electricity Generation (new)","Anaerobic digestion","New build","Balance Sheet","Equity","2008-08-04",22.4,0,0,0,28.1,28.1,28.943000000000001]
[2008,7,"Q3","2008Q3","Brazil","Biomass & Waste","Asset finance investments",25.75,"New Financial Investment","AF","AF7683","Cocamar Maringa Biomass Plant","Brazil","Brazil","Central & South America","AMER","non-OECD","BASIC","Biomass & Waste","Biomass & Waste","Electricity Generation (new)","Incineration","New build","Term loan","Debt","2008-07-11",13,0,0,0,25,25,25.75]
[2008,8,"Q3","2008Q3","Brazil","Small Hydro","Asset finance investments",24.72,"New Financial Investment","AF","AF7473","Brennand Ouro Small Hydro Plant","Brazil","Brazil","Central & South America","AMER","non-OECD","BASIC","Small hydro","Small Hydro","Run of River",0,"New build","Term loan","Debt","2008-08-31",16,0,0,0,24,24,24.72]
[2008,7,"Q3","2008Q3","Chile","Small Hydro","VC/PE investments",20.6,"New Financial Investment","VCPE","VCPE2340","Hydro Chile SA","Chile","Other AMER","Central & South America","AMER","OECD",null,"Small hydro","Small Hydro",0,0,"Power Generator","PE - Expansion capital","PE Expansion Capital","2008-07-22T09:03:00","na","na","na","na",20,20,20.6]
[2008,7,"Q3","2008Q3","Brazil","Biomass & Waste","Asset finance investments",16.48,"New Financial Investment","AF","AF29900","Santa Terezinha Ivate Power Plant Expansion","Brazil","Brazil","Central & South America","AMER","non-OECD","BASIC","Biomass & Waste","Biomass & Waste","Electricity Generation (new)","Incineration","New build","Balance Sheet","Equity","2008-07-28",5,0,0,0,0,16,16.48]
[2008,9,"Q3","2008Q3","Argentina","Biomass & Waste","Asset finance investments",10.3,"New Financial Investment","AF","AF27486","Juan M Teran Santa Barbara Power Plant Expansion","Argentina","Other AMER","Central & South America","AMER","non-OECD",null,"Biomass & Waste","Biomass & Waste","Electricity Generation (new)","Incineration","New build","Balance Sheet","Equity","2008-09-06",16,0,0,0,10,10,10.3]
[2008,7,"Q3","2008Q3","Brazil","Biomass & Waste","Asset finance investments",8.7550000000000008,"New Financial Investment","AF","AF7685","Pitangueiras Biomass Plant Expansion","Brazil","Brazil","Central & South America","AMER","non-OECD","BASIC","Biomass & Waste","Biomass & Waste","Electricity Generation (new)","Incineration","New build","Term loan","Debt","2008-07-11",25,0,0,0,8.5,8.5,8.7550000000000008]
[{"$f":"IF(K773=\"\",\"\",IF(AND(YEAR(Z773)<2004,YEAR(Z773)>1910),2004,YEAR(Z773)))","v":2008},{"$f":"IF(K773=\"\",\"\",IF(ISNUMBER(Z773),MONTH(Z773),0))","v":8},{"$f":"IF(K773=\"\",\"\",IF(AND(B773>=1,B773<=3),\"Q1\",IF(AND(B773>3,B773<=6),\"Q2\",IF(AND(B773>6,B773<=9),\"Q3\",IF(AND(B773>9,B773<=12),\"Q4\",0)))))","v":"Q3"},{"$f":"IF(A773<2006, \"< 2006\", A773&C773)","v":"2008Q3"},{"$f":"IF(K773=\"\",\"\", M773)","v":"Brazil"},"Small Hydro","Asset finance investments",{"$f":"IF(K773=\"\",\"\",AG773)","v":6.798},"New Financial Investment","AF","AF7678","Tudelandia Small Hydro Plant","Brazil","Brazil","Central & South America","AMER","non-OECD","BASIC","Small hydro","Small Hydro","Run of River",0,"New build","Balance Sheet","Equity","2008-08-10",2.4,0,0,0,6.6,6.6,6.798]
[2008,8,"Q3","2008Q3","Mexico","Biomass & Waste",{"$f":"IF(K774=\"\",\"\",IF(OR(J774=\"PM\",J774=\"MA\"), \"Corporate finance investments\", IF(J774=\"VCPE\", \"VC/PE investments\", IF(J774=\"AF\", \"Asset finance investments\"))))","v":"Asset finance investments"},6.798,"New Financial Investment","AF","AF12928","Benlesa Monterrey II Landfill Gas Plant","Mexico","Other AMER","Central & South America","AMER","OECD",null,"Biomass & Waste","Biomass & Waste","Electricity Generation (new)","Landfill gas power","New build","Balance Sheet","Equity","2008-08-30",5.3,0,0,0,6.6,6.6,6.798]
[2008,9,"Q3","2008Q3","Argentina",{"$f":"IF(K775=\"\",\"\",IF(OR(T775=\"Wind\",T775=\"Solar\",T775=\"Geothermal\",T775=\"Small Hydro\",T775=\"Biofuels\",T775=\"Biomass & Waste\"),T775,\"Other Clean Energy\"))","v":"Biomass & Waste"},"Asset finance investments",5.5620000000000003,"New Financial Investment","AF","AFLATAM_RP23998","Papel Prensa San Pedro Biomass Plant","Argentina","Other AMER","Central & South America","AMER","non-OECD",null,"Biomass & Waste","Biomass & Waste","Heat",0,"New build","Balance Sheet","Equity","2008-09-01",0,0,0,0,5.4,5.4,5.5620000000000003]
[2008,8,"Q3","2008Q3","Nicaragua","Small Hydro","Asset finance investments",3.9139999999999997,"New Financial Investment","AF","AFLATAM_RP17586","Hidralia Energia La Dalia Small Hydro Plant","Nicaragua","Other AMER","Central & South America","AMER","non-OECD",null,"Small hydro","Small Hydro","Run of River",0,"New build","Balance Sheet","Equity","2008-08-01",1.9,0,0,0,3.8,3.8,3.9139999999999997]
[2008,7,"Q3","2008Q3","Brazil","Biofuels","VC/PE investments",3.8110000000000004,"New Financial Investment","VCPE","VCPE2492","Oxiteno SA Industria e Comercio","Brazil","Brazil","Central & South America","AMER","non-OECD","BASIC","Biofuels","Biofuels","Gasoline/Petrol Substitute","Acid hydrolysis","Technology Developer","VC - Bridge/Interim","VC Late Stage","2008-07-29","na","na","na","na",3.7,3.7,3.8110000000000004]
[2008,9,"Q3","2008Q3","Mexico","Biomass & Waste","Asset finance investments",2.2660000000000005,"New Financial Investment","AF","AFLATAM_RP19484","Grupo Empresarial Abarmar Relleno Norte Biogas Plant","Mexico","Other AMER","Central & South America","AMER","OECD",null,"Biomass & Waste","Biomass & Waste","Electricity Generation (new)",0,"New build","Balance Sheet","Equity","2008-09-15",4.8,0,0,0,2.2000000000000002,2.2000000000000002,2.2660000000000005]
[2008,9,"Q3","2008Q3","Mexico","Biomass & Waste","Asset finance investments",1.8540000000000001,"New Financial Investment","AF","AF4392","Energreen Abarmar Relleno Norte Landfill Gas Plant","Mexico","Other AMER","Central & South America","AMER","OECD",null,"Biomass & Waste","Biomass & Waste","Electricity Generation (new)","Anaerobic digestion","New build","Balance Sheet","Equity","2008-09-15",6.4,0,0,0,0,1.8,1.8540000000000001]
[2008,8,"Q3","2008Q3","Argentina","Biofuels","Asset finance investments",1.3390000000000002,"New Financial Investment","AF","AF7126","Molyagro Tancacha Biodiesel Plant","Argentina","Other AMER","Central & South America","AMER","non-OECD",null,"Biofuels","Biofuels","Diesel Substitute","Transesterification","New build","Balance Sheet","Equity","2008-08-29",0,46,0,0,1.3,1.3,1.3390000000000002]
[2007,8,"Q3","2007Q3","Brazil","Biofuels","Asset finance investments",428.40000000000003,"New Financial Investment","AF","AF32812","Equipav Revati Bioethanol Plant","Brazil","Brazil","Central & South America","AMER","non-OECD","BASIC","Biofuels","Biofuels","Gasoline/Petrol Substitute","1-Gen fermentation","New build","Term loan","Debt","2007-08-28",0,189,0,0,0,408,428.40000000000003]
[2007,7,"Q3","2007Q3","Brazil","Biofuels","Corporate finance investments",376.63499999999999,"New Financial Investment","PM","PM1146","Guarani SA","Brazil","Brazil","Central & South America","AMER","non-OECD","BASIC","Biofuels","Biofuels",0,0,"Brazil","IPO","IPO","2007-07-23","São Paulo (BOVESPA)",0,358.7,0,358.7,358.7,376.63499999999999]
[2007,7,"Q3","2007Q3","Brazil","Wind","Asset finance investments",226.17000000000002,"New Financial Investment","AF","AF8080","SIIF Praia Formosa Wind Farm","Brazil","Brazil","Central & South America","AMER","non-OECD","BASIC","Wind","Wind","Onshore",0,"New build","Term loan","Debt","2007-07-09",105,0,0,0,215.4,215.4,226.17000000000002]
[2007,7,"Q3","2007Q3","Brazil","Biofuels","Asset finance investments",225.75,"New Financial Investment","AF","AF4189","Zillo Lorenzetti Quata and Sao Jose Ethanol and Power Plant Expansion","Brazil","Brazil","Central & South America","AMER","non-OECD","BASIC","Biofuels","Biofuels","Gasoline/Petrol Substitute","1-Gen fermentation","New build","Term loan","Debt","2007-07-19T17:57:00",123.3,124,0,0,215,215,225.75]
[2007,7,"Q3","2007Q3","Brazil","Biofuels","Asset finance investments",170.1,"New Financial Investment","AF","AF4191","Monteverde Ponta Porã Bioethanol and Power Plant","Brazil","Brazil","Central & South America","AMER","non-OECD","BASIC","Biofuels","Biofuels","Gasoline/Petrol Substitute","1-Gen fermentation","New build","Balance Sheet","Equity","2007-07-20T10:13:00",20,90.7,0,0,162,162,170.1]
[2007,8,"Q3","2007Q3","Brazil","Biofuels","Asset finance investments",154.97999999999999,"New Financial Investment","AF","AFLATAM_RP14066","Bunge Guariroba Ethanol Plant","Brazil","Brazil","Central & South America","AMER","non-OECD","BASIC","Biofuels","Biofuels","Gasoline/Petrol Substitute",0,"New build","Balance Sheet","Equity","2007-08-23T10:29:00",6,120,0,0,0,147.6,154.97999999999999]
[2007,7,"Q3","2007Q3","Brazil","Wind","Asset finance investments",141.54000000000002,"New Financial Investment","AF","AF4214","SIIF Icaraizinho Wind Farm","Brazil","Brazil","Central & South America","AMER","non-OECD","BASIC","Wind","Wind","Onshore",0,"New build","Term loan","Debt","2007-07-09",54,0,0,0,134.80000000000001,134.80000000000001,141.54000000000002]
[2007,7,"Q3","2007Q3","Brazil","Biofuels","Asset finance investments",126,"New Financial Investment","AF","AF4224","Moema's Bioenergy Project in Brazil","Brazil","Brazil","Central & South America","AMER","non-OECD","BASIC","Biofuels","Biofuels","Gasoline/Petrol Substitute","1-Gen fermentation","New build","Term loan","Debt","2007-07-25T17:18:00",0,0,0,0,120,120,126]
[2007,8,"Q3","2007Q3","Brazil","Small Hydro","Asset finance investments",89.460000000000008,"New Financial Investment","AF","AF4406","Salto Curua Small Hydro Plant CDM","Brazil","Brazil","Central & South America","AMER","non-OECD","BASIC","Small hydro","Small Hydro","New Dam",0,"New build","Term loan","Debt","2007-08-29",30,0,0,0,85.2,85.2,89.460000000000008]
[2007,9,"Q3","2007Q3","Peru","Biofuels","Asset finance investments",87.6267,"New Financial Investment","AF","AF4476","Callao Port Biodiesel Plant","Peru","Other AMER","Central & South America","AMER","non-OECD",null,"Biofuels","Biofuels","Diesel Substitute",0,"New build","Balance Sheet","Equity","2007-09-17T11:27:00",0,198.7,0,0,0,83.453999999999994,87.6267]
[2007,8,"Q3","2007Q3","Brazil","Small Hydro","Asset finance investments",70.14,"New Financial Investment","AF","AF4404","Cornelio Brennand Porto das Pedras Small Hydro Plant","Brazil","Brazil","Central & South America","AMER","non-OECD","BASIC","Small hydro","Small Hydro","New Dam",0,"New build","Term loan","Debt","2007-08-29",28.03,0,0,0,66.8,66.8,70.14]
[2007,8,"Q3","2007Q3","Brazil","Biofuels","Asset finance investments",70.035000000000011,"New Financial Investment","AF","AF4258","Bionasa Potangatu Biodiesel Plant","Brazil","Brazil","Central & South America","AMER","non-OECD","BASIC","Biofuels","Biofuels","Diesel Substitute","Transesterification","New build","Balance Sheet","Equity","2007-08-02T18:13:00",0,235,0,0,66.7,66.7,70.035000000000011]
[2007,7,"Q3","2007Q3","Brazil","Biofuels","Asset finance investments",64.575000000000003,"New Financial Investment","AF","AFLATAM_RP15623","Aralco Figueira Bioethanol and Power Plant","Brazil","Brazil","Central & South America","AMER","non-OECD","BASIC","Biofuels","Biofuels","Gasoline/Petrol Substitute",0,"New build","Balance Sheet","Equity","2007-07-11",4.4000000000000004,50,0,0,0,61.5,64.575000000000003]
[2007,7,"Q3","2007Q3","Brazil","Small Hydro","Asset finance investments",64.155000000000001,"New Financial Investment","AF","AF8507","Cornélio Brennand Canoa Quebrada Small Hydro Plant","Brazil","Brazil","Central & South America","AMER","non-OECD","BASIC","Small hydro","Small Hydro","New Dam",0,"New build","Term loan","Debt","2007-07-04",28,0,0,0,61.1,61.1,64.155000000000001]
[2007,7,"Q3","2007Q3","Brazil","Wind","Asset finance investments",56.175000000000004,"New Financial Investment","AF","AF8078","SIIF Paracuru Wind Farm","Brazil","Brazil","Central & South America","AMER","non-OECD","BASIC","Wind","Wind","Onshore",0,"New build","Term loan","Debt","2007-07-09",23.4,0,0,0,53.5,53.5,56.175000000000004]
[2007,7,"Q3","2007Q3","Brazil","Wind","Asset finance investments",55.02,"New Financial Investment","AF","AF8079","SIIF Foz do Rio Choro Wind Farm","Brazil","Brazil","Central & South America","AMER","non-OECD","BASIC","Wind","Wind","Onshore",0,"New build","Term loan","Debt","2007-07-09",25.2,0,0,0,52.4,52.4,55.02]
[2007,7,"Q3","2007Q3","Colombia","Biofuels","Asset finance investments",52.478999999999999,"New Financial Investment","AF","AF4076","Biocombustibles Santa Marta biodiesel plant","Colombia","Other AMER","Central & South America","AMER","non-OECD",null,"Biofuels","Biofuels","Diesel Substitute",0,"New build","Balance Sheet","Equity","2007-07-03T11:12:00",0,119,0,0,0,49.98,52.478999999999999]
[2007,7,"Q3","2007Q3","Colombia","Biofuels","Asset finance investments",52.478999999999999,"New Financial Investment","AF","AF4079","Facatativá biodiesel plant","Colombia","Other AMER","Central & South America","AMER","non-OECD",null,"Biofuels","Biofuels","Diesel Substitute",0,"New build","Balance Sheet","Equity","2007-07-03T11:36:00",0,119,0,0,0,49.98,52.478999999999999]
[2007,7,"Q3","2007Q3","Brazil","Biofuels","Asset finance investments",42,"New Financial Investment","AF","AF8799","Bonin Bioethanol and Power Plant","Brazil","Brazil","Central & South America","AMER","non-OECD","BASIC","Biofuels","Biofuels","Gasoline/Petrol Substitute","1-Gen fermentation","New build","Balance Sheet","Equity","2007-07-11",15,60,0,0,0,40,42]
[2007,8,"Q3","2007Q3","Brazil","Small Hydro","Asset finance investments",38.43,"New Financial Investment","AF","AF4501","Velcan Rodeio Bonito Small Hydro Plant","Brazil","Brazil","Central & South America","AMER","non-OECD","BASIC","Small hydro","Small Hydro","New Dam",0,"New build","Balance Sheet","Equity","2007-08-21",14.7,0,0,0,36.6,36.6,38.43]
[2007,8,"Q3","2007Q3","Brazil","Small Hydro","Asset finance investments",32.130000000000003,"New Financial Investment","AF","AF4405","Salto Buriti Small Hydro Plant CDM","Brazil","Brazil","Central & South America","AMER","non-OECD","BASIC","Small hydro","Small Hydro","New Dam",0,"New build","Term loan","Debt","2007-08-29",10,0,0,0,30.6,30.6,32.130000000000003]
[2007,7,"Q3","2007Q3","Panama","Small Hydro","Asset finance investments",26.25,"New Financial Investment","AF","AF9519","Los Naranjos Overseas El Sindigo Small Hydro Plant","Panama","Other AMER","Central & South America","AMER","non-OECD",null,"Small hydro","Small Hydro","Run of River",0,"New build","Balance Sheet","Equity","2007-07-20",10,0,0,0,0,25,26.25]
[2007,8,"Q3","2007Q3","Chile","Small Hydro","Asset finance investments",24.465000000000003,"New Financial Investment","AF","AF6451","Hidromaule Lircay Small Hydro Plant","Chile","Other AMER","Central & South America","AMER","OECD",null,"Small hydro","Small Hydro","Run of River",0,"New build","Term loan","Debt","2007-08-09",19,0,0,0,23.3,23.3,24.465000000000003]
[2007,8,"Q3","2007Q3","Brazil","Small Hydro","Asset finance investments",23.52,"New Financial Investment","AF","AF7375","AMPER Braço Norte IV Small Hydro Plant","Brazil","Brazil","Central & South America","AMER","non-OECD","BASIC","Small hydro","Small Hydro","Run of River",0,"New build","Balance Sheet","Equity","2007-08-01",14,0,0,0,22.4,22.4,23.52]
[2007,8,"Q3","2007Q3","Argentina","Biofuels","Asset finance investments",18.918899999999997,"New Financial Investment","AF","AF4316","Rosario Bio Energy Roldan Biodiesel Plant","Argentina","Other AMER","Central & South America","AMER","non-OECD",null,"Biofuels","Biofuels","Diesel Substitute","Transesterification","New build","Balance Sheet","Equity","2007-08-10T11:52:00",0,42.9,0,0,0,18.017999999999997,18.918899999999997]
[2007,7,"Q3","2007Q3","Colombia","Biofuels","Asset finance investments",18.522000000000002,"New Financial Investment","AF","AF4077","Castilla la Nueva biodiesel plant","Colombia","Other AMER","Central & South America","AMER","non-OECD",null,"Biofuels","Biofuels","Diesel Substitute",0,"New build","Balance Sheet","Equity","2007-07-03T11:27:00",0,42,0,0,0,17.64,18.522000000000002]
[2007,7,"Q3","2007Q3","Colombia","Biofuels","Asset finance investments",15.875999999999999,"New Financial Investment","AF","AF4075","Odin Santa Marta biodiesel plant","Colombia","Other AMER","Central & South America","AMER","non-OECD",null,"Biofuels","Biofuels","Diesel Substitute",0,"New build","Balance Sheet","Equity","2007-07-03T10:54:00",0,36,0,0,0,15.12,15.875999999999999]
[2007,8,"Q3","2007Q3","Brazil","Biofuels","Asset finance investments",15.875999999999999,"New Financial Investment","AF","AF30820","Fertibom Catanduva Biodiesel Plant Expansion II","Brazil","Brazil","Central & South America","AMER","non-OECD","BASIC","Biofuels","Biofuels","Diesel Substitute","Transesterification","New build","Balance Sheet","Equity","2007-08-13",0,36,0,0,0,15.12,15.875999999999999]
[2007,8,"Q3","2007Q3","Chile","Small Hydro","Asset finance investments",13.65,"New Financial Investment","AF","AF6559","Convento Viejo Small Hydro Plant","Chile","Other AMER","Central & South America","AMER","OECD",null,"Small hydro","Small Hydro","Run of River",0,"New build","Balance Sheet","Equity","2007-08-01",14,0,0,0,13,13,13.65]
[2007,9,"Q3","2007Q3","Mexico","Biomass & Waste","Asset finance investments",12.075000000000001,"New Financial Investment","AF","AF4394","Biogas de Juarez Ciudad Juarez Landfill Gas Plant","Mexico","Other AMER","Central & South America","AMER","OECD",null,"Biomass & Waste","Biomass & Waste","Electricity Generation (new)","Anaerobic digestion","New build","Balance Sheet","Equity","2007-09-03",6.4,0,0,0,0,11.5,12.075000000000001]
[2007,8,"Q3","2007Q3","Peru","Small Hydro","Asset finance investments",9.5037599999999998,"New Financial Investment","AF","AF11073","Duke Energy Cana Brava Small Hydro Plant","Peru","Other AMER","Central & South America","AMER","non-OECD",null,"Small hydro","Small Hydro","Run of River",0,"New build","Balance Sheet","Equity","2007-08-13",9.6999999999999993,0,0,0,9.0511999999999997,9.0511999999999997,9.5037599999999998]
[2007,7,"Q3","2007Q3","Paraguay","Biofuels","Asset finance investments",8.0797499999999989,"New Financial Investment","AF","AF4231","Petropar Mauricio Jose Troche Bioethanol Plant Expansion","Paraguay","Other AMER","Central & South America","AMER","non-OECD",null,"Biofuels","Biofuels","Gasoline/Petrol Substitute","1-Gen fermentation","New build","Balance Sheet","Equity","2007-07-27T17:06:00",0,13.5,0,0,0,7.6949999999999994,8.0797499999999989]
[2007,8,"Q3","2007Q3","Brazil","Biomass & Waste","Asset finance investments",6.5100000000000007,"New Financial Investment","AF","AFLATAM_RP12566","Yara Rio Grande Biomass Heat Plant","Brazil","Brazil","Central & South America","AMER","non-OECD","BASIC","Biomass & Waste","Biomass & Waste","Heat",0,"New build","Balance Sheet","Equity","2007-08-01",44.9,0,0,0,0,6.2,6.5100000000000007]
[2007,8,"Q3","2007Q3","Brazil","Biofuels","Asset finance investments",6.3504000000000005,"New Financial Investment","AF","AF6868","Frigol Lencois Paulistas Biodiesel Plant","Brazil","Brazil","Central & South America","AMER","non-OECD","BASIC","Biofuels","Biofuels","Diesel Substitute","Transesterification","New build","Balance Sheet","Equity","2007-08-01",0,14.4,0,0,0,6.048,6.3504000000000005]
[2007,7,"Q3","2007Q3","Brazil","Small Hydro","Asset finance investments",5.25,"New Financial Investment","AF","AF9072","Heidrich Curt Lindner Small Hydro Plant","Brazil","Brazil","Central & South America","AMER","non-OECD","BASIC","Small hydro","Small Hydro","Run of River",0,"New build","Balance Sheet","Equity","2007-07-31",2,0,0,0,0,5,5.25]
[2007,8,"Q3","2007Q3","Honduras","Biomass & Waste","Asset finance investments",4.8719999999999999,"New Financial Investment","AF","AFLATAM_RP15349","Jaremar Group Villanueva Heat Biomass Plant","Honduras","Other AMER","Central & South America","AMER","non-OECD",null,"Biomass & Waste","Biomass & Waste","Heat",0,"New build","Balance Sheet","Equity","2007-08-02",11.6,0,0,0,0,4.6399999999999997,4.8719999999999999]
[2007,9,"Q3","2007Q3","Brazil","Biofuels","Asset finance investments",3.8850000000000002,"New Financial Investment","AF","AF4451","Ceilandia Biodiesel Plant","Brazil","Brazil","Central & South America","AMER","non-OECD","BASIC","Biofuels","Biofuels","Diesel Substitute","Transesterification","New build","Balance Sheet","Equity","2007-09-17T19:35:00",0,18.3,0,0,3.7,3.7,3.8850000000000002]
[2007,7,"Q3","2007Q3","Mexico","Biomass & Waste","Asset finance investments",3.3600000000000003,"New Financial Investment","AF","AF10733","Biogas Technology Durango EcoMethane Landfill Gas Plant","Mexico","Other AMER","Central & South America","AMER","OECD",null,"Biomass & Waste","Biomass & Waste","Electricity Generation (new)","Landfill gas power","New build","Balance Sheet","Equity","2007-07-16",2,0,0,0,3.2,3.2,3.3600000000000003]
[2007,9,"Q3","2007Q3","Argentina","Biofuels","Asset finance investments",1.05,"New Financial Investment","AF","AF4738","IBI Diferoil Biodiesel Plant","Argentina","Other AMER","Central & South America","AMER","non-OECD",null,"Biofuels","Biofuels","Diesel Substitute",0,"New build","Balance Sheet","Equity","2007-09-30",0,35.700000000000003,0,0,1,1,1.05]
[2006,9,"Q3","2006Q3","Brazil","Biomass & Waste","Asset finance investments",139.54985525300989,"New Financial Investment","AF","AF3218","Klabin Monte Alegre biomass plant","Brazil","Brazil","Central & South America","AMER","non-OECD","BASIC","Biomass & Waste","Biomass & Waste","Electricity Generation (new)","Incineration","New build","Balance Sheet","Equity","2006-09-14",115,0,0,0,139,139,139.54985525300989]
[2006,7,"Q3","2006Q3","Brazil","Biofuels","Asset finance investments",235.93444275286046,"New Financial Investment","AF","AFLATAM_RP13724","Energetica Sao Simao Ethanol Plant","Brazil","Brazil","Central & South America","AMER","non-OECD","BASIC","Biofuels","Biofuels","Gasoline/Petrol Substitute",0,"New build","Balance Sheet","Equity","2006-07-26",0,200,0,0,137.6,137.6,235.93444275286046]
[2006,7,"Q3","2006Q3","Brazil","Small Hydro","Asset finance investments",112.00110442334601,"New Financial Investment","AF","AF3105","Engevix Small Hydro Portfolio","Brazil","Brazil","Central & South America","AMER","non-OECD","BASIC","Small hydro","Small Hydro","New Dam",0,"New build","Balance Sheet","Equity","2006-07-01",67,0,0,0,111,111,112.00110442334601]
[2006,7,"Q3","2006Q3","Brazil","Biomass & Waste","Asset finance investments",110.43513725058337,"New Financial Investment","AF","AF2855","Costa Pinto and Rafard Biomass Plants","Brazil","Brazil","Central & South America","AMER","non-OECD","BASIC","Biomass & Waste","Biomass & Waste","Electricity Generation (new)","Incineration","New build","Balance Sheet","Equity","2006-07-03T17:03:00",105.4,0,0,0,110,110,110.43513725058337]
[2006,9,"Q3","2006Q3","Brazil","Biofuels","Asset finance investments",171.46398455876488,"New Financial Investment","AF","AF3260","Agrenco Brazil Biodiesel Portfolio","Brazil","Brazil","Central & South America","AMER","non-OECD","BASIC","Biofuels","Biofuels","Diesel Substitute","Transesterification","New build","Balance Sheet","Equity","2006-09-30",55.6,483,0,0,100,100,171.46398455876488]
[2006,9,"Q3","2006Q3","Costa Rica","Small Hydro","Asset finance investments",100.22281172637258,"New Financial Investment","AF","AF8536","Hidroenergia del General Small Hydro Plant","Costa Rica","Other AMER","Central & South America","AMER","non-OECD",null,"Small hydro","Small Hydro","Run of River",0,"New build","Term loan","Debt","2006-09-20",40,0,0,0,100,100,100.22281172637258]
[2006,8,"Q3","2006Q3","Brazil","Biofuels","Asset finance investments",143.85828304480376,"New Financial Investment","AF","AF3163","Santa Isabel Fartura Ethanol Plant","Brazil","Brazil","Central & South America","AMER","non-OECD","BASIC","Biofuels","Biofuels","Gasoline/Petrol Substitute",0,"New build","Balance Sheet","Equity","2006-08-01",0,0,0,0,83.9,83.9,143.85828304480376]
[2006,9,"Q3","2006Q3","Brazil","Biofuels","Asset finance investments",115.99538555400446,"New Financial Investment","AF","AFLATAM_RP19785","Furlan Avare Ethanol Plant","Brazil","Brazil","Central & South America","AMER","non-OECD","BASIC","Biofuels","Biofuels","Gasoline/Petrol Substitute",0,"New build","Balance Sheet","Equity","2006-09-30",0,55,0,0,0,67.650000000000006,115.99538555400446]
[2006,8,"Q3","2006Q3","Colombia","Biofuels","Asset finance investments",65.228209568922722,"New Financial Investment","AF","AF4105","Aceites Manuelita Biodiesel Plant","Colombia","Other AMER","Central & South America","AMER","non-OECD",null,"Biofuels","Biofuels","Diesel Substitute","Transesterification","New build","Balance Sheet","Equity","2006-08-01",0,115,0,0,65,65,65.228209568922722]
[2006,9,"Q3","2006Q3","Brazil","Small Hydro","Asset finance investments",64.577213361208507,"New Financial Investment","AF","AFLATAM_RP3353","Nova Vitoria Lagoa Grande Small Hydro Plant","Brazil","Brazil","Central & South America","AMER","non-OECD","BASIC","Small hydro","Small Hydro","Run of River",0,"New build","Balance Sheet","Equity","2006-09-25",25.6,0,0,0,0,64,64.577213361208507]
[2006,9,"Q3","2006Q3","Brazil","Small Hydro","Asset finance investments",56.908669274564993,"New Financial Investment","AF","AF7016","Bertin Sacre 2 Small Hydro Plant","Brazil","Brazil","Central & South America","AMER","non-OECD","BASIC","Small hydro","Small Hydro","New Dam",0,"New build","Term loan","Debt","2006-09-01",30,0,0,0,0,56.4,56.908669274564993]
[2006,7,"Q3","2006Q3","Brazil","Biofuels","Asset finance investments",88.57829442305794,"New Financial Investment","AF","AFLATAM_RP14845","Grupo Farias Itapuranga Ethanol Plant","Brazil","Brazil","Central & South America","AMER","non-OECD","BASIC","Biofuels","Biofuels","Gasoline/Petrol Substitute",0,"New build","Balance Sheet","Equity","2006-07-31",2.8,42,0,0,0,51.66,88.57829442305794]
[2006,9,"Q3","2006Q3","Colombia","Small Hydro","Asset finance investments",49.885904536801952,"New Financial Investment","AF","AFLATAM_RP17403","EPSA Alto Tulua Small Hydro Plant","Colombia","Other AMER","Central & South America","AMER","non-OECD",null,"Small hydro","Small Hydro","Run of River",0,"New build","Balance Sheet","Equity","2006-09-16",19.91,0,0,0,0,49.774999999999999,49.885904536801952]
[2006,9,"Q3","2006Q3","Colombia","Small Hydro","Asset finance investments",49.710514616280804,"New Financial Investment","AF","AF9110","EPSA Bajo Tuluá Small Hydro Plant","Colombia","Other AMER","Central & South America","AMER","non-OECD",null,"Small hydro","Small Hydro","Run of River",0,"New build","Balance Sheet","Equity","2006-09-15",19.84,0,0,0,0,49.6,49.710514616280804]
[2006,8,"Q3","2006Q3","Brazil","Biomass & Waste","Asset finance investments",48.189878072981834,"New Financial Investment","AF","AF2908","Coruripe Carneirinho Biomass Plant","Brazil","Brazil","Central & South America","AMER","non-OECD","BASIC","Biomass & Waste","Biomass & Waste","Electricity Generation (new)","Incineration","New build","Balance Sheet","Equity","2006-08-31",24,0,0,0,0,48,48.189878072981834]
[2006,7,"Q3","2006Q3","Colombia","Small Hydro","Asset finance investments",38.194913548920589,"New Financial Investment","AF","AFLATAM_RP15336","ISAGEN Calderas Small Hydro Plant","Colombia","Other AMER","Central & South America","AMER","non-OECD",null,"Small hydro","Small Hydro","New Dam",0,"New build","Balance Sheet","Equity","2006-07-01",26,0,0,0,38.11,38.11,38.194913548920589]
[2006,7,"Q3","2006Q3","Argentina","Biofuels","Asset finance investments",35.12288207557377,"New Financial Investment","AF","AF17600","LDC Argentina General Lagos Biodiesel Plant","Argentina","Other AMER","Central & South America","AMER","non-OECD",null,"Biofuels","Biofuels","Diesel Substitute",0,"New build","Balance Sheet","Equity","2006-07-15",0,0,0,0,0,35,35.12288207557377]
[{"$f":"IF(K837=\"\",\"\",IF(AND(YEAR(Z837)<2004,YEAR(Z837)>1910),2004,YEAR(Z837)))","v":2006},{"$f":"IF(K837=\"\",\"\",IF(ISNUMBER(Z837),MONTH(Z837),0))","v":8},{"$f":"IF(K837=\"\",\"\",IF(AND(B837>=1,B837<=3),\"Q1\",IF(AND(B837>3,B837<=6),\"Q2\",IF(AND(B837>6,B837<=9),\"Q3\",IF(AND(B837>9,B837<=12),\"Q4\",0)))))","v":"Q3"},{"$f":"IF(A837<2006, \"< 2006\", A837&C837)","v":"2006Q3"},{"$f":"IF(K837=\"\",\"\", M837)","v":"Brazil"},"Biofuels","Asset finance investments",{"$f":"IF(K837=\"\",\"\",AG837)","v":39.093788479398391},"New Financial Investment","AF","AF3176","Caramuru Sao Simao Biodiesel Plant","Brazil","Brazil","Central & South America","AMER","non-OECD","BASIC","Biofuels","Biofuels","Diesel Substitute","Transesterification","New build","Term loan","Debt","2006-08-31",0,135,0,0,22.8,22.8,39.093788479398391]
[2006,7,"Q3","2006Q3","Jamaica","Biofuels",{"$f":"IF(K838=\"\",\"\",IF(OR(J838=\"PM\",J838=\"MA\"), \"Corporate finance investments\", IF(J838=\"VCPE\", \"VC/PE investments\", IF(J838=\"AF\", \"Asset finance investments\"))))","v":"Asset finance investments"},20.070218328899301,"New Financial Investment","AF","AF19926","JB Jamaica Bioethanol Dehydration Plant","Jamaica","Other AMER","North America & Caribbean","AMER","non-OECD",null,"Biofuels","Biofuels","Gasoline/Petrol Substitute","Dehydration","New build","Balance Sheet","Equity","2006-07-23",0,454,0,0,20,20,20.070218328899301]
[2006,8,"Q3","2006Q3","Brazil",{"$f":"IF(K839=\"\",\"\",IF(OR(T839=\"Wind\",T839=\"Solar\",T839=\"Geothermal\",T839=\"Small Hydro\",T839=\"Biofuels\",T839=\"Biomass & Waste\"),T839,\"Other Clean Energy\"))","v":"Biofuels"},"Asset finance investments",32.578157066165332,"New Financial Investment","AF","AF2377","Lins Biodiesel Plant","Brazil","Brazil","Central & South America","AMER","non-OECD","BASIC","Biofuels","Biofuels","Diesel Substitute","Transesterification","New build","Term loan","Debt","2006-08-31",0,125.7,0,0,19,19,32.578157066165332]
[2006,9,"Q3","2006Q3","Brazil","Small Hydro","Asset finance investments",18.767752633101225,"New Financial Investment","AF","AFLATAM_RP14346","Riacho Preto Small Hydro Plant","Brazil","Brazil","Central & South America","AMER","non-OECD","BASIC","Small hydro","Small Hydro","Run of River",0,"New build","Balance Sheet","Equity","2006-09-01",9.3000000000000007,0,0,0,0,18.600000000000001,18.767752633101225]
[2006,8,"Q3","2006Q3","Brazil","Biofuels","Asset finance investments",25.719597683814733,"New Financial Investment","AF","AF3166","Fiagril Lucas do Rio Verde Biodiesel Plant","Brazil","Brazil","Central & South America","AMER","non-OECD","BASIC","Biofuels","Biofuels","Diesel Substitute","Transesterification","New build","Term loan","Debt","2006-08-23T11:39:00",0,147.6,0,0,15,15,25.719597683814733]
[2006,8,"Q3","2006Q3","Brazil","Biofuels","Asset finance investments",20.36992136558127,"New Financial Investment","AF","AF6733","Araguassu Porto Alegre do Norte Biodiesel Plant","Brazil","Brazil","Central & South America","AMER","non-OECD","BASIC","Biofuels","Biofuels","Diesel Substitute","Transesterification","New build","Balance Sheet","Equity","2006-08-28",0,36,0,0,0,11.88,20.36992136558127]
[2006,7,"Q3","2006Q3","Brazil","Small Hydro","Asset finance investments",9.0307196809815018,"New Financial Investment","AF","AFLATAM_RP7479","Alto Benedito Novo I Small Hydro Plant","Brazil","Brazil","Central & South America","AMER","non-OECD","BASIC","Small hydro","Small Hydro","Run of River",0,"New build","Balance Sheet","Equity","2006-07-10",15,0,0,0,8.9499999999999993,8.9499999999999993,9.0307196809815018]
[2006,8,"Q3","2006Q3","Brazil","Biofuels","Asset finance investments",9.7734471198495978,"New Financial Investment","AF","AF9419","Petrobras Repar Biodiesel Hydrotreatment Plant","Brazil","Brazil","Central & South America","AMER","non-OECD","BASIC","Biofuels","Biofuels","Diesel Substitute","Hydrotreatment","New build","Balance Sheet","Equity","2006-08-01",0,85.3,0,0,5.7,5.7,9.7734471198495978]
[2006,8,"Q3","2006Q3","Chile","Biomass & Waste","Asset finance investments",4.5511679601843618,"New Financial Investment","AF","AF3134","KDM Loma Los Colorados Landfill Gas Pilot Plant","Chile","Other AMER","Central & South America","AMER","OECD",null,"Biomass & Waste","Biomass & Waste","Electricity Generation (new)","Landfill gas power","New build","Balance Sheet","Equity","2006-08-31",2,0,0,0,4.5,4.5,4.5511679601843618]
[2006,8,"Q3","2006Q3","Brazil","Biofuels","Asset finance investments",6.1109764096743815,"New Financial Investment","AF","AF6869","Innovatti Mairinque Biodiesel Plant","Brazil","Brazil","Central & South America","AMER","non-OECD","BASIC","Biofuels","Biofuels","Diesel Substitute","Transesterification","New build","Balance Sheet","Equity","2006-08-01",0,10.8,0,0,0,3.5640000000000005,6.1109764096743815]
[2006,9,"Q3","2006Q3","Mexico","Small Hydro","Asset finance investments",1.8040106110747065,"New Financial Investment","AF","AF33542","Hidroelectrica Cajon de Pena Small Hydro Plant","Mexico","Other AMER","Central & South America","AMER","OECD",null,"Small hydro","Small Hydro","Run of River",0,"New build","Balance Sheet","Equity","2006-09-01",1.2,0,0,0,0,1.8,1.8040106110747065]
[2006,8,"Q3","2006Q3","Argentina","Biofuels","Asset finance investments",0.90315982480046841,"New Financial Investment","AF","AF17467","Vicentin Avellaneda Biodiesel Plant","Argentina","Other AMER","Central & South America","AMER","non-OECD",null,"Biofuels","Biofuels","Diesel Substitute",0,"New build","Balance Sheet","Equity","2006-08-31",0,57.1,0,0,0.9,0.9,0.90315982480046841]
[2012,5,"Q2","2012Q2","Brazil","Wind","Asset finance investments",736.14925927951606,"New Financial Investment","AF","AF26494","Enel Brazil, Romania & US Wind Portfolio","Brazil","Brazil","Central & South America","AMER","non-OECD","BASIC","Wind","Wind","Onshore",0,"New build","Term loan","Debt","2012-05-02",409.6,0,0,0,670,670,736.14925927951606]
[2012,6,"Q2","2012Q2","Brazil","Wind","Asset finance investments",316.41233386166419,"New Financial Investment","AF","AF27530","Iberdrola Neoenergia Rio Grande do Norte & Bahia Wind Portfolio II","Brazil","Brazil","Central & South America","AMER","non-OECD","BASIC","Wind","Wind","Onshore",0,"New build","Term loan","Debt","2012-06-11",150,0,0,0,287.98,287.98,316.41233386166419]
[2012,5,"Q2","2012Q2","Chile","Wind","Asset finance investments",310.94065727776575,"New Financial Investment","AF","AF19878","El Arrayán Wind Farm","Chile","Other AMER","Central & South America","AMER","OECD",null,"Wind","Wind","Onshore",0,"New build","Term loan","Debt","2012-05-05",115,0,0,0,283,283,310.94065727776575]
[2012,5,"Q2","2012Q2","Mexico","Wind","Asset finance investments",175.79683803689935,"New Financial Investment","AF","AF33340","Bii Nee Stipa Wind Farm Phase III","Mexico","Other AMER","Central & South America","AMER","OECD",null,"Wind","Wind","Onshore",0,"New build","Balance Sheet","Equity","2012-05-31",70,0,0,0,160,160,175.79683803689935]
[2012,6,"Q2","2012Q2","Brazil","Wind","Asset finance investments",154.75615398435795,"New Financial Investment","AF","AF19568","Eletrosul Santana do Livramento Wind Portfolio","Brazil","Brazil","Central & South America","AMER","non-OECD","BASIC","Wind","Wind","Onshore",0,"New build","Balance Sheet","Equity","2012-06-29",90,0,0,0,140.85,140.85,154.75615398435795]
[2012,4,"Q2","2012Q2","Nicaragua","Wind","Asset finance investments",125.25524710129079,"New Financial Investment","AF","AF26184","Eolo de Nicaragua Wind Farm","Nicaragua","Other AMER","Central & South America","AMER","non-OECD",null,"Wind","Wind","Onshore",0,"New build","Term loan","Debt","2012-04-26",44,0,0,0,114,114,125.25524710129079]
[2012,6,"Q2","2012Q2","Dominican Republic","Wind","Asset finance investments",109.8730237730621,"New Financial Investment","AF","AF27884","EGE Haina Los Cocos Wind Farm Phase II","Dominican Republic","Other AMER","North America & Caribbean","AMER","non-OECD",null,"Wind","Wind","Onshore",0,"New build","Balance Sheet","Equity","2012-06-21",52,0,0,0,100,100,109.8730237730621]
[2012,6,"Q2","2012Q2","Mexico","Solar","Asset finance investments",87.898419018449673,"New Financial Investment","AF","AF32004","Sonora Energy SEGH-CFE 1 PV Plant","Mexico","Other AMER","Central & South America","AMER","OECD",null,"Solar","Solar","PV",0,"New build","Balance Sheet","Equity","2012-06-30",39,0,0,0,80,80,87.898419018449673]
[2012,6,"Q2","2012Q2","Brazil","Biofuels","Asset finance investments",79.108577116604707,"New Financial Investment","AF","AF28956","Solazyme Bunge Moema Next Generation Renewable Oil Plant","Brazil","Brazil","Central & South America","AMER","non-OECD","BASIC","Biofuels","Biofuels","Gasoline/Petrol Substitute","Advanced biochemical","New build","Balance Sheet","Equity","2012-06-26",0,100,0,0,0,72,79.108577116604707]
[2012,4,"Q2","2012Q2","Brazil","Biomass & Waste","Asset finance investments",72.516195690220982,"New Financial Investment","AF","AF8966","Seresta Teotonio Vilela Areva Power Plant Expansion","Brazil","Brazil","Central & South America","AMER","non-OECD","BASIC","Biomass & Waste","Biomass & Waste","Electricity Generation (new)","Incineration","New build","Balance Sheet","Equity","2012-04-30",53,0,0,0,66,66,72.516195690220982]
[2012,6,"Q2","2012Q2","Nicaragua","Wind","Asset finance investments",60.913604379785625,"New Financial Investment","AF","AF31566","Alba Rivas Wind Farm","Nicaragua","Other AMER","Central & South America","AMER","non-OECD",null,"Wind","Wind","Onshore",0,"New build","Balance Sheet","Equity","2012-06-07",39.6,0,0,0,0,55.44,60.913604379785625]
[2012,5,"Q2","2012Q2","Brazil","Small Hydro","Asset finance investments",56.584607243126982,"New Financial Investment","AF","AF27770","Mega Brasil Energia Inxu Small Hydro Plant","Brazil","Brazil","Central & South America","AMER","non-OECD","BASIC","Small hydro","Small Hydro","New Dam",0,"New build","Balance Sheet","Equity","2012-05-31",20.6,0,0,0,0,51.5,56.584607243126982]
[2012,4,"Q2","2012Q2","Chile","Biomass & Waste","Asset finance investments",28.566986180996146,"New Financial Investment","AF","AF26238","KDM Loma Los Colorados Landfill Gas Plant Expansion II","Chile","Other AMER","Central & South America","AMER","OECD",null,"Biomass & Waste","Biomass & Waste","Electricity Generation (new)","Landfill gas power","New build","Balance Sheet","Equity","2012-04-26",8.4,0,0,0,0,26,28.566986180996146]
[2012,6,"Q2","2012Q2","Brazil","Small Hydro","Asset finance investments",21.974604754612418,"New Financial Investment","AF","AF27110","Cambara Embauba Small Hydro Portfolio","Brazil","Brazil","Central & South America","AMER","non-OECD","BASIC","Small hydro","Small Hydro","Run of River",0,"New build","Balance Sheet","Equity","2012-06-01",8,0,0,0,0,20,21.974604754612418]
[2012,4,"Q2","2012Q2","Chile","Solar","Asset finance investments",16.480953565959314,"New Financial Investment","AF","AF26254","Abengoa El Tesoro Solar Thermal Plant","Chile","Other AMER","Central & South America","AMER","OECD",null,"Solar","Solar","Thermal","STEG – Parabolic trough","New build","Balance Sheet","Equity","2012-04-30",7,0,0,0,0,15,16.480953565959314]
[2012,5,"Q2","2012Q2","Nicaragua","Small Hydro","Asset finance investments",15.382223328228694,"New Financial Investment","AF","AF26886","IHSA El Diamante Small Hydro Plant","Nicaragua","Other AMER","Central & South America","AMER","non-OECD",null,"Small hydro","Small Hydro","Run of River",0,"New build","Term loan","Debt","2012-05-22",5,0,0,0,14,14,15.382223328228694]
[2012,4,"Q2","2012Q2","Brazil","Solar","Asset finance investments",14.832858209363383,"New Financial Investment","AF","AF14053","Cemig Solaria Sete Lagoas PV Plant","Brazil","Brazil","Central & South America","AMER","non-OECD","BASIC","Solar","Solar","PV",0,"New build","Balance Sheet","Equity","2012-04-17",3,0,0,0,13.5,13.5,14.832858209363383]
[2012,6,"Q2","2012Q2","Chile","Small Hydro","Asset finance investments",11.866286567490707,"New Financial Investment","AF","AF31402","Rio Huasco Small Hydro Plant","Chile","Other AMER","Central & South America","AMER","OECD",null,"Small hydro","Small Hydro","Run of River",0,"New build","Term loan","Debt","2012-06-25",5.4,0,0,0,10.8,10.8,11.866286567490707]
[2012,4,"Q2","2012Q2","Brazil","Solar","Asset finance investments",8.2404767829796572,"New Financial Investment","AF","AF31818","CPFL Renovaveis Tanquinho PV Plant","Brazil","Brazil","Central & South America","AMER","non-OECD","BASIC","Solar","Solar","PV",0,"New build","Balance Sheet","Equity","2012-04-05",1.08,0,0,0,7.5,7.5,8.2404767829796572]
[2012,5,"Q2","2012Q2","Mexico","Other Clean Energy","Asset finance investments",6.0430163075184149,"New Financial Investment","AF","AF32444","Marersa CFE Rosarito Wave Pilot Plant","Mexico","Other AMER","Central & South America","AMER","OECD",null,"Marine","Marine","Wave",0,"New build","Balance Sheet","Equity","2012-05-22",3,0,0,0,5.5,5.5,6.0430163075184149]
[2012,4,"Q2","2012Q2","Ecuador","Solar","Asset finance investments",4.3949209509224838,"New Financial Investment","AF","AF26362","Solaria Quito PV Plant Phase I","Ecuador","Other AMER","Central & South America","AMER","non-OECD",null,"Solar","Solar","PV","PV – Crystalline silicon","New build","Balance Sheet","Equity","2012-04-26",1,0,0,0,0,4,4.3949209509224838]
[2012,6,"Q2","2012Q2","Chile","Solar","Asset finance investments",4.3949209509224838,"New Financial Investment","AF","AF31570","Minera Dayton Andacollo PV Plant","Chile","Other AMER","Central & South America","AMER","OECD",null,"Solar","Solar","PV",0,"New build","Balance Sheet","Equity","2012-06-01",1,0,0,0,0,4,4.3949209509224838]
[2011,6,"Q2","2011Q2","Brazil","Wind","Asset finance investments",321.26429928465461,"New Financial Investment","AF","AF17622","Brasventos Rio Grande do Norte Wind Portfolio","Brazil","Brazil","Central & South America","AMER","non-OECD","BASIC","Wind","Wind","Onshore",0,"New build","Balance Sheet","Equity","2011-06-14",147.6,0,0,0,0,295.2,321.26429928465461]
[2011,4,"Q2","2011Q2","Brazil","Wind","Asset finance investments",313.4285846679557,"New Financial Investment","AF","AF17058","DESA Morro dos Ventos Wind Portfolio","Brazil","Brazil","Central & South America","AMER","non-OECD","BASIC","Wind","Wind","Onshore",0,"New build","Term loan","Debt","2011-04-30",144,0,0,0,0,288,313.4285846679557]
[2011,6,"Q2","2011Q2","Peru","Solar","Asset finance investments",179.56845996601629,"New Financial Investment","AF","AF17233","T-Solar Reparticion & Majes PV Portfolio","Peru","Other AMER","Central & South America","AMER","non-OECD",null,"Solar","Solar","PV","PV – Thin film silicon","New build","Term loan","Debt","2011-06-03",44,0,0,0,165,165,179.56845996601629]
[2011,4,"Q2","2011Q2","Brazil","Wind","Asset finance investments",158.45556224879982,"New Financial Investment","AF","AF17027","Petrobras Mangue Seco Wind Portfolio","Brazil","Brazil","Central & South America","AMER","non-OECD","BASIC","Wind","Wind","Onshore",0,"New build","Balance Sheet","Equity","2011-04-30",104,0,0,0,0,145.6,158.45556224879982]
[2011,4,"Q2","2011Q2","Brazil","Wind","Asset finance investments",126.24206882459328,"New Financial Investment","AF","AF10162","Gestamp Wind Portfolio","Brazil","Brazil","Central & South America","AMER","non-OECD","BASIC","Wind","Wind","Onshore",0,"New build","Balance Sheet","Equity","2011-04-30",49.8,0,0,0,116,116,126.24206882459328]
[2011,5,"Q2","2011Q2","Brazil","Biofuels","Asset finance investments",93.074141828324912,"New Financial Investment","AF","AF27108","CMAA Vale do Tijuco Power Plant Expansion","Brazil","Brazil","Central & South America","AMER","non-OECD","BASIC","Biofuels","Biofuels","Gasoline/Petrol Substitute","1-Gen fermentation","New build","Balance Sheet","Equity","2011-05-18",40,0,0,0,0,85.522999999999996,93.074141828324912]
[2011,5,"Q2","2011Q2","Brazil","Small Hydro","Asset finance investments",81.622027257280109,"New Financial Investment","AF","AF17254","J Malucelli Queixada Small Hydro Plant","Brazil","Brazil","Central & South America","AMER","non-OECD","BASIC","Small hydro","Small Hydro","Run of River",0,"New build","Balance Sheet","Equity","2011-05-31",30,0,0,0,0,75,81.622027257280109]
[2011,6,"Q2","2011Q2","Brazil","Small Hydro","Asset finance investments",56.319198807523279,"New Financial Investment","AF","AF17627","Brookfield Cachoeira Escura Small Hydro Plant","Brazil","Brazil","Central & South America","AMER","non-OECD","BASIC","Small hydro","Small Hydro","Run of River",0,"New build","Balance Sheet","Equity","2011-06-30",20.7,0,0,0,0,51.75,56.319198807523279]
[2011,6,"Q2","2011Q2","Mexico","Solar","Asset finance investments",50.235637042614009,"New Financial Investment","AF","AF3276","CFE Agua Prieta II STEG Plant","Mexico","Other AMER","Central & South America","AMER","OECD",null,"Solar","Solar","Thermal",0,"New build","Term loan","Debt","2011-06-08",12,0,12,0,46.16,46.16,50.235637042614009]
[2011,4,"Q2","2011Q2","Costa Rica","Wind","Asset finance investments",39.722719931876327,"New Financial Investment","AF","AF19281","Coopesantos Los Santos Wind Farm","Costa Rica","Other AMER","Central & South America","AMER","non-OECD",null,"Wind","Wind","Onshore",0,"New build","Term loan","Debt","2011-04-30",12.75,0,0,0,36.5,36.5,39.722719931876327]
[2011,5,"Q2","2011Q2","Brazil","Wind","Asset finance investments",30.167501274290736,"New Financial Investment","AF","AF18909","Gestamp Cabeco Preto IV Wind Farm","Brazil","Brazil","Central & South America","AMER","non-OECD","BASIC","Wind","Wind","Onshore",0,"New build","Term loan","Debt","2011-05-31",19.8,0,0,0,0,27.72,30.167501274290736]
[2011,5,"Q2","2011Q2","Panama","Small Hydro","Asset finance investments",22.582094207847497,"New Financial Investment","AF","AF33682","Electrogeneradora del Istmo Mendre 2 Small Hydro Plant","Panama","Other AMER","Central & South America","AMER","non-OECD",null,"Small hydro","Small Hydro","Run of River",0,"New build","Balance Sheet","Equity","2011-05-27",8.3000000000000007,0,0,0,0,20.75,22.582094207847497]
[2011,6,"Q2","2011Q2","Argentina","Wind","Asset finance investments",21.765873935274701,"New Financial Investment","AF","AF17626","IMPSA El Jume Wind Farm","Argentina","Other AMER","Central & South America","AMER","non-OECD",null,"Wind","Wind","Onshore",0,"New build","Balance Sheet","Equity","2011-06-29",8.4,0,0,0,20,20,21.765873935274701]
[2011,4,"Q2","2011Q2","Mexico","Biomass & Waste","VC/PE investments",21.136840178545263,"New Financial Investment","VCPE","VCPE4656","Energreen Cancun SAPI de CV","Mexico","Other AMER","Central & South America","AMER","OECD",null,"Biomass & Waste","Biomass & Waste","Electricity Generation (new)","Anaerobic digestion","Developer","PE - Expansion capital","PE Expansion Capital","2011-04-30","na","na","na","na",0,19.422000000000001,21.136840178545263]
[2011,5,"Q2","2011Q2","Panama","Small Hydro","Asset finance investments",18.065675366278004,"New Financial Investment","AF","AFLATAM_RP37232","Electrogeneradora del Istmo Caldera Small Hydro","Panama","Other AMER","Central & South America","AMER","non-OECD",null,"Small hydro","Small Hydro","Run of River",0,"New build","Balance Sheet","Equity","2011-05-27",8.3000000000000007,0,0,0,0,16.600000000000001,18.065675366278004]
[2011,5,"Q2","2011Q2","Argentina","Solar","Asset finance investments",16.977381669514266,"New Financial Investment","AF","AF22462","360 Energy Cañada Honda II PV Plant","Argentina","Other AMER","Central & South America","AMER","non-OECD",null,"Solar","Solar","PV","PV – Crystalline silicon","New build","Term loan","Debt","2011-05-19",3,0,0,0,15.6,15.6,16.977381669514266]
[2011,4,"Q2","2011Q2","Brazil","Biofuels","Asset finance investments",16.455000695067671,"New Financial Investment","AF","AF30812","Cooperbio Cuiaba Biodiesel Plant Expansion","Brazil","Brazil","Central & South America","AMER","non-OECD","BASIC","Biofuels","Biofuels","Diesel Substitute","Transesterification","New build","Balance Sheet","Equity","2011-04-27",0,43.2,0,0,0,15.12,16.455000695067671]
[2011,5,"Q2","2011Q2","Argentina","Solar","Asset finance investments",11.318254446342845,"New Financial Investment","AF","AF22460","360 Energy Cañada Honda I PV Plant","Argentina","Other AMER","Central & South America","AMER","non-OECD",null,"Solar","Solar","PV","PV – Crystalline silicon","New build","Term loan","Debt","2011-05-19",2,0,0,0,10.4,10.4,11.318254446342845]
[2011,6,"Q2","2011Q2","Mexico","Solar","Asset finance investments",6.9650796592879054,"New Financial Investment","AF","AF18023","CFE Microm Santa Rosalia Pilot PV Plant","Mexico","Other AMER","Central & South America","AMER","OECD",null,"Solar","Solar","PV","PV – Crystalline silicon","New build","Balance Sheet","Equity","2011-06-30",1,0,0,0,6.4,6.4,6.9650796592879054]
[2011,4,"Q2","2011Q2","Mexico","Biomass & Waste","Asset finance investments",6.312103441229663,"New Financial Investment","AF","AF10525","San Nicholas Landfill Gas Plant","Mexico","Other AMER","Central & South America","AMER","OECD",null,"Biomass & Waste","Biomass & Waste","Electricity Generation (new)","Landfill gas power","New build","Balance Sheet","Equity","2011-04-24",3.2,0,0,0,5.8,5.8,6.312103441229663]
[2011,6,"Q2","2011Q2","Chile","Solar","Asset finance investments",4.3531747870549404,"New Financial Investment","AF","AF20412","Solarpack Codelco Calama 3 PV Plant","Chile","Other AMER","Central & South America","AMER","OECD",null,"Solar","Solar","PV","PV – Crystalline silicon","New build","Balance Sheet","Equity","2011-06-09",1,0,0,0,0,4,4.3531747870549404]
[2010,4,"Q2","2010Q2","Brazil","Biofuels","Asset finance investments",710.67249714263255,"New Financial Investment","AF","AF4469","Brenco ETH Mato Grosso and Goias Bioethanol Portfolio Refinancing","Brazil","Brazil","Central & South America","AMER","non-OECD","BASIC","Biofuels","Biofuels","Gasoline/Petrol Substitute","1-Gen fermentation","New build","Balance Sheet","Equity","2010-04-16",297.89999999999998,1440,0,0,682,682,710.67249714263255]
[2010,6,"Q2","2010Q2","Brazil","Biofuels","Asset finance investments",630.6436880802363,"New Financial Investment","AF","AF14703","ETH Bioenergia Bioethanol and Power Portfolio Expansion","Brazil","Brazil","Central & South America","AMER","non-OECD","BASIC","Biofuels","Biofuels","Gasoline/Petrol Substitute","1-Gen fermentation","New build","Term loan","Debt","2010-06-11",0,0,0,0,605.20000000000005,605.20000000000005,630.6436880802363]
[2010,4,"Q2","2010Q2","Brazil","Biofuels","Asset finance investments",573.12298156663906,"New Financial Investment","AF","AF11254","ETH Costa Rica Bioethanol and Power Plant","Brazil","Brazil","Central & South America","AMER","non-OECD","BASIC","Biofuels","Biofuels","Gasoline/Petrol Substitute","1-Gen fermentation","New build","Balance Sheet","Equity","2010-04-30",79.8,360,0,0,550,550,573.12298156663906]
[2010,6,"Q2","2010Q2","Brazil","Biofuels","Asset finance investments",462.66655239197763,"New Financial Investment","AF","AF8860","Univalem Ipaussu Barra Bonfim Power Porfolio Expansion","Brazil","Brazil","Central & South America","AMER","non-OECD","BASIC","Biofuels","Biofuels","Gasoline/Petrol Substitute","1-Gen fermentation","New build","Term loan","Debt","2010-06-17",293,0,0,0,0,444,462.66655239197763]
[2010,6,"Q2","2010Q2","Panama","Small Hydro","Asset finance investments",303.96358858725205,"New Financial Investment","AF","AF9143","Pando and Monte Lirio Small Hydro Plants","Panama","Other AMER","Central & South America","AMER","non-OECD",null,"Small hydro","Small Hydro","Run of River",0,"New build","Term loan","Debt","2010-06-16",83.3,0,0,0,291.7,291.7,303.96358858725205]
[2010,6,"Q2","2010Q2","Brazil","Wind","Asset finance investments",225.08102548798917,"New Financial Investment","AF","AF11253","Eletrosul Cerro Chato Wind Portfolio","Brazil","Brazil","Central & South America","AMER","non-OECD","BASIC","Wind","Wind","Onshore",0,"New build","Term loan","Debt","2010-06-16",90,0,0,0,216,216,225.08102548798917]
[2010,5,"Q2","2010Q2","Mexico","Wind","Asset finance investments",210.9092572165232,"New Financial Investment","AF","AF8552","Iberdrola La Venta III Wind Farm","Mexico","Other AMER","Central & South America","AMER","OECD",null,"Wind","Wind","Onshore",0,"New build","Term loan","Debt","2010-05-05",102.85,0,0,0,202.4,202.4,210.9092572165232]
[2010,5,"Q2","2010Q2","Brazil","Small Hydro","Asset finance investments",137.2369030405934,"New Financial Investment","AF","AF7371","Hidrotermica Rio Grande do Sul Small Hydro Portfolio","Brazil","Brazil","Central & South America","AMER","non-OECD","BASIC","Small hydro","Small Hydro","Run of River",0,"New build","Balance Sheet","Equity","2010-05-31",64,0,0,0,131.69999999999999,131.69999999999999,137.2369030405934]
[2010,4,"Q2","2010Q2","Chile","Biomass & Waste","Asset finance investments",125.04501415999398,"New Financial Investment","AF","AF10223","CMPC Celulosa Santa Fe Biomass Plant","Chile","Other AMER","Central & South America","AMER","OECD",null,"Biomass & Waste","Biomass & Waste","Electricity Generation (new)","Incineration","New build","Balance Sheet","Equity","2010-04-30",100,0,0,0,120,120,125.04501415999398]
[{"$f":"IF(K901=\"\",\"\",IF(AND(YEAR(Z901)<2004,YEAR(Z901)>1910),2004,YEAR(Z901)))","v":2010},{"$f":"IF(K901=\"\",\"\",IF(ISNUMBER(Z901),MONTH(Z901),0))","v":6},{"$f":"IF(K901=\"\",\"\",IF(AND(B901>=1,B901<=3),\"Q1\",IF(AND(B901>3,B901<=6),\"Q2\",IF(AND(B901>6,B901<=9),\"Q3\",IF(AND(B901>9,B901<=12),\"Q4\",0)))))","v":"Q2"},{"$f":"IF(A901<2006, \"< 2006\", A901&C901)","v":"2010Q2"},{"$f":"IF(K901=\"\",\"\", M901)","v":"Brazil"},"Biofuels","Asset finance investments",{"$f":"IF(K901=\"\",\"\",AG901)","v":124.732401624594},"New Financial Investment","AF","AF10940","Equipav Bioethanol and Power Plant Portfolio Expansion","Brazil","Brazil","Central & South America","AMER","non-OECD","BASIC","Biofuels","Biofuels","Gasoline/Petrol Substitute","1-Gen fermentation","New build","Balance Sheet","Equity","2010-06-23",157,166,0,0,119.7,119.7,124.732401624594]
[2010,6,"Q2","2010Q2","Chile","Biomass & Waste",{"$f":"IF(K902=\"\",\"\",IF(OR(J902=\"PM\",J902=\"MA\"), \"Corporate finance investments\", IF(J902=\"VCPE\", \"VC/PE investments\", IF(J902=\"AF\", \"Asset finance investments\"))))","v":"Asset finance investments"},109.41438738999474,"New Financial Investment","AF","AFLATAM_RP19409","Arauco Vinales Biomass Plant","Chile","Other AMER","Central & South America","AMER","OECD",null,"Biomass & Waste","Biomass & Waste","Electricity Generation (new)",0,"New build","Balance Sheet","Equity","2010-06-30",41,0,0,0,105,105,109.41438738999474]
[2010,6,"Q2","2010Q2","Brazil",{"$f":"IF(K903=\"\",\"\",IF(OR(T903=\"Wind\",T903=\"Solar\",T903=\"Geothermal\",T903=\"Small Hydro\",T903=\"Biofuels\",T903=\"Biomass & Waste\"),T903,\"Other Clean Energy\"))","v":"Biofuels"},"Asset finance investments",87.531509911995798,"New Financial Investment","AF","AF12246","Unial Amelia Rodrigues Ethanol Plant Expansion","Brazil","Brazil","Central & South America","AMER","non-OECD","BASIC","Biofuels","Biofuels","Gasoline/Petrol Substitute","1-Gen fermentation","New build","Balance Sheet","Equity","2010-06-16",0,86,0,0,84,84,87.531509911995798]
[2010,6,"Q2","2010Q2","Argentina","Biomass & Waste","Asset finance investments",83.363342773329322,"New Financial Investment","AF","AF12245","Enarsa Villa Maria Biomass Plant","Argentina","Other AMER","Central & South America","AMER","non-OECD",null,"Biomass & Waste","Biomass & Waste","Electricity Generation (new)","Incineration","New build","Balance Sheet","Equity","2010-06-16",50,0,0,0,80,80,83.363342773329322]
[2010,6,"Q2","2010Q2","Brazil","Small Hydro","Asset finance investments",56.374460550463958,"New Financial Investment","AF","AF12242","Eletrosul Joao Borges Small Hydro Plant","Brazil","Brazil","Central & South America","AMER","non-OECD","BASIC","Small hydro","Small Hydro","Run of River",0,"New build","Balance Sheet","Equity","2010-06-01",19,0,0,0,54.1,54.1,56.374460550463958]
[2010,4,"Q2","2010Q2","Brazil","Small Hydro","Asset finance investments",52.623110125664134,"New Financial Investment","AF","AF11433","EMAE Pirapora Small Hydro Plant","Brazil","Brazil","Central & South America","AMER","non-OECD","BASIC","Small hydro","Small Hydro","Run of River",0,"New build","Balance Sheet","Equity","2010-04-12T18:56:00",25,0,0,0,0,50.5,52.623110125664134]
[2010,5,"Q2","2010Q2","Mexico","Biomass & Waste","Asset finance investments",50.018005663997599,"New Financial Investment","AF","AF17953","Grupo Piasa Tres Valles Biomass Plant","Mexico","Other AMER","Central & South America","AMER","OECD",null,"Biomass & Waste","Biomass & Waste","Electricity Generation (new)","Incineration","New build","Balance Sheet","Equity","2010-05-18",40,0,0,0,48,48,50.018005663997599]
[2010,5,"Q2","2010Q2","Mexico","Geothermal","Asset finance investments",44.8077967406645,"New Financial Investment","AF","AF15812","CFE Los Humeros II Geothermal Project Phase II","Mexico","Other AMER","Central & South America","AMER","OECD",null,"Geothermal","Geothermal","Conventional","Single flash","New build","Balance Sheet","Equity","2010-05-31",25,0,0,0,0,43,44.8077967406645]
[2010,6,"Q2","2010Q2","Brazil","Small Hydro","Asset finance investments",43.036325706731262,"New Financial Investment","AF","AF8972","PCH Rio do Braço Small Hydro Plant","Brazil","Brazil","Central & South America","AMER","non-OECD","BASIC","Small hydro","Small Hydro","Run of River",0,"New build","Term loan","Debt","2010-06-30",11.5,0,0,0,41.3,41.3,43.036325706731262]
[2010,4,"Q2","2010Q2","Brazil","Biomass & Waste","Asset finance investments",31.938580700031796,"New Financial Investment","AF","AF14771","Cargill Uberlandia Biomass Plant","Brazil","Brazil","Central & South America","AMER","non-OECD","BASIC","Biomass & Waste","Biomass & Waste","Combined Heat & Power (CHP)","Incineration","New build","Term loan","Debt","2010-04-14",0,0,0,0,0,30.65,31.938580700031796]
[2010,4,"Q2","2010Q2","Brazil","Biomass & Waste","Asset finance investments",31.261253539998496,"New Financial Investment","AF","AF19407","MPC Capital Sao Borja Biomass Plant","Brazil","Brazil","Central & South America","AMER","non-OECD","BASIC","Biomass & Waste","Biomass & Waste","Electricity Generation (new)","Incineration","New build","Balance Sheet","Equity","2010-04-30",12.5,0,0,0,30,30,31.261253539998496]
[2010,6,"Q2","2010Q2","Brazil","Biomass & Waste","Asset finance investments",29.177169970665265,"New Financial Investment","AF","AF11486","Solvi Termoverde Salvador Landfill Gas Plant","Brazil","Brazil","Central & South America","AMER","non-OECD","BASIC","Biomass & Waste","Biomass & Waste","Electricity Generation (new)","Landfill gas power","New build","Term loan","Debt","2010-06-30",19.7,0,0,0,28,28,29.177169970665265]
[2010,4,"Q2","2010Q2","Brazil","Biofuels","Asset finance investments",22.924919262665565,"New Financial Investment","AF","AF15268","Granol Anapolis Biodiesel Plant Expansion IV","Brazil","Brazil","Central & South America","AMER","non-OECD","BASIC","Biofuels","Biofuels","Diesel Substitute","Transesterification","New build","Term loan","Debt","2010-04-14",0,151.9,0,0,22,22,22.924919262665565]
[2010,4,"Q2","2010Q2","Peru","Small Hydro","Asset finance investments",21.049244050265653,"New Financial Investment","AF","AF32538","LAP Huasahuasi II Small Hydro Plant","Peru","Other AMER","Central & South America","AMER","non-OECD",null,"Small hydro","Small Hydro","Run of River",0,"New build","Balance Sheet","Equity","2010-04-30",10,0,0,0,0,20.2,21.049244050265653]
[2010,6,"Q2","2010Q2","Chile","Small Hydro","Asset finance investments",20.84083569333233,"New Financial Investment","AF","AF20082","Capullo Pulelfu Small Hydro Plant","Chile","Other AMER","Central & South America","AMER","OECD",null,"Small hydro","Small Hydro","Run of River",0,"New build","Balance Sheet","Equity","2010-06-30",9,0,0,0,20,20,20.84083569333233]
[2010,4,"Q2","2010Q2","Brazil","Biofuels","Asset finance investments",17.923118696265803,"New Financial Investment","AF","AF11432","TG Agroindustrial Ethanol Plant Expansion","Brazil","Brazil","Central & South America","AMER","non-OECD","BASIC","Biofuels","Biofuels","Gasoline/Petrol Substitute","1-Gen fermentation","New build","Term loan","Debt","2010-04-12",0,180,0,0,17.2,17.2,17.923118696265803]
[2010,4,"Q2","2010Q2","Brazil","Small Hydro","Asset finance investments",15.943239305399235,"New Financial Investment","AF","AF12109","Rondonia Small Hydro Portfolio","Brazil","Brazil","Central & South America","AMER","non-OECD","BASIC","Small hydro","Small Hydro","Existing Dam",0,"New build","Balance Sheet","Equity","2010-04-20",6.1,0,0,0,0,15.3,15.943239305399235]
[2010,5,"Q2","2010Q2","Argentina","Biomass & Waste","Asset finance investments",14.536482896099301,"New Financial Investment","AF","AF27534","Secco San Martin Landfill Gas Plant","Argentina","Other AMER","Central & South America","AMER","non-OECD",null,"Biomass & Waste","Biomass & Waste","Electricity Generation (new)","Landfill gas power","New build","Balance Sheet","Equity","2010-05-19",5,0,0,0,0,13.95,14.536482896099301]
[2010,5,"Q2","2010Q2","Brazil","Biofuels","Asset finance investments",14.005041585919326,"New Financial Investment","AF","AF9273","Cesbra Volta Redonda Biodiesel Plant Expansion","Brazil","Brazil","Central & South America","AMER","non-OECD","BASIC","Biofuels","Biofuels","Diesel Substitute","Transesterification","New build","Balance Sheet","Equity","2010-05-24",0,38.4,0,0,0,13.44,14.005041585919326]
[2010,6,"Q2","2010Q2","Brazil","Wind","Asset finance investments",12.712909772932722,"New Financial Investment","AF","AF12266","Cardus Vitoria Wind Farm","Brazil","Brazil","Central & South America","AMER","non-OECD","BASIC","Wind","Wind","Onshore",0,"New build","Term loan","Debt","2010-06-10",4.5,0,0,0,12.2,12.2,12.712909772932722]
[2010,5,"Q2","2010Q2","Peru","Small Hydro","Asset finance investments",10.628826203599488,"New Financial Investment","AF","AF11049","Santa Cruz II Small Hydro Plant","Peru","Other AMER","Central & South America","AMER","non-OECD",null,"Small hydro","Small Hydro","Run of River",0,"New build","Balance Sheet","Equity","2010-05-31",6.34,0,0,0,10.199999999999999,10.199999999999999,10.628826203599488]
[2010,6,"Q2","2010Q2","Brazil","Other Clean Energy","VC/PE investments",5.2102089233330826,"New Financial Investment","VCPE","VCPE4652","APS Solucoes em Energia Ltda","Brazil","Brazil","Central & South America","AMER","non-OECD","BASIC","Efficiency: Built Environment","Energy smart technologies",0,0,"Service Company","PE - Expansion capital","PE Expansion Capital","2010-06-09","na","na","na","na",5,5,5.2102089233330826]
[2010,5,"Q2","2010Q2","Argentina","Biofuels","Asset finance investments",4.8975963879330964,"New Financial Investment","AF","AF11864","Alconoa Tabacal Oran Biothanol and Power Plant Expansion II","Argentina","Other AMER","Central & South America","AMER","non-OECD",null,"Biofuels","Biofuels","Gasoline/Petrol Substitute","Dehydration","New build","Balance Sheet","Equity","2010-05-31",0,10,0,0,0,4.6999999999999993,4.8975963879330964]
[2010,5,"Q2","2010Q2","Peru","Biomass & Waste","Asset finance investments",0.41681671386664665,"New Financial Investment","AF","AFLATAM_RP24079","La Calera Farm Biodigesters Project","Peru","Other AMER","Central & South America","AMER","non-OECD",null,"Biomass & Waste","Biomass & Waste","Electricity Generation (new)",0,"New build","Balance Sheet","Equity","2010-05-01",45,0,0,0,0,0.4,0.41681671386664665]
[2009,4,"Q2","2009Q2","Brazil","Biofuels","Asset finance investments",520,"New Financial Investment","AF","AF6650","Cabrera ADM Jatai and Limeira Bioethanol Plants","Brazil","Brazil","Central & South America","AMER","non-OECD","BASIC","Biofuels","Biofuels","Gasoline/Petrol Substitute","1-Gen fermentation","New build","Balance Sheet","Equity","2009-04-09",82,270,0,0,500,500,520]
[2009,6,"Q2","2009Q2","Brazil","Biofuels","Asset finance investments",520,"New Financial Investment","AF","AF8671","Vale Biopalma Belém Biodiesel Plant","Brazil","Brazil","Central & South America","AMER","non-OECD","BASIC","Biofuels","Biofuels","Diesel Substitute","Transesterification","New build","Balance Sheet","Equity","2009-06-24",0,160,0,0,500,500,520]
[2009,4,"Q2","2009Q2","Dominican Republic","Solar","Asset finance investments",208,"New Financial Investment","AF","AF7628","Sunovia Santo Domingo Solar Park","Dominican Republic","Other AMER","North America & Caribbean","AMER","non-OECD",null,"Solar","Solar","PV",0,"New build","Balance Sheet","Equity","2009-04-14",20,0,0,0,200,200,208]
[2009,4,"Q2","2009Q2","Brazil","Biofuels","Asset finance investments",192.4,"New Financial Investment","AF","AF6287","Brasif Grendene Da Mata Bioethanol Plant","Brazil","Brazil","Central & South America","AMER","non-OECD","BASIC","Biofuels","Biofuels","Gasoline/Petrol Substitute","1-Gen fermentation","New build","Balance Sheet","Equity","2009-04-30",22,200,0,0,185,185,192.4]
[2009,4,"Q2","2009Q2","Brazil","Biofuels","Asset finance investments",155.48000000000002,"New Financial Investment","AF","AF8383","Jalles Machado Otavio Lage Ethanol and Power Plant","Brazil","Brazil","Central & South America","AMER","non-OECD","BASIC","Biofuels","Biofuels","Gasoline/Petrol Substitute","1-Gen fermentation","New build","Term loan","Debt","2009-04-29",0,0,0,0,149.5,149.5,155.48000000000002]
[2009,5,"Q2","2009Q2","Brazil","Biomass & Waste","Asset finance investments",92.352000000000004,"New Financial Investment","AF","AF6249","Cosan Gasa Bioethanol and Power Plant Expansion","Brazil","Brazil","Central & South America","AMER","non-OECD","BASIC","Biomass & Waste","Biomass & Waste","Electricity Generation (new)","Incineration","New build","Term loan","Debt","2009-05-05",40,0,0,0,88.8,88.8,92.352000000000004]
[2009,6,"Q2","2009Q2","Brazil","Wind","Asset finance investments",90.688000000000002,"New Financial Investment","AF","AF8543","Eolica Gravata Pernambuco Wind Portfolio","Brazil","Brazil","Central & South America","AMER","non-OECD","BASIC","Wind","Wind","Onshore",0,"New build","Balance Sheet","Equity","2009-06-09",21.25,0,0,0,87.2,87.2,90.688000000000002]
[2009,4,"Q2","2009Q2","Brazil","Biofuels","Asset finance investments",89.856000000000009,"New Financial Investment","AF","AFLATAM_RPg","Olfar Erechim Biodiesel Plant","Brazil","Brazil","Central & South America","AMER","non-OECD","BASIC","Biofuels","Biofuels","Diesel Substitute",0,"New build","Balance Sheet","Equity","2009-04-28",0,216,0,0,0,86.4,89.856000000000009]
[2009,6,"Q2","2009Q2","Brazil","Biofuels","Asset finance investments",83.2,"New Financial Investment","AF","AF20624","Bio Brazilian Barra do Garças Biodiesel Plant","Brazil","Brazil","Central & South America","AMER","non-OECD","BASIC","Biofuels","Biofuels","Diesel Substitute","Transesterification","New build","Balance Sheet","Equity","2009-06-30",0,31.8,0,0,80,80,83.2]
[2009,5,"Q2","2009Q2","Brazil","Biomass & Waste","Asset finance investments",69.888000000000005,"New Financial Investment","AF","AF6350","Guarani Tractebel Andrade Power Plant Facility","Brazil","Brazil","Central & South America","AMER","non-OECD","BASIC","Biomass & Waste","Biomass & Waste","Electricity Generation (new)","Incineration","New build","Balance Sheet","Equity","2009-05-31",33,0,0,0,67.2,67.2,69.888000000000005]
[2009,5,"Q2","2009Q2","Mexico","Geothermal","Asset finance investments",65.52,"New Financial Investment","AF","AF30232","CFE Los Humeros II Geothermal Project Phase I","Mexico","Other AMER","Central & South America","AMER","OECD",null,"Geothermal","Geothermal","Conventional","Single flash","New build","Balance Sheet","Equity","2009-05-31",25,0,0,0,63,63,65.52]
[2009,4,"Q2","2009Q2","Brazil","Small Hydro","Asset finance investments",64.688000000000002,"New Financial Investment","AF","AF6150","Neoenergia Sitio Grande Small Hydro Plant","Brazil","Brazil","Central & South America","AMER","non-OECD","BASIC","Small hydro","Small Hydro","Run of River",0,"New build","Term loan","Debt","2009-04-13",25,0,0,0,62.2,62.2,64.688000000000002]
[2009,6,"Q2","2009Q2","Brazil","Small Hydro","Asset finance investments",54.808000000000007,"New Financial Investment","AF","AF8849","CELAN Anhanguera Small Hydro Plant","Brazil","Brazil","Central & South America","AMER","non-OECD","BASIC","Small hydro","Small Hydro","Run of River",0,"New build","Term loan","Debt","2009-06-09",22.68,0,0,0,52.7,52.7,54.808000000000007]
[2009,5,"Q2","2009Q2","Panama","Small Hydro","Asset finance investments",51.375999999999998,"New Financial Investment","AF","AF9512","Caldera Energy Mendre Small Hydro Plant","Panama","Other AMER","Central & South America","AMER","non-OECD",null,"Small hydro","Small Hydro","Run of River",0,"New build","Balance Sheet","Equity","2009-05-15",19.75,0,0,0,0,49.4,51.375999999999998]
[2009,6,"Q2","2009Q2","Brazil","Biofuels","Asset finance investments",38.84816,"New Financial Investment","AF","AF17168","ADM Rondonopolis Biodiesel Plant Expansion","Brazil","Brazil","Central & South America","AMER","non-OECD","BASIC","Biofuels","Biofuels","Diesel Substitute","Transesterification","New build","Balance Sheet","Equity","2009-06-30",0,98.3,0,0,0,37.353999999999999,38.84816]
[2009,6,"Q2","2009Q2","Brazil","Biofuels","Asset finance investments",35.984000000000002,"New Financial Investment","AF","AF8656","EQM Cucau CoGeneration Plant","Brazil","Brazil","Central & South America","AMER","non-OECD","BASIC","Biofuels","Biofuels","Gasoline/Petrol Substitute","1-Gen fermentation","New build","Balance Sheet","Equity","2009-06-22",33,0,0,0,34.6,34.6,35.984000000000002]
[2009,5,"Q2","2009Q2","Brazil","Biomass & Waste","Asset finance investments",34.819200000000002,"New Financial Investment","AF","AF33598","Carlos Lyra Marituba Power Plant Expansion II","Brazil","Brazil","Central & South America","AMER","non-OECD","BASIC","Biomass & Waste","Biomass & Waste","Electricity Generation (new)","Incineration","New build","Balance Sheet","Equity","2009-05-29",12,0,0,0,0,33.480000000000004,34.819200000000002]
[2009,6,"Q2","2009Q2","Brazil","Biofuels","VC/PE investments",33.800000000000004,"New Financial Investment","VCPE","VCPE2857","ETH Bioenergia SA","Brazil","Brazil","Central & South America","AMER","non-OECD","BASIC","Biofuels","Biofuels","Gasoline/Petrol Substitute","1-Gen fermentation","Developer","PE - Expansion capital","PE Expansion Capital","2009-06-01","na","na","na","na",32.5,32.5,33.800000000000004]
[2009,4,"Q2","2009Q2","Mexico","Wind","Asset finance investments",27.248000000000001,"New Financial Investment","AF","AF8281","La Rumorosa I Wind Farm","Mexico","Other AMER","Central & South America","AMER","OECD",null,"Wind","Wind","Onshore",0,"New build","Balance Sheet","Equity","2009-04-30",10,0,0,0,26.2,26.2,27.248000000000001]
[2009,6,"Q2","2009Q2","Chile","Small Hydro","Asset finance investments",18.096,"New Financial Investment","AF","AF13171","Energia Coyanco Guayacan Small Hydro Plant","Chile","Other AMER","Central & South America","AMER","OECD",null,"Small hydro","Small Hydro","Run of River",0,"New build","Term loan","Debt","2009-06-30",10.4,0,0,0,17.399999999999999,17.399999999999999,18.096]
[2009,5,"Q2","2009Q2","Brazil","Biofuels","Asset finance investments",17.971200000000003,"New Financial Investment","AF","AFLATAM_RPf","Grupal Sorriso Biodiesel Plant","Brazil","Brazil","Central & South America","AMER","non-OECD","BASIC","Biofuels","Biofuels","Diesel Substitute",0,"New build","Balance Sheet","Equity","2009-05-04",0,43.2,0,0,0,17.28,17.971200000000003]
[2009,4,"Q2","2009Q2","Brazil","Biomass & Waste","Asset finance investments",17.055999999999997,"New Financial Investment","AF","AF8651","Petrobras Juiz de Fora Biofuel Power Plant","Brazil","Brazil","Central & South America","AMER","non-OECD","BASIC","Biomass & Waste","Biomass & Waste","Electricity Generation (new)","Incineration","New build","Balance Sheet","Equity","2009-04-30",43.5,0,0,0,16.399999999999999,16.399999999999999,17.055999999999997]
[2009,6,"Q2","2009Q2","Brazil","Small Hydro","Asset finance investments",16.390400000000003,"New Financial Investment","AF","AFLATAM_RP19962","Service Energy Santa Ana Small Hydro Plant","Brazil","Brazil","Central & South America","AMER","non-OECD","BASIC","Small hydro","Small Hydro","Run of River",0,"New build","Balance Sheet","Equity","2009-06-19",6.3040000000000003,0,0,0,0,15.760000000000002,16.390400000000003]
[2009,4,"Q2","2009Q2","Peru","Small Hydro","Asset finance investments",14.576640000000001,"New Financial Investment","AF","AF11067","GEPSA La Joya Small Hydro Plant","Peru","Other AMER","Central & South America","AMER","non-OECD",null,"Small hydro","Small Hydro","Run of River",0,"New build","Balance Sheet","Equity","2009-04-02",9.6,0,0,0,0,14.016,14.576640000000001]
[2009,5,"Q2","2009Q2","Brazil","Biofuels","Asset finance investments",14.148159999999999,"New Financial Investment","AF","AF9271","BSBIOS Petrobras Passo Fundo Biodiesel Plant Expansion","Brazil","Brazil","Central & South America","AMER","non-OECD","BASIC","Biofuels","Biofuels","Diesel Substitute","Transesterification","New build","Balance Sheet","Equity","2009-05-12",0,35.799999999999997,0,0,0,13.603999999999999,14.148159999999999]
[2009,6,"Q2","2009Q2","Panama","Small Hydro","Asset finance investments",13.780000000000001,"New Financial Investment","AF","AF9518","Hidroiberica El Fraile Small Hydro Plant","Panama","Other AMER","Central & South America","AMER","non-OECD",null,"Small hydro","Small Hydro","Run of River",0,"New build","Balance Sheet","Equity","2009-06-27",5.3,0,0,0,0,13.25,13.780000000000001]
[2009,4,"Q2","2009Q2","Uruguay","Biomass & Waste","Asset finance investments",10.4,"New Financial Investment","AF","AF20498","Lidedat Paysandu Biomass Plant","Uruguay","Other AMER","Central & South America","AMER","non-OECD",null,"Biomass & Waste","Biomass & Waste","Electricity Generation (new)","Incineration","New build","Balance Sheet","Equity","2009-04-30",5,0,0,0,10,10,10.4]
[2009,6,"Q2","2009Q2","Brazil","Small Hydro","Asset finance investments",8.2888000000000002,"New Financial Investment","AF","AFLATAM_RP19961","Service Energy Coqueiral Small Hydro Plant","Brazil","Brazil","Central & South America","AMER","non-OECD","BASIC","Small hydro","Small Hydro","Run of River",0,"New build","Balance Sheet","Equity","2009-06-19",3.1880000000000002,0,0,0,0,7.9700000000000006,8.2888000000000002]
[2009,6,"Q2","2009Q2","Brazil","Small Hydro","Asset finance investments",7.8000000000000007,"New Financial Investment","AF","AF8695","Cotesa São Sebastião Small Hydro Plant","Brazil","Brazil","Central & South America","AMER","non-OECD","BASIC","Small hydro","Small Hydro","Run of River",0,"New build","Balance Sheet","Equity","2009-06-19",3.6989999999999998,0,0,0,0,7.5,7.8000000000000007]
[2009,5,"Q2","2009Q2","Peru","Small Hydro","Asset finance investments",7.8000000000000007,"New Financial Investment","AF","AF11048","Santa Cruz I Small Hydro Plant","Peru","Other AMER","Central & South America","AMER","non-OECD",null,"Small hydro","Small Hydro","Run of River",0,"New build","Balance Sheet","Equity","2009-05-29",5.9,0,0,0,7.5,7.5,7.8000000000000007]
[2009,4,"Q2","2009Q2","Uruguay","Biofuels","Asset finance investments",7.28,"New Financial Investment","AF","AF9462","ALUR Bella Union Bioethanol and Power Plant","Uruguay","Other AMER","Central & South America","AMER","non-OECD",null,"Biofuels","Biofuels","Gasoline/Petrol Substitute","1-Gen fermentation","New build","Balance Sheet","Equity","2009-04-01",0,21,0,0,7,7,7.28]
[2009,5,"Q2","2009Q2","Brazil","Biofuels","Asset finance investments",7.0740799999999995,"New Financial Investment","AF","AF31006","SPBIO Sumare Biodiesel Plant Expansion","Brazil","Brazil","Central & South America","AMER","non-OECD","BASIC","Biofuels","Biofuels","Diesel Substitute","Transesterification","New build","Balance Sheet","Equity","2009-05-05",0,17.899999999999999,0,0,0,6.8019999999999996,7.0740799999999995]
[2009,6,"Q2","2009Q2","Brazil","Small Hydro","Asset finance investments",6.032,"New Financial Investment","AF","AF8694","Cachoeira do Brumado Small Hydro Plant","Brazil","Brazil","Central & South America","AMER","non-OECD","BASIC","Small hydro","Small Hydro","Run of River",0,"New build","Balance Sheet","Equity","2009-06-19",2.34,0,0,0,0,5.8,6.032]
[2009,6,"Q2","2009Q2","Mexico","Biomass & Waste","Asset finance investments",4.68,"New Financial Investment","AF","AFLATAM_RP23690","Queretaro Landfill Gas Plant","Mexico","Other AMER","Central & South America","AMER","OECD",null,"Biomass & Waste","Biomass & Waste","Electricity Generation (new)",0,"New build","Balance Sheet","Equity","2009-06-15",35,0,0,0,0,4.5,4.68]
[2009,6,"Q2","2009Q2","Brazil","Small Hydro","Asset finance investments",4.0040000000000004,"New Financial Investment","AF","AFLATAM_RP19960","Service Energy Barra Clara Small Hydro Plant","Brazil","Brazil","Central & South America","AMER","non-OECD","BASIC","Small hydro","Small Hydro","Run of River",0,"New build","Balance Sheet","Equity","2009-06-19",1.54,0,0,0,0,3.85,4.0040000000000004]
[2009,5,"Q2","2009Q2","Brazil","Biofuels","Asset finance investments",0.36399999999999999,"New Financial Investment","AF","AF8852","Algae Biotecnologia Sao Paulo Next Generation Biodiesel Pilot Plant","Brazil","Brazil","Central & South America","AMER","non-OECD","BASIC","Biofuels","Biofuels","Diesel Substitute","Transesterification","New build","Balance Sheet","Equity","2009-05-27",0,0,0,0,0.35,0.35,0.36399999999999999]
[2008,6,"Q2","2008Q2","Mexico","Wind","Asset finance investments",566.5,"New Financial Investment","AF","AF7523","Acciona Eurus Wind Farm","Mexico","Other AMER","Central & South America","AMER","OECD",null,"Wind","Wind","Onshore",0,"New build","Balance Sheet","Equity","2008-06-30",250.5,0,0,0,550,550,566.5]
[2008,4,"Q2","2008Q2","Brazil","Biofuels","Asset finance investments",515,"New Financial Investment","AF","AF3157","Tropical Edeia I Bioethanol Plant","Brazil","Brazil","Central & South America","AMER","non-OECD","BASIC","Biofuels","Biofuels","Gasoline/Petrol Substitute","1-Gen fermentation","New build","Term loan","Debt","2008-04-24",0,217.5,0,0,500,500,515]
[2008,6,"Q2","2008Q2","Brazil","Biofuels","Asset finance investments",331.96899999999999,"New Financial Investment","AF","AF7692","USJ Bioethanol and Power Plant Portfolio","Brazil","Brazil","Central & South America","AMER","non-OECD","BASIC","Biofuels","Biofuels","Gasoline/Petrol Substitute","1-Gen fermentation","New build","Term loan","Debt","2008-06-30",0,193.5,0,0,322.3,322.3,331.96899999999999]
[2008,4,"Q2","2008Q2","Brazil","Wind","Asset finance investments",323.72900000000004,"New Financial Investment","AF","AF6713","Impsa Ceara Wind Portfolio","Brazil","Brazil","Central & South America","AMER","non-OECD","BASIC","Wind","Wind","Onshore",0,"New build","Term loan","Debt","2008-04-01",99.6,0,0,0,314.3,314.3,323.72900000000004]
[{"$f":"IF(K965=\"\",\"\",IF(AND(YEAR(Z965)<2004,YEAR(Z965)>1910),2004,YEAR(Z965)))","v":2008},{"$f":"IF(K965=\"\",\"\",IF(ISNUMBER(Z965),MONTH(Z965),0))","v":6},{"$f":"IF(K965=\"\",\"\",IF(AND(B965>=1,B965<=3),\"Q1\",IF(AND(B965>3,B965<=6),\"Q2\",IF(AND(B965>6,B965<=9),\"Q3\",IF(AND(B965>9,B965<=12),\"Q4\",0)))))","v":"Q2"},{"$f":"IF(A965<2006, \"< 2006\", A965&C965)","v":"2008Q2"},{"$f":"IF(K965=\"\",\"\", M965)","v":"Brazil"},"Biomass & Waste","Asset finance investments",{"$f":"IF(K965=\"\",\"\",AG965)","v":247.20000000000002},"New Financial Investment","AF","AF3315","Bonfim Power Plant Expansion","Brazil","Brazil","Central & South America","AMER","non-OECD","BASIC","Biomass & Waste","Biomass & Waste","Electricity Generation (new)","Incineration","New build","Term loan","Debt","2008-06-30",75,0,0,0,0,240,247.20000000000002]
[2008,6,"Q2","2008Q2","Brazil","Biomass & Waste",{"$f":"IF(K966=\"\",\"\",IF(OR(J966=\"PM\",J966=\"MA\"), \"Corporate finance investments\", IF(J966=\"VCPE\", \"VC/PE investments\", IF(J966=\"AF\", \"Asset finance investments\"))))","v":"Asset finance investments"},235.76700000000002,"New Financial Investment","AF","AF7451","Cocal Narandiba Power Plant Facility Expansion","Brazil","Brazil","Central & South America","AMER","non-OECD","BASIC","Biomass & Waste","Biomass & Waste","Electricity Generation (new)","Incineration","New build","Balance Sheet","Equity","2008-06-10",160,118,0,0,228.9,228.9,235.76700000000002]
[2008,5,"Q2","2008Q2","Trinidad & Tobago",{"$f":"IF(K967=\"\",\"\",IF(OR(T967=\"Wind\",T967=\"Solar\",T967=\"Geothermal\",T967=\"Small Hydro\",T967=\"Biofuels\",T967=\"Biomass & Waste\"),T967,\"Other Clean Energy\"))","v":"Biofuels"},"Asset finance investments",222.51089999999996,"New Financial Investment","AF","AF5900","EthylChem Pointe-a-Pierre Ethanol Dehydration Plant","Trinidad & Tobago","Other AMER","North America & Caribbean","AMER","non-OECD",null,"Biofuels","Biofuels","Gasoline/Petrol Substitute","Dehydration","New build","Term loan","Debt","2008-05-28",0,379,0,0,0,216.02999999999997,222.51089999999996]
[2008,5,"Q2","2008Q2","Brazil","Biofuels","Asset finance investments",218.15400000000002,"New Financial Investment","AF","AF8422","Oswaldo Ribeiro Colorado Ethanol Plant","Brazil","Brazil","Central & South America","AMER","non-OECD","BASIC","Biofuels","Biofuels","Gasoline/Petrol Substitute","1-Gen fermentation","New build","Balance Sheet","Equity","2008-05-07",13.8,0,0,0,211.8,211.8,218.15400000000002]
[2008,6,"Q2","2008Q2","Brazil","Biofuels","VC/PE investments",148.32,"New Financial Investment","VCPE","VCPE2337","Comanche Clean Energy Corp","Brazil","Brazil","Central & South America","AMER","non-OECD","BASIC","Biofuels","Biofuels","Gasoline/Petrol Substitute","1-Gen fermentation","Fuel production/procurement","PE - Expansion capital","PE Expansion Capital","2008-06-18T11:47:00","na","na","na","na",144,144,148.32]
[2008,4,"Q2","2008Q2","Brazil","Small Hydro","Asset finance investments",126.69,"New Financial Investment","AF","AF5891","Ibituruna Mini-Hydro Project","Brazil","Brazil","Central & South America","AMER","non-OECD","BASIC","Small hydro","Small Hydro","Run of River",0,"New build","Balance Sheet","Equity","2008-04-01T17:17:00",30,0,0,0,123,123,126.69]
[2008,4,"Q2","2008Q2","Brazil","Small Hydro","Asset finance investments",126.69,"New Financial Investment","AF","AF5892","Pinapetinga Mini-Hydro Project","Brazil","Brazil","Central & South America","AMER","non-OECD","BASIC","Small hydro","Small Hydro","Run of River",0,"New build","Balance Sheet","Equity","2008-04-01T17:26:00",30,0,0,0,123,123,126.69]
[2008,5,"Q2","2008Q2","Brazil","Biomass & Waste","Asset finance investments",113.37209999999999,"New Financial Investment","AF","AF5808","Costa Pinto Biomass Plant Expansion","Brazil","Brazil","Central & South America","AMER","non-OECD","BASIC","Biomass & Waste","Biomass & Waste","Electricity Generation (new)","Incineration","New build","Term loan","Debt","2008-05-29",65.599999999999994,0,0,0,110.07,110.07,113.37209999999999]
[2008,4,"Q2","2008Q2","Brazil","Biofuels","Asset finance investments",109.46016,"New Financial Investment","AF","AFLATAM_RP19228","Engebanc Cacu Ethanol Plant","Brazil","Brazil","Central & South America","AMER","non-OECD","BASIC","Biofuels","Biofuels","Gasoline/Petrol Substitute",0,"New build","Balance Sheet","Equity","2008-04-16",0,86.4,0,0,0,106.27200000000001,109.46016]
[2008,5,"Q2","2008Q2","Brazil","Biofuels","Asset finance investments",107.6865,"New Financial Investment","AF","AFLATAM_RP19849","Vale do Verdao Floresta Ethanol Plant","Brazil","Brazil","Central & South America","AMER","non-OECD","BASIC","Biofuels","Biofuels","Gasoline/Petrol Substitute",0,"New build","Balance Sheet","Equity","2008-05-31",0,85,0,0,0,104.55,107.6865]
[2008,6,"Q2","2008Q2","Brazil","Biofuels","Asset finance investments",96.614000000000004,"New Financial Investment","AF","AF7690","Colombo Santa Albertina Ethanol and Power Plant","Brazil","Brazil","Central & South America","AMER","non-OECD","BASIC","Biofuels","Biofuels","Gasoline/Petrol Substitute","1-Gen fermentation","New build","Term loan","Debt","2008-06-13",25,120,0,0,93.8,93.8,96.614000000000004]
[2008,4,"Q2","2008Q2","Brazil","Biomass & Waste","Asset finance investments",91.978999999999999,"New Financial Investment","AF","AF5683","Ester Cosmopolis Power Plant Expansion","Brazil","Brazil","Central & South America","AMER","non-OECD","BASIC","Biomass & Waste","Biomass & Waste","Electricity Generation (new)","Incineration","New build","Term loan","Debt","2008-04-15",38.700000000000003,0,0,0,89.3,89.3,91.978999999999999]
[2008,5,"Q2","2008Q2","Brazil","Biofuels","Asset finance investments",90.948999999999998,"New Financial Investment","AF","AF6828","Agroindustrial Campo Lindo Gentil Barbosa Ethanol Plant","Brazil","Brazil","Central & South America","AMER","non-OECD","BASIC","Biofuels","Biofuels","Gasoline/Petrol Substitute","1-Gen fermentation","New build","Term loan","Debt","2008-05-01",30,108,0,0,88.3,88.3,90.948999999999998]
[2008,6,"Q2","2008Q2","Brazil","Biofuels","Asset finance investments",71.997000000000014,"New Financial Investment","AF","AF8430","Ipiranga Bioethanol and Power Portfolio Expansion","Brazil","Brazil","Central & South America","AMER","non-OECD","BASIC","Biofuels","Biofuels","Gasoline/Petrol Substitute","1-Gen fermentation","New build","Term loan","Debt","2008-06-11",30,0,0,0,69.900000000000006,69.900000000000006,71.997000000000014]
[2008,6,"Q2","2008Q2","Argentina","Biofuels","Asset finance investments",61.800000000000004,"New Financial Investment","AF","AF7114","Patagonia Bioenergia Biodiesel Plant","Argentina","Other AMER","Central & South America","AMER","non-OECD",null,"Biofuels","Biofuels","Diesel Substitute",0,"New build","Term loan","Debt","2008-06-13",0,297.60000000000002,0,0,60,60,61.800000000000004]
[2008,4,"Q2","2008Q2","Colombia","Small Hydro","Asset finance investments",48.410000000000004,"New Financial Investment","AF","AF9111","EPSA Amaime Small Hydro Plant","Colombia","Other AMER","Central & South America","AMER","non-OECD",null,"Small hydro","Small Hydro","Run of River",0,"New build","Balance Sheet","Equity","2008-04-30",18,0,0,0,47,47,48.410000000000004]
[2008,6,"Q2","2008Q2","Brazil","Biomass & Waste","Asset finance investments",39.14,"New Financial Investment","AF","AF8802","Novo Gramacho Biomethane Plant","Brazil","Brazil","Central & South America","AMER","non-OECD","BASIC","Biomass & Waste","Biomass & Waste","Natural Gas Substitute (biomethane)","Anaerobic digestion","New build","Balance Sheet","Equity","2008-06-05",0,8333,0,0,38,38,39.14]
[2008,6,"Q2","2008Q2","Brazil","Biomass & Waste","Asset finance investments",35.329000000000001,"New Financial Investment","AF","AF7695","Santalucia Rice Biomass Plant","Brazil","Brazil","Central & South America","AMER","non-OECD","BASIC","Biomass & Waste","Biomass & Waste","Electricity Generation (new)","Incineration","New build","Term loan","Debt","2008-06-05",7,0,0,0,34.299999999999997,34.299999999999997,35.329000000000001]
[2008,5,"Q2","2008Q2","Brazil","Biofuels","Asset finance investments",31.796099999999999,"New Financial Investment","AF","AF30910","Granol Anapolis Biodiesel Plant Expansion III","Brazil","Brazil","Central & South America","AMER","non-OECD","BASIC","Biofuels","Biofuels","Diesel Substitute","Transesterification","New build","Balance Sheet","Equity","2008-05-19",0,73.5,0,0,0,30.869999999999997,31.796099999999999]
[2008,4,"Q2","2008Q2","Brazil","Biofuels","Asset finance investments",30.900000000000002,"New Financial Investment","AF","AF5510","Vale do Ivai Marialva Ethanol Plant","Brazil","Brazil","Central & South America","AMER","non-OECD","BASIC","Biofuels","Biofuels","Gasoline/Petrol Substitute","1-Gen fermentation","New build","Balance Sheet","Equity","2008-04-04T08:15:00",0,60,0,0,0,30,30.900000000000002]
[2008,4,"Q2","2008Q2","Uruguay","Wind","Asset finance investments",30.900000000000002,"New Financial Investment","AF","AF8330","Nuevo Manantial Maldonado and Rocha Wind Farms","Uruguay","Other AMER","Central & South America","AMER","non-OECD",null,"Wind","Wind","Onshore",0,"New build","Balance Sheet","Equity","2008-04-23",13.45,0,0,0,30,30,30.900000000000002]
[2008,4,"Q2","2008Q2","Brazil","Biomass & Waste","Asset finance investments",20.6,"New Financial Investment","AF","AF18801","Guarani Cruz Alta Power Plant Expansion II","Brazil","Brazil","Central & South America","AMER","non-OECD","BASIC","Biomass & Waste","Biomass & Waste","Electricity Generation (new)","Incineration","New build","Balance Sheet","Equity","2008-04-02",10,0,0,0,0,20,20.6]
[2008,4,"Q2","2008Q2","Honduras","Small Hydro","Asset finance investments",19.776,"New Financial Investment","AF","AF14070","SEMSA Mezapa Small Hydro Plant","Honduras","Other AMER","Central & South America","AMER","non-OECD",null,"Small hydro","Small Hydro","Run of River",0,"New build","Balance Sheet","Equity","2008-04-07",9.6,0,0,0,0,19.2,19.776]
[2008,6,"Q2","2008Q2","Chile","Biomass & Waste","Asset finance investments",17.510000000000002,"New Financial Investment","AF","AF6942","MASISA Cabrero Biomass Plant","Chile","Other AMER","Central & South America","AMER","OECD",null,"Biomass & Waste","Biomass & Waste","Electricity Generation (new)","Incineration","New build","Balance Sheet","Equity","2008-06-30",9.6,0,0,0,17,17,17.510000000000002]
[2008,4,"Q2","2008Q2","Brazil","Biomass & Waste","Asset finance investments",16.48,"New Financial Investment","AF","AFLATAM_RP19402","Cargill Primavera do Leste Biomass Plant","Brazil","Brazil","Central & South America","AMER","non-OECD","BASIC","Biomass & Waste","Biomass & Waste","Electricity Generation (new)",0,"New build","Balance Sheet","Equity","2008-04-28",8,0,0,0,0,16,16.48]
[2008,6,"Q2","2008Q2","Chile","Small Hydro","Asset finance investments",15.450000000000001,"New Financial Investment","AF","AF6578","GPE Trueno Small Hydro Plant","Chile","Other AMER","Central & South America","AMER","OECD",null,"Small hydro","Small Hydro","Run of River",0,"New build","Term loan","Debt","2008-06-30",5.8,0,0,0,15,15,15.450000000000001]
[2008,5,"Q2","2008Q2","Argentina","Biofuels","Asset finance investments",11.402100000000001,"New Financial Investment","AF","AFLATAM_RP25824","Metronec La Esperanza Ethanol Plant","Argentina","Other AMER","Central & South America","AMER","non-OECD",null,"Biofuels","Biofuels","Gasoline/Petrol Substitute",0,"New build","Balance Sheet","Equity","2008-05-31",0,9,0,0,0,11.07,11.402100000000001]
[2008,6,"Q2","2008Q2","Chile","Small Hydro","Asset finance investments",9.27,"New Financial Investment","AF","AF6561","Colbun San Clemente Small Hydro Plant","Chile","Other AMER","Central & South America","AMER","OECD",null,"Small hydro","Small Hydro","Run of River",0,"New build","Balance Sheet","Equity","2008-06-01",6,0,0,0,9,9,9.27]
[2008,6,"Q2","2008Q2","Brazil","Biofuels","Asset finance investments",8.9980800000000016,"New Financial Investment","AF","AF30902","Granol Cachoeira do Sul Biodiesel Plant Expansion I","Brazil","Brazil","Central & South America","AMER","non-OECD","BASIC","Biofuels","Biofuels","Diesel Substitute","Transesterification","New build","Balance Sheet","Equity","2008-06-23",0,20.8,0,0,0,8.7360000000000007,8.9980800000000016]
[2008,6,"Q2","2008Q2","Argentina","Biomass & Waste","Asset finance investments",5.7679999999999998,"New Financial Investment","AF","AFLATAM_RP12543","Pindo Puerto Esperanza Biomass Plant","Argentina","Other AMER","Central & South America","AMER","non-OECD",null,"Biomass & Waste","Biomass & Waste","Electricity Generation (new)",0,"New build","Balance Sheet","Equity","2008-06-01",4,0,0,0,5.6,5.6,5.7679999999999998]
[2007,4,"Q2","2007Q2","Brazil","Small Hydro","Asset finance investments",360.99,"New Financial Investment","AF","AF3790","Brasil PCH Brasil Small Hydro Portfolio","Brazil","Brazil","Central & South America","AMER","non-OECD","BASIC","Small hydro","Small Hydro","New Dam",0,"New build","Term loan","Debt","2007-04-10T14:59:00",214.9,0,0,0,343.8,343.8,360.99]
[2007,6,"Q2","2007Q2","Brazil","Small Hydro","Asset finance investments",280.03500000000003,"New Financial Investment","AF","AF7028","Consorcio Juruena Small Hydro Portfolio","Brazil","Brazil","Central & South America","AMER","non-OECD","BASIC","Small hydro","Small Hydro","New Dam",0,"New build","Term loan","Debt","2007-06-11",91.4,0,0,0,266.7,266.7,280.03500000000003]
[2007,6,"Q2","2007Q2","Chile","Biomass & Waste","Asset finance investments",170.1,"New Financial Investment","AF","AF4029","Conception Biomass Plant","Chile","Other AMER","Central & South America","AMER","OECD",null,"Biomass & Waste","Biomass & Waste","Electricity Generation (new)","Incineration","New build","Balance Sheet","Equity","2007-06-22T11:07:00",97,0,0,0,162,162,170.1]
[2007,6,"Q2","2007Q2","Brazil","Biofuels","Asset finance investments",146.05500000000001,"New Financial Investment","AF","AFLATAM_RP13774","Serra do Caiapo Ethanol Plant","Brazil","Brazil","Central & South America","AMER","non-OECD","BASIC","Biofuels","Biofuels","Gasoline/Petrol Substitute",0,"New build","Balance Sheet","Equity","2007-06-06",0,43.7,0,0,139.1,139.1,146.05500000000001]
[2007,5,"Q2","2007Q2","Brazil","Biofuels","Asset finance investments",142.06500000000003,"New Financial Investment","AF","AFLATAM_RP13786","Ruette Monterey Ethanol Plant","Brazil","Brazil","Central & South America","AMER","non-OECD","BASIC","Biofuels","Biofuels","Gasoline/Petrol Substitute",0,"New build","Balance Sheet","Equity","2007-05-26",4.5,110,0,0,0,135.30000000000001,142.06500000000003]
[2007,6,"Q2","2007Q2","Mexico","Wind","Asset finance investments",123.48,"New Financial Investment","AF","AF6197","Iberdrola La Ventosa Wind Farm","Mexico","Other AMER","Central & South America","AMER","OECD",null,"Wind","Wind","Onshore",0,"New build","Balance Sheet","Equity","2007-06-14",80,0,0,0,0,117.6,123.48]
[2007,4,"Q2","2007Q2","Brazil","Small Hydro","Asset finance investments",115.5,"New Financial Investment","AF","AF3787","Hidrotermica Brasil Small Hydro Portfolio","Brazil","Brazil","Central & South America","AMER","non-OECD","BASIC","Small hydro","Small Hydro","New Dam",0,"New build","Balance Sheet","Equity","2007-04-10T14:50:00",55,0,0,0,110,110,115.5]
[2007,4,"Q2","2007Q2","Brazil","Biofuels","Asset finance investments",113.4,"New Financial Investment","AF","AF3834","Unialco Vale Do Parana Ethanol Plant","Brazil","Brazil","Central & South America","AMER","non-OECD","BASIC","Biofuels","Biofuels","Gasoline/Petrol Substitute","1-Gen fermentation","New build","Term loan","Debt","2007-04-06T15:10:00",0,70,0,0,108,108,113.4]
[2007,4,"Q2","2007Q2","Brazil","Biomass & Waste","Asset finance investments",103.63500000000001,"New Financial Investment","AF","AF28668","Alto Alegre Alta Mogiana Power Plant Expansion II","Brazil","Brazil","Central & South America","AMER","non-OECD","BASIC","Biomass & Waste","Biomass & Waste","Electricity Generation (new)","Incineration","New build","Balance Sheet","Equity","2007-04-08",30,0,0,0,0,98.7,103.63500000000001]
[2007,4,"Q2","2007Q2","Brazil","Small Hydro","Asset finance investments",62.160000000000004,"New Financial Investment","AF","AF3788","Alto Irani & Plano Alto Small Hydro Plants","Brazil","Brazil","Central & South America","AMER","non-OECD","BASIC","Small hydro","Small Hydro","New Dam",0,"New build","Balance Sheet","Equity","2007-04-10T14:44:00",37,0,0,0,59.2,59.2,62.160000000000004]
[2007,6,"Q2","2007Q2","Brazil","Biofuels","Asset finance investments",48.300000000000004,"New Financial Investment","AF","AFLATAM_RP13723","Usina Canada Bioethanol Plant","Brazil","Brazil","Central & South America","AMER","non-OECD","BASIC","Biofuels","Biofuels","Gasoline/Petrol Substitute",0,"New build","Balance Sheet","Equity","2007-06-02",0,36,0,0,46,46,48.300000000000004]
[2007,6,"Q2","2007Q2","Brazil","Biomass & Waste","Asset finance investments",32.76,"New Financial Investment","AF","AF4337","Cidade Gaucha Power Plant Expansion II","Brazil","Brazil","Central & South America","AMER","non-OECD","BASIC","Biomass & Waste","Biomass & Waste","Electricity Generation (new)","Incineration","New build","Balance Sheet","Equity","2007-06-30",40,0,0,0,31.2,31.2,32.76]
[2007,6,"Q2","2007Q2","Brazil","Biomass & Waste","Asset finance investments",31.5,"New Financial Investment","AF","AF6064","Guarani Sao Jose Power Plant","Brazil","Brazil","Central & South America","AMER","non-OECD","BASIC","Biomass & Waste","Biomass & Waste","Electricity Generation (new)","Incineration","New build","Balance Sheet","Equity","2007-06-30",25,0,0,0,0,30,31.5]
[2007,6,"Q2","2007Q2","Brazil","Small Hydro","Asset finance investments",30.450000000000003,"New Financial Investment","AF","AFLATAM_RP7589","Rialma Santa Edwiges III Small Hydro Plant","Brazil","Brazil","Central & South America","AMER","non-OECD","BASIC","Small hydro","Small Hydro","Run of River",0,"New build","Balance Sheet","Equity","2007-06-01",11.6,0,0,0,0,29,30.450000000000003]
[2007,5,"Q2","2007Q2","Colombia","Biofuels","Asset finance investments",25.577999999999999,"New Financial Investment","AF","AF4074","Codazzi biodiesel plant","Colombia","Other AMER","Central & South America","AMER","non-OECD",null,"Biofuels","Biofuels","Diesel Substitute",0,"New build","Balance Sheet","Equity","2007-05-31T10:42:00",0,58,0,0,0,24.36,25.577999999999999]
[2007,4,"Q2","2007Q2","Panama","Small Hydro","Asset finance investments",25.515000000000001,"New Financial Investment","AF","AF9522","Union Fenosa Los Algarrobos Small Hydro Plant","Panama","Other AMER","Central & South America","AMER","non-OECD",null,"Small hydro","Small Hydro","Run of River",0,"New build","Balance Sheet","Equity","2007-04-26",9.6999999999999993,0,0,0,0,24.3,25.515000000000001]
[2007,6,"Q2","2007Q2","Brazil","Biofuels","Asset finance investments",24.990000000000002,"New Financial Investment","AF","AF3984","Taua Nova Mutum Biodiesel Plant","Brazil","Brazil","Central & South America","AMER","non-OECD","BASIC","Biofuels","Biofuels","Diesel Substitute","Transesterification","New build","Term loan","Debt","2007-06-18",0,36,0,0,23.8,23.8,24.990000000000002]
[2007,4,"Q2","2007Q2","Brazil","Biofuels","Asset finance investments",23.1,"New Financial Investment","AF","AF5263","Granol Cachoeira do Sul Biodiesel Plant","Brazil","Brazil","Central & South America","AMER","non-OECD","BASIC","Biofuels","Biofuels","Diesel Substitute","Transesterification","New build","Term loan","Debt","2007-04-02",0,147.19999999999999,0,0,22,22,23.1]
[2007,5,"Q2","2007Q2","Brazil","Biomass & Waste","Asset finance investments",21,"New Financial Investment","AF","AFLATAM_RP15115","Marubeni Cornelio Procopio Biomass Heat Plant","Brazil","Brazil","Central & South America","AMER","non-OECD","BASIC","Biomass & Waste","Biomass & Waste","Electricity Generation (new)",0,"New build","Balance Sheet","Equity","2007-05-24",0,0,0,0,0,20,21]
[2007,6,"Q2","2007Q2","Chile","Wind","Asset finance investments",15.435,"New Financial Investment","AF","AF8042","Seawind Chile Wind Farm","Chile","Other AMER","Central & South America","AMER","OECD",null,"Wind","Wind","Onshore",0,"New build","Balance Sheet","Equity","2007-06-20",10,0,0,0,0,14.7,15.435]
[2007,4,"Q2","2007Q2","Brazil","Biomass & Waste","Asset finance investments",12.600000000000001,"New Financial Investment","AF","AFLATAM_RP7548","Lanxess Porto Feliz Biomass Heat Project","Brazil","Brazil","Central & South America","AMER","non-OECD","BASIC","Biomass & Waste","Biomass & Waste","Heat",0,"New build","Balance Sheet","Equity","2007-04-01",12.8,0,0,0,0,12,12.600000000000001]
[2007,4,"Q2","2007Q2","Honduras","Biomass & Waste","Asset finance investments",12.547499999999999,"New Financial Investment","AF","AFLATAM_RP12848","Exportadora del Atlantico Aguan Biogas and Biomass Project","Honduras","Other AMER","Central & South America","AMER","non-OECD",null,"Biomass & Waste","Biomass & Waste","Electricity Generation (new)",0,"New build","Balance Sheet","Equity","2007-04-02",6.9,0,0,0,11.95,11.95,12.547499999999999]
[2007,5,"Q2","2007Q2","Brazil","Biofuels","Asset finance investments",11.686499999999999,"New Financial Investment","AF","AF30908","Granol Anapolis Biodiesel Plant Expansion II","Brazil","Brazil","Central & South America","AMER","non-OECD","BASIC","Biofuels","Biofuels","Diesel Substitute","Transesterification","New build","Balance Sheet","Equity","2007-05-01",0,26.5,0,0,0,11.129999999999999,11.686499999999999]
[2007,4,"Q2","2007Q2","Brazil","Biofuels","Asset finance investments",9.5256000000000007,"New Financial Investment","AF","AF7527","Cesbra Volta Redonda Biodiesel Plant","Brazil","Brazil","Central & South America","AMER","non-OECD","BASIC","Biofuels","Biofuels","Diesel Substitute","Transesterification","New build","Term loan","Debt","2007-04-08",0,21.6,0,0,0,9.072000000000001,9.5256000000000007]
[2007,5,"Q2","2007Q2","Chile","Small Hydro","Asset finance investments",7.3500000000000005,"New Financial Investment","AF","AF6579","GPE Puclaro Small Hydro Plant","Chile","Other AMER","Central & South America","AMER","OECD",null,"Small hydro","Small Hydro","Run of River",0,"New build","Term loan","Debt","2007-05-06",5.8,0,0,0,7,7,7.3500000000000005]
[2007,4,"Q2","2007Q2","Brazil","Biofuels","Asset finance investments",7.3206000000000007,"New Financial Investment","AF","AF25158","Bioverde Taubate Biodiesel Plant Expansion I","Brazil","Brazil","Central & South America","AMER","non-OECD","BASIC","Biofuels","Biofuels","Diesel Substitute","Transesterification","New build","Balance Sheet","Equity","2007-04-13",0,16.600000000000001,0,0,0,6.9720000000000004,7.3206000000000007]
[2007,4,"Q2","2007Q2","Brazil","Biofuels","Asset finance investments",4.7628000000000004,"New Financial Investment","AF","AF6797","SSIL Rondonolpolis Biodiesel Plant","Brazil","Brazil","Central & South America","AMER","non-OECD","BASIC","Biofuels","Biofuels","Diesel Substitute","Transesterification","New build","Balance Sheet","Equity","2007-04-30",0,10.8,0,0,0,4.5360000000000005,4.7628000000000004]
[2007,5,"Q2","2007Q2","Brazil","Biofuels","Asset finance investments",4.7628000000000004,"New Financial Investment","AF","AF31060","B-100 Araxa Biodiesel Plant","Brazil","Brazil","Central & South America","AMER","non-OECD","BASIC","Biofuels","Biofuels","Diesel Substitute","Transesterification","New build","Balance Sheet","Equity","2007-05-14",0,10.8,0,0,0,4.5360000000000005,4.7628000000000004]
[2007,5,"Q2","2007Q2","Peru","Biofuels","Asset finance investments",4.1894999999999998,"New Financial Investment","AF","AF5805","Interpacific Oil Lima Biodiesel Plant Expansion","Peru","Other AMER","Central & South America","AMER","non-OECD",null,"Biofuels","Biofuels","Diesel Substitute","Transesterification","New build","Balance Sheet","Equity","2007-05-01",0,9.5,0,0,0,3.9899999999999998,4.1894999999999998]
[2007,5,"Q2","2007Q2","Brazil","Biomass & Waste","Asset finance investments",0.21000000000000002,"New Financial Investment","AF","AFLATAM_RP24063","Siol Goias Alimentos Rio Verde Fuel Switch","Brazil","Brazil","Central & South America","AMER","non-OECD","BASIC","Biomass & Waste","Biomass & Waste","Heat",0,"New build","Balance Sheet","Equity","2007-05-31",22.5,0,0,0,0,0.2,0.21000000000000002]
[2006,5,"Q2","2006Q2","Brazil","Biofuels","Asset finance investments",144.64459978133419,"New Financial Investment","AF","AF11442","Alto Alegre Santo Inacio Ethanol and Power Plant","Brazil","Brazil","Central & South America","AMER","non-OECD","BASIC","Biofuels","Biofuels","Gasoline/Petrol Substitute","1-Gen fermentation","New build","Balance Sheet","Equity","2006-05-31",70,125,0,0,138.69999999999999,138.69999999999999,144.64459978133419]
[2006,5,"Q2","2006Q2","Brazil","Biofuels","Asset finance investments",106.58023141782522,"New Financial Investment","AF","AF26796","Pedra Agro Ipê Bioethanol Plant","Brazil","Brazil","Central & South America","AMER","non-OECD","BASIC","Biofuels","Biofuels","Gasoline/Petrol Substitute","1-Gen fermentation","New build","Balance Sheet","Equity","2006-05-01",0,140,0,0,0,102.2,106.58023141782522]
[2006,5,"Q2","2006Q2","Brazil","Small Hydro","Asset finance investments",99.686366236879422,"New Financial Investment","AF","AFLATAM_RP7575","Energest UHE Mascarenhas Small Hydro Plant","Brazil","Brazil","Central & South America","AMER","non-OECD","BASIC","Small hydro","Small Hydro","Existing Dam",0,"New build","Balance Sheet","Equity","2006-05-27",49.5,0,0,0,0,99,99.686366236879422]
[2006,4,"Q2","2006Q2","Brazil","Small Hydro","Asset finance investments",94.349621377733357,"New Financial Investment","AF","AFLATAM_RP7580","Apertadinho Small Hydro Plant","Brazil","Brazil","Central & South America","AMER","non-OECD","BASIC","Small hydro","Small Hydro","Run of River",0,"New build","Balance Sheet","Equity","2006-04-17",30,0,0,0,93.7,93.7,94.349621377733357]
[{"$f":"IF(K1029=\"\",\"\",IF(AND(YEAR(Z1029)<2004,YEAR(Z1029)>1910),2004,YEAR(Z1029)))","v":2006},{"$f":"IF(K1029=\"\",\"\",IF(ISNUMBER(Z1029),MONTH(Z1029),0))","v":6},{"$f":"IF(K1029=\"\",\"\",IF(AND(B1029>=1,B1029<=3),\"Q1\",IF(AND(B1029>3,B1029<=6),\"Q2\",IF(AND(B1029>6,B1029<=9),\"Q3\",IF(AND(B1029>9,B1029<=12),\"Q4\",0)))))","v":"Q2"},{"$f":"IF(A1029<2006, \"< 2006\", A1029&C1029)","v":"2006Q2"},{"$f":"IF(K1029=\"\",\"\", M1029)","v":"Brazil"},"Small Hydro","Asset finance investments",{"$f":"IF(K1029=\"\",\"\",AG1029)","v":85.891384242482985},"New Financial Investment","AF","AF3062","Energetica Serra da Prata Small Hydro Plant portfolio","Brazil","Brazil","Central & South America","AMER","non-OECD","BASIC","Small hydro","Small Hydro","Run of River",0,"New build","Term loan","Debt","2006-06-30",41.8,0,0,0,85.3,85.3,85.891384242482985]
[2006,6,"Q2","2006Q2","Brazil","Biofuels",{"$f":"IF(K1030=\"\",\"\",IF(OR(J1030=\"PM\",J1030=\"MA\"), \"Corporate finance investments\", IF(J1030=\"VCPE\", \"VC/PE investments\", IF(J1030=\"AF\", \"Asset finance investments\"))))","v":"Asset finance investments"},76.963024252793545,"New Financial Investment","AF","AFLATAM_RP16712","Destilaria Rio Grande Fronteira Ethanol Plant","Brazil","Brazil","Central & South America","AMER","non-OECD","BASIC","Biofuels","Biofuels","Gasoline/Petrol Substitute",0,"New build","Balance Sheet","Equity","2006-06-01",3,60,0,0,0,73.8,76.963024252793545]
[2006,5,"Q2","2006Q2","Brazil",{"$f":"IF(K1031=\"\",\"\",IF(OR(T1031=\"Wind\",T1031=\"Solar\",T1031=\"Geothermal\",T1031=\"Small Hydro\",T1031=\"Biofuels\",T1031=\"Biomass & Waste\"),T1031,\"Other Clean Energy\"))","v":"Small Hydro"},"Asset finance investments",70.485309460419785,"New Financial Investment","AF","AFLATAM_RP19518","Brennand Pampeana Small Hydro Plant","Brazil","Brazil","Central & South America","AMER","non-OECD","BASIC","Small hydro","Small Hydro","Run of River",0,"New build","Balance Sheet","Equity","2006-05-18",28,0,0,0,0,70,70.485309460419785]
[2006,4,"Q2","2006Q2","Brazil","Biofuels","Asset finance investments",69.871580283701462,"New Financial Investment","AF","AF2824","Santa Vitoria Bioethanol Plant","Brazil","Brazil","Central & South America","AMER","non-OECD","BASIC","Biofuels","Biofuels","Gasoline/Petrol Substitute","1-Gen fermentation","New build","Term loan","Debt","2006-04-18",0,134,0,0,67,67,69.871580283701462]
[2006,5,"Q2","2006Q2","Brazil","Small Hydro","Asset finance investments",64.343018207440352,"New Financial Investment","AF","AF2817","Terra Santa Small Hydro Plant","Brazil","Brazil","Central & South America","AMER","non-OECD","BASIC","Small hydro","Small Hydro","New Dam",0,"New build","Term loan","Debt","2006-05-19",28,0,0,0,0,63.9,64.343018207440352]
[2006,4,"Q2","2006Q2","Chile","Biomass & Waste","Asset finance investments",55.930465420011025,"New Financial Investment","AF","AFLATAM_RP7624","Celulosa Arauco y Constitucion Nueva Aldea Biomass Plant","Chile","Other AMER","Central & South America","AMER","OECD",null,"Biomass & Waste","Biomass & Waste","Electricity Generation (new)",0,"New build","Balance Sheet","Equity","2006-04-01",37,0,0,0,0,55.5,55.930465420011025]
[2006,6,"Q2","2006Q2","Brazil","Biofuels","Asset finance investments",38.377226185674829,"New Financial Investment","AF","AF3043","Viralcool Castilho Ethanol Plant","Brazil","Brazil","Central & South America","AMER","non-OECD","BASIC","Biofuels","Biofuels","Gasoline/Petrol Substitute","1-Gen fermentation","New build","Balance Sheet","Equity","2006-06-22",0,95,0,0,36.799999999999997,36.799999999999997,38.377226185674829]
[2006,4,"Q2","2006Q2","Brazil","Biofuels","Asset finance investments",22.816720970553796,"New Financial Investment","AF","AF6742","Bioverde Taubate Biodiesel Plant","Brazil","Brazil","Central & South America","AMER","non-OECD","BASIC","Biofuels","Biofuels","Diesel Substitute","Transesterification","New build","Balance Sheet","Equity","2006-04-13",0,66.3,0,0,0,21.879000000000001,22.816720970553796]
[2006,6,"Q2","2006Q2","Argentina","Biofuels","Asset finance investments",19.678749082473256,"New Financial Investment","AF","AF10824","Oil Fox San Luis Biodiesel Plant","Argentina","Other AMER","Central & South America","AMER","non-OECD",null,"Biofuels","Biofuels","Diesel Substitute","Transesterification","New build","Balance Sheet","Equity","2006-06-01",0,59.5,0,0,0,19.635000000000002,19.678749082473256]
[2006,6,"Q2","2006Q2","Brazil","Biofuels","Asset finance investments",19.605756855725186,"New Financial Investment","AF","AF3039","BSBIOS Petrobras Passo Fundo Biodiesel Plant","Brazil","Brazil","Central & South America","AMER","non-OECD","BASIC","Biofuels","Biofuels","Diesel Substitute","Transesterification","New build","Term loan","Debt","2006-06-20",0,124.2,0,0,18.8,18.8,19.605756855725186]
[2006,6,"Q2","2006Q2","Chile","Small Hydro","Asset finance investments",17.473650119629994,"New Financial Investment","AF","AF3106","Endesa Ojos de Agua Small Hydro Plant","Chile","Other AMER","Central & South America","AMER","OECD",null,"Small hydro","Small Hydro","Run of River",0,"New build","Balance Sheet","Equity","2006-06-01",9.5,0,0,0,17,17,17.473650119629994]
[2006,4,"Q2","2006Q2","Brazil","Wind","Asset finance investments",17.146888341341882,"New Financial Investment","AF","AF5393","Agua Doce Wind Farm","Brazil","Brazil","Central & South America","AMER","non-OECD","BASIC","Wind","Wind","Onshore",0,"New build","Term loan","Debt","2006-04-19",9,0,0,0,17,17,17.146888341341882]
[2006,6,"Q2","2006Q2","Brazil","Biofuels","Asset finance investments",16.518893010355686,"New Financial Investment","AF","AF30906","Granol Anapolis Biodiesel Plant Expansion I","Brazil","Brazil","Central & South America","AMER","non-OECD","BASIC","Biofuels","Biofuels","Diesel Substitute","Transesterification","New build","Balance Sheet","Equity","2006-06-22",0,48,0,0,0,15.84,16.518893010355686]
[2006,6,"Q2","2006Q2","Brazil","Biofuels","Asset finance investments",14.867003709320121,"New Financial Investment","AF","AF6929","Biopar Rolandia Biodiesel Plant","Brazil","Brazil","Central & South America","AMER","non-OECD","BASIC","Biofuels","Biofuels","Diesel Substitute","Transesterification","New build","Balance Sheet","Equity","2006-06-21",0,43.2,0,0,0,14.256000000000002,14.867003709320121]
[2006,4,"Q2","2006Q2","Chile","Biomass & Waste","Asset finance investments",12.09307360432671,"New Financial Investment","AF","AF32416","Concepcion Biomass Plant","Chile","Other AMER","Central & South America","AMER","OECD",null,"Biomass & Waste","Biomass & Waste","Combined Heat & Power (CHP)","Incineration","New build","Balance Sheet","Equity","2006-04-30",12,0,0,0,12,12,12.09307360432671]
[2006,6,"Q2","2006Q2","Brazil","Biofuels","Asset finance investments",11.471453479413672,"New Financial Investment","AF","AF3030","Usimat Bioethanol and Power Plant","Brazil","Brazil","Central & South America","AMER","non-OECD","BASIC","Biofuels","Biofuels","Gasoline/Petrol Substitute","1-Gen fermentation","New build","Balance Sheet","Equity","2006-06-19",1.75,75,0,0,11,11,11.471453479413672]
[2006,5,"Q2","2006Q2","Brazil","Biofuels","Asset finance investments",9.9113358062134154,"New Financial Investment","AF","AF6732","Agrosoja Sorriso Biodiesel Plant","Brazil","Brazil","Central & South America","AMER","non-OECD","BASIC","Biofuels","Biofuels","Diesel Substitute","Transesterification","New build","Balance Sheet","Equity","2006-05-14",0,28.8,0,0,0,9.5040000000000013,9.9113358062134154]
[2006,5,"Q2","2006Q2","Brazil","Biomass & Waste","Asset finance investments",8.9304829263055563,"New Financial Investment","AF","AFLATAM_RP7504","GEEA Alegrete Biomass Plant","Brazil","Brazil","Central & South America","AMER","non-OECD","BASIC","Biomass & Waste","Biomass & Waste","Electricity Generation (new)",0,"New build","Balance Sheet","Equity","2006-05-05",5,0,0,0,8.9,8.9,8.9304829263055563]
[2006,4,"Q2","2006Q2","Chile","Small Hydro","Asset finance investments",9.0451835913378815,"New Financial Investment","AF","AF6553","Agricola Rio Blanco Alto Cautin Small Hydro Plant","Chile","Other AMER","Central & South America","AMER","OECD",null,"Small hydro","Small Hydro","Run of River",0,"New build","Balance Sheet","Equity","2006-04-19",6,0,0,0,8.8000000000000007,8.8000000000000007,9.0451835913378815]
[2006,6,"Q2","2006Q2","Brazil","Small Hydro","Asset finance investments",5.8905580049065112,"New Financial Investment","AF","AFLATAM_RP7577","Martinuv and Espigao Small Hydro Plants","Brazil","Brazil","Central & South America","AMER","non-OECD","BASIC","Small hydro","Small Hydro","Run of River",0,"New build","Balance Sheet","Equity","2006-06-01",3.9,0,0,0,0,5.85,5.8905580049065112]
[2006,4,"Q2","2006Q2","Brazil","Biofuels","Asset finance investments",3.7167509273300303,"New Financial Investment","AF","AF6737","Binatural Formosa Biodiesel Plant","Brazil","Brazil","Central & South America","AMER","non-OECD","BASIC","Biofuels","Biofuels","Diesel Substitute","Transesterification","New build","Balance Sheet","Equity","2006-04-10",0,10.8,0,0,0,3.5640000000000005,3.7167509273300303]
[2006,4,"Q2","2006Q2","Peru","Biomass & Waste","Asset finance investments",1.3100829738020603,"New Financial Investment","AF","AFLATAM_RP9607","Industrias del Espino Palmawasi Methane Utilisation Project","Peru","Other AMER","Central & South America","AMER","non-OECD",null,"Biomass & Waste","Biomass & Waste","Heat",0,"New build","Balance Sheet","Equity","2006-04-01",17.8,0,0,0,0,1.3,1.3100829738020603]
[2012,2,"Q1","2012Q1","Mexico","Wind","Asset finance investments",1056.319250554219,"New Financial Investment","AF","AF16625","Marena Wind Portfolio","Mexico","Other AMER","Central & South America","AMER","OECD",null,"Wind","Wind","Onshore",0,"New build","Term loan","Debt","2012-02-23",396,0,0,0,961.4,961.4,1056.319250554219]
[2012,3,"Q1","2012Q1","Brazil","Wind","Asset finance investments",356.86758121490567,"New Financial Investment","AF","AF23924","Iberdrola Neoenergia Rio Grande do Norte & Bahia Wind Portfolio I","Brazil","Brazil","Central & South America","AMER","non-OECD","BASIC","Wind","Wind","Onshore",0,"New build","Term loan","Debt","2012-03-07",138,0,0,0,324.8,324.8,356.86758121490567]
[2012,3,"Q1","2012Q1","Brazil","Wind","Asset finance investments",247.21430348938972,"New Financial Investment","AF","AF14774","Ceara and Areia Branca Wind Portfolio","Brazil","Brazil","Central & South America","AMER","non-OECD","BASIC","Wind","Wind","Onshore",0,"New build","Balance Sheet","Equity","2012-03-30",90,0,0,0,0,225,247.21430348938972]
[2012,3,"Q1","2012Q1","Mexico","Solar","Asset finance investments",219.7460475461242,"New Financial Investment","AF","AF25468","Synergy Tecate PV Plant Phase I","Mexico","Other AMER","Central & South America","AMER","OECD",null,"Solar","Solar","PV","PV – Concentrator (CPV)","New build","Term loan","Debt","2012-03-29",50,0,0,0,0,200,219.7460475461242]
[2012,3,"Q1","2012Q1","Panama","Small Hydro","Asset finance investments",137.34127971632759,"New Financial Investment","AF","AF33676","Hidro Burica Chiriqui Viejo Small Hydro Plant","Panama","Other AMER","Central & South America","AMER","non-OECD",null,"Small hydro","Small Hydro","Run of River",0,"New build","Balance Sheet","Equity","2012-03-01",50,0,0,0,0,125,137.34127971632759]
[2012,1,"Q1","2012Q1","Ecuador","Small Hydro","Asset finance investments",127.34283455297897,"New Financial Investment","AF","AF27938","Celec Quijos Small Hydro Plant","Ecuador","Other AMER","Central & South America","AMER","non-OECD",null,"Small hydro","Small Hydro","New Dam",0,"New build","Balance Sheet","Equity","2012-01-19",50,0,0,0,115.9,115.9,127.34283455297897]
[2012,1,"Q1","2012Q1","Argentina","Wind","Asset finance investments",88.997149256180293,"New Financial Investment","AF","AF20928","IMPSA Koluel Kaike II Wind Farm","Argentina","Other AMER","Central & South America","AMER","non-OECD",null,"Wind","Wind","Onshore",0,"New build","Term loan","Debt","2012-01-19",25,0,0,0,81,81,88.997149256180293]
[2012,1,"Q1","2012Q1","Brazil","Small Hydro","Asset finance investments",74.384037094363038,"New Financial Investment","AF","AF20870","CPFL Renovaveis Salto Goes Small Hydro Plant","Brazil","Brazil","Central & South America","AMER","non-OECD","BASIC","Small hydro","Small Hydro","Run of River",0,"New build","Term loan","Debt","2012-01-03",20,0,0,0,67.7,67.7,74.384037094363038]
[2012,3,"Q1","2012Q1","Brazil","Small Hydro","Asset finance investments",46.696035103551388,"New Financial Investment","AF","AF25474","Mega Energia Canaa Small Hydro Plant","Brazil","Brazil","Central & South America","AMER","non-OECD","BASIC","Small hydro","Small Hydro","Run of River",0,"New build","Balance Sheet","Equity","2012-03-30",17,0,0,0,0,42.5,46.696035103551388]
[2012,1,"Q1","2012Q1","Brazil","Small Hydro","Asset finance investments",46.036796960913016,"New Financial Investment","AF","AF25408","Energisa Ze Tunin Small Hydro Plant","Brazil","Brazil","Central & South America","AMER","non-OECD","BASIC","Small hydro","Small Hydro","Run of River",0,"New build","Balance Sheet","Equity","2012-01-30",8,0,0,0,41.9,41.9,46.036796960913016]
[2012,1,"Q1","2012Q1","Brazil","Wind","Asset finance investments",43.180098342813402,"New Financial Investment","AF","AF25410","Gestamp Pedra do Reino III Wind Farm","Brazil","Brazil","Central & South America","AMER","non-OECD","BASIC","Wind","Wind","Onshore",0,"New build","Balance Sheet","Equity","2012-01-30",18,0,0,0,39.299999999999997,39.299999999999997,43.180098342813402]
[2012,1,"Q1","2012Q1","Chile","Small Hydro","Asset finance investments",32.961907131918629,"New Financial Investment","AF","AF16947","Hidroenergia Bonito Small Hydro Portfolio","Chile","Other AMER","Central & South America","AMER","OECD",null,"Small hydro","Small Hydro","Run of River",0,"New build","Balance Sheet","Equity","2012-01-06",12,0,0,0,30,30,32.961907131918629]
[2012,1,"Q1","2012Q1","Brazil","Small Hydro","Asset finance investments",32.961907131918629,"New Financial Investment","AF","AF25246","CJ Hydro Toca do Tigre Small Hydro Plant","Brazil","Brazil","Central & South America","AMER","non-OECD","BASIC","Small hydro","Small Hydro","Run of River",0,"New build","Balance Sheet","Equity","2012-01-30",12,0,0,0,0,30,32.961907131918629]
[2012,1,"Q1","2012Q1","Brazil","Small Hydro","Asset finance investments",27.248509895719401,"New Financial Investment","AF","AF25406","Sao Sebastiao Empreendimentos Small Hydro Plant","Brazil","Brazil","Central & South America","AMER","non-OECD","BASIC","Small hydro","Small Hydro","Run of River",0,"New build","Balance Sheet","Equity","2012-01-30",9.9,0,0,0,0,24.8,27.248509895719401]
[2012,1,"Q1","2012Q1","Chile","Small Hydro","Asset finance investments",26.369525705534905,"New Financial Investment","AF","AF7713","Endesa Chile Piruquina Small Hydro Plant","Chile","Other AMER","Central & South America","AMER","OECD",null,"Small hydro","Small Hydro","Run of River",0,"New build","Balance Sheet","Equity","2012-01-01",7.5,0,0,0,24,24,26.369525705534905]
[2012,2,"Q1","2012Q1","Mexico","Solar","Asset finance investments",22.194350802158542,"New Financial Investment","AF","AF28194","CFE Cerro Prieto PV Plant","Mexico","Other AMER","Central & South America","AMER","OECD",null,"Solar","Solar","PV","PV – Crystalline silicon","New build","Balance Sheet","Equity","2012-02-16",5,0,0,0,20.2,20.2,22.194350802158542]
[2012,1,"Q1","2012Q1","Brazil","Biofuels","Asset finance investments",17.579683803689935,"New Financial Investment","AF","AF21234","Petrobras Darcy Ribeiro Biodiesel Plant Expansion II","Brazil","Brazil","Central & South America","AMER","non-OECD","BASIC","Biofuels","Biofuels","Diesel Substitute","Transesterification","New build","Balance Sheet","Equity","2012-01-26",0,43.4,0,0,16,16,17.579683803689935]
[2012,1,"Q1","2012Q1","Brazil","Small Hydro","Asset finance investments",16.480953565959314,"New Financial Investment","AF","AF25412","ABC Energia Inhapim Small Hydro Plant","Brazil","Brazil","Central & South America","AMER","non-OECD","BASIC","Small hydro","Small Hydro","Run of River",0,"New build","Balance Sheet","Equity","2012-01-30",6,0,0,0,0,15,16.480953565959314]
[2012,1,"Q1","2012Q1","Chile","Small Hydro","Asset finance investments",15.382223328228694,"New Financial Investment","AF","AF31410","Mainco Canal Bio Bio Sur Small Hydro Plant","Chile","Other AMER","Central & South America","AMER","OECD",null,"Small hydro","Small Hydro","Run of River",0,"New build","Balance Sheet","Equity","2012-01-01",7.1,0,0,0,14,14,15.382223328228694]
[2012,2,"Q1","2012Q1","Brazil","Small Hydro","Asset finance investments",13.184762852767452,"New Financial Investment","AF","AF25404","Certaja Abranjo I Small Hydro Plant","Brazil","Brazil","Central & South America","AMER","non-OECD","BASIC","Small hydro","Small Hydro","Run of River",0,"New build","Balance Sheet","Equity","2012-02-29",4.8,0,0,0,0,12,13.184762852767452]
[2012,1,"Q1","2012Q1","Brazil","Small Hydro","Asset finance investments",9.668826092029466,"New Financial Investment","AF","AF25308","Germat Santa Cecilia Small Hydro Plant","Brazil","Brazil","Central & South America","AMER","non-OECD","BASIC","Small hydro","Small Hydro","Run of River",0,"New build","Balance Sheet","Equity","2012-01-30",3.5,0,0,0,0,8.8000000000000007,9.668826092029466]
[2012,1,"Q1","2012Q1","Chile","Small Hydro","Asset finance investments",7.6911116641143469,"New Financial Investment","AF","AF31404","Hidrotrilaleo III Small Hydro Plant","Chile","Other AMER","Central & South America","AMER","OECD",null,"Small hydro","Small Hydro","Run of River",0,"New build","Balance Sheet","Equity","2012-01-01",2.4,0,0,0,7,7,7.6911116641143469]
[2012,1,"Q1","2012Q1","Brazil","Small Hydro","Asset finance investments",6.7022544501567873,"New Financial Investment","AF","AF25400","Cotesa Sao Valentim Small Hydro Plant","Brazil","Brazil","Central & South America","AMER","non-OECD","BASIC","Small hydro","Small Hydro","Run of River",0,"New build","Balance Sheet","Equity","2012-01-30",2.448,0,0,0,0,6.1,6.7022544501567873]
[2012,3,"Q1","2012Q1","Chile","Solar","Asset finance investments",5.2739051411069804,"New Financial Investment","AF","AF31568","Juwi Vicuna PV Plant","Chile","Other AMER","Central & South America","AMER","OECD",null,"Solar","Solar","PV","PV – Crystalline silicon","New build","Balance Sheet","Equity","2012-03-22",1.2,0,0,0,0,4.8,5.2739051411069804]
[2012,3,"Q1","2012Q1","Brazil","Biofuels","Asset finance investments",4.1532002986217469,"New Financial Investment","AF","AF31012","SSIL Rondonopolis Biodiesel Plant Expansion","Brazil","Brazil","Central & South America","AMER","non-OECD","BASIC","Biofuels","Biofuels","Diesel Substitute","Transesterification","New build","Balance Sheet","Equity","2012-03-31",0,10.8,0,0,0,3.78,4.1532002986217469]
[2012,2,"Q1","2012Q1","Brazil","Small Hydro","Asset finance investments",3.8455558320571734,"New Financial Investment","AF","AF25402","Centrais Hidreletricas Figueirao Figueira Small Hydro Plant","Brazil","Brazil","Central & South America","AMER","non-OECD","BASIC","Small hydro","Small Hydro","Run of River",0,"New build","Balance Sheet","Equity","2012-02-29",1.4,0,0,0,0,3.5,3.8455558320571734]
[2012,3,"Q1","2012Q1","Argentina","Biofuels","VC/PE investments",0.62847369598191516,"New Financial Investment","VCPE","VCPE5094","Keclon SA","Argentina","Other AMER","Central & South America","AMER","non-OECD",null,"Biofuels","Biofuels","Diesel Substitute","Advanced biochemical","Fuel production/procurement","VC - Seed / angel","VC Early Stage","2012-03-19","na","na","na","na",0,0.57199999999999995,0.62847369598191516]
[2011,3,"Q1","2011Q1","Brazil","Wind","Asset finance investments",564.7155992507021,"New Financial Investment","AF","AF11331","IMPSA Ceara Wind Auction 2009 Portfolio","Brazil","Brazil","Central & South America","AMER","non-OECD","BASIC","Wind","Wind","Onshore",0,"New build","Term loan","Debt","2011-03-02",211,0,0,0,518.9,518.9,564.7155992507021]
[2011,1,"Q1","2011Q1","Brazil","Wind","Asset finance investments",519.11609335630169,"New Financial Investment","AF","AF7875","Renova Energia Bahia Wind Portfolio I","Brazil","Brazil","Central & South America","AMER","non-OECD","BASIC","Wind","Wind","Onshore",0,"New build","Term loan","Debt","2011-01-04",195.2,0,0,0,477,477,519.11609335630169]
[2011,3,"Q1","2011Q1","Brazil","Biofuels","Asset finance investments",441.84724088607635,"New Financial Investment","AF","AF16554","Guarani Bioethanol and Power Plant Portfolio Expansion","Brazil","Brazil","Central & South America","AMER","non-OECD","BASIC","Biofuels","Biofuels","Gasoline/Petrol Substitute","1-Gen fermentation","New build","Term loan","Debt","2011-03-31",0,0,0,0,406,406,441.84724088607635]
[2011,3,"Q1","2011Q1","Brazil","Wind","Asset finance investments",400.70973914840715,"New Financial Investment","AF","AF16350","Tractebel Energia Trairi and Porto das Barcas Wind Portfolio","Brazil","Brazil","Central & South America","AMER","non-OECD","BASIC","Wind","Wind","Onshore",0,"New build","Balance Sheet","Equity","2011-03-31",145.4,0,0,0,368.2,368.2,400.70973914840715]
[2011,3,"Q1","2011Q1","Brazil","Wind","Asset finance investments",361.0958485862073,"New Financial Investment","AF","AF16349","Energio Ceara Wind Portfolio","Brazil","Brazil","Central & South America","AMER","non-OECD","BASIC","Wind","Wind","Onshore",0,"New build","Term loan","Debt","2011-03-15",121.8,0,0,0,331.8,331.8,361.0958485862073]
[2011,3,"Q1","2011Q1","Brazil","Wind","Asset finance investments",215.04683448051406,"New Financial Investment","AF","AF17320","EDP Renovaveis Brasil Tramandai Cidreira I Wind Farm","Brazil","Brazil","Central & South America","AMER","non-OECD","BASIC","Wind","Wind","Onshore",0,"New build","Term loan","Debt","2011-03-29",69.900000000000006,0,0,0,197.6,197.6,215.04683448051406]
[2011,3,"Q1","2011Q1","Brazil","Biomass & Waste","Asset finance investments",182.18036483824926,"New Financial Investment","AF","AF17319","Umoe Bioenergy Paranapanema II Sandovalina Power Plant","Brazil","Brazil","Central & South America","AMER","non-OECD","BASIC","Biomass & Waste","Biomass & Waste","Electricity Generation (new)","Incineration","New build","Term loan","Debt","2011-03-21",60,0,0,0,0,167.4,182.18036483824926]
[2011,3,"Q1","2011Q1","Costa Rica","Small Hydro","Asset finance investments",136.03671209546687,"New Financial Investment","AF","AF16484","Enel Chucas Small Hydro Plant","Costa Rica","Other AMER","Central & South America","AMER","non-OECD",null,"Small hydro","Small Hydro","Run of River",0,"New build","Balance Sheet","Equity","2011-03-28",50,0,0,0,0,125,136.03671209546687]
[2011,3,"Q1","2011Q1","Nicaragua","Wind","Asset finance investments",126.02441008524052,"New Financial Investment","AF","AF8669","La Fe Wind Farm Phase I","Nicaragua","Other AMER","Central & South America","AMER","non-OECD",null,"Wind","Wind","Onshore",0,"New build","Term loan","Debt","2011-03-08",39.6,0,0,0,115.8,115.8,126.02441008524052]
[2011,3,"Q1","2011Q1","Brazil","Biomass & Waste","Asset finance investments",120.80060034077459,"New Financial Investment","AF","AF12738","Sao Martinho Pradopolis Power Plant Expansion","Brazil","Brazil","Central & South America","AMER","non-OECD","BASIC","Biomass & Waste","Biomass & Waste","Electricity Generation (new)","Incineration","New build","Term loan","Debt","2011-03-31",54,0,0,0,111,111,120.80060034077459]
[2011,2,"Q1","2011Q1","Costa Rica","Small Hydro","Asset finance investments",79.989586712134553,"New Financial Investment","AF","AF15395","Coopelesca Cubujuqui Small Hydro Plant","Costa Rica","Other AMER","Central & South America","AMER","non-OECD",null,"Small hydro","Small Hydro","New Dam",0,"New build","Term loan","Debt","2011-02-24",21.6,0,0,0,73.5,73.5,79.989586712134553]
[2011,2,"Q1","2011Q1","Brazil","Biofuels","Asset finance investments",57.026589710419721,"New Financial Investment","AF","AF16512","Potencial Petroleo Lapa Biodiesel Plant","Brazil","Brazil","Central & South America","AMER","non-OECD","BASIC","Biofuels","Biofuels","Diesel Substitute","Transesterification","New build","Term loan","Debt","2011-02-15",0,170,0,0,52.4,52.4,57.026589710419721]
[2011,1,"Q1","2011Q1","Brazil","Biofuels","Asset finance investments",54.431009243638215,"New Financial Investment","AF","AF20400","ADM Rondonopolis Biodiesel Plant Expansion II","Brazil","Brazil","Central & South America","AMER","non-OECD","BASIC","Biofuels","Biofuels","Diesel Substitute","Transesterification","New build","Balance Sheet","Equity","2011-01-12",0,142.9,0,0,0,50.015000000000001,54.431009243638215]
[2011,3,"Q1","2011Q1","Colombia","Biomass & Waste","Asset finance investments",52.238097444659289,"New Financial Investment","AF","AF16553","Risaralda Power Plant Expansion","Colombia","Other AMER","Central & South America","AMER","non-OECD",null,"Biomass & Waste","Biomass & Waste","Electricity Generation (new)","Incineration","New build","Balance Sheet","Equity","2011-03-10",30,0,0,0,48,48,52.238097444659289]
[2011,1,"Q1","2011Q1","Brazil","Biofuels","Asset finance investments",45.490676524724122,"New Financial Investment","AF","AF15167","Bianchini Canoas Biodiesel Plant","Brazil","Brazil","Central & South America","AMER","non-OECD","BASIC","Biofuels","Biofuels","Diesel Substitute","Transesterification","New build","Term loan","Debt","2011-01-20",0,324,0,0,41.8,41.8,45.490676524724122]
[{"$f":"IF(K1093=\"\",\"\",IF(AND(YEAR(Z1093)<2004,YEAR(Z1093)>1910),2004,YEAR(Z1093)))","v":2011},{"$f":"IF(K1093=\"\",\"\",IF(ISNUMBER(Z1093),MONTH(Z1093),0))","v":3},{"$f":"IF(K1093=\"\",\"\",IF(AND(B1093>=1,B1093<=3),\"Q1\",IF(AND(B1093>3,B1093<=6),\"Q2\",IF(AND(B1093>6,B1093<=9),\"Q3\",IF(AND(B1093>9,B1093<=12),\"Q4\",0)))))","v":"Q1"},{"$f":"IF(A1093<2006, \"< 2006\", A1093&C1093)","v":"2011Q1"},{"$f":"IF(K1093=\"\",\"\", M1093)","v":"Peru"},"Small Hydro","Asset finance investments",{"$f":"IF(K1093=\"\",\"\",AG1093)","v":43.096430391843917},"New Financial Investment","AF","AF31224","Galenova Rio Doble Las Pizarras Small Hydro Plant","Peru","Other AMER","Central & South America","AMER","non-OECD",null,"Small hydro","Small Hydro","Run of River",0,"New build","Balance Sheet","Equity","2011-03-31",18,0,0,0,39.6,39.6,43.096430391843917]
[2011,3,"Q1","2011Q1","Brazil","Solar",{"$f":"IF(K1094=\"\",\"\",IF(OR(J1094=\"PM\",J1094=\"MA\"), \"Corporate finance investments\", IF(J1094=\"VCPE\", \"VC/PE investments\", IF(J1094=\"AF\", \"Asset finance investments\"))))","v":"VC/PE investments"},24.544287743112513,"New Financial Investment","VCPE","VCPE4650","EBES","Brazil","Brazil","Central & South America","AMER","non-OECD","BASIC","Solar","Solar","PV",0,"Developer","PE - Expansion capital","PE Expansion Capital","2011-03-02","na","na","na","na",0,22.553000000000001,24.544287743112513]
[2011,3,"Q1","2011Q1","Peru",{"$f":"IF(K1095=\"\",\"\",IF(OR(T1095=\"Wind\",T1095=\"Solar\",T1095=\"Geothermal\",T1095=\"Small Hydro\",T1095=\"Biofuels\",T1095=\"Biomass & Waste\"),T1095,\"Other Clean Energy\"))","v":"Small Hydro"},"VC/PE investments",20.989920529482152,"New Financial Investment","VCPE","VCPE4654","Maja Energia SAC","Peru","Other AMER","Central & South America","AMER","non-OECD",null,"Small hydro","Small Hydro","New Dam",0,"Developer","PE - Expansion capital","PE Expansion Capital","2011-03-31","na","na","na","na",0,19.286999999999999,20.989920529482152]
[2011,2,"Q1","2011Q1","Brazil","Biofuels","Asset finance investments",20.568750868834591,"New Financial Investment","AF","AF30952","Brejeiro Orlandia Biodiesel Plant","Brazil","Brazil","Central & South America","AMER","non-OECD","BASIC","Biofuels","Biofuels","Diesel Substitute","Transesterification","New build","Balance Sheet","Equity","2011-02-03",0,54,0,0,0,18.899999999999999,20.568750868834591]
[2011,1,"Q1","2011Q1","Brazil","Biofuels","Asset finance investments",19.197500810912285,"New Financial Investment","AF","AF20628","Bio Oleo Cuiaba Biodiesel Plant Expansion","Brazil","Brazil","Central & South America","AMER","non-OECD","BASIC","Biofuels","Biofuels","Diesel Substitute","Transesterification","New build","Balance Sheet","Equity","2011-01-25",0,50.4,0,0,0,17.639999999999997,19.197500810912285]
[2011,2,"Q1","2011Q1","Argentina","Biofuels","Asset finance investments",17.412699148219762,"New Financial Investment","AF","AF25944","Porta Hnos Córdoba Bioethanol Plant","Argentina","Other AMER","Central & South America","AMER","non-OECD",null,"Biofuels","Biofuels","Gasoline/Petrol Substitute","1-Gen fermentation","New build","Balance Sheet","Equity","2011-02-16",0,0,0,0,0,16,17.412699148219762]
[2011,1,"Q1","2011Q1","Brazil","Biofuels","Asset finance investments",14.038988688252184,"New Financial Investment","AF","AF15489","Fuga Couros Camargo Biodiesel Plant","Brazil","Brazil","Central & South America","AMER","non-OECD","BASIC","Biofuels","Biofuels","Diesel Substitute","Transesterification","New build","Balance Sheet","Equity","2011-01-19",0,108,0,0,12.9,12.9,14.038988688252184]
[2011,1,"Q1","2011Q1","Chile","Small Hydro","Asset finance investments",6.5297621805824111,"New Financial Investment","AF","AF31408","Central Don Walterio Small Hydro Plant","Chile","Other AMER","Central & South America","AMER","OECD",null,"Small hydro","Small Hydro","Run of River",0,"New build","Balance Sheet","Equity","2011-01-01",3,0,0,0,6,6,6.5297621805824111]
[2011,1,"Q1","2011Q1","Argentina","Biofuels","Asset finance investments",5.4414684838186753,"New Financial Investment","AF","AF18882","Enersa Catrilo Biodiesel Plant","Argentina","Other AMER","Central & South America","AMER","non-OECD",null,"Biofuels","Biofuels","Diesel Substitute","Transesterification","New build","Balance Sheet","Equity","2011-01-28",0,59.5,0,0,5,5,5.4414684838186753]
[2011,1,"Q1","2011Q1","Chile","Small Hydro","Asset finance investments",4.6796628960840607,"New Financial Investment","AF","AF31374","Robleria Small Hydro Plant","Chile","Other AMER","Central & South America","AMER","OECD",null,"Small hydro","Small Hydro","Run of River",0,"New build","Balance Sheet","Equity","2011-01-01",4,0,0,0,4.3,4.3,4.6796628960840607]
[2011,3,"Q1","2011Q1","Brazil","Solar","Asset finance investments",4.3531747870549404,"New Financial Investment","AF","AF9691","Eletrosul Florianopolis PV Plant","Brazil","Brazil","Central & South America","AMER","non-OECD","BASIC","Solar","Solar","PV","PV – Crystalline silicon","New build","Term loan","Debt","2011-03-30",1,0,0,0,4,4,4.3531747870549404]
[2010,3,"Q1","2010Q1","Brazil","Wind","Asset finance investments",495.28246025204288,"New Financial Investment","AF","AF11001","CPFL Parazinho Wind Portfolio","Brazil","Brazil","Central & South America","AMER","non-OECD","BASIC","Wind","Wind","Onshore",0,"New build","Term loan","Debt","2010-03-02",180,0,0,0,475.3,475.3,495.28246025204288]
[2010,3,"Q1","2010Q1","Brazil","Biomass & Waste","Asset finance investments",351.68910232498308,"New Financial Investment","AF","AF4048","Abengoa Sao Paulo Power Plant Portfolio","Brazil","Brazil","Central & South America","AMER","non-OECD","BASIC","Biomass & Waste","Biomass & Waste","Electricity Generation (new)","Incineration","New build","Term loan","Debt","2010-03-11",70,0,0,0,337.5,337.5,351.68910232498308]
[2010,1,"Q1","2010Q1","Brazil","Biofuels","Asset finance investments",279.26719829065325,"New Financial Investment","AF","AF11318","Boa Vista Bioethanol and Power Plant Expansion I","Brazil","Brazil","Central & South America","AMER","non-OECD","BASIC","Biofuels","Biofuels","Gasoline/Petrol Substitute","1-Gen fermentation","New build","Term loan","Debt","2010-01-29",40,0,0,0,268,268,279.26719829065325]
[2010,2,"Q1","2010Q1","Peru","Biofuels","Asset finance investments",264.6786133053206,"New Financial Investment","AF","AF7881","Maple Chira Bioethanol and Power Plant","Peru","Other AMER","Central & South America","AMER","non-OECD",null,"Biofuels","Biofuels","Gasoline/Petrol Substitute","1-Gen fermentation","New build","Term loan","Debt","2010-02-09",37,132,0,0,254,254,264.6786133053206]
[2010,3,"Q1","2010Q1","Brazil","Wind","VC/PE investments",228.20715084198903,"New Financial Investment","VCPE","VCPE3406","Energimp SA","Brazil","Brazil","Central & South America","AMER","non-OECD","BASIC","Wind","Wind","Onshore",0,"Developer","PE - Expansion capital","PE Expansion Capital","2010-03-26","na","na","na","na",219,219,228.20715084198903]
[2010,3,"Q1","2010Q1","Brazil","Biomass & Waste","Asset finance investments",212.57652407198972,"New Financial Investment","AF","AF11223","CPFL Pedra Agro Power Plant Portfolio","Brazil","Brazil","Central & South America","AMER","non-OECD","BASIC","Biomass & Waste","Biomass & Waste","Electricity Generation (new)","Incineration","New build","Balance Sheet","Equity","2010-03-24",145,0,0,0,204,204,212.57652407198972]
[2010,2,"Q1","2010Q1","Chile","Small Hydro","VC/PE investments",208.40835693332326,"New Financial Investment","VCPE","VCPE3270","Hydro Chile SA","Chile","Other AMER","Central & South America","AMER","OECD",null,"Small hydro","Small Hydro","Run of River",0,"Developer","PE - Expansion capital","PE Expansion Capital","2010-02-06","na","na","na","na",200,200,208.40835693332326]
[2010,1,"Q1","2010Q1","Brazil","Wind","Asset finance investments",111.29006260239464,"New Financial Investment","AF","AF10696","Elebrás Projetos Tramandai Cidreira I Wind Farm","Brazil","Brazil","Central & South America","AMER","non-OECD","BASIC","Wind","Wind","Onshore",0,"New build","Construction loan","Debt","2010-01-28",69.900000000000006,0,0,0,0,106.8,111.29006260239464]
[2010,2,"Q1","2010Q1","Brazil","Biomass & Waste","Asset finance investments",108.1639372483948,"New Financial Investment","AF","AF14688","Cargill Cevasa Power Plant Expansion","Brazil","Brazil","Central & South America","AMER","non-OECD","BASIC","Biomass & Waste","Biomass & Waste","Combined Heat & Power (CHP)","Incineration","New build","Term loan","Debt","2010-02-11",32,0,0,0,103.8,103.8,108.1639372483948]
[2010,3,"Q1","2010Q1","Dominican Republic","Wind","Asset finance investments",104.20417846666163,"New Financial Investment","AF","AF9959","EGE Haina Juancho Wind Portfolio","Dominican Republic","Other AMER","North America & Caribbean","AMER","non-OECD",null,"Wind","Wind","Onshore",0,"New build","Balance Sheet","Equity","2010-03-16",33.5,0,0,0,100,100,104.20417846666163]
[2010,3,"Q1","2010Q1","Brazil","Biofuels","Asset finance investments",90.657635265995637,"New Financial Investment","AF","AF14704","LDC-SEV Passa Tempo Bioethanol Plant Expansion","Brazil","Brazil","Central & South America","AMER","non-OECD","BASIC","Biofuels","Biofuels","Gasoline/Petrol Substitute","1-Gen fermentation","New build","Term loan","Debt","2010-03-09",0,110,0,0,87,87,90.657635265995637]
[2010,3,"Q1","2010Q1","Brazil","Biofuels","Asset finance investments",88.052530804329095,"New Financial Investment","AF","AF11113","Tonon Vista Alegre Maracaju Bioethanol and Power Plant Expansion","Brazil","Brazil","Central & South America","AMER","non-OECD","BASIC","Biofuels","Biofuels","Gasoline/Petrol Substitute","1-Gen fermentation","New build","Term loan","Debt","2010-03-31",0,0,0,0,84.5,84.5,88.052530804329095]
[2010,3,"Q1","2010Q1","Peru","Small Hydro","Asset finance investments",85.239017985729234,"New Financial Investment","AF","AF11102","Tarucani Small Hydro Plant","Peru","Other AMER","Central & South America","AMER","non-OECD",null,"Small hydro","Small Hydro","Run of River",0,"New build","Balance Sheet","Equity","2010-03-08",49,0,0,0,81.8,81.8,85.239017985729234]
[2010,2,"Q1","2010Q1","Brazil","Biofuels","Asset finance investments",73.047129105129812,"New Financial Investment","AF","AF14700","Vale do Paracatu Agroenergia Ethanol and Power Plant","Brazil","Brazil","Central & South America","AMER","non-OECD","BASIC","Biofuels","Biofuels","Gasoline/Petrol Substitute","1-Gen fermentation","New build","Term loan","Debt","2010-02-13",30,108,0,0,70.099999999999994,70.099999999999994,73.047129105129812]
[2010,3,"Q1","2010Q1","Brazil","Small Hydro","Asset finance investments",69.399982858796648,"New Financial Investment","AF","AF11197","Desenvix Adami Passos Maia Small Hydro Plant","Brazil","Brazil","Central & South America","AMER","non-OECD","BASIC","Small hydro","Small Hydro","Run of River",0,"New build","Balance Sheet","Equity","2010-03-19",22.2,0,0,0,66.599999999999994,66.599999999999994,69.399982858796648]
[2010,2,"Q1","2010Q1","Peru","Biomass & Waste","Asset finance investments",66.867821322056784,"New Financial Investment","AF","AF11038","AIPSA Paramonga Biomass Plant","Peru","Other AMER","Central & South America","AMER","non-OECD",null,"Biomass & Waste","Biomass & Waste","Electricity Generation (new)","Incineration","New build","Balance Sheet","Equity","2010-02-12",23,0,0,0,0,64.17,66.867821322056784]
[2010,2,"Q1","2010Q1","Colombia","Small Hydro","Asset finance investments",52.102089233330815,"New Financial Investment","AF","AF10788","HMV Ingenieros Barroso Small Hydro Plant","Colombia","Other AMER","Central & South America","AMER","non-OECD",null,"Small hydro","Small Hydro","Run of River",0,"New build","Balance Sheet","Equity","2010-02-08",20,0,0,0,0,50,52.102089233330815]
[2010,2,"Q1","2010Q1","Brazil","Biofuels","VC/PE investments",50.018005663997599,"New Financial Investment","VCPE","VCPE4646","Tonon Bioenergia SA","Brazil","Brazil","Central & South America","AMER","non-OECD","BASIC","Biofuels","Biofuels","Gasoline/Petrol Substitute","1-Gen fermentation","Fuel production/procurement","PE - Expansion capital","PE Expansion Capital","2010-02-26","na","na","na","na",48,48,50.018005663997599]
[2010,1,"Q1","2010Q1","Brazil","Biofuels","Asset finance investments",50.018005663997599,"New Financial Investment","AF","AF14701","São Manoel Bioethanol and Power Plant Expansion","Brazil","Brazil","Central & South America","AMER","non-OECD","BASIC","Biofuels","Biofuels","Gasoline/Petrol Substitute","1-Gen fermentation","New build","Term loan","Debt","2010-01-02",0,0,0,0,48,48,50.018005663997599]
[2010,3,"Q1","2010Q1","Jamaica","Wind","Asset finance investments",49.496984771664273,"New Financial Investment","AF","AF11111","Petroleum Corp Wigton Wind Farm Phase II","Jamaica","Other AMER","North America & Caribbean","AMER","non-OECD",null,"Wind","Wind","Onshore",0,"New build","Balance Sheet","Equity","2010-03-10",18,0,0,0,47.5,47.5,49.496984771664273]
[2010,2,"Q1","2010Q1","Brazil","Small Hydro","Asset finance investments",39.076566924998119,"New Financial Investment","AF","AF11015","Agro Pastoril Novo Horizonte Small Hydro Plant","Brazil","Brazil","Central & South America","AMER","non-OECD","BASIC","Small hydro","Small Hydro","Run of River",0,"New build","Balance Sheet","Equity","2010-02-28",15,0,0,0,0,37.5,39.076566924998119]
[2010,3,"Q1","2010Q1","Brazil","Biofuels","Asset finance investments",38.242933497264829,"New Financial Investment","AF","AF10976","Petrobras Candeias Biodiesel Plant Expansion II","Brazil","Brazil","Central & South America","AMER","non-OECD","BASIC","Biofuels","Biofuels","Diesel Substitute","Transesterification","New build","Balance Sheet","Equity","2010-03-31",0,108.6,0,0,36.700000000000003,36.700000000000003,38.242933497264829]
[2010,1,"Q1","2010Q1","Chile","Small Hydro","Asset finance investments",36.471462463331576,"New Financial Investment","AF","AF6593","Hidroaustral Casualidad Small Hydro Plant","Chile","Other AMER","Central & South America","AMER","OECD",null,"Small hydro","Small Hydro","Run of River",0,"New build","Balance Sheet","Equity","2010-01-31",21.2,0,0,0,35,35,36.471462463331576]
[2010,1,"Q1","2010Q1","Brazil","Biofuels","Asset finance investments",35.429420678664961,"New Financial Investment","AF","AF6941","Oleoplan Veranopolis Biodiesel Plant Expansion II","Brazil","Brazil","Central & South America","AMER","non-OECD","BASIC","Biofuels","Biofuels","Diesel Substitute","Transesterification","New build","Balance Sheet","Equity","2010-01-31",0,140.4,0,0,34,34,35.429420678664961]
[2010,1,"Q1","2010Q1","Brazil","Biofuels","Asset finance investments",26.25945297359873,"New Financial Investment","AF","AF30824","Fertibom Catanduva Biodiesel Plant Expansion IV","Brazil","Brazil","Central & South America","AMER","non-OECD","BASIC","Biofuels","Biofuels","Diesel Substitute","Transesterification","New build","Balance Sheet","Equity","2010-01-26",0,72,0,0,0,25.2,26.25945297359873]
[2010,1,"Q1","2010Q1","Brazil","Biomass & Waste","Asset finance investments",24.800594475065473,"New Financial Investment","AF","AF10663","Dom Pedrito Biomass Plant","Brazil","Brazil","Central & South America","AMER","non-OECD","BASIC","Biomass & Waste","Biomass & Waste","Electricity Generation (new)","Incineration","New build","Balance Sheet","Equity","2010-01-19",12.3,0,0,0,23.8,23.8,24.800594475065473]
[2010,3,"Q1","2010Q1","Chile","Wind","Asset finance investments",23.96696104733218,"New Financial Investment","AF","AFLATAM_RP29332","Enhol Monte Redondo Wind Farm Phase II","Chile","Other AMER","Central & South America","AMER","OECD",null,"Wind","Wind","Onshore",0,"New build","Balance Sheet","Equity","2010-03-04",10,0,0,0,23,23,23.96696104733218]
[2010,1,"Q1","2010Q1","Peru","Small Hydro","Asset finance investments",21.049244050265653,"New Financial Investment","AF","AF32540","LAP Huasahuasi I Small Hydro Plant","Peru","Other AMER","Central & South America","AMER","non-OECD",null,"Small hydro","Small Hydro","Run of River",0,"New build","Balance Sheet","Equity","2010-01-29",10,0,0,0,0,20.2,21.049244050265653]
[2010,1,"Q1","2010Q1","Chile","Small Hydro","Asset finance investments",20.84083569333233,"New Financial Investment","AF","AF6590","Hidroaustral Rio Nalcas Small Hydro Plant","Chile","Other AMER","Central & South America","AMER","OECD",null,"Small hydro","Small Hydro","Run of River",0,"New build","Balance Sheet","Equity","2010-01-01",9,0,0,0,20,20,20.84083569333233]
[2010,1,"Q1","2010Q1","Chile","Biomass & Waste","Asset finance investments",20.84083569333233,"New Financial Investment","AF","AF6979","Greenwood Cabrero Biomass Plant","Chile","Other AMER","Central & South America","AMER","OECD",null,"Biomass & Waste","Biomass & Waste","Electricity Generation (new)","Incineration","New build","Balance Sheet","Equity","2010-01-31",9.5,0,0,0,20,20,20.84083569333233]
[2010,3,"Q1","2010Q1","Brazil","Biofuels","Asset finance investments",19.183989255712408,"New Financial Investment","AF","AF20632","Biocamp Campo Verde Biodiesel Plant Expansion","Brazil","Brazil","Central & South America","AMER","non-OECD","BASIC","Biofuels","Biofuels","Diesel Substitute","Transesterification","New build","Balance Sheet","Equity","2010-03-03",0,52.6,0,0,0,18.41,19.183989255712408]
[2010,3,"Q1","2010Q1","Brazil","Biofuels","Asset finance investments",14.171768271465984,"New Financial Investment","AF","AF10632","Delta Energia Rio Brilhante Biodiesel Plant","Brazil","Brazil","Central & South America","AMER","non-OECD","BASIC","Biofuels","Biofuels","Diesel Substitute","Transesterification","New build","Balance Sheet","Equity","2010-03-31",0,108,0,0,13.6,13.6,14.171768271465984]
[2010,3,"Q1","2010Q1","Argentina","Solar","Asset finance investments",10.941438738999475,"New Financial Investment","AF","AF11088","Comsa San Juan I PV Pilot Plant","Argentina","Other AMER","Central & South America","AMER","non-OECD",null,"Solar","Solar","PV","PV – Crystalline silicon","New build","Balance Sheet","Equity","2010-03-05",1.2,0,0,0,10.5,10.5,10.941438738999475]
[2010,1,"Q1","2010Q1","Panama","Small Hydro","Asset finance investments",10.420417846666165,"New Financial Investment","AF","AFLATAM_RP21544","Hidroelectrica Bajos del Totuma Small Hydro Plant","Panama","Other AMER","Central & South America","AMER","non-OECD",null,"Small hydro","Small Hydro","Run of River",0,"New build","Balance Sheet","Equity","2010-01-18",5,0,0,0,10,10,10.420417846666165]
[2010,1,"Q1","2010Q1","Uruguay","Biomass & Waste","Asset finance investments",10.316213668199504,"New Financial Investment","AF","AF10472","Ponlar Aurora Tranqueras  Biomass Plant","Uruguay","Other AMER","Central & South America","AMER","non-OECD",null,"Biomass & Waste","Biomass & Waste","Electricity Generation (new)","Incineration","New build","Balance Sheet","Equity","2010-01-12",7.5,0,0,0,9.9,9.9,10.316213668199504]
[2010,1,"Q1","2010Q1","Brazil","Small Hydro","Asset finance investments",10.316213668199504,"New Financial Investment","AF","AF10695","Luzboa BDMG Small Hydro Portfolio","Brazil","Brazil","Central & South America","AMER","non-OECD","BASIC","Small hydro","Small Hydro","Run of River",0,"New build","Term loan","Debt","2010-01-29",4.3,0,0,0,9.9,9.9,10.316213668199504]
[2010,1,"Q1","2010Q1","Brazil","Other Clean Energy","Asset finance investments",8.4405384557995937,"New Financial Investment","AF","AF8921","Tractebel Porto do Pecem Pilot Wave Plant","Brazil","Brazil","Central & South America","AMER","non-OECD","BASIC","Marine","Marine","Wave",0,"New build","Balance Sheet","Equity","2010-01-27",0.1,0,0,0,8.1,8.1,8.4405384557995937]
[2010,1,"Q1","2010Q1","Brazil","Biofuels","Asset finance investments",7.2942924926663162,"New Financial Investment","AF","AF30914","Sorriso Biodiesel Plant Expansion","Brazil","Brazil","Central & South America","AMER","non-OECD","BASIC","Biofuels","Biofuels","Diesel Substitute","Transesterification","New build","Balance Sheet","Equity","2010-01-12",0,36.9,0,0,7,7,7.2942924926663162]
[2010,2,"Q1","2010Q1","Brazil","Small Hydro","Asset finance investments",7.0337820464996614,"New Financial Investment","AF","AF11017","Rio Bonito Energia Small Hydro Plant","Brazil","Brazil","Central & South America","AMER","non-OECD","BASIC","Small hydro","Small Hydro","Run of River",0,"New build","Balance Sheet","Equity","2010-02-28",2.7,0,0,0,0,6.75,7.0337820464996614]
[2010,1,"Q1","2010Q1","Mexico","Biomass & Waste","Asset finance investments",6.6690674218663464,"New Financial Investment","AF","AFLATAM_RP23802","Promotora Ambiental Garcia Landfill Gas Plant","Mexico","Other AMER","Central & South America","AMER","OECD",null,"Biomass & Waste","Biomass & Waste","Electricity Generation (new)",0,"New build","Balance Sheet","Equity","2010-01-01",3.2,0,0,0,0,6.4,6.6690674218663464]
[2010,3,"Q1","2010Q1","Brazil","Solar","Asset finance investments",5.8354339941330524,"New Financial Investment","AF","AF11070","MPX Energia Taua PV Plant Phase I","Brazil","Brazil","Central & South America","AMER","non-OECD","BASIC","Solar","Solar","PV","PV – Crystalline silicon","New build","Balance Sheet","Equity","2010-03-09",1,0,0,0,5.6,5.6,5.8354339941330524]
[2010,2,"Q1","2010Q1","Brazil","Small Hydro","Asset finance investments",5.2102089233330826,"New Financial Investment","AF","AF11016","Centrais Candeeiro Camboata Small Hydro Plant","Brazil","Brazil","Central & South America","AMER","non-OECD","BASIC","Small hydro","Small Hydro","Run of River",0,"New build","Balance Sheet","Equity","2010-02-28",2,0,0,0,0,5,5.2102089233330826]
[2010,1,"Q1","2010Q1","Brazil","Biomass & Waste","Asset finance investments",3.7513504247998197,"New Financial Investment","AF","AF10670","Ecoenergia Ceara Mirim Ethanol and Power Plant Power Plant Expansion I","Brazil","Brazil","Central & South America","AMER","non-OECD","BASIC","Biomass & Waste","Biomass & Waste","Electricity Generation (new)","Incineration","New build","Balance Sheet","Equity","2010-01-27",3.3,0,0,0,0,3.6,3.7513504247998197]
[2010,1,"Q1","2010Q1","Mexico","Biomass & Waste","Asset finance investments",3.3345337109331732,"New Financial Investment","AF","AFLATAM_RP23813","Promotora Ambiental de la Laguna Ahome Landfill Gas Plant","Mexico","Other AMER","Central & South America","AMER","OECD",null,"Biomass & Waste","Biomass & Waste","Electricity Generation (new)",0,"New build","Balance Sheet","Equity","2010-01-01",1.6,0,0,0,0,3.2,3.3345337109331732]
[2010,3,"Q1","2010Q1","Peru","Small Hydro","Asset finance investments",1.4057143675152657,"New Financial Investment","AF","AF18714","Electrica Santa Rosa Purmacana Small Hydro Plant","Peru","Other AMER","Central & South America","AMER","non-OECD",null,"Small hydro","Small Hydro","Run of River",0,"New build","Balance Sheet","Equity","2010-03-31",1.8,0,0,0,1.349,1.349,1.4057143675152657]
[2010,3,"Q1","2010Q1","Brazil","Biomass & Waste","Asset finance investments",1.1462459631332784,"New Financial Investment","AF","AF8883","Itaipu and Parana Government Rio Ajuricaba Biogas Plant","Brazil","Brazil","Central & South America","AMER","non-OECD","BASIC","Biomass & Waste","Biomass & Waste","Electricity Generation (new)","Anaerobic digestion","New build","Balance Sheet","Equity","2010-03-11",1.48,0,0,0,1.1000000000000001,1.1000000000000001,1.1462459631332784]
[2009,1,"Q1","2009Q1","Brazil","Biofuels","Asset finance investments",295.36,"New Financial Investment","AF","AF5910","Bevap Vale do Paracatu Bioethanol and Power Plant","Brazil","Brazil","Central & South America","AMER","non-OECD","BASIC","Biofuels","Biofuels","Gasoline/Petrol Substitute","1-Gen fermentation","New build","Term loan","Debt","2009-01-26",90,259,0,0,284,284,295.36]
[2009,2,"Q1","2009Q1","Peru","Biofuels","Asset finance investments",192.4,"New Financial Investment","AF","AF7626","Grupo Romero Cana Brava Ethanol and Power Plant","Peru","Other AMER","Central & South America","AMER","non-OECD",null,"Biofuels","Biofuels","Gasoline/Petrol Substitute","1-Gen fermentation","New build","Balance Sheet","Equity","2009-02-08",0,10,0,0,185,185,192.4]
[2009,3,"Q1","2009Q1","Brazil","Biofuels","Asset finance investments",175.76000000000002,"New Financial Investment","AF","AF10183","CMAA Vale do Tijuco Bioethanol and Power Plant","Brazil","Brazil","Central & South America","AMER","non-OECD","BASIC","Biofuels","Biofuels","Gasoline/Petrol Substitute","1-Gen fermentation","New build","Balance Sheet","Equity","2009-03-31",45,160,0,0,169,169,175.76000000000002]
[2009,1,"Q1","2009Q1","Costa Rica","Geothermal","Asset finance investments",166.4,"New Financial Investment","AF","AF4104","CABEI Las Pailas Geothermal Plant","Costa Rica","Other AMER","Central & South America","AMER","non-OECD",null,"Geothermal","Geothermal","Conventional","Binary","New build","Balance Sheet","Equity","2009-01-21",42,0,0,0,0,160,166.4]
[2009,3,"Q1","2009Q1","Brazil","Small Hydro","Asset finance investments",102.96000000000001,"New Financial Investment","AF","AF7357","Hidrotermica Criuva and Palanquinho Small Hydro Portfolio","Brazil","Brazil","Central & South America","AMER","non-OECD","BASIC","Small hydro","Small Hydro","Run of River",0,"New build","Term loan","Debt","2009-03-03",48.2,0,0,0,99,99,102.96000000000001]
[2009,1,"Q1","2009Q1","Chile","Wind","Asset finance investments",72.8,"New Financial Investment","AF","AF4140","Barrick Gold Punta Colorada Wind Farm","Chile","Other AMER","Central & South America","AMER","OECD",null,"Wind","Wind","Onshore",0,"New build","Balance Sheet","Equity","2009-01-13",36,0,0,0,70,70,72.8]
[2009,3,"Q1","2009Q1","Brazil","Biofuels","VC/PE investments",63.96,"New Financial Investment","VCPE","VCPE2858","ETH Bioenergia SA","Brazil","Brazil","Central & South America","AMER","non-OECD","BASIC","Biofuels","Biofuels","Gasoline/Petrol Substitute","1-Gen fermentation","Developer","PE - Expansion capital","PE Expansion Capital","2009-03-03","na","na","na","na",61.5,61.5,63.96]
[{"$f":"IF(K1157=\"\",\"\",IF(AND(YEAR(Z1157)<2004,YEAR(Z1157)>1910),2004,YEAR(Z1157)))","v":2009},{"$f":"IF(K1157=\"\",\"\",IF(ISNUMBER(Z1157),MONTH(Z1157),0))","v":3},{"$f":"IF(K1157=\"\",\"\",IF(AND(B1157>=1,B1157<=3),\"Q1\",IF(AND(B1157>3,B1157<=6),\"Q2\",IF(AND(B1157>6,B1157<=9),\"Q3\",IF(AND(B1157>9,B1157<=12),\"Q4\",0)))))","v":"Q1"},{"$f":"IF(A1157<2006, \"< 2006\", A1157&C1157)","v":"2009Q1"},{"$f":"IF(K1157=\"\",\"\", M1157)","v":"Brazil"},"Biomass & Waste","Asset finance investments",{"$f":"IF(K1157=\"\",\"\",AG1157)","v":63.648000000000003},"New Financial Investment","AF","AF6971","Sykue Sao Desiderio Biomass Plant","Brazil","Brazil","Central & South America","AMER","non-OECD","BASIC","Biomass & Waste","Biomass & Waste","Electricity Generation (new)","Incineration","New build","Term loan","Debt","2009-03-18",30,0,0,0,61.2,61.2,63.648000000000003]
[2009,3,"Q1","2009Q1","Ecuador","Small Hydro",{"$f":"IF(K1158=\"\",\"\",IF(OR(J1158=\"PM\",J1158=\"MA\"), \"Corporate finance investments\", IF(J1158=\"VCPE\", \"VC/PE investments\", IF(J1158=\"AF\", \"Asset finance investments\"))))","v":"Asset finance investments"},55.951999999999998,"New Financial Investment","AF","AF8579","Elecaustro Ocana Small Hydro Plant","Ecuador","Other AMER","Central & South America","AMER","non-OECD",null,"Small hydro","Small Hydro","Run of River",0,"New build","Balance Sheet","Equity","2009-03-11",26.8,0,0,0,53.8,53.8,55.951999999999998]
[2009,3,"Q1","2009Q1","Brazil",{"$f":"IF(K1159=\"\",\"\",IF(OR(T1159=\"Wind\",T1159=\"Solar\",T1159=\"Geothermal\",T1159=\"Small Hydro\",T1159=\"Biofuels\",T1159=\"Biomass & Waste\"),T1159,\"Other Clean Energy\"))","v":"Small Hydro"},"Asset finance investments",44.0336,"New Financial Investment","AF","AF8073","Enernova Santa Fe Small Hydro CDM Financing II","Brazil","Brazil","Central & South America","AMER","non-OECD","BASIC","Small hydro","Small Hydro","Run of River",0,"New build","Term loan","Debt","2009-03-24",29,0,0,0,0,42.339999999999996,44.0336]
[2009,2,"Q1","2009Q1","Mexico","Wind","Asset finance investments",43.929600000000001,"New Financial Investment","AF","AF15083","Bii Nee Stipa Wind Farm Phase I","Mexico","Other AMER","Central & South America","AMER","OECD",null,"Wind","Wind","Onshore",0,"New build","Balance Sheet","Equity","2009-02-07",26.4,0,0,0,0,42.24,43.929600000000001]
[2009,2,"Q1","2009Q1","Brazil","Small Hydro","Asset finance investments",43.888000000000005,"New Financial Investment","AF","AFLATAM_RP14426","Maggi Energia Segredo Small Hydro Plant","Brazil","Brazil","Central & South America","AMER","non-OECD","BASIC","Small hydro","Small Hydro","New Dam",0,"New build","Balance Sheet","Equity","2009-02-28",21.1,0,0,0,42.2,42.2,43.888000000000005]
[2009,1,"Q1","2009Q1","Venezuela","Small Hydro","Asset finance investments",41.6,"New Financial Investment","AF","AF8329","CORPOELEC Masparro Small Hydro Plant","Venezuela","Other AMER","Central & South America","AMER","non-OECD",null,"Small hydro","Small Hydro","Run of River",0,"New build","Balance Sheet","Equity","2009-01-01",25,0,0,0,40,40,41.6]
[2009,3,"Q1","2009Q1","Costa Rica","Wind","Asset finance investments",39.832000000000001,"New Financial Investment","AF","AF7802","Eolica Valle Central Wind Farm Plant","Costa Rica","Other AMER","Central & South America","AMER","non-OECD",null,"Wind","Wind","Onshore",0,"New build","Term loan","Debt","2009-03-04",15.3,0,0,0,38.299999999999997,38.299999999999997,39.832000000000001]
[2009,1,"Q1","2009Q1","Brazil","Biofuels","Asset finance investments",35.568000000000005,"New Financial Investment","AF","AF11552","Gran Valle Porto Real Biodiesel Plant","Brazil","Brazil","Central & South America","AMER","non-OECD","BASIC","Biofuels","Biofuels","Diesel Substitute","Transesterification","New build","Balance Sheet","Equity","2009-01-31",0,90,0,0,0,34.200000000000003,35.568000000000005]
[2009,1,"Q1","2009Q1","Chile","Small Hydro","Asset finance investments",34.008000000000003,"New Financial Investment","AF","AF6555","Lican Small Hydro Plant","Chile","Other AMER","Central & South America","AMER","OECD",null,"Small hydro","Small Hydro","Run of River",0,"New build","Balance Sheet","Equity","2009-01-01",17,0,0,0,32.700000000000003,32.700000000000003,34.008000000000003]
[2009,1,"Q1","2009Q1","Brazil","Biofuels","Asset finance investments",29.224000000000004,"New Financial Investment","AF","AF10796","Corol Cooperativa Agoroindustrial Ethanol Plant Expansion","Brazil","Brazil","Central & South America","AMER","non-OECD","BASIC","Biofuels","Biofuels","Gasoline/Petrol Substitute","1-Gen fermentation","New build","Balance Sheet","Equity",39844,0,0,0,0,28.1,28.1,29.224000000000004]
[2009,2,"Q1","2009Q1","Brazil","Biofuels","Asset finance investments",28.808,"New Financial Investment","AF","AF8411","Alto Alegre Alta Mogiana Sugarcane Plantation Expansion","Brazil","Brazil","Central & South America","AMER","non-OECD","BASIC","Biofuels","Biofuels","Gasoline/Petrol Substitute","1-Gen fermentation","New build","Term loan","Debt",39857,0,0,0,0,27.7,27.7,28.808]
[2009,3,"Q1","2009Q1","Uruguay","Biomass & Waste","Asset finance investments",24.96,"New Financial Investment","AF","AF20496","Weyerhaeuser Tacuarembo Biomass Plant","Uruguay","Other AMER","Central & South America","AMER","non-OECD",null,"Biomass & Waste","Biomass & Waste","Electricity Generation (new)","Incineration","New build","Balance Sheet","Equity",39903,12,0,0,0,0,24,24.96]
[2009,3,"Q1","2009Q1","Brazil","Biomass & Waste","Asset finance investments",24.96,"New Financial Investment","AF","AFLATAM_RP16789","Berneck Araucaria Biomass Plant","Brazil","Brazil","Central & South America","AMER","non-OECD","BASIC","Biomass & Waste","Biomass & Waste","Electricity Generation (new)",0,"New build","Balance Sheet","Equity",39889,12,0,0,0,0,24,24.96]
[2009,3,"Q1","2009Q1","Argentina","Biofuels","Asset finance investments",19.760000000000002,"New Financial Investment","AF","AF7537","Bioledesma Libertador Gral San Martin Bioethanol Plant","Argentina","Other AMER","Central & South America","AMER","non-OECD",null,"Biofuels","Biofuels","Gasoline/Petrol Substitute","1-Gen fermentation","New build","Balance Sheet","Equity",39874,0,49,0,0,19,19,19.760000000000002]
[2009,1,"Q1","2009Q1","Brazil","Biofuels","Asset finance investments",19.760000000000002,"New Financial Investment","AF","AF8395","Granol Cachoeira do Sul Biodiesel Plant Expansion II","Brazil","Brazil","Central & South America","AMER","non-OECD","BASIC","Biofuels","Biofuels","Diesel Substitute","Transesterification","New build","Term loan","Debt",39834,0,168,0,0,19,19,19.760000000000002]
[2009,2,"Q1","2009Q1","Panama","Small Hydro","Asset finance investments",15.08,"New Financial Investment","AF","AF9515","Hidro Boqueron Macano Small Hydro Plant","Panama","Other AMER","Central & South America","AMER","non-OECD",null,"Small hydro","Small Hydro","Run of River",0,"New build","Balance Sheet","Equity",39862,5.8,0,0,0,0,14.5,15.08]
[2009,2,"Q1","2009Q1","Brazil","Biofuels","Asset finance investments",12.896000000000001,"New Financial Investment","AF","AF8414","Nova Galia Ethanol Plant","Brazil","Brazil","Central & South America","AMER","non-OECD","BASIC","Biofuels","Biofuels","Gasoline/Petrol Substitute","1-Gen fermentation","New build","Term loan","Debt",39856,0,129,0,0,12.4,12.4,12.896000000000001]
[2009,3,"Q1","2009Q1","Chile","Small Hydro","Asset finance investments",12.48,"New Financial Investment","AF","AF6604","Cayucupil Small Hydro Plant","Chile","Other AMER","Central & South America","AMER","OECD",null,"Small hydro","Small Hydro","Run of River",0,"New build","Balance Sheet","Equity",39903,12,0,0,0,12,12,12.48]
[2009,3,"Q1","2009Q1","Brazil","Biomass & Waste","Asset finance investments",9.6720000000000006,"New Financial Investment","AF","AF6512","Lanxess Porto Feliz Biomass Plant","Brazil","Brazil","Central & South America","AMER","non-OECD","BASIC","Biomass & Waste","Biomass & Waste","Electricity Generation (new)","Incineration","New build","Term loan","Debt",39903,4.5,0,0,0,9.3000000000000007,9.3000000000000007,9.6720000000000006]
[2009,3,"Q1","2009Q1","Brazil","Small Hydro","Asset finance investments",8.1120000000000001,"New Financial Investment","AF","AF8826","Ersa Cristina Small Hydro Plant","Brazil","Brazil","Central & South America","AMER","non-OECD","BASIC","Small hydro","Small Hydro","Run of River",0,"New build","Term loan","Debt",39903,3.5,0,0,0,7.8,7.8,8.1120000000000001]
[2009,1,"Q1","2009Q1","Argentina","Wind","Asset finance investments",6.24,"New Financial Investment","AF","AF7598","La Rioja Wind Farm Phase I","Argentina","Other AMER","Central & South America","AMER","non-OECD",null,"Wind","Wind","Onshore",0,"New build","Balance Sheet","Equity",39844,2.1,0,0,0,6,6,6.24]
[2009,3,"Q1","2009Q1","Peru","Small Hydro","Asset finance investments",5.9217599999999999,"New Financial Investment","AF","AF18686","Maja Energia Roncador Small Hydro Plant","Peru","Other AMER","Central & South America","AMER","non-OECD",null,"Small hydro","Small Hydro","Run of River",0,"New build","Balance Sheet","Equity",39903,3.9,0,0,0,0,5.694,5.9217599999999999]
[2009,3,"Q1","2009Q1","Mexico","Biomass & Waste","Asset finance investments",3.12,"New Financial Investment","AF","AF10734","Biogas Technology Tecamac Landfill Gas Plant","Mexico","Other AMER","Central & South America","AMER","OECD",null,"Biomass & Waste","Biomass & Waste","Electricity Generation (new)","Landfill gas power","New build","Balance Sheet","Equity",39893,1.95,0,0,0,3,3,3.12]
[2008,2,"Q1","2008Q1","Brazil","Small Hydro","Asset finance investments",164.8,"New Financial Investment","AF","AF3789","Enernova Santa Fe Small Hydro Plant","Brazil","Brazil","Central & South America","AMER","non-OECD","BASIC","Small hydro","Small Hydro","Run of River",0,"New build","Term loan","Debt",39479,29,0,0,0,160,160,164.8]
[2008,1,"Q1","2008Q1","Brazil","Biomass & Waste","Asset finance investments",114.536,"New Financial Investment","AF","AFLATAM_RP15109","Agrenco Alto Araguaia & Caarapo Biomass Plant","Brazil","Brazil","Central & South America","AMER","non-OECD","BASIC","Biomass & Waste","Biomass & Waste","Electricity Generation (new)",0,"New build","Balance Sheet","Equity",39449,55.6,0,0,0,0,111.2,114.536]
[2008,1,"Q1","2008Q1","Brazil","Biofuels","Asset finance investments",114.021,"New Financial Investment","AF","AFLATAM_RP19732","Senhora da Gloria Bioethanol Plant","Brazil","Brazil","Central & South America","AMER","non-OECD","BASIC","Biofuels","Biofuels","Gasoline/Petrol Substitute",0,"New build","Balance Sheet","Equity",39448,0,90,0,0,0,110.7,114.021]
[2008,1,"Q1","2008Q1","Brazil","Small Hydro","Asset finance investments",108.253,"New Financial Investment","AF","AF6207","Brascan Brazilian Small Hydro Portfolio","Brazil","Brazil","Central & South America","AMER","non-OECD","BASIC","Small hydro","Small Hydro","Run of River",0,"New build","Term loan","Debt",39449,61.5,0,0,0,105.1,105.1,108.253]
[2008,1,"Q1","2008Q1","Brazil","Biofuels","Asset finance investments",105.06,"New Financial Investment","AF","AF6622","GVO Usina Moncoes Ethanol Plant","Brazil","Brazil","Central & South America","AMER","non-OECD","BASIC","Biofuels","Biofuels","Gasoline/Petrol Substitute",0,"New build","Balance Sheet","Equity",39450,20,90,0,0,102,102,105.06]
[2008,1,"Q1","2008Q1","Panama","Small Hydro","Asset finance investments",94.76,"New Financial Investment","AF","AF9513","Consorcio Hidroelectrico Tabasara II Small Hydro Plant","Panama","Other AMER","Central & South America","AMER","non-OECD",null,"Small hydro","Small Hydro","Run of River",0,"New build","Balance Sheet","Equity",39457,36.799999999999997,0,0,0,0,92,94.76]
[2008,3,"Q1","2008Q1","Brazil","Biofuels","Asset finance investments",93.62700000000001,"New Financial Investment","AF","AF7680","Santa Cruz Ethanol and Biomass plant Expansion II","Brazil","Brazil","Central & South America","AMER","non-OECD","BASIC","Biofuels","Biofuels","Gasoline/Petrol Substitute","1-Gen fermentation","New build","Term loan","Debt",39510,65,0,0,0,90.9,90.9,93.62700000000001]
[2008,1,"Q1","2008Q1","Brazil","Biofuels","VC/PE investments",88.064999999999998,"New Financial Investment","VCPE","VCPE1908","Santelisa Vale SA","Brazil","Brazil","Central & South America","AMER","non-OECD","BASIC","Biofuels","Biofuels","Gasoline/Petrol Substitute","1-Gen fermentation","Fuel production/procurement","PE - Expansion capital","PE Expansion Capital",39455.636111111096,"na","na","na","na",85.5,85.5,88.064999999999998]
[2008,3,"Q1","2008Q1","Brazil","Biofuels","Asset finance investments",85.078000000000003,"New Financial Investment","AF","AF4763","Ferrari Sao Marino Pirassununga Ethanol and Power Plant Expansion","Brazil","Brazil","Central & South America","AMER","non-OECD","BASIC","Biofuels","Biofuels","Gasoline/Petrol Substitute","1-Gen fermentation","New build","Term loan","Debt",39511,41,50.5,0,0,82.6,82.6,85.078000000000003]
[2008,3,"Q1","2008Q1","Brazil","Small Hydro","Asset finance investments",78.382999999999996,"New Financial Investment","AF","AF7932","Porto Franco Small Hydro Plant","Brazil","Brazil","Central & South America","AMER","non-OECD","BASIC","Small hydro","Small Hydro","New Dam",0,"New build","Term loan","Debt",39521,30,0,0,0,76.099999999999994,76.099999999999994,78.382999999999996]
[2008,1,"Q1","2008Q1","Brazil","Biomass & Waste","Asset finance investments",77.867999999999995,"New Financial Investment","AF","AFLATAM_RP17850","Klabin Correia Pinto Biomass Plant","Brazil","Brazil","Central & South America","AMER","non-OECD","BASIC","Biomass & Waste","Biomass & Waste","Electricity Generation (new)",0,"New build","Balance Sheet","Equity",39474,37.799999999999997,0,0,0,0,75.599999999999994,77.867999999999995]
[2008,2,"Q1","2008Q1","Brazil","Biofuels","Asset finance investments",71.482000000000014,"New Financial Investment","AF","AF6623","GVO Jose Bonifacio Ethanol Plant Expansion","Brazil","Brazil","Central & South America","AMER","non-OECD","BASIC","Biofuels","Biofuels","Gasoline/Petrol Substitute","1-Gen fermentation","New build","Term loan","Debt",39486,0,120,0,0,69.400000000000006,69.400000000000006,71.482000000000014]
[2008,2,"Q1","2008Q1","Brazil","Biomass & Waste","Asset finance investments",65.92,"New Financial Investment","AF","AFLATAM_RP7559","INPA Pirapetinga City Biomass Heat Plant","Brazil","Brazil","Central & South America","AMER","non-OECD","BASIC","Biomass & Waste","Biomass & Waste","Heat",0,"New build","Balance Sheet","Equity",39479,32,0,0,0,0,64,65.92]
[2008,3,"Q1","2008Q1","Brazil","Wind","Asset finance investments",61.800000000000004,"New Financial Investment","AF","AF5564","Pedra do Sal Wind Farm","Brazil","Brazil","Central & South America","AMER","non-OECD","BASIC","Wind","Wind","Onshore",0,"New build","Construction loan","Debt",39538,18,0,0,0,60,60,61.800000000000004]
[2008,2,"Q1","2008Q1","Brazil","Biofuels","Asset finance investments",58.606999999999999,"New Financial Investment","AF","AF7691","Balbo Uberaba Ethanol and Biomass Plant","Brazil","Brazil","Central & South America","AMER","non-OECD","BASIC","Biofuels","Biofuels","Gasoline/Petrol Substitute","1-Gen fermentation","New build","Term loan","Debt",39490,12,0,0,0,56.9,56.9,58.606999999999999]
[2008,1,"Q1","2008Q1","Brazil","Small Hydro","Asset finance investments",54.796000000000006,"New Financial Investment","AF","AFLATAM_RP23109","Eletricidade Paraense Salto Tres de Maio Small Hydro Plant","Brazil","Brazil","Central & South America","AMER","non-OECD","BASIC","Small hydro","Small Hydro","Run of River",0,"New build","Balance Sheet","Equity",39461,20,0,0,0,53.2,53.2,54.796000000000006]
[2008,3,"Q1","2008Q1","Brazil","Biofuels","Asset finance investments",51.868739999999995,"New Financial Investment","AF","AF30946","Oleoplan Veranopolis Biodiesel Plant Expansion I","Brazil","Brazil","Central & South America","AMER","non-OECD","BASIC","Biofuels","Biofuels","Diesel Substitute","Transesterification","New build","Balance Sheet","Equity",39532,0,119.9,0,0,0,50.357999999999997,51.868739999999995]
[2008,3,"Q1","2008Q1","Brazil","Biofuels","Asset finance investments",44.805,"New Financial Investment","AF","AF7693","UAG Guaira Ethanol and Power Plant Power Plant Facility Expansion","Brazil","Brazil","Central & South America","AMER","non-OECD","BASIC","Biofuels","Biofuels","Gasoline/Petrol Substitute","1-Gen fermentation","New build","Term loan","Debt",39513,27,0,0,0,43.5,43.5,44.805]
[2008,2,"Q1","2008Q1","Brazil","Small Hydro","Asset finance investments",41.612000000000002,"New Financial Investment","AF","AF5927","Brascan Energetica Salto Jauru Small Hydro CDM Project","Brazil","Brazil","Central & South America","AMER","non-OECD","BASIC","Small hydro","Small Hydro","Run of River",0,"New build","Term loan","Debt",39496,19,0,0,0,40.4,40.4,41.612000000000002]
[2008,2,"Q1","2008Q1","Colombia","Biofuels","Asset finance investments",41.2,"New Financial Investment","AF","AF3382","Ecopetrol Barrancabermeja Biodiesel Plant","Colombia","Other AMER","Central & South America","AMER","non-OECD",null,"Biofuels","Biofuels","Diesel Substitute","Transesterification","New build","Balance Sheet","Equity",39504,0,119,0,0,40,40,41.2]
[2008,1,"Q1","2008Q1","Peru","Biofuels","Asset finance investments",25.75,"New Financial Investment","AF","AF5285","Lurin Biodiesel Plant","Peru","Other AMER","Central & South America","AMER","non-OECD",null,"Biofuels","Biofuels","Diesel Substitute",0,"New build","Balance Sheet","Equity",39449,0,133,0,0,25,25,25.75]
[2008,2,"Q1","2008Q1","Brazil","Biomass & Waste","Asset finance investments",25.338000000000001,"New Financial Investment","AF","AFLATAM_RP7560","Guarapuava Econergia Biomass Plant","Brazil","Brazil","Central & South America","AMER","non-OECD","BASIC","Biomass & Waste","Biomass & Waste","Electricity Generation (new)",0,"New build","Balance Sheet","Equity",39479,12.3,0,0,0,0,24.6,25.338000000000001]
[2008,1,"Q1","2008Q1","Chile","Small Hydro","Asset finance investments",18.128000000000004,"New Financial Investment","AF","AF6560","Colbun Chiburgo Small Hydro Plant CDM project","Chile","Other AMER","Central & South America","AMER","OECD",null,"Small hydro","Small Hydro","Run of River",0,"New build","Balance Sheet","Equity",39448,19.399999999999999,0,0,0,17.600000000000001,17.600000000000001,18.128000000000004]
[2008,2,"Q1","2008Q1","Brazil","Biofuels","Asset finance investments",16.48,"New Financial Investment","AF","AF8969","Caramuru Sao Simao Biodiesel Plant Expansion","Brazil","Brazil","Central & South America","AMER","non-OECD","BASIC","Biofuels","Biofuels","Diesel Substitute","Transesterification","New build","Balance Sheet","Equity",39507,0,90,0,0,16,16,16.48]
[2008,2,"Q1","2008Q1","Brazil","Biofuels","Asset finance investments",14.42,"New Financial Investment","AF","AF5297","Comanche Simoes Filho Biodiesel Plant Expansion","Brazil","Brazil","Central & South America","AMER","non-OECD","BASIC","Biofuels","Biofuels","Diesel Substitute","Transesterification","New build","Balance Sheet","Equity",39490,0,97.2,0,0,14,14,14.42]
[2008,3,"Q1","2008Q1","Brazil","Small Hydro","Asset finance investments",14.42,"New Financial Investment","AF","AFLATAM_RP12578","AES Tiete Sao Joaquim and Sao Jose Small Hydro Portfolio","Brazil","Brazil","Central & South America","AMER","non-OECD","BASIC","Small hydro","Small Hydro","Run of River",0,"New build","Balance Sheet","Equity",39508,7,0,0,0,0,14,14.42]
[2008,1,"Q1","2008Q1","Panama","Small Hydro","Asset finance investments",10.815,"New Financial Investment","AF","AF9521","Saltos del Francoli Los Planetas I Small Hydro Plant","Panama","Other AMER","Central & South America","AMER","non-OECD",null,"Small hydro","Small Hydro","Run of River",0,"New build","Balance Sheet","Equity",39455,4.2,0,0,0,0,10.5,10.815]
[2008,3,"Q1","2008Q1","Brazil","Wind","Asset finance investments",8.4047999999999998,"New Financial Investment","AF","AFLATAM_RP29265","Pacific Hydro Atlantica Wind Farm","Brazil","Brazil","Central & South America","AMER","non-OECD","BASIC","Wind","Wind","Onshore",0,"New build","Balance Sheet","Equity",39538,4.8,0,0,0,0,8.16,8.4047999999999998]
[2008,3,"Q1","2008Q1","Brazil","Wind","Asset finance investments",8.4047999999999998,"New Financial Investment","AF","AFLATAM_RP29258","Pacific Hydro Camurim Wind Farm","Brazil","Brazil","Central & South America","AMER","non-OECD","BASIC","Wind","Wind","Onshore",0,"New build","Balance Sheet","Equity",39538,4.8,0,0,0,0,8.16,8.4047999999999998]
[2008,3,"Q1","2008Q1","Brazil","Wind","Asset finance investments",8.4047999999999998,"New Financial Investment","AF","AFLATAM_RP29264","Pacific Hydro Caravela Wind Farm","Brazil","Brazil","Central & South America","AMER","non-OECD","BASIC","Wind","Wind","Onshore",0,"New build","Balance Sheet","Equity",39538,4.8,0,0,0,0,8.16,8.4047999999999998]
[2008,3,"Q1","2008Q1","Brazil","Wind","Asset finance investments",8.4047999999999998,"New Financial Investment","AF","AFLATAM_RP29263","Pacific Hydro Coelhos I Wind Farm","Brazil","Brazil","Central & South America","AMER","non-OECD","BASIC","Wind","Wind","Onshore",0,"New build","Balance Sheet","Equity",39538,4.8,0,0,0,0,8.16,8.4047999999999998]
[2008,3,"Q1","2008Q1","Brazil","Wind","Asset finance investments",8.4047999999999998,"New Financial Investment","AF","AFLATAM_RP29259","Pacific Hydro Coelhos II Wind Farm","Brazil","Brazil","Central & South America","AMER","non-OECD","BASIC","Wind","Wind","Onshore",0,"New build","Balance Sheet","Equity",39538,4.8,0,0,0,0,8.16,8.4047999999999998]
[2008,3,"Q1","2008Q1","Brazil","Wind","Asset finance investments",8.4047999999999998,"New Financial Investment","AF","AFLATAM_RP29262","Pacific Hydro Coelhos III Wind Farm","Brazil","Brazil","Central & South America","AMER","non-OECD","BASIC","Wind","Wind","Onshore",0,"New build","Balance Sheet","Equity",39538,4.8,0,0,0,0,8.16,8.4047999999999998]
[2008,3,"Q1","2008Q1","Brazil","Wind","Asset finance investments",8.4047999999999998,"New Financial Investment","AF","AFLATAM_RP29261","Pacific Hydro Coelhos IV Wind Farm","Brazil","Brazil","Central & South America","AMER","non-OECD","BASIC","Wind","Wind","Onshore",0,"New build","Balance Sheet","Equity",39538,4.8,0,0,0,0,8.16,8.4047999999999998]
[2008,3,"Q1","2008Q1","Brazil","Wind","Asset finance investments",8.4047999999999998,"New Financial Investment","AF","AFLATAM_RP29260","Pacific Hydro Mataraca Wind Farm","Brazil","Brazil","Central & South America","AMER","non-OECD","BASIC","Wind","Wind","Onshore",0,"New build","Balance Sheet","Equity",39538,4.8,0,0,0,0,8.16,8.4047999999999998]
[2008,3,"Q1","2008Q1","Brazil","Wind","Asset finance investments",8.4047999999999998,"New Financial Investment","AF","AFLATAM_RP29257","Pacific Hydro Presidente Wind Farm","Brazil","Brazil","Central & South America","AMER","non-OECD","BASIC","Wind","Wind","Onshore",0,"New build","Balance Sheet","Equity",39538,4.8,0,0,0,0,8.16,8.4047999999999998]
[2008,1,"Q1","2008Q1","Brazil","Biofuels","Asset finance investments",5.665,"New Financial Investment","AF","AF11758","BioPetro Araraquara Biodiesel Plant","Brazil","Brazil","Central & South America","AMER","non-OECD","BASIC","Biofuels","Biofuels","Diesel Substitute","Transesterification","New build","Balance Sheet","Equity",39478,0,70,0,0,5.5,5.5,5.665]
[2008,2,"Q1","2008Q1","Brazil","Biofuels","Asset finance investments",5.4507599999999998,"New Financial Investment","AF","AF6867","DVH Tailandia Biodiesel Plant","Brazil","Brazil","Central & South America","AMER","non-OECD","BASIC","Biofuels","Biofuels","Diesel Substitute",0,"New build","Balance Sheet","Equity",39500,0,12.6,0,0,0,5.2919999999999998,5.4507599999999998]
[2008,2,"Q1","2008Q1","Brazil","Biofuels","Asset finance investments",5.2344600000000003,"New Financial Investment","AF","AF31004","SPBIO Sumare Biodiesel Plant","Brazil","Brazil","Central & South America","AMER","non-OECD","BASIC","Biofuels","Biofuels","Diesel Substitute","Transesterification","New build","Balance Sheet","Equity",39482,0,12.1,0,0,0,5.0819999999999999,5.2344600000000003]
[2008,1,"Q1","2008Q1","Honduras","Biomass & Waste","Asset finance investments",3.7080000000000002,"New Financial Investment","AF","AFLATAM_RP12847","Lean Exportadora del Atlantico Biogas Plant","Honduras","Other AMER","Central & South America","AMER","non-OECD",null,"Biomass & Waste","Biomass & Waste","Electricity Generation (new)",0,"New build","Balance Sheet","Equity",39449,1.5,0,0,0,3.6,3.6,3.7080000000000002]
[2008,3,"Q1","2008Q1","Chile","Biomass & Waste","Asset finance investments",3.09,"New Financial Investment","AF","AF32418","Concepcion Biomass Plant Expansion I","Chile","Other AMER","Central & South America","AMER","OECD",null,"Biomass & Waste","Biomass & Waste","Combined Heat & Power (CHP)","Incineration","New build","Balance Sheet","Equity",39519,2.8,0,0,0,3,3,3.09]
[{"$f":"IF(K1221=\"\",\"\",IF(AND(YEAR(Z1221)<2004,YEAR(Z1221)>1910),2004,YEAR(Z1221)))","v":2008},{"$f":"IF(K1221=\"\",\"\",IF(ISNUMBER(Z1221),MONTH(Z1221),0))","v":1},{"$f":"IF(K1221=\"\",\"\",IF(AND(B1221>=1,B1221<=3),\"Q1\",IF(AND(B1221>3,B1221<=6),\"Q2\",IF(AND(B1221>6,B1221<=9),\"Q3\",IF(AND(B1221>9,B1221<=12),\"Q4\",0)))))","v":"Q1"},{"$f":"IF(A1221<2006, \"< 2006\", A1221&C1221)","v":"2008Q1"},{"$f":"IF(K1221=\"\",\"\", M1221)","v":"Brazil"},"Biomass & Waste","Asset finance investments",{"$f":"IF(K1221=\"\",\"\",AG1221)","v":2.472},"New Financial Investment","AF","AFLATAM_RP7526","Urbano Sinop Biomass Plant","Brazil","Brazil","Central & South America","AMER","non-OECD","BASIC","Biomass & Waste","Biomass & Waste","Electricity Generation (new)",0,"New build","Balance Sheet","Equity",39448,1.2,0,0,0,0,2.4,2.472]
[2008,3,"Q1","2008Q1","Argentina","Biomass & Waste",{"$f":"IF(K1222=\"\",\"\",IF(OR(J1222=\"PM\",J1222=\"MA\"), \"Corporate finance investments\", IF(J1222=\"VCPE\", \"VC/PE investments\", IF(J1222=\"AF\", \"Asset finance investments\"))))","v":"Asset finance investments"},1.4419999999999999,"New Financial Investment","AF","AFLATAM_RP15105","Molinos Juan Semino Carcarana CDM Biogas Project","Argentina","Other AMER","Central & South America","AMER","non-OECD",null,"Biomass & Waste","Biomass & Waste","Electricity Generation (new)",0,"New build","Balance Sheet","Equity",39535,22.66,0,0,0,0,1.4,1.4419999999999999]
[2007,3,"Q1","2007Q1","Brazil",{"$f":"IF(K1223=\"\",\"\",IF(OR(T1223=\"Wind\",T1223=\"Solar\",T1223=\"Geothermal\",T1223=\"Small Hydro\",T1223=\"Biofuels\",T1223=\"Biomass & Waste\"),T1223,\"Other Clean Energy\"))","v":"Biofuels"},"Asset finance investments",717.15,"New Financial Investment","AF","AF3230","CNAA Minas Gerais Bioethanol Portfolio","Brazil","Brazil","Central & South America","AMER","non-OECD","BASIC","Biofuels","Biofuels","Gasoline/Petrol Substitute","1-Gen fermentation","New build","Construction loan","Debt",39172,0,306,0,0,683,683,717.15]
[2007,3,"Q1","2007Q1","Brazil","Biofuels","Asset finance investments",358.57499999999999,"New Financial Investment","AF","AF7878","CNAA Itumbiara Bioethanol Plant","Brazil","Brazil","Central & South America","AMER","non-OECD","BASIC","Biofuels","Biofuels","Gasoline/Petrol Substitute","1-Gen fermentation","New build","Construction loan","Debt",39172,0,153,0,0,341.5,341.5,358.57499999999999]
[2007,1,"Q1","2007Q1","Brazil","Biofuels","VC/PE investments",252,"New Financial Investment","VCPE","VCPE5542","Cia Nacional de Acucar e Alcool SA","Brazil","Brazil","Central & South America","AMER","non-OECD","BASIC","Biofuels","Biofuels","Gasoline/Petrol Substitute","1-Gen fermentation","Fuel production/procurement","PE - Expansion capital","PE Expansion Capital",39083,"na","na","na","na",240,240,252]
[2007,1,"Q1","2007Q1","Brazil","Biofuels","Asset finance investments",231.61949999999999,"New Financial Investment","AF","AF6238","Tavares de Melo Usina Esmeralda Ethanol Plant","Brazil","Brazil","Central & South America","AMER","non-OECD","BASIC","Biofuels","Biofuels","Gasoline/Petrol Substitute","1-Gen fermentation","New build","Balance Sheet","Equity",39084,0,387,0,0,0,220.58999999999997,231.61949999999999]
[2007,3,"Q1","2007Q1","Brazil","Biofuels","VC/PE investments",210,"New Financial Investment","VCPE","VCPE1421","Brazilian Renewable Energy Co Ltd","Brazil","Brazil","Central & South America","AMER","non-OECD","BASIC","Biofuels","Biofuels","Gasoline/Petrol Substitute","1-Gen fermentation","Developer","PE - Expansion capital","PE Expansion Capital",39155.690972222197,"na","na","na","na",200,200,210]
[2007,3,"Q1","2007Q1","Brazil","Biofuels","Asset finance investments",181.23,"New Financial Investment","AF","AF3741","Boa Vista Bioethanol and Power Plant","Brazil","Brazil","Central & South America","AMER","non-OECD","BASIC","Biofuels","Biofuels","Gasoline/Petrol Substitute","1-Gen fermentation","New build","Term loan","Debt",39167.479166666701,40,212,0,0,172.6,172.6,181.23]
[2007,1,"Q1","2007Q1","Mexico","Wind","Asset finance investments",168,"New Financial Investment","AF","AF15005","Fuerza Eolica del Istmo Espinal Wind Farm","Mexico","Other AMER","Central & South America","AMER","OECD",null,"Wind","Wind","Onshore",0,"New build","Balance Sheet","Equity",39092,80,0,0,0,160,160,168]
[2007,3,"Q1","2007Q1","Brazil","Biofuels","VC/PE investments",136.5,"New Financial Investment","VCPE","VCPE1436","Usaciga Acucar Alcool e Energia Electrica Ltda","Brazil","Brazil","Central & South America","AMER","non-OECD","BASIC","Biofuels","Biofuels","Gasoline/Petrol Substitute","1-Gen fermentation","Fuel production/procurement","PE - Expansion capital","PE Expansion Capital",39168.730555555601,"na","na","na","na",130,130,136.5]
[2007,1,"Q1","2007Q1","Brazil","Biofuels","Asset finance investments",129.41249999999999,"New Financial Investment","AF","AFLATAM_RP19812","Cereale Dois Corregos Ethanol Plant","Brazil","Brazil","Central & South America","AMER","non-OECD","BASIC","Biofuels","Biofuels","Gasoline/Petrol Substitute",0,"New build","Balance Sheet","Equity",39083,0,0,0,0,0,123.25,129.41249999999999]
[2007,3,"Q1","2007Q1","Brazil","Biomass & Waste","Asset finance investments",103.63500000000001,"New Financial Investment","AF","AF29200","Coruripe Campo Florido Power Plant Expansion","Brazil","Brazil","Central & South America","AMER","non-OECD","BASIC","Biomass & Waste","Biomass & Waste","Electricity Generation (new)","Incineration","New build","Balance Sheet","Equity",39172,30,0,0,0,0,98.7,103.63500000000001]
[2007,2,"Q1","2007Q1","Brazil","Biofuels","Corporate finance investments",101.955,"New Financial Investment","PM","PM951","Sao Martinho SA","Brazil","Brazil","Central & South America","AMER","non-OECD","BASIC","Biofuels","Biofuels",0,0,"Brazil","IPO","IPO",39125,"São Paulo (BOVESPA)",103.8,200.9,0,97.1,97.1,101.955]
[2007,1,"Q1","2007Q1","Brazil","Small Hydro","Asset finance investments",82.11,"New Financial Investment","AF","AF6406","Paranatinga II Small Hydro Plant","Brazil","Brazil","Central & South America","AMER","non-OECD","BASIC","Small hydro","Small Hydro","New Dam",0,"New build","Term loan","Debt",39083,29.02,0,0,0,78.2,78.2,82.11]
[2007,3,"Q1","2007Q1","Brazil","Small Hydro","Asset finance investments",73.237499999999997,"New Financial Investment","AF","AFLATAM_RP24049","Cachoeirao Manhuacu Small Hydro Plant","Brazil","Brazil","Central & South America","AMER","non-OECD","BASIC","Small hydro","Small Hydro","New Dam",0,"New build","Balance Sheet","Equity",39150,27.9,0,0,0,69.75,69.75,73.237499999999997]
[2007,1,"Q1","2007Q1","Argentina","Biofuels","Asset finance investments",63.018900000000002,"New Financial Investment","AF","AF7108","EnDriven Puerto San Martin Biodiesel Plant","Argentina","Other AMER","Central & South America","AMER","non-OECD",null,"Biofuels","Biofuels","Diesel Substitute","Transesterification","New build","Balance Sheet","Equity",39112,0,142.9,0,0,0,60.018000000000001,63.018900000000002]
[2007,2,"Q1","2007Q1","Brazil","Small Hydro","Asset finance investments",62.265000000000001,"New Financial Investment","AF","AF6958","Brennand Pampeana Small Hydro Plant","Brazil","Brazil","Central & South America","AMER","non-OECD","BASIC","Small hydro","Small Hydro","New Dam",0,"New build","Term loan","Debt",39114,28,0,0,0,59.3,59.3,62.265000000000001]
[2007,3,"Q1","2007Q1","Belize","Biomass & Waste","Asset finance investments",56.28,"New Financial Investment","AF","AF12745","Belize Sugar Industries Tower Hill Biomass Plant","Belize","Other AMER","Central & South America","AMER","non-OECD",null,"Biomass & Waste","Biomass & Waste","Electricity Generation (new)","Incineration","New build","Term loan","Debt",39171,0,0,0,0,53.6,53.6,56.28]
[2007,3,"Q1","2007Q1","Brazil","Small Hydro","Asset finance investments",54.883500000000005,"New Financial Investment","AF","AF6169","Alto Sucuriu Small Hydro Plant","Brazil","Brazil","Central & South America","AMER","non-OECD","BASIC","Small hydro","Small Hydro","New Dam",0,"New build","Term loan","Debt",39148,29,0,0,0,52.27,52.27,54.883500000000005]
[2007,3,"Q1","2007Q1","Brazil","Small Hydro","Asset finance investments",52.185000000000002,"New Financial Investment","AF","AF6624","Santa Maria Cachoeirao Small Hydro Plant","Brazil","Brazil","Central & South America","AMER","non-OECD","BASIC","Small hydro","Small Hydro","New Dam",0,"New build","Term loan","Debt",39154,27.9,0,0,0,49.7,49.7,52.185000000000002]
[2007,1,"Q1","2007Q1","Brazil","Small Hydro","Asset finance investments",50.295000000000002,"New Financial Investment","AF","AF3182","Areia Branca Small Hydro Plant","Brazil","Brazil","Central & South America","AMER","non-OECD","BASIC","Small hydro","Small Hydro","Run of River",0,"New build","Term loan","Debt",39113,19.8,0,0,0,47.9,47.9,50.295000000000002]
[2007,3,"Q1","2007Q1","Brazil","Wind","Asset finance investments",47.25,"New Financial Investment","AF","AF8012","Rosa dos Ventos Wind Farms","Brazil","Brazil","Central & South America","AMER","non-OECD","BASIC","Wind","Wind","Onshore",0,"New build","Balance Sheet","Equity",39161.617361111101,14.7,0,0,0,45,45,47.25]
[2007,1,"Q1","2007Q1","Argentina","Biofuels","Asset finance investments",42,"New Financial Investment","AF","AF7107","Unitec Bio San Martin Biodiesel Plant","Argentina","Other AMER","Central & South America","AMER","non-OECD",null,"Biofuels","Biofuels","Diesel Substitute","Transesterification","New build","Balance Sheet","Equity",39113,0,273.8,0,0,40,40,42]
[2007,1,"Q1","2007Q1","Brazil","Biofuels","Asset finance investments",31.5,"New Financial Investment","AF","AF3151","ADM Rondonopolis Biodiesel Plant","Brazil","Brazil","Central & South America","AMER","non-OECD","BASIC","Biofuels","Biofuels","Diesel Substitute","Transesterification","New build","Balance Sheet","Equity",39083,0,245.5,0,0,0,30,31.5]
[2007,1,"Q1","2007Q1","Chile","Wind","Asset finance investments",30.87,"New Financial Investment","AF","AF3550","ERBB Bahia de Concepcion Wind Farm","Chile","Other AMER","Central & South America","AMER","OECD",null,"Wind","Wind","Onshore",0,"New build","Balance Sheet","Equity",39094,20,0,0,0,0,29.4,30.87]
[2007,1,"Q1","2007Q1","Honduras","Small Hydro","Asset finance investments",24.412500000000001,"New Financial Investment","AF","AFLATAM_RP1200","Cortecito & San Carlos Small Hydro Portfolio","Honduras","Other AMER","Central & South America","AMER","non-OECD",null,"Small hydro","Small Hydro","Run of River",0,"New build","Balance Sheet","Equity",39083,9.3000000000000007,0,0,0,0,23.25,24.412500000000001]
[2007,1,"Q1","2007Q1","Peru","Small Hydro","Asset finance investments",16.9071,"New Financial Investment","AF","AF11072","Duke Carhuaquero IV Small Hydro Plant","Peru","Other AMER","Central & South America","AMER","non-OECD",null,"Small hydro","Small Hydro","Run of River",0,"New build","Balance Sheet","Equity",39094,9.6999999999999993,0,0,0,16.102,16.102,16.9071]
[2007,1,"Q1","2007Q1","Panama","Small Hydro","Asset finance investments",15.33,"New Financial Investment","AF","AF19686","Istmus Concepcion Small Hydro Plant","Panama","Other AMER","Central & South America","AMER","non-OECD",null,"Small hydro","Small Hydro","Run of River",0,"New build","Balance Sheet","Equity",39092,10,0,0,0,0,14.6,15.33]
[2007,1,"Q1","2007Q1","Ecuador","Wind","Asset finance investments",10.920000000000002,"New Financial Investment","AF","AF5331","San Cristobal Wind CDM Project","Ecuador","Other AMER","Central & South America","AMER","non-OECD",null,"Wind","Wind","Onshore",0,"New build","Balance Sheet","Equity",39083,2.4,0,0,0,10.4,10.4,10.920000000000002]
[2007,1,"Q1","2007Q1","Ecuador","Small Hydro","Asset finance investments",10.395000000000001,"New Financial Investment","AF","AFLATAM_RP8499","Hidrozamora Chorrillos Small Hydro Plant","Ecuador","Other AMER","Central & South America","AMER","non-OECD",null,"Small hydro","Small Hydro","Run of River",0,"New build","Balance Sheet","Equity",39083,3.96,0,0,0,0,9.9,10.395000000000001]
[2007,1,"Q1","2007Q1","Brazil","Biofuels","Asset finance investments",9.4500000000000011,"New Financial Investment","AF","AF6710","Biocamp Campo Verde Biodiesel Plant","Brazil","Brazil","Central & South America","AMER","non-OECD","BASIC","Biofuels","Biofuels","Diesel Substitute","Transesterification","New build","Balance Sheet","Equity",39097,0,55.4,0,0,9,9,9.4500000000000011]
[2007,2,"Q1","2007Q1","Brazil","Small Hydro","Asset finance investments",6.09,"New Financial Investment","AF","AFLATAM_RP18005","Rio Vermelho Small Hydro Plant","Brazil","Brazil","Central & South America","AMER","non-OECD","BASIC","Small hydro","Small Hydro","Run of River",0,"New build","Balance Sheet","Equity",39117,2.3199999999999998,0,0,0,0,5.8,6.09]
[2007,1,"Q1","2007Q1","Brazil","Biofuels","Asset finance investments",5.9850000000000003,"New Financial Investment","AF","AF9420","Petrobras Regap Biodiesel Hydrotreatment Plant","Brazil","Brazil","Central & South America","AMER","non-OECD","BASIC","Biofuels","Biofuels","Diesel Substitute","Hydrotreatment","New build","Balance Sheet","Equity",39113,0,85.3,0,0,5.7,5.7,5.9850000000000003]
[2007,1,"Q1","2007Q1","Brazil","Biofuels","Asset finance investments",5.9850000000000003,"New Financial Investment","AF","AF9421","Petrobras Replan Biodiesel Hydrotreatment Plant","Brazil","Brazil","Central & South America","AMER","non-OECD","BASIC","Biofuels","Biofuels","Diesel Substitute","Hydrotreatment","New build","Balance Sheet","Equity",39113,0,85.3,0,0,5.7,5.7,5.9850000000000003]
[2007,3,"Q1","2007Q1","Argentina","Biofuels","Asset finance investments",5.3361000000000001,"New Financial Investment","AF","AF17602","RBA Ambiental Ecopor Biodiesel Plant","Argentina","Other AMER","Central & South America","AMER","non-OECD",null,"Biofuels","Biofuels","Diesel Substitute","Transesterification","New build","Balance Sheet","Equity",39169,0,12.1,0,0,0,5.0819999999999999,5.3361000000000001]
[2007,2,"Q1","2007Q1","Brazil","Biofuels","Asset finance investments",4.7628000000000004,"New Financial Investment","AF","AF6857","Biocar Dourados Biodiesel Plant","Brazil","Brazil","Central & South America","AMER","non-OECD","BASIC","Biofuels","Biofuels","Diesel Substitute","Transesterification","New build","Balance Sheet","Equity",39114,0,10.8,0,0,0,4.5360000000000005,4.7628000000000004]
[2006,3,"Q1","2006Q1","Brazil","Wind","Asset finance investments",98.318578303571499,"New Financial Investment","AF","AF570","Rio do Fogo Wind Farm","Brazil","Brazil","Central & South America","AMER","non-OECD","BASIC","Wind","Wind","Onshore",0,"New build","Term loan","Debt",38805,49.3,0,0,0,98.1,98.1,98.318578303571499]
[2006,3,"Q1","2006Q1","Brazil","Biofuels","Asset finance investments",88.296297130934235,"New Financial Investment","AF","AF2804","Santa Terezinha Terra Rica Bioethanol and Power Plant","Brazil","Brazil","Central & South America","AMER","non-OECD","BASIC","Biofuels","Biofuels","Gasoline/Petrol Substitute","1-Gen fermentation","New build","Term loan","Debt",38778,16.5,90,0,0,88.1,88.1,88.296297130934235]
[2006,1,"Q1","2006Q1","Brazil","Biofuels","Asset finance investments",80.478917816277175,"New Financial Investment","AF","AF7381","Clarion Ibaiti Ethanol Plant","Brazil","Brazil","Central & South America","AMER","non-OECD","BASIC","Biofuels","Biofuels","Gasoline/Petrol Substitute","1-Gen fermentation","New build","Balance Sheet","Equity",38718,0,110,0,0,0,80.3,80.478917816277175]
[2006,1,"Q1","2006Q1","Brazil","Small Hydro","Asset finance investments",71.579132134975296,"New Financial Investment","AF","AF6065","Jatai Small Hydro Plant","Brazil","Brazil","Central & South America","AMER","non-OECD","BASIC","Small hydro","Small Hydro","Run of River",0,"New build","Term loan","Debt",38719,30,0,0,0,71.42,71.42,71.579132134975296]
[2006,1,"Q1","2006Q1","Brazil","Small Hydro","Asset finance investments",67.149283856669626,"New Financial Investment","AF","AF6066","Irara Small Hydro Plant","Brazil","Brazil","Central & South America","AMER","non-OECD","BASIC","Small hydro","Small Hydro","Run of River",0,"New build","Term loan","Debt",38719,30,0,0,0,67,67,67.149283856669626]
[2006,3,"Q1","2006Q1","Brazil","Biofuels","Asset finance investments",56.826334248853257,"New Financial Investment","AF","AF6280","Moema Itapagipe Bioethanol Plant","Brazil","Brazil","Central & South America","AMER","non-OECD","BASIC","Biofuels","Biofuels","Gasoline/Petrol Substitute","1-Gen fermentation","New build","Balance Sheet","Equity",38777,6,84.4,0,0,56.7,56.7,56.826334248853257]
[2006,3,"Q1","2006Q1","Guatemala","Geothermal","Asset finance investments",55.322992072957668,"New Financial Investment","AF","AF1579","Amatitlan Geothermal CDM Project","Guatemala","Other AMER","Central & South America","AMER","non-OECD",null,"Geothermal","Geothermal","Conventional","Single flash","New build","Balance Sheet","Equity",38791,25.2,0,0,0,55.2,55.2,55.322992072957668]
[2006,1,"Q1","2006Q1","Brazil","Small Hydro","Asset finance investments",51.113633980450018,"New Financial Investment","AF","AF6955","Ludesa Small Hydro Plant","Brazil","Brazil","Central & South America","AMER","non-OECD","BASIC","Small hydro","Small Hydro","New Dam",0,"New build","Term loan","Debt",38718,30,0,0,0,51,51,51.113633980450018]
[2006,2,"Q1","2006Q1","Brazil","Biofuels","Asset finance investments",48.407618063837951,"New Financial Investment","AF","AF3029","Colombo Palestina Ethanol and Power Plant","Brazil","Brazil","Central & South America","AMER","non-OECD","BASIC","Biofuels","Biofuels","Gasoline/Petrol Substitute","1-Gen fermentation","New build","Term loan","Debt",38768,11,200,0,0,48.3,48.3,48.407618063837951]
[2006,1,"Q1","2006Q1","Nicaragua","Small Hydro","Asset finance investments",37.082440338757856,"New Financial Investment","AF","AF8537","ENEL Larreynaga Small Hydro Plant","Nicaragua","Other AMER","Central & South America","AMER","non-OECD",null,"Small hydro","Small Hydro","Run of River",0,"New build","Balance Sheet","Equity",38718,17,0,0,0,37,37,37.082440338757856]
[2006,3,"Q1","2006Q1","Brazil","Biofuels","Asset finance investments",36.481103468399617,"New Financial Investment","AF","AF7912","Usina Laguna Ethanol Plant","Brazil","Brazil","Central & South America","AMER","non-OECD","BASIC","Biofuels","Biofuels","Gasoline/Petrol Substitute","1-Gen fermentation","New build","Balance Sheet","Equity",38806,0,0,0,0,36.4,36.4,36.481103468399617]
[2006,3,"Q1","2006Q1","Brazil","Biofuels","Asset finance investments",33.775087551787564,"New Financial Investment","AF","AF6741","Granol Anapolis Biodiesel Plant","Brazil","Brazil","Central & South America","AMER","non-OECD","BASIC","Biofuels","Biofuels","Diesel Substitute","Transesterification","New build","Term loan","Debt",38807,0,72,0,0,33.700000000000003,33.700000000000003,33.775087551787564]
[2006,2,"Q1","2006Q1","Brazil","Small Hydro","Asset finance investments",33.674864740061189,"New Financial Investment","AF","AFLATAM_RP11452","Enernova Rio Bonito Small Hydro Plant","Brazil","Brazil","Central & South America","AMER","non-OECD","BASIC","Small hydro","Small Hydro","Run of River",0,"New build","Balance Sheet","Equity",38774.465277777803,16.8,0,0,0,0,33.6,33.674864740061189]
[2006,2,"Q1","2006Q1","Brazil","Small Hydro","Asset finance investments",32.071299752439224,"New Financial Investment","AF","AFLATAM_RP11444","Enernova Costa Rica Small Hydro Plant","Brazil","Brazil","Central & South America","AMER","non-OECD","BASIC","Small hydro","Small Hydro","Run of River",0,"New build","Balance Sheet","Equity",38774.402083333298,16,0,0,0,0,32,32.071299752439224]
[2006,3,"Q1","2006Q1","Costa Rica","Small Hydro","Asset finance investments",25.055702931593146,"New Financial Investment","AF","AFLATAM_RP36045","Coopeguanacaste Canalete Small Hydro Plant","Costa Rica","Other AMER","Central & South America","AMER","non-OECD",null,"Small hydro","Small Hydro","Run of River",0,"New build","Balance Sheet","Equity",38807,17.5,0,0,0,25,25,25.055702931593146]
[2006,1,"Q1","2006Q1","Brazil","Small Hydro","Asset finance investments",20.946567650811868,"New Financial Investment","AF","AF6943","Brascan Ponte Alta Small Hydro Plant","Brazil","Brazil","Central & South America","AMER","non-OECD","BASIC","Small hydro","Small Hydro","New Dam",0,"New build","Term loan","Debt",38718,13,0,0,0,20.9,20.9,20.946567650811868]
[2006,2,"Q1","2006Q1","Brazil","Small Hydro","Asset finance investments",17.438769240388826,"New Financial Investment","AF","AFLATAM_RP11450","Enernova Fruteiras Small Hydro Plant","Brazil","Brazil","Central & South America","AMER","non-OECD","BASIC","Small hydro","Small Hydro","Run of River",0,"New build","Balance Sheet","Equity",38774.448611111096,8.6999999999999993,0,0,0,0,17.399999999999999,17.438769240388826]
[2006,3,"Q1","2006Q1","Brazil","Biofuels","Asset finance investments",10.022281172637259,"New Financial Investment","AF","AF6684","Oleoplan Veranopolis Biodiesel Plant","Brazil","Brazil","Central & South America","AMER","non-OECD","BASIC","Biofuels","Biofuels","Diesel Substitute","Transesterification","New build","Balance Sheet","Equity",38797,0,117.7,0,0,10,10,10.022281172637259]
[2006,2,"Q1","2006Q1","Brazil","Small Hydro","Asset finance investments",9.7015681751128664,"New Financial Investment","AF","AFLATAM_RP11449","Enernova Jucu Small Hydro Plant","Brazil","Brazil","Central & South America","AMER","non-OECD","BASIC","Small hydro","Small Hydro","Run of River",0,"New build","Balance Sheet","Equity",38774.438888888901,4.84,0,0,0,0,9.68,9.7015681751128664]
[2006,2,"Q1","2006Q1","Brazil","Small Hydro","Asset finance investments",9.0200530553735323,"New Financial Investment","AF","AFLATAM_RP11451","Enernova Vicosa Small Hydro Plant","Brazil","Brazil","Central & South America","AMER","non-OECD","BASIC","Small hydro","Small Hydro","Run of River",0,"New build","Balance Sheet","Equity",38774.459027777797,4.5,0,0,0,0,9,9.0200530553735323]
[2006,3,"Q1","2006Q1","Panama","Small Hydro","Asset finance investments",7.5167108794779436,"New Financial Investment","AF","AF9520","Paso Ancho Small Hydro Plant","Panama","Other AMER","Central & South America","AMER","non-OECD",null,"Small hydro","Small Hydro","Run of River",0,"New build","Balance Sheet","Equity",38807,5,0,0,0,7.5,7.5,7.5167108794779436]
[2006,2,"Q1","2006Q1","Peru","Small Hydro","Asset finance investments",7.4415437706831637,"New Financial Investment","AF","AFLATAM_RP18739","Langui Small Hydro Plant","Peru","Other AMER","Central & South America","AMER","non-OECD",null,"Small hydro","Small Hydro","Run of River",0,"New build","Balance Sheet","Equity",38752,3.3,0,0,0,0,7.4249999999999998,7.4415437706831637]
["","","","","","","",""]
["","","","","","","",""]
["","","","","","","",""]
["","","","","","","",""]
["","","","","","","",""]
["","","","","","","",""]
[{"$f":"IF(K1285=\"\",\"\",IF(AND(YEAR(Z1285)<2004,YEAR(Z1285)>1910),2004,YEAR(Z1285)))","v":""},{"$f":"IF(K1285=\"\",\"\",IF(ISNUMBER(Z1285),MONTH(Z1285),0))","v":""},{"$f":"IF(K1285=\"\",\"\",IF(AND(B1285>=1,B1285<=3),\"Q1\",IF(AND(B1285>3,B1285<=6),\"Q2\",IF(AND(B1285>6,B1285<=9),\"Q3\",IF(AND(B1285>9,B1285<=12),\"Q4\",0)))))","v":""},{"$f":"IF(A1285<2006, \"< 2006\", A1285&C1285)","v":""},{"$f":"IF(K1285=\"\",\"\", M1285)","v":""},"","",{"$f":"IF(K1285=\"\",\"\",AG1285)","v":""}]
["","","","","","",{"$f":"IF(K1286=\"\",\"\",IF(OR(J1286=\"PM\",J1286=\"MA\"), \"Corporate finance investments\", IF(J1286=\"VCPE\", \"VC/PE investments\", IF(J1286=\"AF\", \"Asset finance investments\"))))","v":""},""]
["","","","","",{"$f":"IF(K1287=\"\",\"\",IF(OR(T1287=\"Wind\",T1287=\"Solar\",T1287=\"Geothermal\",T1287=\"Small Hydro\",T1287=\"Biofuels\",T1287=\"Biomass & Waste\"),T1287,\"Other Clean Energy\"))","v":""},"",""]
["","","","","","","",""]
["","","","","","","",""]
["","","","","","","",""]
["","","","","","","",""]
["","","","","","","",""]
["","","","","","","",""]
["","","","","","","",""]
["","","","","","","",""]
["","","","","","","",""]
["","","","","","","",""]
["","","","","","","",""]
["","","","","","","",""]
["","","","","","","",""]
["","","","","","","",""]
["","","","","","","",""]
["","","","","","","",""]
[" "," "," "," "," ","Other Clean Energy"," "," "," "," "," "," "," "," "," "," "," "," "," "," "," "," "," "," "," "," "," "," "," "," "," "," "," "]

{"sheet":"ChartData","index":5,"n_rows":112,"n_cols":11,"rows_kept":112,"cut":false,"hidden":true,"merged":[]}
["CHART DATA"]
[]
[]
["Workbook status","WBLocked"]
["Weight Scenario (Dashboard)",{"$f":"str_WeightScenario","v":"Defaults"}]
[]
["Capacity, Generation & Investment Chart Data"]
["Capacity (MW)",2006,2007,2008,2009,2010,2011,2012]
["Biomass & Waste",{"$f":"B$17*SUMIFS(Levelisation!F$7:F$344, Levelisation!$E$7:$E$344, str_Country, Levelisation!$C$7:$C$344, $A9)","v":2909.4400000000005},{"$f":"C$17*SUMIFS(Levelisation!G$7:G$344, Levelisation!$E$7:$E$344, str_Country, Levelisation!$C$7:$C$344, $A9)","v":3636.8},{"$f":"D$17*SUMIFS(Levelisation!H$7:H$344, Levelisation!$E$7:$E$344, str_Country, Levelisation!$C$7:$C$344, $A9)","v":4546},{"$f":"E$17*SUMIFS(Levelisation!I$7:I$344, Levelisation!$E$7:$E$344, str_Country, Levelisation!$C$7:$C$344, $A9)","v":5439},{"$f":"F$17*SUMIFS(Levelisation!J$7:J$344, Levelisation!$E$7:$E$344, str_Country, Levelisation!$C$7:$C$344, $A9)","v":6703},{"$f":"G$17*SUMIFS(Levelisation!K$7:K$344, Levelisation!$E$7:$E$344, str_Country, Levelisation!$C$7:$C$344, $A9)","v":8622},{"$f":"H$17*SUMIFS(Levelisation!L$7:L$344, Levelisation!$E$7:$E$344, str_Country, Levelisation!$C$7:$C$344, $A9)","v":9815.9}]
["Geothermal",{"$f":"B$17*SUMIFS(Levelisation!F$7:F$344, Levelisation!$E$7:$E$344, str_Country, Levelisation!$C$7:$C$344, $A10)","v":0},{"$f":"C$17*SUMIFS(Levelisation!G$7:G$344, Levelisation!$E$7:$E$344, str_Country, Levelisation!$C$7:$C$344, $A10)","v":0},{"$f":"D$17*SUMIFS(Levelisation!H$7:H$344, Levelisation!$E$7:$E$344, str_Country, Levelisation!$C$7:$C$344, $A10)","v":0},{"$f":"E$17*SUMIFS(Levelisation!I$7:I$344, Levelisation!$E$7:$E$344, str_Country, Levelisation!$C$7:$C$344, $A10)","v":0},{"$f":"F$17*SUMIFS(Levelisation!J$7:J$344, Levelisation!$E$7:$E$344, str_Country, Levelisation!$C$7:$C$344, $A10)","v":0},{"$f":"G$17*SUMIFS(Levelisation!K$7:K$344, Levelisation!$E$7:$E$344, str_Country, Levelisation!$C$7:$C$344, $A10)","v":0},{"$f":"H$17*SUMIFS(Levelisation!L$7:L$344, Levelisation!$E$7:$E$344, str_Country, Levelisation!$C$7:$C$344, $A10)","v":0}]
["Other",{"$f":"B$17*SUMIFS(Levelisation!F$7:F$344, Levelisation!$E$7:$E$344, str_Country, Levelisation!$C$7:$C$344, $A11)","v":0},{"$f":"C$17*SUMIFS(Levelisation!G$7:G$344, Levelisation!$E$7:$E$344, str_Country, Levelisation!$C$7:$C$344, $A11)","v":0},{"$f":"D$17*SUMIFS(Levelisation!H$7:H$344, Levelisation!$E$7:$E$344, str_Country, Levelisation!$C$7:$C$344, $A11)","v":0},{"$f":"E$17*SUMIFS(Levelisation!I$7:I$344, Levelisation!$E$7:$E$344, str_Country, Levelisation!$C$7:$C$344, $A11)","v":0},{"$f":"F$17*SUMIFS(Levelisation!J$7:J$344, Levelisation!$E$7:$E$344, str_Country, Levelisation!$C$7:$C$344, $A11)","v":0},{"$f":"G$17*SUMIFS(Levelisation!K$7:K$344, Levelisation!$E$7:$E$344, str_Country, Levelisation!$C$7:$C$344, $A11)","v":0},{"$f":"H$17*SUMIFS(Levelisation!L$7:L$344, Levelisation!$E$7:$E$344, str_Country, Levelisation!$C$7:$C$344, $A11)","v":0}]
["Small Hydro",{"$f":"B$17*SUMIFS(Levelisation!F$7:F$344, Levelisation!$E$7:$E$344, str_Country, Levelisation!$C$7:$C$344, $A12)","v":1673},{"$f":"C$17*SUMIFS(Levelisation!G$7:G$344, Levelisation!$E$7:$E$344, str_Country, Levelisation!$C$7:$C$344, $A12)","v":1932},{"$f":"D$17*SUMIFS(Levelisation!H$7:H$344, Levelisation!$E$7:$E$344, str_Country, Levelisation!$C$7:$C$344, $A12)","v":2644},{"$f":"E$17*SUMIFS(Levelisation!I$7:I$344, Levelisation!$E$7:$E$344, str_Country, Levelisation!$C$7:$C$344, $A12)","v":3126},{"$f":"F$17*SUMIFS(Levelisation!J$7:J$344, Levelisation!$E$7:$E$344, str_Country, Levelisation!$C$7:$C$344, $A12)","v":3613},{"$f":"G$17*SUMIFS(Levelisation!K$7:K$344, Levelisation!$E$7:$E$344, str_Country, Levelisation!$C$7:$C$344, $A12)","v":3989},{"$f":"H$17*SUMIFS(Levelisation!L$7:L$344, Levelisation!$E$7:$E$344, str_Country, Levelisation!$C$7:$C$344, $A12)","v":4247.8}]
["Solar",{"$f":"B$17*SUMIFS(Levelisation!F$7:F$344, Levelisation!$E$7:$E$344, str_Country, Levelisation!$C$7:$C$344, $A13)","v":0},{"$f":"C$17*SUMIFS(Levelisation!G$7:G$344, Levelisation!$E$7:$E$344, str_Country, Levelisation!$C$7:$C$344, $A13)","v":0},{"$f":"D$17*SUMIFS(Levelisation!H$7:H$344, Levelisation!$E$7:$E$344, str_Country, Levelisation!$C$7:$C$344, $A13)","v":0},{"$f":"E$17*SUMIFS(Levelisation!I$7:I$344, Levelisation!$E$7:$E$344, str_Country, Levelisation!$C$7:$C$344, $A13)","v":0},{"$f":"F$17*SUMIFS(Levelisation!J$7:J$344, Levelisation!$E$7:$E$344, str_Country, Levelisation!$C$7:$C$344, $A13)","v":1},{"$f":"G$17*SUMIFS(Levelisation!K$7:K$344, Levelisation!$E$7:$E$344, str_Country, Levelisation!$C$7:$C$344, $A13)","v":1.1000000000000001},{"$f":"H$17*SUMIFS(Levelisation!L$7:L$344, Levelisation!$E$7:$E$344, str_Country, Levelisation!$C$7:$C$344, $A13)","v":1.5}]
["Wind",{"$f":"B$17*SUMIFS(Levelisation!F$7:F$344, Levelisation!$E$7:$E$344, str_Country, Levelisation!$C$7:$C$344, $A14)","v":237},{"$f":"C$17*SUMIFS(Levelisation!G$7:G$344, Levelisation!$E$7:$E$344, str_Country, Levelisation!$C$7:$C$344, $A14)","v":247},{"$f":"D$17*SUMIFS(Levelisation!H$7:H$344, Levelisation!$E$7:$E$344, str_Country, Levelisation!$C$7:$C$344, $A14)","v":398},{"$f":"E$17*SUMIFS(Levelisation!I$7:I$344, Levelisation!$E$7:$E$344, str_Country, Levelisation!$C$7:$C$344, $A14)","v":602},{"$f":"F$17*SUMIFS(Levelisation!J$7:J$344, Levelisation!$E$7:$E$344, str_Country, Levelisation!$C$7:$C$344, $A14)","v":927},{"$f":"G$17*SUMIFS(Levelisation!K$7:K$344, Levelisation!$E$7:$E$344, str_Country, Levelisation!$C$7:$C$344, $A14)","v":1250},{"$f":"H$17*SUMIFS(Levelisation!L$7:L$344, Levelisation!$E$7:$E$344, str_Country, Levelisation!$C$7:$C$344, $A14)","v":1815.7}]
["Other Energy",{"$f":"B$17*(SUMIFS(Levelisation!F$7:F$344, Levelisation!$E$7:$E$344, str_Country, Levelisation!$C$7:$C$344, $A16)-SUM(B9:B14))","v":91474.559999999998},{"$f":"C$17*(SUMIFS(Levelisation!G$7:G$344, Levelisation!$E$7:$E$344, str_Country, Levelisation!$C$7:$C$344, $A16)-SUM(C9:C14))","v":94536.200000000012},{"$f":"D$17*(SUMIFS(Levelisation!H$7:H$344, Levelisation!$E$7:$E$344, str_Country, Levelisation!$C$7:$C$344, $A16)-SUM(D9:D14))","v":95360.999999999985},{"$f":"E$17*(SUMIFS(Levelisation!I$7:I$344, Levelisation!$E$7:$E$344, str_Country, Levelisation!$C$7:$C$344, $A16)-SUM(E9:E14))","v":96696},{"$f":"F$17*(SUMIFS(Levelisation!J$7:J$344, Levelisation!$E$7:$E$344, str_Country, Levelisation!$C$7:$C$344, $A16)-SUM(F9:F14))","v":102083},{"$f":"G$17*(SUMIFS(Levelisation!K$7:K$344, Levelisation!$E$7:$E$344, str_Country, Levelisation!$C$7:$C$344, $A16)-SUM(G9:G14))","v":102269},{"$f":"H$17*(SUMIFS(Levelisation!L$7:L$344, Levelisation!$E$7:$E$344, str_Country, Levelisation!$C$7:$C$344, $A16)-SUM(H9:H14))","v":107563.79999999999}]
["All Energy",{"$f":"SUMIFS(Levelisation!F$7:F$344, Levelisation!$E$7:$E$344, str_Country, Levelisation!$C$7:$C$344, $A16)","v":96294},{"$f":"SUMIFS(Levelisation!G$7:G$344, Levelisation!$E$7:$E$344, str_Country, Levelisation!$C$7:$C$344, $A16)","v":100352.00000000001},{"$f":"SUMIFS(Levelisation!H$7:H$344, Levelisation!$E$7:$E$344, str_Country, Levelisation!$C$7:$C$344, $A16)","v":102948.99999999999},{"$f":"SUMIFS(Levelisation!I$7:I$344, Levelisation!$E$7:$E$344, str_Country, Levelisation!$C$7:$C$344, $A16)","v":105863},{"$f":"SUMIFS(Levelisation!J$7:J$344, Levelisation!$E$7:$E$344, str_Country, Levelisation!$C$7:$C$344, $A16)","v":113327},{"$f":"SUMIFS(Levelisation!K$7:K$344, Levelisation!$E$7:$E$344, str_Country, Levelisation!$C$7:$C$344, $A16)","v":116131.1},{"$f":"SUMIFS(Levelisation!L$7:L$344, Levelisation!$E$7:$E$344, str_Country, Levelisation!$C$7:$C$344, $A16)","v":123444.7}]
["Show on chart?",{"$f":"IF(A16=B16, 0, 1)","v":1},1,{"$f":"IF(C16=D16, 0, 1)","v":1},{"$f":"IF(D16=E16, 0, 1)","v":1},{"$f":"IF(E16=F16, 0, 1)","v":1},{"$f":"IF(F16=G16, 0, 1)","v":1},{"$f":"IF(G16=H16, 0, 1)","v":1}]
["Generation (GWh)",2006,2007,2008,2009,2010,2011,2012]
["Biomass & Waste",{"$f":"B$27*SUMIFS(Levelisation!F$346:F$683, Levelisation!$E$346:$E$683, str_Country, Levelisation!$C$346:$C$683, $A19)","v":18687},{"$f":"C$27*SUMIFS(Levelisation!G$346:G$683, Levelisation!$E$346:$E$683, str_Country, Levelisation!$C$346:$C$683, $A19)","v":21675},{"$f":"D$27*SUMIFS(Levelisation!H$346:H$683, Levelisation!$E$346:$E$683, str_Country, Levelisation!$C$346:$C$683, $A19)","v":23339},{"$f":"E$27*SUMIFS(Levelisation!I$346:I$683, Levelisation!$E$346:$E$683, str_Country, Levelisation!$C$346:$C$683, $A19)","v":24447},{"$f":"F$27*SUMIFS(Levelisation!J$346:J$683, Levelisation!$E$346:$E$683, str_Country, Levelisation!$C$346:$C$683, $A19)","v":34880},{"$f":"G$27*SUMIFS(Levelisation!K$346:K$683, Levelisation!$E$346:$E$683, str_Country, Levelisation!$C$346:$C$683, $A19)","v":37223},{"$f":"H$27*SUMIFS(Levelisation!L$346:L$683, Levelisation!$E$346:$E$683, str_Country, Levelisation!$C$346:$C$683, $A19)","v":0}]
["Geothermal",{"$f":"B$27*SUMIFS(Levelisation!F$346:F$683, Levelisation!$E$346:$E$683, str_Country, Levelisation!$C$346:$C$683, $A20)","v":0},{"$f":"C$27*SUMIFS(Levelisation!G$346:G$683, Levelisation!$E$346:$E$683, str_Country, Levelisation!$C$346:$C$683, $A20)","v":0},{"$f":"D$27*SUMIFS(Levelisation!H$346:H$683, Levelisation!$E$346:$E$683, str_Country, Levelisation!$C$346:$C$683, $A20)","v":0},{"$f":"E$27*SUMIFS(Levelisation!I$346:I$683, Levelisation!$E$346:$E$683, str_Country, Levelisation!$C$346:$C$683, $A20)","v":0},{"$f":"F$27*SUMIFS(Levelisation!J$346:J$683, Levelisation!$E$346:$E$683, str_Country, Levelisation!$C$346:$C$683, $A20)","v":0},{"$f":"G$27*SUMIFS(Levelisation!K$346:K$683, Levelisation!$E$346:$E$683, str_Country, Levelisation!$C$346:$C$683, $A20)","v":0},{"$f":"H$27*SUMIFS(Levelisation!L$346:L$683, Levelisation!$E$346:$E$683, str_Country, Levelisation!$C$346:$C$683, $A20)","v":0}]
["Other",{"$f":"B$27*SUMIFS(Levelisation!F$346:F$683, Levelisation!$E$346:$E$683, str_Country, Levelisation!$C$346:$C$683, $A21)","v":0},{"$f":"C$27*SUMIFS(Levelisation!G$346:G$683, Levelisation!$E$346:$E$683, str_Country, Levelisation!$C$346:$C$683, $A21)","v":0},{"$f":"D$27*SUMIFS(Levelisation!H$346:H$683, Levelisation!$E$346:$E$683, str_Country, Levelisation!$C$346:$C$683, $A21)","v":0},{"$f":"E$27*SUMIFS(Levelisation!I$346:I$683, Levelisation!$E$346:$E$683, str_Country, Levelisation!$C$346:$C$683, $A21)","v":0},{"$f":"F$27*SUMIFS(Levelisation!J$346:J$683, Levelisation!$E$346:$E$683, str_Country, Levelisation!$C$346:$C$683, $A21)","v":0},{"$f":"G$27*SUMIFS(Levelisation!K$346:K$683, Levelisation!$E$346:$E$683, str_Country, Levelisation!$C$346:$C$683, $A21)","v":0},{"$f":"H$27*SUMIFS(Levelisation!L$346:L$683, Levelisation!$E$346:$E$683, str_Country, Levelisation!$C$346:$C$683, $A21)","v":0}]
["Small Hydro",{"$f":"B$27*SUMIFS(Levelisation!F$346:F$683, Levelisation!$E$346:$E$683, str_Country, Levelisation!$C$346:$C$683, $A22)","v":7327.74},{"$f":"C$27*SUMIFS(Levelisation!G$346:G$683, Levelisation!$E$346:$E$683, str_Country, Levelisation!$C$346:$C$683, $A22)","v":8462.16},{"$f":"D$27*SUMIFS(Levelisation!H$346:H$683, Levelisation!$E$346:$E$683, str_Country, Levelisation!$C$346:$C$683, $A22)","v":11580.72},{"$f":"E$27*SUMIFS(Levelisation!I$346:I$683, Levelisation!$E$346:$E$683, str_Country, Levelisation!$C$346:$C$683, $A22)","v":13691.88},{"$f":"F$27*SUMIFS(Levelisation!J$346:J$683, Levelisation!$E$346:$E$683, str_Country, Levelisation!$C$346:$C$683, $A22)","v":15824.94},{"$f":"G$27*SUMIFS(Levelisation!K$346:K$683, Levelisation!$E$346:$E$683, str_Country, Levelisation!$C$346:$C$683, $A22)","v":17471.82},{"$f":"H$27*SUMIFS(Levelisation!L$346:L$683, Levelisation!$E$346:$E$683, str_Country, Levelisation!$C$346:$C$683, $A22)","v":0}]
["Solar",{"$f":"B$27*SUMIFS(Levelisation!F$346:F$683, Levelisation!$E$346:$E$683, str_Country, Levelisation!$C$346:$C$683, $A23)","v":0},{"$f":"C$27*SUMIFS(Levelisation!G$346:G$683, Levelisation!$E$346:$E$683, str_Country, Levelisation!$C$346:$C$683, $A23)","v":0},{"$f":"D$27*SUMIFS(Levelisation!H$346:H$683, Levelisation!$E$346:$E$683, str_Country, Levelisation!$C$346:$C$683, $A23)","v":0},{"$f":"E$27*SUMIFS(Levelisation!I$346:I$683, Levelisation!$E$346:$E$683, str_Country, Levelisation!$C$346:$C$683, $A23)","v":0},{"$f":"F$27*SUMIFS(Levelisation!J$346:J$683, Levelisation!$E$346:$E$683, str_Country, Levelisation!$C$346:$C$683, $A23)","v":0},{"$f":"G$27*SUMIFS(Levelisation!K$346:K$683, Levelisation!$E$346:$E$683, str_Country, Levelisation!$C$346:$C$683, $A23)","v":0},{"$f":"H$27*SUMIFS(Levelisation!L$346:L$683, Levelisation!$E$346:$E$683, str_Country, Levelisation!$C$346:$C$683, $A23)","v":0}]
["Wind",{"$f":"B$27*SUMIFS(Levelisation!F$346:F$683, Levelisation!$E$346:$E$683, str_Country, Levelisation!$C$346:$C$683, $A24)","v":237},{"$f":"C$27*SUMIFS(Levelisation!G$346:G$683, Levelisation!$E$346:$E$683, str_Country, Levelisation!$C$346:$C$683, $A24)","v":559},{"$f":"D$27*SUMIFS(Levelisation!H$346:H$683, Levelisation!$E$346:$E$683, str_Country, Levelisation!$C$346:$C$683, $A24)","v":1183},{"$f":"E$27*SUMIFS(Levelisation!I$346:I$683, Levelisation!$E$346:$E$683, str_Country, Levelisation!$C$346:$C$683, $A24)","v":1446},{"$f":"F$27*SUMIFS(Levelisation!J$346:J$683, Levelisation!$E$346:$E$683, str_Country, Levelisation!$C$346:$C$683, $A24)","v":2248},{"$f":"G$27*SUMIFS(Levelisation!K$346:K$683, Levelisation!$E$346:$E$683, str_Country, Levelisation!$C$346:$C$683, $A24)","v":2705},{"$f":"H$27*SUMIFS(Levelisation!L$346:L$683, Levelisation!$E$346:$E$683, str_Country, Levelisation!$C$346:$C$683, $A24)","v":0}]
["Other Energy",{"$f":"B$27*(SUMIFS(Levelisation!F$346:F$683, Levelisation!$E$346:$E$683, str_Country, Levelisation!$C$346:$C$683, $A26)-SUM(B19:B24))","v":402068},{"$f":"C$27*(SUMIFS(Levelisation!G$346:G$683, Levelisation!$E$346:$E$683, str_Country, Levelisation!$C$346:$C$683, $A26)-SUM(C19:C24))","v":424222},{"$f":"D$27*(SUMIFS(Levelisation!H$346:H$683, Levelisation!$E$346:$E$683, str_Country, Levelisation!$C$346:$C$683, $A26)-SUM(D19:D24))","v":440408},{"$f":"E$27*(SUMIFS(Levelisation!I$346:I$683, Levelisation!$E$346:$E$683, str_Country, Levelisation!$C$346:$C$683, $A26)-SUM(E19:E24))","v":439017},{"$f":"F$27*(SUMIFS(Levelisation!J$346:J$683, Levelisation!$E$346:$E$683, str_Country, Levelisation!$C$346:$C$683, $A26)-SUM(F19:F24))","v":478607.99999999994},{"$f":"G$27*(SUMIFS(Levelisation!K$346:K$683, Levelisation!$E$346:$E$683, str_Country, Levelisation!$C$346:$C$683, $A26)-SUM(G19:G24))","v":491831.00000000006},{"$f":"H$27*(SUMIFS(Levelisation!L$346:L$683, Levelisation!$E$346:$E$683, str_Country, Levelisation!$C$346:$C$683, $A26)-SUM(H19:H24))","v":0}]
["All Energy",{"$f":"SUMIFS(Levelisation!F$346:F$683, Levelisation!$E$346:$E$683, str_Country, Levelisation!$C$346:$C$683, $A26)","v":428319.74},{"$f":"SUMIFS(Levelisation!G$346:G$683, Levelisation!$E$346:$E$683, str_Country, Levelisation!$C$346:$C$683, $A26)","v":454918.16},{"$f":"SUMIFS(Levelisation!H$346:H$683, Levelisation!$E$346:$E$683, str_Country, Levelisation!$C$346:$C$683, $A26)","v":476510.71999999997},{"$f":"SUMIFS(Levelisation!I$346:I$683, Levelisation!$E$346:$E$683, str_Country, Levelisation!$C$346:$C$683, $A26)","v":478601.88},{"$f":"SUMIFS(Levelisation!J$346:J$683, Levelisation!$E$346:$E$683, str_Country, Levelisation!$C$346:$C$683, $A26)","v":531560.93999999994},{"$f":"SUMIFS(Levelisation!K$346:K$683, Levelisation!$E$346:$E$683, str_Country, Levelisation!$C$346:$C$683, $A26)","v":549230.82000000007},{"$f":"SUMIFS(Levelisation!L$346:L$683, Levelisation!$E$346:$E$683, str_Country, Levelisation!$C$346:$C$683, $A26)","v":549230.82000000007}]
["Show on chart?",{"$f":"IF(A26=B26, 0, 1)","v":1},1,{"$f":"IF(C26=D26, 0, 1)","v":1},{"$f":"IF(D26=E26, 0, 1)","v":1},1,{"$f":"IF(F26=G26, 0, 1)","v":1},{"$f":"IF(G26=H26, 0, 1)","v":0}]
["Investments (USDm) - Cum.",2006,2007,2008,2009,2010,2011,2012]
["Biofuels",{"$f":"SUM($B39:B39)","v":2811.4729134164149},{"$f":"SUM($B39:C39)","v":11790.503772842683},{"$f":"SUM($B39:D39)","v":21712.572606652429},{"$f":"SUM($B39:E39)","v":29185.361365193145},{"$f":"SUM($B39:F39)","v":36666.316274522833},{"$f":"SUM($B39:G39)","v":40628.441554286575},{"$f":"SUM($B39:H39)","v":41364.043438202418}]
["Biomass & Waste",{"$f":"SUM($B40:B40)","v":508.96111191661589},{"$f":"SUM($B40:C40)","v":1053.5502265354171},{"$f":"SUM($B40:D40)","v":2922.1363527430212},{"$f":"SUM($B40:E40)","v":3769.0849535823345},{"$f":"SUM($B40:F40)","v":4754.9124397410287},{"$f":"SUM($B40:G40)","v":5440.2277919251101},{"$f":"SUM($B40:H40)","v":6170.0834967032097}]
["Geothermal",{"$f":"SUM($B41:B41)","v":0},{"$f":"SUM($B41:C41)","v":0},{"$f":"SUM($B41:D41)","v":0},{"$f":"SUM($B41:E41)","v":0},{"$f":"SUM($B41:F41)","v":0},{"$f":"SUM($B41:G41)","v":0},{"$f":"SUM($B41:H41)","v":0}]
["Small Hydro",{"$f":"SUM($B42:B42)","v":1521.6440249349203},{"$f":"SUM($B42:C42)","v":3754.8942144101165},{"$f":"SUM($B42:D42)","v":6194.4770260277037},{"$f":"SUM($B42:E42)","v":7498.362590740825},{"$f":"SUM($B42:F42)","v":8772.0259775076738},{"$f":"SUM($B42:G42)","v":10375.328939577541},{"$f":"SUM($B42:H42)","v":11500.052727018847}]
["Solar",{"$f":"SUM($B43:B43)","v":0},{"$f":"SUM($B43:C43)","v":0},{"$f":"SUM($B43:D43)","v":0},{"$f":"SUM($B43:E43)","v":0},{"$f":"SUM($B43:F43)","v":5.8354339941330524},{"$f":"SUM($B43:G43)","v":34.732896524300507},{"$f":"SUM($B43:H43)","v":90.168461116037605}]
["Wind",{"$f":"SUM($B44:B44)","v":167.09646364491337},{"$f":"SUM($B44:C44)","v":1236.2324642605165},{"$f":"SUM($B44:D44)","v":2259.2150415657093},{"$f":"SUM($B44:E44)","v":4399.4552989934637},{"$f":"SUM($B44:F44)","v":8203.151230547177},{"$f":"SUM($B44:G44)","v":16396.686113998003},{"$f":"SUM($B44:H44)","v":22937.484673358962}]
["Other Clean Energy",{"$f":"SUM($B45:B45)","v":8.4274459999999998},{"$f":"SUM($B45:C45)","v":8.4274459999999998},{"$f":"SUM($B45:D45)","v":113.7962712554733},{"$f":"SUM($B45:E45)","v":113.7962712554733},{"$f":"SUM($B45:F45)","v":127.44701863460598},{"$f":"SUM($B45:G45)","v":127.44701863460598},{"$f":"SUM($B45:H45)","v":148.90639286286338}]
["Small Scale Dist.",{"$f":"SUM($B46:B46)","v":0},{"$f":"SUM($B46:C46)","v":0},{"$f":"SUM($B46:D46)","v":0},{"$f":"SUM($B46:E46)","v":0},{"$f":"SUM($B46:F46)","v":0},{"$f":"SUM($B46:G46)","v":0.02},{"$f":"SUM($B46:H46)","v":0.04}]
["All Clean Energy",{"$f":"IF(SUM(A29:A36)=SUM(B29:B36), \"\", SUM(B29:B36))","v":5017.6019599128649},{"$f":"IF(SUM(B29:B36)=SUM(C29:C36), \"\", SUM(C29:C36))","v":17843.608124048733},{"$f":"IF(SUM(C29:C36)=SUM(D29:D36), \"\", SUM(D29:D36))","v":33202.19729824434},{"$f":"IF(SUM(D29:D36)=SUM(E29:E36), \"\", SUM(E29:E36))","v":44966.060479765249},{"$f":"IF(SUM(E29:E36)=SUM(F29:F36), \"\", SUM(F29:F36))","v":58529.688374947458},{"$f":"IF(SUM(F29:F36)=SUM(G29:G36), \"\", SUM(G29:G36))","v":73002.884314946132},{"$f":"IF(SUM(G29:G36)=SUM(H29:H36), \"\", SUM(H29:H36))","v":82210.779189262321}]
["Investments (USDm) - Annual",2006,2007,2008,2009,2010,2011,2012]
["Biofuels",{"$f":"SUMIFS(Investment!$H$6:$H$1303, Investment!$E$6:$E$1303, IF(str_Country=\"All\", \"<>0\", str_Country),  Investment!$F$6:$F$1303, $A39, Investment!$G$6:$G$1303, IF(str_OptionInvType=\"All\", \"<>0\", str_OptionInvType), Investment!$A$6:$A$1303, B$38)","v":2811.4729134164149},{"$f":"SUMIFS(Investment!$H$6:$H$1303, Investment!$E$6:$E$1303, IF(str_Country=\"All\", \"<>0\", str_Country),  Investment!$F$6:$F$1303, $A39, Investment!$G$6:$G$1303, IF(str_OptionInvType=\"All\", \"<>0\", str_OptionInvType), Investment!$A$6:$A$1303, C$38)","v":8979.0308594262679},{"$f":"SUMIFS(Investment!$H$6:$H$1303, Investment!$E$6:$E$1303, IF(str_Country=\"All\", \"<>0\", str_Country),  Investment!$F$6:$F$1303, $A39, Investment!$G$6:$G$1303, IF(str_OptionInvType=\"All\", \"<>0\", str_OptionInvType), Investment!$A$6:$A$1303, D$38)","v":9922.0688338097461},{"$f":"SUMIFS(Investment!$H$6:$H$1303, Investment!$E$6:$E$1303, IF(str_Country=\"All\", \"<>0\", str_Country),  Investment!$F$6:$F$1303, $A39, Investment!$G$6:$G$1303, IF(str_OptionInvType=\"All\", \"<>0\", str_OptionInvType), Investment!$A$6:$A$1303, E$38)","v":7472.7887585407152},{"$f":"SUMIFS(Investment!$H$6:$H$1303, Investment!$E$6:$E$1303, IF(str_Country=\"All\", \"<>0\", str_Country),  Investment!$F$6:$F$1303, $A39, Investment!$G$6:$G$1303, IF(str_OptionInvType=\"All\", \"<>0\", str_OptionInvType), Investment!$A$6:$A$1303, F$38)","v":7480.9549093296882},{"$f":"SUMIFS(Investment!$H$6:$H$1303, Investment!$E$6:$E$1303, IF(str_Country=\"All\", \"<>0\", str_Country),  Investment!$F$6:$F$1303, $A39, Investment!$G$6:$G$1303, IF(str_OptionInvType=\"All\", \"<>0\", str_OptionInvType), Investment!$A$6:$A$1303, G$38)","v":3962.1252797637444},{"$f":"SUMIFS(Investment!$H$6:$H$1303, Investment!$E$6:$E$1303, IF(str_Country=\"All\", \"<>0\", str_Country),  Investment!$F$6:$F$1303, $A39, Investment!$G$6:$G$1303, IF(str_OptionInvType=\"All\", \"<>0\", str_OptionInvType), Investment!$A$6:$A$1303, H$38)","v":735.60188391584143}]
["Biomass & Waste",{"$f":"SUMIFS(Investment!$H$6:$H$1303, Investment!$E$6:$E$1303, IF(str_Country=\"All\", \"<>0\", str_Country),  Investment!$F$6:$F$1303, $A40, Investment!$G$6:$G$1303, IF(str_OptionInvType=\"All\", \"<>0\", str_OptionInvType), Investment!$A$6:$A$1303, B$38)","v":508.96111191661589},{"$f":"SUMIFS(Investment!$H$6:$H$1303, Investment!$E$6:$E$1303, IF(str_Country=\"All\", \"<>0\", str_Country),  Investment!$F$6:$F$1303, $A40, Investment!$G$6:$G$1303, IF(str_OptionInvType=\"All\", \"<>0\", str_OptionInvType), Investment!$A$6:$A$1303, C$38)","v":544.58911461880132},{"$f":"SUMIFS(Investment!$H$6:$H$1303, Investment!$E$6:$E$1303, IF(str_Country=\"All\", \"<>0\", str_Country),  Investment!$F$6:$F$1303, $A40, Investment!$G$6:$G$1303, IF(str_OptionInvType=\"All\", \"<>0\", str_OptionInvType), Investment!$A$6:$A$1303, D$38)","v":1868.5861262076044},{"$f":"SUMIFS(Investment!$H$6:$H$1303, Investment!$E$6:$E$1303, IF(str_Country=\"All\", \"<>0\", str_Country),  Investment!$F$6:$F$1303, $A40, Investment!$G$6:$G$1303, IF(str_OptionInvType=\"All\", \"<>0\", str_OptionInvType), Investment!$A$6:$A$1303, E$38)","v":846.94860083931326},{"$f":"SUMIFS(Investment!$H$6:$H$1303, Investment!$E$6:$E$1303, IF(str_Country=\"All\", \"<>0\", str_Country),  Investment!$F$6:$F$1303, $A40, Investment!$G$6:$G$1303, IF(str_OptionInvType=\"All\", \"<>0\", str_OptionInvType), Investment!$A$6:$A$1303, F$38)","v":985.82748615869377},{"$f":"SUMIFS(Investment!$H$6:$H$1303, Investment!$E$6:$E$1303, IF(str_Country=\"All\", \"<>0\", str_Country),  Investment!$F$6:$F$1303, $A40, Investment!$G$6:$G$1303, IF(str_OptionInvType=\"All\", \"<>0\", str_OptionInvType), Investment!$A$6:$A$1303, G$38)","v":685.31535218408146},{"$f":"SUMIFS(Investment!$H$6:$H$1303, Investment!$E$6:$E$1303, IF(str_Country=\"All\", \"<>0\", str_Country),  Investment!$F$6:$F$1303, $A40, Investment!$G$6:$G$1303, IF(str_OptionInvType=\"All\", \"<>0\", str_OptionInvType), Investment!$A$6:$A$1303, H$38)","v":729.85570477809938}]
["Geothermal",{"$f":"SUMIFS(Investment!$H$6:$H$1303, Investment!$E$6:$E$1303, IF(str_Country=\"All\", \"<>0\", str_Country),  Investment!$F$6:$F$1303, $A41, Investment!$G$6:$G$1303, IF(str_OptionInvType=\"All\", \"<>0\", str_OptionInvType), Investment!$A$6:$A$1303, B$38)","v":0},{"$f":"SUMIFS(Investment!$H$6:$H$1303, Investment!$E$6:$E$1303, IF(str_Country=\"All\", \"<>0\", str_Country),  Investment!$F$6:$F$1303, $A41, Investment!$G$6:$G$1303, IF(str_OptionInvType=\"All\", \"<>0\", str_OptionInvType), Investment!$A$6:$A$1303, C$38)","v":0},{"$f":"SUMIFS(Investment!$H$6:$H$1303, Investment!$E$6:$E$1303, IF(str_Country=\"All\", \"<>0\", str_Country),  Investment!$F$6:$F$1303, $A41, Investment!$G$6:$G$1303, IF(str_OptionInvType=\"All\", \"<>0\", str_OptionInvType), Investment!$A$6:$A$1303, D$38)","v":0},{"$f":"SUMIFS(Investment!$H$6:$H$1303, Investment!$E$6:$E$1303, IF(str_Country=\"All\", \"<>0\", str_Country),  Investment!$F$6:$F$1303, $A41, Investment!$G$6:$G$1303, IF(str_OptionInvType=\"All\", \"<>0\", str_OptionInvType), Investment!$A$6:$A$1303, E$38)","v":0},{"$f":"SUMIFS(Investment!$H$6:$H$1303, Investment!$E$6:$E$1303, IF(str_Country=\"All\", \"<>0\", str_Country),  Investment!$F$6:$F$1303, $A41, Investment!$G$6:$G$1303, IF(str_OptionInvType=\"All\", \"<>0\", str_OptionInvType), Investment!$A$6:$A$1303, F$38)","v":0},{"$f":"SUMIFS(Investment!$H$6:$H$1303, Investment!$E$6:$E$1303, IF(str_Country=\"All\", \"<>0\", str_Country),  Investment!$F$6:$F$1303, $A41, Investment!$G$6:$G$1303, IF(str_OptionInvType=\"All\", \"<>0\", str_OptionInvType), Investment!$A$6:$A$1303, G$38)","v":0},{"$f":"SUMIFS(Investment!$H$6:$H$1303, Investment!$E$6:$E$1303, IF(str_Country=\"All\", \"<>0\", str_Country),  Investment!$F$6:$F$1303, $A41, Investment!$G$6:$G$1303, IF(str_OptionInvType=\"All\", \"<>0\", str_OptionInvType), Investment!$A$6:$A$1303, H$38)","v":0}]
["Small Hydro",{"$f":"SUMIFS(Investment!$H$6:$H$1303, Investment!$E$6:$E$1303, IF(str_Country=\"All\", \"<>0\", str_Country),  Investment!$F$6:$F$1303, $A42, Investment!$G$6:$G$1303, IF(str_OptionInvType=\"All\", \"<>0\", str_OptionInvType), Investment!$A$6:$A$1303, B$38)","v":1521.6440249349203},{"$f":"SUMIFS(Investment!$H$6:$H$1303, Investment!$E$6:$E$1303, IF(str_Country=\"All\", \"<>0\", str_Country),  Investment!$F$6:$F$1303, $A42, Investment!$G$6:$G$1303, IF(str_OptionInvType=\"All\", \"<>0\", str_OptionInvType), Investment!$A$6:$A$1303, C$38)","v":2233.2501894751963},{"$f":"SUMIFS(Investment!$H$6:$H$1303, Investment!$E$6:$E$1303, IF(str_Country=\"All\", \"<>0\", str_Country),  Investment!$F$6:$F$1303, $A42, Investment!$G$6:$G$1303, IF(str_OptionInvType=\"All\", \"<>0\", str_OptionInvType), Investment!$A$6:$A$1303, D$38)","v":2439.5828116175867},{"$f":"SUMIFS(Investment!$H$6:$H$1303, Investment!$E$6:$E$1303, IF(str_Country=\"All\", \"<>0\", str_Country),  Investment!$F$6:$F$1303, $A42, Investment!$G$6:$G$1303, IF(str_OptionInvType=\"All\", \"<>0\", str_OptionInvType), Investment!$A$6:$A$1303, E$38)","v":1303.8855647131211},{"$f":"SUMIFS(Investment!$H$6:$H$1303, Investment!$E$6:$E$1303, IF(str_Country=\"All\", \"<>0\", str_Country),  Investment!$F$6:$F$1303, $A42, Investment!$G$6:$G$1303, IF(str_OptionInvType=\"All\", \"<>0\", str_OptionInvType), Investment!$A$6:$A$1303, F$38)","v":1273.663386766849},{"$f":"SUMIFS(Investment!$H$6:$H$1303, Investment!$E$6:$E$1303, IF(str_Country=\"All\", \"<>0\", str_Country),  Investment!$F$6:$F$1303, $A42, Investment!$G$6:$G$1303, IF(str_OptionInvType=\"All\", \"<>0\", str_OptionInvType), Investment!$A$6:$A$1303, G$38)","v":1603.3029620698671},{"$f":"SUMIFS(Investment!$H$6:$H$1303, Investment!$E$6:$E$1303, IF(str_Country=\"All\", \"<>0\", str_Country),  Investment!$F$6:$F$1303, $A42, Investment!$G$6:$G$1303, IF(str_OptionInvType=\"All\", \"<>0\", str_OptionInvType), Investment!$A$6:$A$1303, H$38)","v":1124.7237874413061}]
["Solar",{"$f":"SUMIFS(Investment!$H$6:$H$1303, Investment!$E$6:$E$1303, IF(str_Country=\"All\", \"<>0\", str_Country),  Investment!$F$6:$F$1303, $A43, Investment!$G$6:$G$1303, IF(str_OptionInvType=\"All\", \"<>0\", str_OptionInvType), Investment!$A$6:$A$1303, B$38)","v":0},{"$f":"SUMIFS(Investment!$H$6:$H$1303, Investment!$E$6:$E$1303, IF(str_Country=\"All\", \"<>0\", str_Country),  Investment!$F$6:$F$1303, $A43, Investment!$G$6:$G$1303, IF(str_OptionInvType=\"All\", \"<>0\", str_OptionInvType), Investment!$A$6:$A$1303, C$38)","v":0},{"$f":"SUMIFS(Investment!$H$6:$H$1303, Investment!$E$6:$E$1303, IF(str_Country=\"All\", \"<>0\", str_Country),  Investment!$F$6:$F$1303, $A43, Investment!$G$6:$G$1303, IF(str_OptionInvType=\"All\", \"<>0\", str_OptionInvType), Investment!$A$6:$A$1303, D$38)","v":0},{"$f":"SUMIFS(Investment!$H$6:$H$1303, Investment!$E$6:$E$1303, IF(str_Country=\"All\", \"<>0\", str_Country),  Investment!$F$6:$F$1303, $A43, Investment!$G$6:$G$1303, IF(str_OptionInvType=\"All\", \"<>0\", str_OptionInvType), Investment!$A$6:$A$1303, E$38)","v":0},{"$f":"SUMIFS(Investment!$H$6:$H$1303, Investment!$E$6:$E$1303, IF(str_Country=\"All\", \"<>0\", str_Country),  Investment!$F$6:$F$1303, $A43, Investment!$G$6:$G$1303, IF(str_OptionInvType=\"All\", \"<>0\", str_OptionInvType), Investment!$A$6:$A$1303, F$38)","v":5.8354339941330524},{"$f":"SUMIFS(Investment!$H$6:$H$1303, Investment!$E$6:$E$1303, IF(str_Country=\"All\", \"<>0\", str_Country),  Investment!$F$6:$F$1303, $A43, Investment!$G$6:$G$1303, IF(str_OptionInvType=\"All\", \"<>0\", str_OptionInvType), Investment!$A$6:$A$1303, G$38)","v":28.897462530167452},{"$f":"SUMIFS(Investment!$H$6:$H$1303, Investment!$E$6:$E$1303, IF(str_Country=\"All\", \"<>0\", str_Country),  Investment!$F$6:$F$1303, $A43, Investment!$G$6:$G$1303, IF(str_OptionInvType=\"All\", \"<>0\", str_OptionInvType), Investment!$A$6:$A$1303, H$38)","v":55.435564591737091}]
["Wind",{"$f":"SUMIFS(Investment!$H$6:$H$1303, Investment!$E$6:$E$1303, IF(str_Country=\"All\", \"<>0\", str_Country),  Investment!$F$6:$F$1303, $A44, Investment!$G$6:$G$1303, IF(str_OptionInvType=\"All\", \"<>0\", str_OptionInvType), Investment!$A$6:$A$1303, B$38)","v":167.09646364491337},{"$f":"SUMIFS(Investment!$H$6:$H$1303, Investment!$E$6:$E$1303, IF(str_Country=\"All\", \"<>0\", str_Country),  Investment!$F$6:$F$1303, $A44, Investment!$G$6:$G$1303, IF(str_OptionInvType=\"All\", \"<>0\", str_OptionInvType), Investment!$A$6:$A$1303, C$38)","v":1069.1360006156031},{"$f":"SUMIFS(Investment!$H$6:$H$1303, Investment!$E$6:$E$1303, IF(str_Country=\"All\", \"<>0\", str_Country),  Investment!$F$6:$F$1303, $A44, Investment!$G$6:$G$1303, IF(str_OptionInvType=\"All\", \"<>0\", str_OptionInvType), Investment!$A$6:$A$1303, D$38)","v":1022.9825773051928},{"$f":"SUMIFS(Investment!$H$6:$H$1303, Investment!$E$6:$E$1303, IF(str_Country=\"All\", \"<>0\", str_Country),  Investment!$F$6:$F$1303, $A44, Investment!$G$6:$G$1303, IF(str_OptionInvType=\"All\", \"<>0\", str_OptionInvType), Investment!$A$6:$A$1303, E$38)","v":2140.2402574277544},{"$f":"SUMIFS(Investment!$H$6:$H$1303, Investment!$E$6:$E$1303, IF(str_Country=\"All\", \"<>0\", str_Country),  Investment!$F$6:$F$1303, $A44, Investment!$G$6:$G$1303, IF(str_OptionInvType=\"All\", \"<>0\", str_OptionInvType), Investment!$A$6:$A$1303, F$38)","v":3803.6959315537138},{"$f":"SUMIFS(Investment!$H$6:$H$1303, Investment!$E$6:$E$1303, IF(str_Country=\"All\", \"<>0\", str_Country),  Investment!$F$6:$F$1303, $A44, Investment!$G$6:$G$1303, IF(str_OptionInvType=\"All\", \"<>0\", str_OptionInvType), Investment!$A$6:$A$1303, G$38)","v":8193.5348834508277},{"$f":"SUMIFS(Investment!$H$6:$H$1303, Investment!$E$6:$E$1303, IF(str_Country=\"All\", \"<>0\", str_Country),  Investment!$F$6:$F$1303, $A44, Investment!$G$6:$G$1303, IF(str_OptionInvType=\"All\", \"<>0\", str_OptionInvType), Investment!$A$6:$A$1303, H$38)","v":6540.7985593609583}]
["Other Clean Energy",{"$f":"SUMIFS(Investment!$H$6:$H$1303, Investment!$E$6:$E$1303, IF(str_Country=\"All\", \"<>0\", str_Country),  Investment!$F$6:$F$1303, $A45, Investment!$G$6:$G$1303, IF(str_OptionInvType=\"All\", \"<>0\", str_OptionInvType), Investment!$A$6:$A$1303, B$38)","v":8.4274459999999998},{"$f":"SUMIFS(Investment!$H$6:$H$1303, Investment!$E$6:$E$1303, IF(str_Country=\"All\", \"<>0\", str_Country),  Investment!$F$6:$F$1303, $A45, Investment!$G$6:$G$1303, IF(str_OptionInvType=\"All\", \"<>0\", str_OptionInvType), Investment!$A$6:$A$1303, C$38)","v":0},{"$f":"SUMIFS(Investment!$H$6:$H$1303, Investment!$E$6:$E$1303, IF(str_Country=\"All\", \"<>0\", str_Country),  Investment!$F$6:$F$1303, $A45, Investment!$G$6:$G$1303, IF(str_OptionInvType=\"All\", \"<>0\", str_OptionInvType), Investment!$A$6:$A$1303, D$38)","v":105.3688252554733},{"$f":"SUMIFS(Investment!$H$6:$H$1303, Investment!$E$6:$E$1303, IF(str_Country=\"All\", \"<>0\", str_Country),  Investment!$F$6:$F$1303, $A45, Investment!$G$6:$G$1303, IF(str_OptionInvType=\"All\", \"<>0\", str_OptionInvType), Investment!$A$6:$A$1303, E$38)","v":0},{"$f":"SUMIFS(Investment!$H$6:$H$1303, Investment!$E$6:$E$1303, IF(str_Country=\"All\", \"<>0\", str_Country),  Investment!$F$6:$F$1303, $A45, Investment!$G$6:$G$1303, IF(str_OptionInvType=\"All\", \"<>0\", str_OptionInvType), Investment!$A$6:$A$1303, F$38)","v":13.650747379132676},{"$f":"SUMIFS(Investment!$H$6:$H$1303, Investment!$E$6:$E$1303, IF(str_Country=\"All\", \"<>0\", str_Country),  Investment!$F$6:$F$1303, $A45, Investment!$G$6:$G$1303, IF(str_OptionInvType=\"All\", \"<>0\", str_OptionInvType), Investment!$A$6:$A$1303, G$38)","v":0},{"$f":"SUMIFS(Investment!$H$6:$H$1303, Investment!$E$6:$E$1303, IF(str_Country=\"All\", \"<>0\", str_Country),  Investment!$F$6:$F$1303, $A45, Investment!$G$6:$G$1303, IF(str_OptionInvType=\"All\", \"<>0\", str_OptionInvType), Investment!$A$6:$A$1303, H$38)","v":21.459374228257413}]
["Small Scale Dist.",{"$f":"SUMIFS(Database!S$582:S$607, Database!$D$501:$D$526, str_Country)","v":0},{"$f":"SUMIFS(Database!T$582:T$607, Database!$D$501:$D$526, str_Country)","v":0},{"$f":"SUMIFS(Database!U$582:U$607, Database!$D$501:$D$526, str_Country)","v":0},{"$f":"SUMIFS(Database!V$582:V$607, Database!$D$501:$D$526, str_Country)","v":0},{"$f":"SUMIFS(Database!W$582:W$607, Database!$D$501:$D$526, str_Country)","v":0},{"$f":"SUMIFS(Database!X$582:X$607, Database!$D$501:$D$526, str_Country)","v":0.02},{"$f":"SUMIFS(Database!Y$582:Y$607, Database!$D$501:$D$526, str_Country)","v":0.02}]
[]
["Colour Scheme"]
["RBG CODE (R, G, B)"]
["RGB(205, 218, 0)"]
["RGB(160, 202, 59)"]
["RGB(116, 187, 67)"]
["RGB(99, 136, 59)"]
["RGB(59, 92, 55)"]
[]
["Chart Data (Dashboard)"]
[{"$f":"Dashboard!D34","v":"COUNTRY"},"0.00 to 1.00","1.01 to 2.00","2.01 to 3.01","3.01 to 4.00","4.01 to 5.00",null,{"$f":"Dashboard!D34","v":"COUNTRY"},{"$f":"Dashboard!E34","v":"CLIMATESCOPE 2013 SCORES"},"2011 Score","YoY Chg"]
[{"$f":"Dashboard!D35","v":"Brazil"},{"$f":"IF(Dashboard!$E35<=1, Dashboard!$E35, 0)","v":0},{"$f":"IF(AND(Dashboard!$E35>1, Dashboard!$E35<=2), Dashboard!$E35, 0)","v":0},{"$f":"IF(AND(Dashboard!$E35>2, Dashboard!$E35<=3), Dashboard!$E35, 0)","v":2.4727326749130318},{"$f":"IF(AND(Dashboard!$E35>3, Dashboard!$E35<=4), Dashboard!$E35, 0)","v":0},{"$f":"IF(Dashboard!$E35>4, Dashboard!$E35, 0)","v":0},null,{"$f":"Dashboard!D35","v":"Brazil"},{"$f":"Dashboard!E35","v":2.4727326749130318},{"$f":"INDEX(ChartData!$B$87:$F$112, MATCH(Dashboard!D35, ChartData!$A$87:$A$112, 0), MATCH(Dashboard!$E$25, ChartData!$B$86:$F$86, 0))","v":2.6392086818633107},{"$f":"IFERROR(Dashboard!E35/J58-1, 0)","v":-6.3078000650083066E-2}]
[{"$f":"Dashboard!D36","v":"Chile"},{"$f":"IF(Dashboard!$E36<=1, Dashboard!$E36, 0)","v":0},{"$f":"IF(AND(Dashboard!$E36>1, Dashboard!$E36<=2), Dashboard!$E36, 0)","v":0},{"$f":"IF(AND(Dashboard!$E36>2, Dashboard!$E36<=3), Dashboard!$E36, 0)","v":2.4094666752634253},{"$f":"IF(AND(Dashboard!$E36>3, Dashboard!$E36<=4), Dashboard!$E36, 0)","v":0},{"$f":"IF(Dashboard!$E36>4, Dashboard!$E36, 0)","v":0},null,{"$f":"Dashboard!D36","v":"Chile"},{"$f":"Dashboard!E36","v":2.4094666752634253},{"$f":"INDEX(ChartData!$B$87:$F$112, MATCH(Dashboard!D36, ChartData!$A$87:$A$112, 0), MATCH(Dashboard!$E$25, ChartData!$B$86:$F$86, 0))","v":1.7245935827534666},{"$f":"IFERROR(Dashboard!E36/J59-1, 0)","v":0.39712144319619824}]
[{"$f":"Dashboard!D37","v":"Nicaragua"},{"$f":"IF(Dashboard!$E37<=1, Dashboard!$E37, 0)","v":0},{"$f":"IF(AND(Dashboard!$E37>1, Dashboard!$E37<=2), Dashboard!$E37, 0)","v":0},{"$f":"IF(AND(Dashboard!$E37>2, Dashboard!$E37<=3), Dashboard!$E37, 0)","v":2.2582408765252313},{"$f":"IF(AND(Dashboard!$E37>3, Dashboard!$E37<=4), Dashboard!$E37, 0)","v":0},{"$f":"IF(Dashboard!$E37>4, Dashboard!$E37, 0)","v":0},null,{"$f":"Dashboard!D37","v":"Nicaragua"},{"$f":"Dashboard!E37","v":2.2582408765252313},{"$f":"INDEX(ChartData!$B$87:$F$112, MATCH(Dashboard!D37, ChartData!$A$87:$A$112, 0), MATCH(Dashboard!$E$25, ChartData!$B$86:$F$86, 0))","v":2.1295170295561694},{"$f":"IFERROR(Dashboard!E37/J60-1, 0)","v":6.0447437227534317E-2}]
[{"$f":"Dashboard!D38","v":"Peru"},{"$f":"IF(Dashboard!$E38<=1, Dashboard!$E38, 0)","v":0},{"$f":"IF(AND(Dashboard!$E38>1, Dashboard!$E38<=2), Dashboard!$E38, 0)","v":0},{"$f":"IF(AND(Dashboard!$E38>2, Dashboard!$E38<=3), Dashboard!$E38, 0)","v":2.2513997144899829},{"$f":"IF(AND(Dashboard!$E38>3, Dashboard!$E38<=4), Dashboard!$E38, 0)","v":0},{"$f":"IF(Dashboard!$E38>4, Dashboard!$E38, 0)","v":0},null,{"$f":"Dashboard!D38","v":"Peru"},{"$f":"Dashboard!E38","v":2.2513997144899829},{"$f":"INDEX(ChartData!$B$87:$F$112, MATCH(Dashboard!D38, ChartData!$A$87:$A$112, 0), MATCH(Dashboard!$E$25, ChartData!$B$86:$F$86, 0))","v":1.726771632096598},{"$f":"IFERROR(Dashboard!E38/J61-1, 0)","v":0.30382018828766366}]
[{"$f":"Dashboard!D39","v":"Mexico"},{"$f":"IF(Dashboard!$E39<=1, Dashboard!$E39, 0)","v":0},{"$f":"IF(AND(Dashboard!$E39>1, Dashboard!$E39<=2), Dashboard!$E39, 0)","v":0},{"$f":"IF(AND(Dashboard!$E39>2, Dashboard!$E39<=3), Dashboard!$E39, 0)","v":2.1895912454456359},{"$f":"IF(AND(Dashboard!$E39>3, Dashboard!$E39<=4), Dashboard!$E39, 0)","v":0},{"$f":"IF(Dashboard!$E39>4, Dashboard!$E39, 0)","v":0},null,{"$f":"Dashboard!D39","v":"Mexico"},{"$f":"Dashboard!E39","v":2.1895912454456359},{"$f":"INDEX(ChartData!$B$87:$F$112, MATCH(Dashboard!D39, ChartData!$A$87:$A$112, 0), MATCH(Dashboard!$E$25, ChartData!$B$86:$F$86, 0))","v":1.6742704711421061},{"$f":"IFERROR(Dashboard!E39/J62-1, 0)","v":0.30778824758941292}]
[{"$f":"Dashboard!D40","v":"Uruguay"},{"$f":"IF(Dashboard!$E40<=1, Dashboard!$E40, 0)","v":0},{"$f":"IF(AND(Dashboard!$E40>1, Dashboard!$E40<=2), Dashboard!$E40, 0)","v":1.6663378644286779},{"$f":"IF(AND(Dashboard!$E40>2, Dashboard!$E40<=3), Dashboard!$E40, 0)","v":0},{"$f":"IF(AND(Dashboard!$E40>3, Dashboard!$E40<=4), Dashboard!$E40, 0)","v":0},{"$f":"IF(Dashboard!$E40>4, Dashboard!$E40, 0)","v":0},null,{"$f":"Dashboard!D40","v":"Uruguay"},{"$f":"Dashboard!E40","v":1.6663378644286779},{"$f":"INDEX(ChartData!$B$87:$F$112, MATCH(Dashboard!D40, ChartData!$A$87:$A$112, 0), MATCH(Dashboard!$E$25, ChartData!$B$86:$F$86, 0))","v":1.3774854189336647},{"$f":"IFERROR(Dashboard!E40/J63-1, 0)","v":0.20969546502976333}]
[{"$f":"Dashboard!D41","v":"Argentina"},{"$f":"IF(Dashboard!$E41<=1, Dashboard!$E41, 0)","v":0},{"$f":"IF(AND(Dashboard!$E41>1, Dashboard!$E41<=2), Dashboard!$E41, 0)","v":1.6660775463109065},{"$f":"IF(AND(Dashboard!$E41>2, Dashboard!$E41<=3), Dashboard!$E41, 0)","v":0},{"$f":"IF(AND(Dashboard!$E41>3, Dashboard!$E41<=4), Dashboard!$E41, 0)","v":0},{"$f":"IF(Dashboard!$E41>4, Dashboard!$E41, 0)","v":0},null,{"$f":"Dashboard!D41","v":"Argentina"},{"$f":"Dashboard!E41","v":1.6660775463109065},{"$f":"INDEX(ChartData!$B$87:$F$112, MATCH(Dashboard!D41, ChartData!$A$87:$A$112, 0), MATCH(Dashboard!$E$25, ChartData!$B$86:$F$86, 0))","v":1.3234821837251658},{"$f":"IFERROR(Dashboard!E41/J64-1, 0)","v":0.25885906648282009}]
[{"$f":"Dashboard!D42","v":"Dominican Republic"},{"$f":"IF(Dashboard!$E42<=1, Dashboard!$E42, 0)","v":0},{"$f":"IF(AND(Dashboard!$E42>1, Dashboard!$E42<=2), Dashboard!$E42, 0)","v":1.5811001122845354},{"$f":"IF(AND(Dashboard!$E42>2, Dashboard!$E42<=3), Dashboard!$E42, 0)","v":0},{"$f":"IF(AND(Dashboard!$E42>3, Dashboard!$E42<=4), Dashboard!$E42, 0)","v":0},{"$f":"IF(Dashboard!$E42>4, Dashboard!$E42, 0)","v":0},null,{"$f":"Dashboard!D42","v":"Dominican Republic"},{"$f":"Dashboard!E42","v":1.5811001122845354},{"$f":"INDEX(ChartData!$B$87:$F$112, MATCH(Dashboard!D42, ChartData!$A$87:$A$112, 0), MATCH(Dashboard!$E$25, ChartData!$B$86:$F$86, 0))","v":1.0667754233119626},{"$f":"IFERROR(Dashboard!E42/J65-1, 0)","v":0.4821302382236885}]
[{"$f":"Dashboard!D43","v":"Colombia"},{"$f":"IF(Dashboard!$E43<=1, Dashboard!$E43, 0)","v":0},{"$f":"IF(AND(Dashboard!$E43>1, Dashboard!$E43<=2), Dashboard!$E43, 0)","v":1.5430458186129992},{"$f":"IF(AND(Dashboard!$E43>2, Dashboard!$E43<=3), Dashboard!$E43, 0)","v":0},{"$f":"IF(AND(Dashboard!$E43>3, Dashboard!$E43<=4), Dashboard!$E43, 0)","v":0},{"$f":"IF(Dashboard!$E43>4, Dashboard!$E43, 0)","v":0},null,{"$f":"Dashboard!D43","v":"Colombia"},{"$f":"Dashboard!E43","v":1.5430458186129992},{"$f":"INDEX(ChartData!$B$87:$F$112, MATCH(Dashboard!D43, ChartData!$A$87:$A$112, 0), MATCH(Dashboard!$E$25, ChartData!$B$86:$F$86, 0))","v":1.6288488725546042},{"$f":"IFERROR(Dashboard!E43/J66-1, 0)","v":-5.2677111662935205E-2}]
[{"$f":"Dashboard!D44","v":"Panama"},{"$f":"IF(Dashboard!$E44<=1, Dashboard!$E44, 0)","v":0},{"$f":"IF(AND(Dashboard!$E44>1, Dashboard!$E44<=2), Dashboard!$E44, 0)","v":1.4449322737798895},{"$f":"IF(AND(Dashboard!$E44>2, Dashboard!$E44<=3), Dashboard!$E44, 0)","v":0},{"$f":"IF(AND(Dashboard!$E44>3, Dashboard!$E44<=4), Dashboard!$E44, 0)","v":0},{"$f":"IF(Dashboard!$E44>4, Dashboard!$E44, 0)","v":0},null,{"$f":"Dashboard!D44","v":"Panama"},{"$f":"Dashboard!E44","v":1.4449322737798895},{"$f":"INDEX(ChartData!$B$87:$F$112, MATCH(Dashboard!D44, ChartData!$A$87:$A$112, 0), MATCH(Dashboard!$E$25, ChartData!$B$86:$F$86, 0))","v":1.965658840004143},{"$f":"IFERROR(Dashboard!E44/J67-1, 0)","v":-0.26491197537775979}]
[{"$f":"Dashboard!D45","v":"Costa Rica"},{"$f":"IF(Dashboard!$E45<=1, Dashboard!$E45, 0)","v":0},{"$f":"IF(AND(Dashboard!$E45>1, Dashboard!$E45<=2), Dashboard!$E45, 0)","v":1.3605020693003842},{"$f":"IF(AND(Dashboard!$E45>2, Dashboard!$E45<=3), Dashboard!$E45, 0)","v":0},{"$f":"IF(AND(Dashboard!$E45>3, Dashboard!$E45<=4), Dashboard!$E45, 0)","v":0},{"$f":"IF(Dashboard!$E45>4, Dashboard!$E45, 0)","v":0},null,{"$f":"Dashboard!D45","v":"Costa Rica"},{"$f":"Dashboard!E45","v":1.3605020693003842},{"$f":"INDEX(ChartData!$B$87:$F$112, MATCH(Dashboard!D45, ChartData!$A$87:$A$112, 0), MATCH(Dashboard!$E$25, ChartData!$B$86:$F$86, 0))","v":1.4667168270115289},{"$f":"IFERROR(Dashboard!E45/J68-1, 0)","v":-7.2416676317513806E-2}]
[{"$f":"Dashboard!D46","v":"Guatemala"},{"$f":"IF(Dashboard!$E46<=1, Dashboard!$E46, 0)","v":0},{"$f":"IF(AND(Dashboard!$E46>1, Dashboard!$E46<=2), Dashboard!$E46, 0)","v":1.3373084647149844},{"$f":"IF(AND(Dashboard!$E46>2, Dashboard!$E46<=3), Dashboard!$E46, 0)","v":0},{"$f":"IF(AND(Dashboard!$E46>3, Dashboard!$E46<=4), Dashboard!$E46, 0)","v":0},{"$f":"IF(Dashboard!$E46>4, Dashboard!$E46, 0)","v":0},null,{"$f":"Dashboard!D46","v":"Guatemala"},{"$f":"Dashboard!E46","v":1.3373084647149844},{"$f":"INDEX(ChartData!$B$87:$F$112, MATCH(Dashboard!D46, ChartData!$A$87:$A$112, 0), MATCH(Dashboard!$E$25, ChartData!$B$86:$F$86, 0))","v":1.4511521133010992},{"$f":"IFERROR(Dashboard!E46/J69-1, 0)","v":-7.8450527372448731E-2}]
[{"$f":"Dashboard!D47","v":"Ecuador"},{"$f":"IF(Dashboard!$E47<=1, Dashboard!$E47, 0)","v":0},{"$f":"IF(AND(Dashboard!$E47>1, Dashboard!$E47<=2), Dashboard!$E47, 0)","v":1.268029964257984},{"$f":"IF(AND(Dashboard!$E47>2, Dashboard!$E47<=3), Dashboard!$E47, 0)","v":0},{"$f":"IF(AND(Dashboard!$E47>3, Dashboard!$E47<=4), Dashboard!$E47, 0)","v":0},{"$f":"IF(Dashboard!$E47>4, Dashboard!$E47, 0)","v":0},null,{"$f":"Dashboard!D47","v":"Ecuador"},{"$f":"Dashboard!E47","v":1.268029964257984},{"$f":"INDEX(ChartData!$B$87:$F$112, MATCH(Dashboard!D47, ChartData!$A$87:$A$112, 0), MATCH(Dashboard!$E$25, ChartData!$B$86:$F$86, 0))","v":1.1431617989982708},{"$f":"IFERROR(Dashboard!E47/J70-1, 0)","v":0.10923052657037058}]
[{"$f":"Dashboard!D48","v":"Honduras"},{"$f":"IF(Dashboard!$E48<=1, Dashboard!$E48, 0)","v":0},{"$f":"IF(AND(Dashboard!$E48>1, Dashboard!$E48<=2), Dashboard!$E48, 0)","v":1.2347954940521071},{"$f":"IF(AND(Dashboard!$E48>2, Dashboard!$E48<=3), Dashboard!$E48, 0)","v":0},{"$f":"IF(AND(Dashboard!$E48>3, Dashboard!$E48<=4), Dashboard!$E48, 0)","v":0},{"$f":"IF(Dashboard!$E48>4, Dashboard!$E48, 0)","v":0},null,{"$f":"Dashboard!D48","v":"Honduras"},{"$f":"Dashboard!E48","v":1.2347954940521071},{"$f":"INDEX(ChartData!$B$87:$F$112, MATCH(Dashboard!D48, ChartData!$A$87:$A$112, 0), MATCH(Dashboard!$E$25, ChartData!$B$86:$F$86, 0))","v":1.2771506234984886},{"$f":"IFERROR(Dashboard!E48/J71-1, 0)","v":-3.3163769932130993E-2}]
[{"$f":"Dashboard!D49","v":"El Salvador"},{"$f":"IF(Dashboard!$E49<=1, Dashboard!$E49, 0)","v":0},{"$f":"IF(AND(Dashboard!$E49>1, Dashboard!$E49<=2), Dashboard!$E49, 0)","v":1.0829763396265171},{"$f":"IF(AND(Dashboard!$E49>2, Dashboard!$E49<=3), Dashboard!$E49, 0)","v":0},{"$f":"IF(AND(Dashboard!$E49>3, Dashboard!$E49<=4), Dashboard!$E49, 0)","v":0},{"$f":"IF(Dashboard!$E49>4, Dashboard!$E49, 0)","v":0},null,{"$f":"Dashboard!D49","v":"El Salvador"},{"$f":"Dashboard!E49","v":1.0829763396265171},{"$f":"INDEX(ChartData!$B$87:$F$112, MATCH(Dashboard!D49, ChartData!$A$87:$A$112, 0), MATCH(Dashboard!$E$25, ChartData!$B$86:$F$86, 0))","v":1.1919451848807634},{"$f":"IFERROR(Dashboard!E49/J72-1, 0)","v":-9.1421020560729094E-2}]
[{"$f":"Dashboard!D50","v":"Belize"},{"$f":"IF(Dashboard!$E50<=1, Dashboard!$E50, 0)","v":0.99838461685035851},{"$f":"IF(AND(Dashboard!$E50>1, Dashboard!$E50<=2), Dashboard!$E50, 0)","v":0},{"$f":"IF(AND(Dashboard!$E50>2, Dashboard!$E50<=3), Dashboard!$E50, 0)","v":0},{"$f":"IF(AND(Dashboard!$E50>3, Dashboard!$E50<=4), Dashboard!$E50, 0)","v":0},{"$f":"IF(Dashboard!$E50>4, Dashboard!$E50, 0)","v":0},null,{"$f":"Dashboard!D50","v":"Belize"},{"$f":"Dashboard!E50","v":0.99838461685035851},{"$f":"INDEX(ChartData!$B$87:$F$112, MATCH(Dashboard!D50, ChartData!$A$87:$A$112, 0), MATCH(Dashboard!$E$25, ChartData!$B$86:$F$86, 0))","v":0.98610820888243556},{"$f":"IFERROR(Dashboard!E50/J73-1, 0)","v":1.2449351762151784E-2}]
[{"$f":"Dashboard!D51","v":"Jamaica"},{"$f":"IF(Dashboard!$E51<=1, Dashboard!$E51, 0)","v":0.93559969189148329},{"$f":"IF(AND(Dashboard!$E51>1, Dashboard!$E51<=2), Dashboard!$E51, 0)","v":0},{"$f":"IF(AND(Dashboard!$E51>2, Dashboard!$E51<=3), Dashboard!$E51, 0)","v":0},{"$f":"IF(AND(Dashboard!$E51>3, Dashboard!$E51<=4), Dashboard!$E51, 0)","v":0},{"$f":"IF(Dashboard!$E51>4, Dashboard!$E51, 0)","v":0},null,{"$f":"Dashboard!D51","v":"Jamaica"},{"$f":"Dashboard!E51","v":0.93559969189148329},{"$f":"INDEX(ChartData!$B$87:$F$112, MATCH(Dashboard!D51, ChartData!$A$87:$A$112, 0), MATCH(Dashboard!$E$25, ChartData!$B$86:$F$86, 0))","v":1.0181691521813248},{"$f":"IFERROR(Dashboard!E51/J74-1, 0)","v":-8.1096014461786381E-2}]
[{"$f":"Dashboard!D52","v":"Paraguay"},{"$f":"IF(Dashboard!$E52<=1, Dashboard!$E52, 0)","v":0.89780561757652433},{"$f":"IF(AND(Dashboard!$E52>1, Dashboard!$E52<=2), Dashboard!$E52, 0)","v":0},{"$f":"IF(AND(Dashboard!$E52>2, Dashboard!$E52<=3), Dashboard!$E52, 0)","v":0},{"$f":"IF(AND(Dashboard!$E52>3, Dashboard!$E52<=4), Dashboard!$E52, 0)","v":0},{"$f":"IF(Dashboard!$E52>4, Dashboard!$E52, 0)","v":0},null,{"$f":"Dashboard!D52","v":"Paraguay"},{"$f":"Dashboard!E52","v":0.89780561757652433},{"$f":"INDEX(ChartData!$B$87:$F$112, MATCH(Dashboard!D52, ChartData!$A$87:$A$112, 0), MATCH(Dashboard!$E$25, ChartData!$B$86:$F$86, 0))","v":0.85601394305767264},{"$f":"IFERROR(Dashboard!E52/J75-1, 0)","v":4.8821254440754025E-2}]
[{"$f":"Dashboard!D53","v":"Bolivia"},{"$f":"IF(Dashboard!$E53<=1, Dashboard!$E53, 0)","v":0.86145895525760319},{"$f":"IF(AND(Dashboard!$E53>1, Dashboard!$E53<=2), Dashboard!$E53, 0)","v":0},{"$f":"IF(AND(Dashboard!$E53>2, Dashboard!$E53<=3), Dashboard!$E53, 0)","v":0},{"$f":"IF(AND(Dashboard!$E53>3, Dashboard!$E53<=4), Dashboard!$E53, 0)","v":0},{"$f":"IF(Dashboard!$E53>4, Dashboard!$E53, 0)","v":0},null,{"$f":"Dashboard!D53","v":"Bolivia"},{"$f":"Dashboard!E53","v":0.86145895525760319},{"$f":"INDEX(ChartData!$B$87:$F$112, MATCH(Dashboard!D53, ChartData!$A$87:$A$112, 0), MATCH(Dashboard!$E$25, ChartData!$B$86:$F$86, 0))","v":0.84381731749091005},{"$f":"IFERROR(Dashboard!E53/J76-1, 0)","v":2.0906939690631843E-2}]
[{"$f":"Dashboard!D54","v":"Venezuela"},{"$f":"IF(Dashboard!$E54<=1, Dashboard!$E54, 0)","v":0.80918593246217529},{"$f":"IF(AND(Dashboard!$E54>1, Dashboard!$E54<=2), Dashboard!$E54, 0)","v":0},{"$f":"IF(AND(Dashboard!$E54>2, Dashboard!$E54<=3), Dashboard!$E54, 0)","v":0},{"$f":"IF(AND(Dashboard!$E54>3, Dashboard!$E54<=4), Dashboard!$E54, 0)","v":0},{"$f":"IF(Dashboard!$E54>4, Dashboard!$E54, 0)","v":0},null,{"$f":"Dashboard!D54","v":"Venezuela"},{"$f":"Dashboard!E54","v":0.80918593246217529},{"$f":"INDEX(ChartData!$B$87:$F$112, MATCH(Dashboard!D54, ChartData!$A$87:$A$112, 0), MATCH(Dashboard!$E$25, ChartData!$B$86:$F$86, 0))","v":0.36528056849441504},{"$f":"IFERROR(Dashboard!E54/J77-1, 0)","v":1.215244943900013}]
[{"$f":"Dashboard!D55","v":"Bahamas"},{"$f":"IF(Dashboard!$E55<=1, Dashboard!$E55, 0)","v":0.79773499210786503},{"$f":"IF(AND(Dashboard!$E55>1, Dashboard!$E55<=2), Dashboard!$E55, 0)","v":0},{"$f":"IF(AND(Dashboard!$E55>2, Dashboard!$E55<=3), Dashboard!$E55, 0)","v":0},{"$f":"IF(AND(Dashboard!$E55>3, Dashboard!$E55<=4), Dashboard!$E55, 0)","v":0},{"$f":"IF(Dashboard!$E55>4, Dashboard!$E55, 0)","v":0},null,{"$f":"Dashboard!D55","v":"Bahamas"},{"$f":"Dashboard!E55","v":0.79773499210786503},{"$f":"INDEX(ChartData!$B$87:$F$112, MATCH(Dashboard!D55, ChartData!$A$87:$A$112, 0), MATCH(Dashboard!$E$25, ChartData!$B$86:$F$86, 0))","v":0.54316349351476079},{"$f":"IFERROR(Dashboard!E55/J78-1, 0)","v":0.46868300545346964}]
[{"$f":"Dashboard!D56","v":"Haiti"},{"$f":"IF(Dashboard!$E56<=1, Dashboard!$E56, 0)","v":0.710515676647688},{"$f":"IF(AND(Dashboard!$E56>1, Dashboard!$E56<=2), Dashboard!$E56, 0)","v":0},{"$f":"IF(AND(Dashboard!$E56>2, Dashboard!$E56<=3), Dashboard!$E56, 0)","v":0},{"$f":"IF(AND(Dashboard!$E56>3, Dashboard!$E56<=4), Dashboard!$E56, 0)","v":0},{"$f":"IF(Dashboard!$E56>4, Dashboard!$E56, 0)","v":0},null,{"$f":"Dashboard!D56","v":"Haiti"},{"$f":"Dashboard!E56","v":0.710515676647688},{"$f":"INDEX(ChartData!$B$87:$F$112, MATCH(Dashboard!D56, ChartData!$A$87:$A$112, 0), MATCH(Dashboard!$E$25, ChartData!$B$86:$F$86, 0))","v":0.44025599907299157},{"$f":"IFERROR(Dashboard!E56/J79-1, 0)","v":0.61386938086876386}]
[{"$f":"Dashboard!D57","v":"Guyana"},{"$f":"IF(Dashboard!$E57<=1, Dashboard!$E57, 0)","v":0.66719937371368621},{"$f":"IF(AND(Dashboard!$E57>1, Dashboard!$E57<=2), Dashboard!$E57, 0)","v":0},{"$f":"IF(AND(Dashboard!$E57>2, Dashboard!$E57<=3), Dashboard!$E57, 0)","v":0},{"$f":"IF(AND(Dashboard!$E57>3, Dashboard!$E57<=4), Dashboard!$E57, 0)","v":0},{"$f":"IF(Dashboard!$E57>4, Dashboard!$E57, 0)","v":0},null,{"$f":"Dashboard!D57","v":"Guyana"},{"$f":"Dashboard!E57","v":0.66719937371368621},{"$f":"INDEX(ChartData!$B$87:$F$112, MATCH(Dashboard!D57, ChartData!$A$87:$A$112, 0), MATCH(Dashboard!$E$25, ChartData!$B$86:$F$86, 0))","v":0.3835889564809305},{"$f":"IFERROR(Dashboard!E57/J80-1, 0)","v":0.73936022516032707}]
[{"$f":"Dashboard!D58","v":"Trinidad & Tobago"},{"$f":"IF(Dashboard!$E58<=1, Dashboard!$E58, 0)","v":0.537315372514797},{"$f":"IF(AND(Dashboard!$E58>1, Dashboard!$E58<=2), Dashboard!$E58, 0)","v":0},{"$f":"IF(AND(Dashboard!$E58>2, Dashboard!$E58<=3), Dashboard!$E58, 0)","v":0},{"$f":"IF(AND(Dashboard!$E58>3, Dashboard!$E58<=4), Dashboard!$E58, 0)","v":0},{"$f":"IF(Dashboard!$E58>4, Dashboard!$E58, 0)","v":0},null,{"$f":"Dashboard!D58","v":"Trinidad & Tobago"},{"$f":"Dashboard!E58","v":0.537315372514797},{"$f":"INDEX(ChartData!$B$87:$F$112, MATCH(Dashboard!D58, ChartData!$A$87:$A$112, 0), MATCH(Dashboard!$E$25, ChartData!$B$86:$F$86, 0))","v":0.42023664698592167},{"$f":"IFERROR(Dashboard!E58/J81-1, 0)","v":0.27860189340602082}]
[{"$f":"Dashboard!D59","v":"Barbados"},{"$f":"IF(Dashboard!$E59<=1, Dashboard!$E59, 0)","v":0.44607825642070192},{"$f":"IF(AND(Dashboard!$E59>1, Dashboard!$E59<=2), Dashboard!$E59, 0)","v":0},{"$f":"IF(AND(Dashboard!$E59>2, Dashboard!$E59<=3), Dashboard!$E59, 0)","v":0},{"$f":"IF(AND(Dashboard!$E59>3, Dashboard!$E59<=4), Dashboard!$E59, 0)","v":0},{"$f":"IF(Dashboard!$E59>4, Dashboard!$E59, 0)","v":0},null,{"$f":"Dashboard!D59","v":"Barbados"},{"$f":"Dashboard!E59","v":0.44607825642070192},{"$f":"INDEX(ChartData!$B$87:$F$112, MATCH(Dashboard!D59, ChartData!$A$87:$A$112, 0), MATCH(Dashboard!$E$25, ChartData!$B$86:$F$86, 0))","v":0.57866038066252412},{"$f":"IFERROR(Dashboard!E59/J82-1, 0)","v":-0.2291190630504637}]
[{"$f":"Dashboard!D60","v":"Suriname"},{"$f":"IF(Dashboard!$E60<=1, Dashboard!$E60, 0)","v":0.33322524459315506},{"$f":"IF(AND(Dashboard!$E60>1, Dashboard!$E60<=2), Dashboard!$E60, 0)","v":0},{"$f":"IF(AND(Dashboard!$E60>2, Dashboard!$E60<=3), Dashboard!$E60, 0)","v":0},{"$f":"IF(AND(Dashboard!$E60>3, Dashboard!$E60<=4), Dashboard!$E60, 0)","v":0},{"$f":"IF(Dashboard!$E60>4, Dashboard!$E60, 0)","v":0},null,{"$f":"Dashboard!D60","v":"Suriname"},{"$f":"Dashboard!E60","v":0.33322524459315506},{"$f":"INDEX(ChartData!$B$87:$F$112, MATCH(Dashboard!D60, ChartData!$A$87:$A$112, 0), MATCH(Dashboard!$E$25, ChartData!$B$86:$F$86, 0))","v":0.29243098215818608},{"$f":"IFERROR(Dashboard!E60/J83-1, 0)","v":0.13950048019502237}]
[]
["Climatescope 2012 Data (2011 Scores)"]
["Country","Defaults","100% P1","100% P2","100% P3","100% P4"]
["Argentina",1.3234821837251658,1.6807650892981638,0.62417049335300034,1.78125,1.4289999999999998]
["Bahamas",0.54316349351476079,0.50122624559135287,0.93165998426073171,0.34375,0.14400000000000002]
["Barbados",0.57866038066252412,0.9537279541454371,0.57910566334783065,0.234375,0]
["Belize",0.98610820888243556,1.785043646633637,0.56663583409660201,0.125,0.44800000000000006]
["Bolivia",0.84381731749091005,1.3168415293108973,0.73372735255517085,0.265625,0.35199999999999998]
["Brazil",2.6392086818633107,2.5981597183644327,2.0818159817251258,4.25,2.7519999999999998]
["Chile",1.7245935827534666,1.9970607098197386,0.59078227813651973,2.8125,2.3364230769230772]
["Colombia",1.6288488725546042,2.2005292540117511,0.66912390316634496,1.625,1.927]
["Costa Rica",1.4667168270115289,1.459905759129603,1.460473411198959,1.828125,1.3090000000000002]
["Dominican Republic",1.0667754233119626,1.913494578260392,0.15809197335935127,0.4375,1.0510000000000002]
["Ecuador",1.1431617989982708,1.447848162012779,0.79374178064386458,0.375,1.4419999999999999]
["El Salvador",1.1919451848807634,1.875388598673021,0.46671581803851625,1.09375,0.96199999999999986]
["Guatemala",1.4511521133010992,1.6952918007596616,1.1577429766574485,1.203125,1.5270000000000001]
["Guyana",0.3835889564809305,0.74044158665691828,0.12716607272721051,0.140625,0.17599999999999999]
["Haiti",0.44025599907299157,0.78405193501850334,0.35440908355196699,0.203125,0]
["Honduras",1.2771506234984886,1.537265200992296,1.2299818103385667,0.8125,1.06]
["Jamaica",1.0181691521813248,1.9432174273144174,0.28373227085185931,0.640625,0.45850000000000002]
["Mexico",1.6742704711421061,1.443769444599565,0.92225064434093351,2.546875,2.827]
["Nicaragua",2.1295170295561694,2.1399924533074377,3.0967334941106461,0.75,1.3475000000000001]
["Panama",1.965658840004143,2.7118785091738569,0.71239978778199997,1.171875,2.75]
["Paraguay",0.85601394305767264,0.90913119732188274,1.2515382137630642,0.5,0.33449999999999991]
["Peru",1.726771632096598,2.1408736664055228,1.3968655517812956,1.890625,1.3114999999999999]
["Suriname",0.29243098215818608,0.58370614991895486,0.17566174063534684,6.25E-2,0]
["Trinidad & Tobago",0.42023664698592167,0.58051546391752573,0.48093487139637109,0.4375,0]
["Uruguay",1.3774854189336647,1.9298190971650586,1.1330676002254694,1.484375,0.58600000000000008]
["Venezuela",0.36528056849441504,0.57525370147312926,0.25268029301721084,0.59375,0]

{"sheet":"Policy","index":6,"n_rows":31,"n_cols":26,"rows_kept":31,"cut":false,"hidden":true,"merged":[[3,21,3,24],[3,15,3,20],[3,11,3,14],[3,7,3,10],[3,1,3,6]]}
["POLICY TYPES"]
[]
[]
["Country","Energy Market",null,null,null,null,null,"Equity Finance",null,null,null,"Debt Finance",null,null,null,"Tax-Based",null,null,null,null,null,"Carbon Market",null,null,null,"Total"]
[null,"Energy Market - Feed-in tariff","Energy Market - Energy targets","Energy Market - Auction","Energy Market - Biofuels blending mandate","Energy Market - Net Metering","Energy Market - Other","Equity Finance - Grants","Equity Finance - Incubators","Equity Finance - Infrastructure funds","Equity Finance - Other","Debt Finance - Funding","Debt Finance - Export trade credit","Debt Finance - Green Bonds","Debt Finance - Other","Tax-Based - Accelerated depreciation","Tax-Based - Tax relief","Tax-Based - Income tax","Tax-Based - Import duty","Tax-Based - Tax rebate","Tax-Based - Other","Carbon Market - Domestic cap and trade","Carbon Market - Emissions reduction target","Carbon Market - Project-based carbon credits","Carbon Market - Other"]
["Argentina",1,1,1,1,0,0,0,0,0,0,0,0,0,0,1,0,0,0,1,0,0,0,0,0,{"$f":"SUM(B6:Y6)","v":6}]
["Bahamas",0,0,0,0,0,0,0,0,0,0,0,0,0,0,0,0,0,0,0,0,0,0,0,0,{"$f":"SUM(B7:Y7)","v":0}]
["Barbados",0,1,0,0,1,0,0,0,0,0,0,0,0,0,0,0,0,0,0,0,0,0,0,0,{"$f":"SUM(B8:Y8)","v":2}]
["Belize",0,0,0,0,0,0,0,0,0,0,0,0,0,0,0,0,0,0,0,0,0,0,0,0,0]
["Bolivia",0,0,0,0,0,0,0,0,0,0,0,0,0,0,0,0,0,0,0,0,0,0,0,0,0]
["Brazil",1,0,1,1,1,1,0,0,1,0,1,0,0,0,0,1,0,1,1,0,0,1,0,0,{"$f":"SUM(B11:Y11)","v":11}]
["Chile",0,1,0,0,1,0,0,0,0,0,0,0,0,0,0,0,0,0,0,1,0,1,0,0,4]
["Colombia",0,1,0,1,0,0,0,0,0,0,0,0,0,0,0,1,0,0,0,0,0,0,0,0,3]
["Costa Rica",0,0,1,0,1,0,0,0,0,0,0,0,0,0,0,1,0,0,0,0,0,1,0,0,4]
["Dominican Republic",1,1,0,0,1,0,0,0,1,0,0,0,0,0,0,1,1,1,0,0,0,1,0,0,8]
["Ecuador",1,0,0,1,0,0,0,0,0,0,0,0,0,0,0,1,0,0,0,0,0,0,0,0,3]
["El Salvador",0,0,0,0,0,0,0,0,0,0,0,0,0,0,0,0,1,1,0,0,0,0,0,0,2]
["Guatemala",0,0,1,0,0,0,0,0,0,0,0,0,0,0,0,1,1,1,0,0,0,0,0,0,4]
["Guyana",0,0,0,0,0,0,0,0,0,0,0,0,0,0,0,0,0,0,0,0,0,0,0,0,0]
["Haiti",0,0,0,0,0,0,0,0,0,0,0,0,0,0,0,0,0,0,0,0,0,0,0,0,0]
["Honduras",1,0,1,0,0,0,0,0,0,0,0,0,0,0,0,1,1,1,0,0,0,0,0,0,5]
["Jamaica",0,1,1,0,1,0,0,0,0,0,0,0,0,0,0,0,0,0,0,0,0,0,0,0,3]
["Mexico",0,1,0,0,1,1,1,0,0,0,0,0,0,0,1,0,0,0,0,0,0,1,0,0,6]
["Nicaragua",0,0,0,0,0,1,0,0,0,0,0,0,0,0,0,0,1,1,0,1,0,0,0,0,4]
["Panama",1,0,1,1,0,0,0,0,0,0,0,0,0,0,0,1,0,1,0,1,0,0,0,0,6]
["Paraguay",0,0,0,1,0,0,0,0,0,0,0,0,0,0,0,0,0,0,0,0,0,0,0,0,1]
["Peru",0,1,1,1,0,0,0,0,0,0,0,0,0,0,0,0,0,0,0,0,0,0,0,0,3]
["Suriname",0,0,0,0,0,0,0,0,0,0,0,0,0,0,0,0,0,0,0,0,0,0,0,0,0]
["Trinidad & Tobago",0,0,0,0,0,0,0,0,0,0,0,0,0,0,0,0,0,0,0,0,0,0,0,1,1]
["Uruguay",0,1,1,1,1,0,0,0,0,0,0,0,0,0,0,1,0,0,0,0,0,0,0,0,5]
["Venezuela",0,0,0,0,0,0,0,0,0,0,0,0,0,0,0,0,0,0,0,0,0,0,0,0,0]

{"sheet":"Changelog","index":7,"n_rows":46,"n_cols":6,"rows_kept":46,"cut":false,"hidden":true,"merged":[]}
[]
["internal changelog","type","date","analyst","note"," "]
["added new indicators (for current year)","structural","2013-04-08","Ulimmeh",null," "]
["restructured database table (underlying data & scores now side-by-side)","structural","2013-04-10","Ulimmeh",null," "]
["added comparsion to dashboard (compare previous year scores to current)","structural","2013-04-11","Ulimmeh",null," "]
["updated energy data (from template, Capacity, Generation, Biofuels Production, Power Demand, Electrification Rate, Electricity Prices)","data","2013-04-12","Ulimmeh",null," "]
["updated value chains (changed definitions, not data)","structural","2013-04-12","Ulimmeh",null," "]
["updated investment data with 2012 asset finance records","data","2013-04-15","Ulimmeh",null," "]
["added data for indicator 2.07 (Loans, grants, grant programs), 2.09 and 2.10","data","2013-04-15","Ulimmeh",null," "]
["added data for indicator 3.02 (value chains by clean energy sector)","data","2013-04-15","Lilian","Note: I added another subsector on value chains by clean energy sector (Pipes rows A2430-L2455), which is not reflected on the country tab, further indicator details. Can you update it?"," "]
["added data for 2.08 (local investments)","data","2013-04-16","Ulimmeh",null," "]
["various styles/user interface modifications","user interface","2013-04-16","Ulimmeh",null," "]
["added admin locking/unlocking functionality","data","2013-04-16","Ulimmeh",null," "]
["added data for clean energy service providers and financial instituations in clean energy on levelisation tab","data","2013-04-17","Ulimmeh",null," "]
["added hard coded scores for the carbon section indicators (4.04 to 4.13)","data","2013-04-17","Ulimmeh",null," "]
["added hard coded scores for the carbon section indicator (4.01 to 4.03)","data","2013-04-22","Lilian",null," "]
["added data for levelisation tab (GDP, Population)","data","2013-04-25","Lilian",null," "]
["updated data for Chile for electricity prices","data","2013-04-26","Lilian",null," "]
["updated formula for levelisation tab (clean energy value chains and service providers)","structural","2013-04-26","Lilian",null," "]
["updated benchmark for indicators 4.01 and 4.02 (carbon)","structural","2013-04-26","Lilian",null," "]
["added data for cost of debt (2.13)","data","2013-04-26","Lilian",null," "]
["added data for policy indicator and power market (1.01, 1.02)","data","2013-04-28","Lilian",null," "]
["updated formula for Local Investments (2.07) for levelisation with GDP (L1415-L1440)","structural","2013-04-28","Lilian",null," "]
["updated data for GMFI indicators (2.09-2.12)","data","2013-04-28","Lilian",null," "]
["when indicator 2.13 is blank, all the weight goes to indicator 2.14 (same as electricity prices in indicators 1.10 and 1.11)","structural","2013-04-29","Ulimmeh",null," "]
["added an index total number to the dashboard (helps compare the overall index score for two years)","structural","2013-04-29","Ulimmeh",null," "]
["changed benchmark for indicators 3.02 and 3.03 (rows 878 and 905 of database tab) to be consistent with last year. Benchmark is the highest possible attainable score","structural","2013-04-29","Lilian",null," "]
["changed benchmarks for 4.03 to 4.07 ","structural","2013-05-02","Lilian",null," "]
["changed name of indicator 2.13 to Average cost of debt","structural","2013-05-02","Lilian",null," "]
["changed formula of indicator 2.12 (making all years previous to 2011 equal to 2011)","structural","2013-05-02","Lilian",null," "]
["added data for indicator 1.02 for underlying data ","data","2013-05-02","Lilian",null," "]
["changed name of indicator 2.14 to Swap rate","structural","2013-05-02","Lilian",null," "]
["removed the scores of the previous climatescope and kept only the year-on-year change in rank","structural","2013-05-03","Ulimmeh",null," "]
["removed the total from the index alont with the scores (as this was useful only with previous year scores)","structural","2013-05-03","Ulimmeh",null," "]
["moved all chart data to the ChartData tab","structural","2013-05-03","Ulimmeh",null," "]
["added manual data for Guyana on 2.07","data","2013-05-03","Lilian",null," "]
["added ability to put custom scenario on dashboard (so only specific weightings can be compared to previous year)","structural","2013-07-10","Ulimmeh",null," "]
["added instructions to top of dashboard and top of country profile","user interface","2013-10-11","Ulimmeh",null," "]
[null,null,null,null,null," "]
[null,null,null,null,null," "]
[null,null,null,null,null," "]
[null,null,null,null,null," "]
[null,null,null,null,null," "]
[null,null,null,null,null," "]
[null,null,null,null,null," "]
[null,null,null,null,null," "]